{"text_format":"1","workbook":"xlsx","n_sheets":6,"sheets":["1.Портфель кредитів","2.Забезпечення","3.ППР","4.журнал торгів","журнал_пулів","Hidden_Словник"],"not_rendered":{"charts":0,"images":1,"macros":1,"external_links":2,"defined_names":32,"comments":0,"pivot_tables":0},"unopened":[],"bounds":{"document_bytes":16777216,"sheet_cells":100000,"rows_first":2000,"rows_last":500,"rows_between":2000,"halvings":0,"cell_chars":16384,"cell_head_chars":4096},"cells_cut":0,"cells_raw":0,"read":"whole","date_system":"1900"}

{"sheet":"1.Портфель кредитів","index":0,"n_rows":947,"n_cols":28,"rows_kept":947,"cut":false,"hidden":false,"merged":[]}
[]
[null,null,"Цей документ був підготовлений Фондом гарантування вкладів фізичних осіб (далі – Фонд) виключно для інформаційних цілей і не повинен вважатися як спонукання до будь-яких дій чи бездіяльності. \nІнформація, що міститься в цьому документі, була отримана з/або ґрунтується на джерелах які вважаються надійними, але не є вичерпною та не може сприйматися як повна або актуальна. Рішення покупця щодо будь яких дій або бездіяльності повинно ґрунтуватися на власних оцінках та дослідженнях майна (активу/активів) котре реалізуються. Фонд не несе відповідальності за рішення покупця та його наслідки, що ґрунтується на інформації викладеній в даному документі."]
[]
[]
[]
["Звітна дата",":","2018-01-01",null,null,null,null,null,null,null,null,null,null,null,null,null,null,null,null,null,null,null,232567514.39117041,876983396.83000004,1135098268.7437282,701949155.11520851,433149113.62851954,218189111.68957973]
[null,null,"Загальні дані",null,null,null,null,"Характеристика активу / фактори впливу",null,null,null,null,null,null,null,null,null,null,null,null,null,null,null,"Заборгованість"]
["unicid","#","Банк","МФО банку","Галузь діяльності позичальника (КВЕД)","Область","Ознака банкрутства/ліквідації (відповідно ЄДР на дату заповнення паспорту)","Група активу","Номер кредитного договору","Тип кредита/активу","Валюта","Відсоткова ставка номінальна","Дата відкриття","Дата закінчення","Відмітка про знаходження права об'єкту в якості забезпечення під рефінансуванням в НБУ","Наявність кредитного договору та договору застави","Кількість днів прострочення оплати боргу на дату заповнення","Сума погашеної заборгованності у поточному році","Сума останнього погашення заборгованності","Дата останнього погашення заборгованності","Суб'єкт оціночної діяльності","Дата оцінки активу","Оціночна вартість","Заборгованість на дату формування ліквідаційної маси","Заборгованстіь  на дату заповнення паспорту 01.01.2018р. (тіло та проценти):","Заборгованість по тілу кредиту на дату заповнення паспорту","Забаргованність по нарах. % за кредитом на дату заповнення паспорту","Штрафи та пені"]
["322294_05405799_1",1,"Експобанк","322294","01.47","Харківська","Ліквідовано","II","81/08","кредит","євро",0,"2008-09-29","2010-12-24","ні","Наявні документи кредитної справи (не в повном обсязі)",2685,0,297.83,"2009-09-30","ТОВ \"Експертна компанія \"ПРОФЕСІОНАЛ\"","2015-04-01",78,776706.7,932927.68748024991,932927.68748024991,0,0]
["322294_05405799_2",2,"Експобанк","322294","01.47","Харківська","Ліквідовано","II","109-в","кредитна лінія","Доллар США",0,"2004-08-11","2010-07-16","ні","Наявні документи кредитної справи (не в повном обсязі)",2846,0,2000,"2008-07-24","ТОВ \"Експертна компанія \"ПРОФЕСІОНАЛ\"","2015-04-01",430,4300245.97,4804064.0867485004,4804064.0867485004,0,0]
["322294_05405799_3",3,"Експобанк","322294","01.47","Харківська","Ліквідовано","II",431,"кредитна лінія","Гривня",0,"2005-04-27","2010-08-20","ні","Відсутні документи кредитної справи",2811,0,870605.98,"2010-05-13","ТОВ \"Експертна компанія \"ПРОФЕСІОНАЛ\"","2015-04-01",178,1777900.11,1777900.11,1777900.11,0,0]
["322294_05405799_4",4,"Експобанк","322294","01.47","Харківська","Ліквідовано","II",432,"кредитна лінія","Гривня",0,"2005-04-27","2010-08-20","ні","Відсутні документи кредитної справи",2811,0,5874535.7000000002,"2010-05-13","ТОВ \"Експертна компанія \"ПРОФЕСІОНАЛ\"","2015-04-01",3634,36345013.229999997,36345013.229999997,36345013.229999997,0,0]
["322294_05405799_5",5,"Експобанк","322294","01.47","Харківська","Ліквідовано","II",291,"кредитна лінія","Гривня",0,"2002-09-20","2010-08-20","ні","Наявні документи кредитної справи (не в повном обсязі)",2811,0,3358764.73,"2010-05-13","ТОВ \"Експертна компанія \"ПРОФЕСІОНАЛ\"","2015-04-01",551,5513062.79,5513062.79,5513062.79,0,0]
["322294_05405799_6",6,"Експобанк","322294","01.47","Харківська","Ліквідовано","II",505,"овердрафт","Гривня",0,"2009-06-10","2010-08-20","ні","Наявні документи кредитної справи (не в повном обсязі)",2811,0,128766.85,"2010-05-13","ТОВ \"Експертна компанія \"ПРОФЕСІОНАЛ\"","2015-04-01",171,1716059.02,1716059.02,1716059.02,0,0]
["322294_23504692_7",7,"Експобанк","322294","46.71","Київ","Банкрутство","I","46/01","кредит","Доллар США",0,"2001-12-14","2003-09-15","ні","Наявні документи кредитної справи (не в повном обсязі)",5342,0,121378.27,"2003-12-30","ТОВ \"Експертна компанія \"ПРОФЕСІОНАЛ\"","2015-04-01",385,3847572.64,4298355.4043156998,4298355.4043156998,0,0]
["322294_23504692_8",8,"Експобанк","322294","46.71","Київ","Банкрутство","I","12/02","кредит","Доллар США",0,"2002-03-20","2003-10-15","ні","Наявні документи кредитної справи (не в повном обсязі)",5312,0,225000,"2004-01-21","ТОВ \"Експертна компанія \"ПРОФЕСІОНАЛ\"","2015-04-01",556,5555902.1299999999,6206833.29,6206833.29,0,0]
["322294_30021852_9",9,"Експобанк","322294","01.13","Донецька","Діюче","I","14/11","кредитна лінія","Гривня",0.21,"2011-05-23","2012-06-27","ні","Наявні документи кредитної справи",2223,0,14237.12,"2011-12-21","ТОВ \"Експертна компанія \"ПРОФЕСІОНАЛ\"","2015-04-01",310899,863735.42,863735.42,798239.67,65495.75,310649.55]
["322294_30021852_10",10,"Експобанк","322294","01.14","Донецька","Діюче","I"," 11/062004","кредитна лінія","Гривня",0.17499999999999999,"2004-06-18","2013-06-14","ні","Наявні документи кредитної справи ",2248,0,130.86000000000001,"2012-03-30","ТОВ \"Експертна компанія \"ПРОФЕСІОНАЛ\"","2015-04-01",6335314,12408873.439999999,12408873.440000001,10693280.4,1715593.04,174894.77]
["322294_30531262_11",11,"Експобанк","322294","46.71","Київ","Діюче","I","08/042002","кредит","Гривня",0,"2002-04-19","2003-12-29","ні","Наявні документи кредитної справи (не в повном обсязі)",5237,0,50,"2007-11-23","ТОВ \"Експертна компанія \"ПРОФЕСІОНАЛ\"","2015-04-01",8,75764,75764,75764,0,0]
["322294_33195185_12",12,"Експобанк","322294","64.91","Київ","Діюче","I","ВКЛ-03/08","кредитна лінія","Гривня",0.23130000000000001,"2008-04-23","2011-04-22","ні","Наявні документи кредитної справи ",2801,0,3000,"2013-04-26","ТОВ \"Експертна компанія \"ПРОФЕСІОНАЛ\"","2015-04-01",1189290,2929300,2929300,2929300,0,587520]
["322294_34423379_13",13,"Експобанк","322294","41.2","Київ","Банкрутство","I","27/КЛ-2007","кредитна лінія","Доллар США",0.16,"2007-08-09","2009-06-30","ні","Відсутні документи кредитної справи",3256,0,29103.39,"2013-12-10","ТОВ \"Експертна компанія \"ПРОФЕСІОНАЛ\"","2015-04-01",352000,13277659.23,14833273.779999999,14833273.779999999,0,0]
["322294_36799434_14",14,"Експобанк","322294","01.47","Київ","Діюче","I",509,"овердрафт","Гривня",0,"2010-02-08","2011-05-11","ні","Наявні документи кредитної справи (не в повном обсязі)",2547,0,171639.25,"2010-06-30","ТОВ \"Експертна компанія \"ПРОФЕСІОНАЛ\"","2015-04-01",1097,10973579.26,10973579.26,10973579.26,0,89063.87]
["319092_30419154_1",1,"Київськая Русь","319092","19.20","Київська обл.","діюче",1,"3497-47.1-02","відновлювальна кредитна лінія","гривня",0.01,"2006-03-07","2014-10-13","ні","наявні  документи",1326,0,28588.89,"2014-04-04","ПП «ВІ АЙ ПІ ДЕПАРТАМЕНТ»","2015-10-01",1721647,29728588.890000001,31193704.010000002,29728588.890000001,1465115.12,66023397.439999998]
["319092_32594738_2",2,"Київськая Русь","319092","46.12","Київ","діюче",1,"19728-20/11-1","відновлювальна кредитна лінія","гривня",0.18,"2011-05-18","2015-01-12","ні","наявні  документи",1274,0,979578,"2016-05-18","ПП «ВІ АЙ ПІ ДЕПАРТАМЕНТ»","2015-10-01",1277057,15053543.890000001,16880964.98,14073965.890000001,2806999.09,17240084.140000001]
["319092_22946976_3",3,"Київськая Русь","319092","46.46","Київська обл.","в стані припинення",1,"106433-20.2.1-8","непокритий акредитив в іноземній валюті","Долар США",0.12,"2013-11-28","2014-10-26","ні","наявні  документи",1314,0,0,null,"ПП «ВІ АЙ ПІ ДЕПАРТАМЕНТ»","2015-10-01",1914271,19767991.920000002,24048600.285183601,23659275.226663999,389325.05851960002,10230204.41]
["319092_14279320_4",4,"Київськая Русь","319092","15","Київ","діюче",1,"16760-20/8-1","кредитна лінія із забезпеченням","гривня",0.25,"2008-05-05","2011-05-04","ні","наявні  документи",2613,0,988938.71,"2012-12-27","ПП «ВІ АЙ ПІ ДЕПАРТАМЕНТ»","2015-10-01",106294,7600049.8200000003,10933383.140000001,4000000,6933383.1399999997,6072385.6399999997]
["319092_31821931_5",5,"Київськая Русь","319092","93","Миколаївська обл.","в стані припинення",1,"К/16-05","кредитна лінія","гривня",0.25,"2005-05-10","2006-12-27","ні","наявні  документи",4534,0,0,null,"ПП «ВІ АЙ ПІ ДЕПАРТАМЕНТ»","2015-10-01",126,168932.22,512285.74,117974,394311.74,20195.34]
["319092_32391031_6",6,"Київськая Русь","319092","93","Миколаївська обл.","в стані припинення",1,"9188","кредитна лінія","гривня",0.26,"2007-03-20","2010-03-19","ні","наявні  документи",3007,0,318.18,"2011-02-28","ПП «ВІ АЙ ПІ ДЕПАРТАМЕНТ»","2015-10-01",1,135055.14000000001,247342.22,107002.41,140339.81,13675.5]
["319092_3083026775_7",7,"Київськая Русь","319092","66.29","Одеська область","припинено",1,"126-02-1","кредитна лінія із забезпеченням","гривня",0.2,"2012-02-01","2015-01-31","ні","наявні  документи",2249,0,0,null,"ПП «ВІ АЙ ПІ ДЕПАРТАМЕНТ»","2015-10-01",24256,1734304.43,2502514.04,1555430,947084.04,5520244.8799999999]
["319092_2172520535_8",8,"Київськая Русь","319092","01.61","Черкаська область","припинено",1,"2974-12-11","кредит із забезпеченням","гривня",0.23,"2011-06-14","2013-09-30","ні","наявні  документи",1695,0,69080.39,"2013-08-16","ПП «ВІ АЙ ПІ ДЕПАРТАМЕНТ»","2015-10-01",2217,158520.60999999999,158520.60999999999,158520.60999999999,0,480816.38]
["319092_35865197_9",9,"Київськая Русь","319092","13.95","Донецька область","діюче",1,"34683-20/13-1","кредитна лінія з забезпеченням","гривня",0.25,"2013-04-19","2016-04-18","ні","наявні  документи",823,0,42056.73,"2014-10-31","ПП «ВІ АЙ ПІ ДЕПАРТАМЕНТ»","2015-10-01",130404,1378642.07,1530757.9,1063334,467423.9,1538174.83]
["319092_32281812_10",10,"Київськая Русь","319092","46.90","Донецька область","діюче",1,"82315-20/12-1","кредитна лінія з забезпеченням","гривня",0.25,"2012-12-14","2016-12-24","ні","наявні  документи",1372,0,300858.40999999997,"2014-04-30","ПП «ВІ АЙ ПІ ДЕПАРТАМЕНТ»","2015-10-01",16325,1517310.1,1894628.81,1129604,765024.81,2148500.2999999998]
["380399_32123523_2",2,"Камбіо","380399","63.91","Донецька","не перебуває в процесі припинення",1,"256/02-2007","Кредит",980,0.19,"2007-07-02","2014-03-30","НІ","Наявні документи кредитної справи",1976,0,7907.13,"2010-08-18","ПП \"ВІ АЙ ПІ ДЕПАРТАМЕНТ\"","2016-06-01",46051,3575626.67,3575626.67,2531669.1,1043957.57]
["380399_37604525_3",3,"Камбіо","380399","28.30","Донецька","не перебуває в процесі припинення",1,"748/02-2013","Кредитна лінія",980,0.25,"2013-06-06","2014-08-15","НІ","Наявні документи кредитної справи",1416,0,2424.67,"2014-09-17","ПП \"ВІ АЙ ПІ ДЕПАРТАМЕНТ\"","2016-06-01",833,31035.55,48128.25,22790.23,25338.02]
["380399_37434184_4",4,"Камбіо","380399","23.61","Донецька","не перебуває в процесі припинення",1,"611/02-2011","Кредитна лінія",980,0.25,"2011-01-31","2014-01-31","НІ","Наявні документи кредитної справи",1584,0,8082,"2014-06-18","ПП \"ВІ АЙ ПІ ДЕПАРТАМЕНТ\"","2016-06-01",4027,266712.61,416712.58999999997,200000,216712.59]
["380399_37820781_5",5,"Камбіо","380399"," 10.11","Донецька","не перебуває в процесі припинення",1,"785/01-2014","Кредит",980,0.25,"2014-02-10","2015-02-09","НІ","Наявні документи кредитної справи",1430,0,16986.310000000001,"2014-07-07","ПП \"ВІ АЙ ПІ ДЕПАРТАМЕНТ\"","2016-06-01",27246,1002739.77,1602739.79,800000,802739.79]
["380399_31500628_6",6,"Камбіо","380399","52.12.0","Донецька","не перебуває в процесі припинення",1,"218/02-2007","Кредит",980,0.3,"2007-03-23","2010-04-15","НІ","Наявні документи кредитної справи",2999,0,105402,"2013-08-30","ПП \"ВІ АЙ ПІ ДЕПАРТАМЕНТ\"","2016-06-01",171008,1516765.04,1516765.04,1378000,138765.04]
["380399_25364464_7",7,"Камбіо","380399","45.24.0 ","Луганська","не перебуває в процесі припинення",1,"197ю-2006/980/2","Кредитна лінія",980,0.22,"2006-12-21","2009-12-18","НІ","Відсутні документи кредитної справи",3116,0,0,"-","ПП \"ВІ АЙ ПІ ДЕПАРТАМЕНТ\"","2016-06-01",613698,1170430.02,1170430.02,999100,171330.02]
["380399_34225608_8",8,"Камбіо","380399","51.70.0","Донецька","не перебуває в процесі припинення",1,"233 /02-2007","Кредит",980,0.16,"2007-05-25","2010-10-25","НІ","Наявні документи кредитної справи",2806,0,4325,"2013-04-10","ПП \"ВІ АЙ ПІ ДЕПАРТАМЕНТ\"","2016-06-01",21026,4776833.09,4776833.09,4776833.09,0]
["380399_34225608_9",9,"Камбіо","380399","51.70.0","Донецька","не перебуває в процесі припинення",1,"514/02-2010","Кредит",980,0.3,"2010-01-05","2014-10-01","НІ","Наявні документи кредитної справи",1369,0,35500,"2014-04-15","ПП \"ВІ АЙ ПІ ДЕПАРТАМЕНТ\"","2016-06-01",25245,2576167.86,2576167.86,1644584,931583.86]
["380399_31348006_10",10,"Камбіо","380399"," 10.20","Одеська","не перебуває в процесі припинення",1,"005/1-2012/980","Кредит",980,0.3,"2012-03-01","2015-04-30","НІ","Наявні документи кредитної справи",1873,0,22746.9,"2013-07-08","ПП \"ВІ АЙ ПІ ДЕПАРТАМЕНТ\"","2016-06-01",30575,647254.97,998254.99,390000,608254.99]
["380399_34441073_11",11,"Камбіо","380399","51.55.0 ","Дніпропетровська","не перебуває в процесі припинення",1,"02/01-12","Кредитна лінія",980,0.25,"2011-12-28","2012-08-17","НІ","Наявні документи кредитної справи",2227,0,2034855,"2016-08-08","ПП \"ВІ АЙ ПІ ДЕПАРТАМЕНТ\"","2016-06-01",9450750,18529214.329999998,23994359.439999998,10000000,13994359.439999999]
["380399_30405103_12",12,"Камбіо","380399","46.43","Київ","не перебуває в процесі припинення",1,"648/02 -2011","Кредитна лінія","980, 840",0.12,"2011-06-03","2014-10-01","НІ","Наявні документи кредитної справи",1826,0,0,"-","ПП \"ВІ АЙ ПІ ДЕПАРТАМЕНТ\"","2016-06-01",1033762,49586807.939999998,65837906.629999995,44998223.619999997,20839683.009999998]
["380399_34981487_13",13,"Камбіо","380399","41.20","Київ","не перебуває в процесі припинення",1,"033/1-2012/840","Кредитна лінія",840,0.17,"2012-11-30","2014-10-27","НІ","Наявні документи кредитної справи",1342,0,51723.61075,"2014-09-12","ПП \"ВІ АЙ ПІ ДЕПАРТАМЕНТ\"","2016-06-01",424562,530947.98,661663.1,615445.5,46217.599999999999]
["380355_37039358_1",1,"Євробанк","380355","70.22","Київ","Діюче",1,"ЮЛ-93/2012-КЛ","Кредитна лінія","Гривня",0.2,"2012-07-31","2016-08-15","НІ","Наявні документи кредитної справи",730,0,88421.34,"2016-05-06","ТОВ \"ВЕРІТАС ПРОПЕРТІ МЕНЕДЖМЕНТ\"","2016-11-01",2266915.35,5847598.0300000003,7636656.5,5305280.47,2331376.0299999998,1203153.4696317795]
["380355_36563829_2",2,"Євробанк","380355","59.11","Херсонська","Діюче",1,"ЮЛ-161/2013-О","Овердрафт","Гривня",0.23,"2013-12-06","2015-10-16","НІ","Наявні документи кредитної справи",1298,0,13.19,"2015-02-03","ТОВ \"ВЕРІТАС ПРОПЕРТІ МЕНЕДЖМЕНТ\"","2016-11-01",7706.59,230547.04,291820.32,158000,133820.32,46197.204755342493]
["380355_2965618717_3",3,"Євробанк","380355",null,"Київ","Діюче",1,"PR-000379/BLK-1","Кредитна картка","Гривня",0.32,"2012-10-11","2015-10-06","НІ","Наявні документи кредитної справи",999,0,10005,"2016-05-13","ТОВ \"ВЕРІТАС ПРОПЕРТІ МЕНЕДЖМЕНТ\"","2016-11-01",862.77,9931.2800000000007,16469.669999999998,8078.84,8390.83,0]
["380355_25271036_4",4,"Євробанк","380355","46.73","Київ","Діюче",1,"ЮЛ-181/2013-КЛ","Кредитна лінія","Євро",0.18,"2013-12-26","2016-12-23","НІ","Наявні документи кредитної справи",1601,0,4327030.42,"2016-02-23","ТОВ \"ВЕРІТАС ПРОПЕРТІ МЕНЕДЖМЕНТ\"","2016-11-01",6917595.9199999999,19344424.739999998,24648915.300000001,12581229.300000001,12067686,3944381.6212332137]
["380355_40076866_5",5,"Євробанк","380355","68.10","Київ","Діюче",1,"ЮЛ-20/2016-КЛ","Кредитна лінія","Гривня",0.23499999999999999,"2016-02-18","2016-08-10","НІ","Наявні документи кредитної справи",689,0,36700933.960000001,"2016-09-30","ТОВ \"ВЕРІТАС ПРОПЕРТІ МЕНЕДЖМЕНТ\"","2016-11-01",705622.24,2563726.9,3294272.88,1843713.77,1450559.11,520296.01451698528]
["380355_40071538_6",6,"Євробанк","380355","73.20","Київ","Діюче",1,"ЮЛ-18/2016-КЛ","Кредитна лінія","Гривня",0.23499999999999999,"2016-02-18","2016-08-10","НІ","Наявні документи кредитної справи",689,0,31604059.289999999,"2016-09-30","ТОВ \"ВЕРІТАС ПРОПЕРТІ МЕНЕДЖМЕНТ\"","2016-11-01",608323.69999999995,2210213.5699999998,2840288.38,1590149.89,1250138.49,448587.49829260336]
["380355_40067212_7",7,"Євробанк","380355","68.10","Київ","Діюче",1,"ЮЛ-17/2016-КЛ","Кредитна лінія","Доллар США",6.5000000000000002E-2,"2016-02-17","2016-05-13","НІ","Наявні документи кредитної справи",776,0,31005255.460000001,"2016-05-16","ТОВ \"ВЕРІТАС ПРОПЕРТІ МЕНЕДЖМЕНТ\"","2016-11-01",4526.79,28560.82,30646.83,11949.59,18697.240000000002,191.35086356164379]
["380355_40067212_8",8,"Євробанк","380355","68.10","Київ","Діюче",1,"ЮЛ-89/2016-К","Кредит","Гривня",0.23499999999999999,"2016-06-10","2016-06-17","НІ","Наявні документи кредитної справи",740,0,0,null,"ТОВ \"ВЕРІТАС ПРОПЕРТІ МЕНЕДЖМЕНТ\"","2016-11-01",8459763,32827231.5,44707083.329999998,30000000,14707083.33,6999550.068472336]
["380355_40071281_9",9,"Євробанк","380355","68.10","Київ","Діюче",1,"ЮЛ-19/2016-КЛ","Кредитна лінія","Гривня",0.23499999999999999,"2016-02-18","2016-08-10","НІ","Наявні документи кредитної справи",689,0,33642607.020000003,"2016-09-30","ТОВ \"ВЕРІТАС ПРОПЕРТІ МЕНЕДЖМЕНТ\"","2016-11-01",646798.69999999995,2350004.23,3019640.8,1689993.8,1329647,476920.94134411018]
["380355_40041147_10",10,"Євробанк","380355","46.13","Волинська","Діюче",1,"ЮЛ-35/2016-О","Овердрафт","Гривня",0.3,"2016-03-21","2017-03-10","НІ","Наявні документи кредитної справи",720,0,9300,"2016-10-25","ТОВ \"ВЕРІТАС ПРОПЕРТІ МЕНЕДЖМЕНТ\"","2016-11-01",201934.71,369300,542100,360000,182100,83690.876712328856]
["380355_34575551_11",11,"Євробанк","380355","46.90","Харківська","Діюче",1,"ЮЛ-249/2014-КЛ","Кредитна лінія","Гривня",0.24,"2014-10-27","2016-10-26","НІ","Наявні документи кредитної справи",720,0,12152,"2016-06-09","ТОВ \"ВЕРІТАС ПРОПЕРТІ МЕНЕДЖМЕНТ\"","2016-11-01",178344.38,647976,885920,588000,297920,138629.36087671234]
["380355_34575551_12",12,"Євробанк","380355","46.90","Харківська","Діюче",1,"ЮЛ-259/2014-КЛ","Кредитна лінія","Гривня",0.24,"2014-10-31","2016-10-26","НІ","Наявні документи кредитної справи",720,0,6076,"2016-06-09","ТОВ \"ВЕРІТАС ПРОПЕРТІ МЕНЕДЖМЕНТ\"","2016-11-01",89172.19,323988,442960,294000,148960,69314.680438356183]
["380355_2579614711_13",13,"Євробанк","380355",null,"Харківська","Діюче",1,"PR-003975/BLK-1","Кредитна картка","Гривня",0.36,"2015-03-17","2017-03-15","НІ","Наявні документи кредитної справи",720,0,24172.99,"2016-06-16","ТОВ \"ВЕРІТАС ПРОПЕРТІ МЕНЕДЖМЕНТ\"","2016-11-01",6849.1,15147.1,25124.04,12698.37,12425.67,0]
["380355_38914194_14",14,"Євробанк","380355","79.11","Київ","Діюче",1,"ЮЛ-184/2014-О","Овердрафт","Гривня",0.33,"2014-08-04","2016-07-29","НІ","Наявні документи кредитної справи",699,0,50603.83,"2016-09-20","ТОВ \"ВЕРІТАС ПРОПЕРТІ МЕНЕДЖМЕНТ\"","2016-11-01",90682.55,340822,520137.57,322268.5,197869.07,80157.143394246581]
["380355_39366876_15",15,"Євробанк","380355","64.99","Херсонська","Діюче",1,"ЮЛ-58/2015-КЛ","Кредитна лінія","Гривня",0.3,"2015-04-10","2017-04-05","НІ","Наявні документи кредитної справи",753,0,173167,"2016-06-07","ТОВ \"ВЕРІТАС ПРОПЕРТІ МЕНЕДЖМЕНТ\"","2016-11-01",4002747.77,14510878.91,20790166.109999999,12999999.67,7790166.4400000004,3232597.09]
["380355_19497799_16",16,"Євробанк","380355","66.12","Київ","Діюче",1,"ЮЛ-36/2011-К","Кредит","Гривня",0.11,"2011-02-25","2017-02-23","НІ","Наявні документи кредитної справи",536,0,507836.02,"2017-03-03","ТОВ \"ВЕРІТАС ПРОПЕРТІ МЕНЕДЖМЕНТ\"","2016-11-01",2794774.45,10114545.960000001,11440909.199999999,9750000,1690909.2,1829680.6987657498]
["380355_19497799_17",17,"Євробанк","380355","66.12","Київ","Діюче",1,"ЮЛ-114/2011-К","Кредитна лінія","Гривня",0.11,"2011-06-29","2016-07-02","НІ","Наявні документи кредитної справи",727,0,58055.56,"2016-09-02","ТОВ \"ВЕРІТАС ПРОПЕРТІ МЕНЕДЖМЕНТ\"","2016-11-01",5457923.8300000001,19748371.059999999,23354166.66,19000000,4354166.66,3740117.1901312275]
["380355_37674545_18",18,"Євробанк","380355","47.19","Донецька","В стані припинення (крім банкрутства)",1,"ЮЛ-60/214-О","Овердрафт","Гривня",0.3,"2014-02-26","2016-02-19","НІ","Наявні документи кредитної справи",1007,0,9999,"2016-05-11","ТОВ \"ВЕРІТАС ПРОПЕРТІ МЕНЕДЖМЕНТ\"","2016-11-01",345209.01,631321.32999999996,864006.67999999993,460004,404002.68,135180.81645780848]
["380355_37859075_19",19,"Євробанк","380355","79.12","Кіровоградська","Діюче",1,"ЮЛ-178/2013-О","Овердрафт","Гривня",0.3,"2013-12-19","2016-12-02","НІ","Наявні документи кредитної справи",821,0,10811.33,"2016-05-04","ТОВ \"ВЕРІТАС ПРОПЕРТІ МЕНЕДЖМЕНТ\"","2016-11-01",371215.03,1188595.18,1694428.52,1000000,694428.52,263564.44419890415]
["380355_38261388_20",20,"Євробанк","380355","73.11","Київ","Діюче",1,"ЮЛ-151/2015-О","Овердрафт","Гривня",0.3,"2015-09-24","2016-09-23","НІ","Наявні документи кредитної справи",710,0,5000,"2017-04-06","ТОВ \"ВЕРІТАС ПРОПЕРТІ МЕНЕДЖМЕНТ\"","2016-11-01",96633.91,207844.73,266808.27,179829.06,86979.21,41148.885589862897]
["380355_2705913470_21",21,"Євробанк","380355",null,"Київ","Діюче",1,"PR-000248/BLK-1","Кредитна картка","Гривня",0.34,"2012-06-14","2017-06-09","НІ","Наявні документи кредитної справи",720,6000,1500,"2018-02-13","ТОВ \"ВЕРІТАС ПРОПЕРТІ МЕНЕДЖМЕНТ\"","2016-11-01",29996.2,69074.42,80083.360000000001,59961.83,20121.53,0]
["380355_3081905648_22",22,"Євробанк","380355",null,"Київ","Діюче",1,"PR-000275/BLK-1","Кредитна картка","Гривня",0.34,"2012-07-19","2016-07-11","НІ","Наявні документи кредитної справи",720,9930,1500,"2018-03-21","ТОВ \"ВЕРІТАС ПРОПЕРТІ МЕНЕДЖМЕНТ\"","2016-11-01",32281.15,71246.5,81157.58,59976.56,21181.02,0]
["380355_37101881_23",23,"Євробанк","380355","47.52","Київ","Діюче",1,"ЮЛ-25/2012-КЛ","Кредитна лінія","Гривня",0.25,"2012-03-23","2013-03-23","НІ","Наявні документи кредитної справи",1987,0,2000,"2013-02-18","ТОВ \"ВЕРІТАС ПРОПЕРТІ МЕНЕДЖМЕНТ\"","2016-11-01",10748.8,347281.25,421470.14,176000,245470.14,67167.460288767325]
["380355_37266778_24",24,"Євробанк","380355","64.20","Київ","В стані припинення (крім банкрутства)",1,"ЮЛ-62/2010-К","Кредит","Гривня",0.12,"2010-07-02","2016-07-02","НІ","Наявні документи кредитної справи",727,0,38233.33,"2016-06-06","ТОВ \"ВЕРІТАС ПРОПЕРТІ МЕНЕДЖМЕНТ\"","2016-11-01",1507516.77,3854423.27,4637332.45,3699999.3,937333.15,741134.89769370086]
["380355_37266778_25",25,"Євробанк","380355","64.20","Київ","В стані припинення (крім банкрутства)",1,"ЮЛ-120/2010-К","Кредит","Гривня",0.12,"2010-10-29","2016-07-02","НІ","Наявні документи кредитної справи",727,0,38601.75,"2016-06-06","ТОВ \"ВЕРІТАС ПРОПЕРТІ МЕНЕДЖМЕНТ\"","2016-11-01",1522043.46,3891570.05,4682018.59,3735653.13,946365.46,748276.60146520694]
["380355_37266778_26",26,"Євробанк","380355","64.20","Київ","В стані припинення (крім банкрутства)",1,"ЮЛ-113/2011-К","Кредитна лінія","Гривня",0.14000000000000001,"2011-06-29","2016-07-02","НІ","Наявні документи кредитної справи",727,0,253166.67,"2016-06-06","ТОВ \"ВЕРІТАС ПРОПЕРТІ МЕНЕДЖМЕНТ\"","2016-11-01",8625376.2599999998,22021425.550000001,27206666.649999999,20999999.989999998,6206666.6600000001,4330543.1888794489]
["380355_35756987_27",27,"Євробанк","380355","46.19","Київ","Діюче",1,"ЮЛ-176/2014-О","Овердрафт","Гривня",0.3,"2014-07-21","2015-07-17","НІ","Наявні документи кредитної справи",1077,0,50000,"2016-04-19","ТОВ \"ВЕРІТАС ПРОПЕРТІ МЕНЕДЖМЕНТ\"","2016-11-01",20854.8,280455.42,400772.25,237858.64,162913.61000000002,62318.155602191524]
["380355_31648072_28",28,"Євробанк","380355","46.71","Донецька","Діюче",1,"ЮЛ-92/2014-О","Овердрафт","Гривня",0.33,"2014-03-24","2017-03-24","НІ","Наявні документи кредитної справи",781,0,169.88,"2016-05-04","ТОВ \"ВЕРІТАС ПРОПЕРТІ МЕНЕДЖМЕНТ\"","2016-11-01",458017.67,1195970.1499999999,1752386.82,1000000,752386.82000000007,271542.73680301313]
["380355_3087111395_29",29,"Євробанк","380355",null,"Київ","Діюче",1,"ZP-001202/BLK-1","Кредитна картка","Гривня",0.36,"2013-03-18","2017-03-14","НІ","Наявні документи кредитної справи",702,0,18500,"2016-06-15","ТОВ \"ВЕРІТАС ПРОПЕРТІ МЕНЕДЖМЕНТ\"","2016-11-01",5856.04,12962.88,21396.42,11028.89,10367.530000000001,0]
["380355_2756001999_30",30,"Євробанк","380355",null,"Київ","Діюче",1,"ZP-001204/BLK-1","Кредитна картка","Гривня",0.36,"2013-03-01","2017-02-23","НІ","Наявні документи кредитної справи",688,0,196.4,"2016-06-30","ТОВ \"ВЕРІТАС ПРОПЕРТІ МЕНЕДЖМЕНТ\"","2016-11-01",10124.040000000001,22405.67,37429.11,19511.080000000002,17918.03,0]
["380355_2975918041_31",31,"Євробанк","380355",null,"Київ","Діюче",1,"PR-001388/BLK-1","Кредитна картка","Гривня",0.36,"2013-10-24","2016-11-17","НІ","Наявні документи кредитної справи",751,0,1830,"2016-05-31","ТОВ \"ВЕРІТАС ПРОПЕРТІ МЕНЕДЖМЕНТ\"","2016-11-01",10716.39,23693.43,39815.990000000005,20000,19815.990000000002,0]
["380355_33272196_32",32,"Євробанк","380355","42.21","Київська","Діюче",1,"ЮЛ-112/2012-О","Овердрафт","Гривня",0.25,"2012-10-03","2015-10-02","НІ","Наявні документи кредитної справи",1215,0,714349.11,"2017-02-02","ТОВ \"ВЕРІТАС ПРОПЕРТІ МЕНЕДЖМЕНТ\"","2016-11-01",53886.8,1499925.1,1005820.23,421177.3,584642.93000000005,160276.98669178103]
["380355_33272196_33",33,"Євробанк","380355","42.21","Київська","Діюче",1,"ЮЛ-139/2013-К","Кредит","Доллар США",0.16,"2013-10-28","2015-10-28","НІ","Наявні документи кредитної справи",1357,0,793732.24,"2017-02-02","ТОВ \"ВЕРІТАС ПРОПЕРТІ МЕНЕДЖМЕНТ\"","2016-11-01",198962.67,6091862.5499999998,6460949.4199999999,4077003.23,2383946.19,1030812.4664805119]
["380355_2469914652_34",34,"Євробанк","380355",null,"Київ","Діюче",1,"PR-000187/BLK-2","Кредитна картка","Гривня",0.3,"2012-02-21","2015-02-18","НІ","Наявні документи кредитної справи",1329,0,10005,"2015-03-05","ТОВ \"ВЕРІТАС ПРОПЕРТІ МЕНЕДЖМЕНТ\"","2016-11-01",9397.81,227145.65,324265.65000000002,120000,204265.65,0]
["320843_30009327_1",1,"Укргазпромбанк","320843","47.11","Луганська","Діюче",null,"04-КЛ/13-ЛУГ","кредитная лінія","Гривня",0.23,"2013-10-21","2016-10-20","НІ","Наявні документи кредитної справи",1241,0,2675632.35,"2016-11-29","ПГОІ «ЦЕНТР ЕКОНОМІКО-ПРАВОВОГО ЗАБЕЗПЕЧЕННЯ»","2016-01-04",70173.870194610005,3237702.92,1074863.72,0,1074863.72,0]
["320843_35210613_2",2,"Укргазпромбанк","320843","72.19","Київ","Діюче",null,"240-КЛ/10","Кредитни лінія","Гривня",0.2,"2010-12-28","2012-05-14","НІ","Наявні документи кредитної справи",2238,0,1044.3399999999999,"2013-01-04","ПГОІ «ЦЕНТР ЕКОНОМІКО-ПРАВОВОГО ЗАБЕЗПЕЧЕННЯ»","2016-01-04",798.75450000000001,79875.45,129094.34,61481.53,67612.81,0]
["320843_34192080_3",3,"Укргазпромбанк","320843","86.1","Київ","В стані припинення (крім банкрутства)",null,"66-10-08","кредитная лінія","Гривня",0,"2008-06-04","2011-06-04","НІ","Наявні документи кредитної справи",2609,0,20000,"2011-03-31","ПГОІ «ЦЕНТР ЕКОНОМІКО-ПРАВОВОГО ЗАБЕЗПЕЧЕННЯ»","2016-01-04",250368.23795724,14870413.51,14870413.51,9798500,5071913.51,0]
["320843_34386966_4",4,"Укргазпромбанк","320843","41.20","Автономна Республіка Крим","Діюче",null,"6-К/13-СІ","кредит","Гривня",0.23,"2013-10-22","2016-10-21","НІ","Наявні документи кредитної справи",1455,0,231.59,"2014-07-09","ПГОІ «ЦЕНТР ЕКОНОМІКО-ПРАВОВОГО ЗАБЕЗПЕЧЕННЯ»","2016-01-04",3709.5612191016799,74073.210000000006,105358.98999999999,54440,50918.99,0]
["300272_30087819_1",1,"Енергобанк","300272","18.11","Автономна Республіка Крим","Діюче",1,"1301-02","кредитна лінія","Гривня",0.21,"2013-02-26","2016-02-25","НІ","Наявні документи кредитної справи",1548,0,54000,"2015-01-26","ТОВ «Канзас Ріал Естейт» ","2015-10-01",312691.40999999997,804039.99,1204654.06,694222.75,510431.30999999994,691310.41]
["300272_35916927_2",2,"Енергобанк","300272","56.10","Київ","Діюче",1,"1204-03","кредит","Гривня",0.28000000000000003,"2012-04-10","2014-09-10","НІ","Відсутні документи кредитної справи",1389,0,74761.66,"2015-02-10","ТОВ «Канзас Ріал Естейт» ","2015-10-01",293974.75,3802164.22,6221065.5899999999,3143779.29,3077286.3,4757325.8]
["300272_36698193_3",3,"Енергобанк","300272","64.99","Київ","Діюче",1,"1212-04","кредит","Гривня",0.125,"2012-12-28","2015-01-30","НІ","Наявні документи кредитної справи",1251,0,52.41,"2014-12-17","ТОВ «Канзас Ріал Естейт» ","2015-10-01",391803.61,1468465.72,1925311.51,1330000,595311.51,1626689.27]
["300272_36698193_4",4,"Енергобанк","300272","64.99","Київ","Діюче",1,"1205-16","кредитна лінія","Гривня",0.27,"2012-05-10","2015-12-05","НІ","Наявні документи кредитної справи",1251,199575.91,30709.33,"2018-06-14","ТОВ «Канзас Ріал Естейт» ","2015-10-01",948996.6,3556804.82,5708445.8700000001,2900000,2808445.87,2896951.24]
["300272_32253460_5",5,"Енергобанк","300272","79.11","Київ","Діюче",1,"1310-46","кредитна лінія","Гривня",0.27,"2013-10-25","2014-10-24","НІ","Наявні документи кредитної справи",1606,0,30575.34,"2014-02-03","ТОВ «Канзас Ріал Естейт» ","2015-10-01",1367526.03,2193123.17,3306040.87,1500000,1806040.87,2635401.9900000002]
["300272_32253460_6",6,"Енергобанк","300272","79.11","Київ","Діюче",1,"ОЮ-000472-2612 ","овердрафт","Гривня",0.24,"2014-01-03","2014-04-02","НІ","Наявні документи кредитної справи",1549,0,5341.85,"2014-02-03","ТОВ «Канзас Ріал Естейт» ","2015-10-01",260481.15,417457.8,615309.89,300000,315309.89,566855.56999999995]
["300272_33240206_7",7,"Енергобанк","300272","46.71","Київ","Діюче",1,"1009-07","кредитна лінія","Гривня",0.35,"2010-09-14","2012-09-05","НІ","Наявні документи кредитної справи",1566,0,92061.38,"2017-09-25","ТДВ \"НЕКОС\"","2017-01-01",11306,12670080.939999999,15797923.699999999,6150000,9647923.6999999993,16868743.640000001]
["300272_34616578_8",8,"Енергобанк","300272","41.10","Київ","Діюче",1,"911-17","кредитна лінія","Гривня",0.25,"2009-12-30","2013-12-05","НІ","Наявні документи кредитної справи",1668,0,6416849,"2016-02-18","ТДВ \"НЕКОС\"","2017-01-01",36186,1148751.8899999999,1180592.19,85140.73,1095451.46,6136200.3200000003]
["300272_34616578_9",9,"Енергобанк","300272","41.10","Київ","Діюче",1,"711-81","кредитна лінія","Гривня",0.28000000000000003,"2007-11-05","2013-12-05","НІ","Наявні документи кредитної справи",1566,0,16168524.199999999,"2014-03-26","ТОВ «Канзас Ріал Естейт» ","2015-10-01",1720029.64,1720029.64,1720029.64,0,1720029.64,3167980.32]
["300272_35952221_10",10,"Енергобанк","300272","46.71","Дніпропетровська","Діюче",1,"90670/07-12 КЛ","кредитна лінія","Гривня",0.28000000000000003,"2012-07-27","2014-09-26","НІ","Наявні документи кредитної справи",1443,0,1795.9099999999999,"2014-08-29","ТОВ «Канзас Ріал Естейт» ","2015-10-01",38747.769999999997,99634.2,157340.99,75000,82340.990000000005,121770.85]
["300272_36324000_11",11,"Енергобанк","300272","47.73","Луганська","Діюче",1,11,"кредит","Гривня",0.3,"2010-10-29","2014-11-29","НІ","Наявні документи кредитної справи",1460,0,5764.75,"2014-07-09","ТОВ «Канзас Ріал Естейт» ","2015-10-01",36984.595772965942,305037.61,487858.87,221767.22,266091.65000000002,373658.48]
["300272_32819813_12",12,"Енергобанк","300272","41.20","Миколаївська","Діюче",1,33,"кредит","Гривня",0.28000000000000003,"2008-08-05","2010-08-04","НІ","Наявні документи кредитної справи",2886,0,8996,"2015-01-14","ТОВ «Канзас Ріал Естейт» ","2015-10-01",35964.25,92476.77,151798.78,77099.179999999993,74699.600000000006,202763.83]
["300272_36859975_13",13,"Енергобанк","300272","49.41","Луганська","Діюче",1,"ОЮ-000371-1201 ","овердрафт","Гривня",0.35,"2013-12-26","2014-06-25","НІ","Відсутні документи кредитної справи",1466,0,777.15,"2014-02-03","ТОВ «Канзас Ріал Естейт» ","2015-10-01",9008.2615264735541,74297.38,119664.70999999999,47170.18,72494.53,93798.29]
["300272_13556242_14",14,"Енергобанк","300272","01.11","Житомирська","Діюче",1,116,"кредит","Гривня",0.4,"2006-03-28","2010-02-01","НІ","Наявні документи кредитної справи",3041,0,500,"2014-12-29","ТОВ «Канзас Ріал Естейт» ","2015-10-01",88536.05,166173.32,262074.72000000003,87248.33,174826.39,24397.21]
["300272_36995140_15",15,"Енергобанк","300272","17.11","Черкаська","Банкрутство",1,"1204-12","кредит","Гривня",0.23,"2012-04-26","2015-04-25","НІ","Наявні документи кредитної справи",1910,0,176842.43,"2014-12-08","ТОВ «Канзас Ріал Естейт» ","2015-10-01",387559.03,727409.55,1007491.54,443148.43,564343.11,952489.26]
["334594_31206116_1",1,"Профінбанк","334594","24.34","Донецька","Діюче",1,"41/кл/2013","відновлювана кредитна лінія","Гривня",0.245,"2013-08-22","2014-08-19","НІ","Наявні документи кредитної справи",1420,0,33000,"2014-08-21","ТОВ \"Європейський центр консалтингу та оцінки\"","2015-04-20",0,3757199.53,5850320.46,3000000,2850320.46,0]
["334594_2367200367_2",2,"Профінбанк","334594","68.20","Донецька","Діюче",1,"24/кл/2013","відновлювана кредитна лінія","Гривня",0.25,"2013-06-21","2014-06-20","НІ","Наявні документи кредитної справи",1570,0,1000,"2014-06-24","ТОВ \"Європейський центр консалтингу та оцінки\"","2015-04-20",0,2055904.67,3145975.01,1500000,1645975.01,447.07]
["334594_33912868_3",3,"Профінбанк","334594","93.11","Донецька","Діюче",1,"54/кл/2013","відновлювана кредитна лінія","Гривня",0.24,"2013-10-29","2014-10-27","НІ","Наявні документи кредитної справи",1570,0,834.8,"2014-02-10","ТОВ \"Європейський центр консалтингу та оцінки\"","2015-04-20",0,1087138.08,1645254.9,800000,845254.9,228]
["334594_24155954_4",4,"Профінбанк","334594","43.21","Донецька","Діюче",1,"9/кл/2013","відновлювана кредитна лінія","Гривня",0.32,"2013-04-22","2013-04-22","НІ","Наявні документи кредитної справи",1507,0,3000,"2014-11-10","ТОВ \"Європейський центр консалтингу та оцінки\"","2015-04-20",665964,2821248.9,4680576.42,1998865.63,2681710.79,91]
["334594_35231078_5",5,"Профінбанк","334594","10.41","Донецька","Діюче",1,"2/1/2013","відновлювана кредитна лінія","Гривня",0.32,"2013-03-06","2015-03-02","НІ","Наявні документи кредитної справи",1422,0,0.54,"2014-08-06","ТОВ \"Європейський центр консалтингу та оцінки\"","2015-04-20",0,6478332.54,10854883.379999999,4704995.33,6149888.0499999998,0]
["334594_37702289_6",6,"Профінбанк","334594","46.90","Київ","Діюче",1,"986/980-ЮО","відновлювана кредитна лінія","Гривня",0.18,"2013-06-06","2018-06-05","НІ","Наявні документи кредитної справи",1199,0,214337.59,"2015-01-16","ТОВ «ІСТЕРН КОНСАЛТИНГ ГРУП»","2016-07-08",2167800,17910979,26514626.440000001,16443250,10071376.439999999,5505873.3799999999]
["334969_32332264_1",1,"Укрбізнесбанк","334969","10.20","Севастополь","Діюче",1,"3-СевДКр","кредит","Доллар США",0.13,"2010-09-30","2017-09-29","НІ","Наяваний договір застави",1762,0,16207.57,"2013-12-13","ТОВ «АКО ЕКСПЕРТ» ","2015-08-01",2323012.9700000002,31311561.27,66922731.269999996,29090538.510000002,37832192.759999998,7283500]
["334969_32332264_2",2,"Укрбізнесбанк","334969","10.20","Севастополь","Діюче",1,"4-СевДКр","мультивалютна кредитна лінія","мульт. валютн.",0.15,"2010-09-30","2014-08-10","НІ","Наяваний договір застави",1762,0,36706.620000000003,"2013-12-13","ТОВ «АКО ЕКСПЕРТ» ","2015-08-01",516095.53,6264793.54,11360543.969999999,4589203.5199999996,6771340.4500000002,1304202]
["334969_32332264_3",3,"Укрбізнесбанк","334969","10.20","Севастополь","Діюче",1,"5-СевДКр","кредит","Доллар США",0.13,"2010-10-19","2014-08-10","НІ","Наяваний договір застави",1762,0,3905.38,"2013-10-30","ТОВ «АКО ЕКСПЕРТ» ","2015-08-01",2137626.67,4224838.3499999996,9190372.9400000013,3316072.71,5874300.2300000004,1059900]
["334969_35886484_4",4,"Укрбізнесбанк","334969","68.20","Донецька","Діюче",1,"41","кредит","Гривня",0.17,"2013-03-29","2017-03-28","НІ","Відсутні документи кредитної справи",1307,0,122162.34,"2014-11-07","ТОВ «АКО ЕКСПЕРТ» ","2015-08-01",5476605.9000000004,11105055.310000001,19523282.649999999,9738663.4399999995,9784619.2100000009,0]
["300131_00232093_1",1,"Фінанси та Кредит","300131","29.32","Донецька","не перебуває в процесі припинення",1,"1296-09","Відновлювальна кредитна лінія",980,0.46,"2009-02-10","2017-12-13","ні","так",822,null,920000,"2015-08-31","ТОВ \"Кредитне брокерське агентство\"","01.04.2016",98616538.370000005,211331487.53,285609443.06,149110000,136499443.06,0]
["300131_32723351_1",1,"Фінанси та Кредит","300131"," 11.01","Дніпропетровська","не перебуває в процесі припинення",1,"64-07/МВ","Мультивалютна кредитна лінія",980,0.17,"2007-11-07","2022-12-31","ні","так",1004,null,10000,"2016-08-03","ТОВ «Кредитне Брокерське Агентство»","01.04.2016",42736422.530000001,115400219.98,138254791.47999999,72047209.829999998,66207581.649999999,20803294.859999999]
["","",null,"",null,null,null,null,null,null,null,null,null,null,null,null,null,null,null,null,null,null,null,null,""]
["","",null,"",null,null,null,null,null,null,null,null,null,null,null,null,null,null,null,null,null,null,null,null,""]
["","",null,"",null,null,null,null,null,null,null,null,null,null,null,null,null,null,null,null,null,null,null,null,""]
["","",null,"",null,null,null,null,null,null,null,null,null,null,null,null,null,null,null,null,null,null,null,null,""]
["","",null,"",null,null,null,null,null,null,null,null,null,null,null,null,null,null,null,null,null,null,null,null,""]
["","",null,"",null,null,null,null,null,null,null,null,null,null,null,null,null,null,null,null,null,null,null,null,""]
["","",null,"",null,null,null,null,null,null,null,null,null,null,null,null,null,null,null,null,null,null,null,null,""]
["","",null,"",null,null,null,null,null,null,null,null,null,null,null,null,null,null,null,null,null,null,null,null,""]
["","",null,"",null,null,null,null,null,null,null,null,null,null,null,null,null,null,null,null,null,null,null,null,""]
["","",null,"",null,null,null,null,null,null,null,null,null,null,null,null,null,null,null,null,null,null,null,null,""]
["","",null,"",null,null,null,null,null,null,null,null,null,null,null,null,null,null,null,null,null,null,null,null,""]
["","",null,"",null,null,null,null,null,null,null,null,null,null,null,null,null,null,null,null,null,null,null,null,""]
["","",null,"",null,null,null,null,null,null,null,null,null,null,null,null,null,null,null,null,null,null,null,null,""]
["","",null,"",null,null,null,null,null,null,null,null,null,null,null,null,null,null,null,null,null,null,null,null,""]
["","",null,"",null,null,null,null,null,null,null,null,null,null,null,null,null,null,null,null,null,null,null,null,""]
["","",null,"",null,null,null,null,null,null,null,null,null,null,null,null,null,null,null,null,null,null,null,null,""]
["","",null,"",null,null,null,null,null,null,null,null,null,null,null,null,null,null,null,null,null,null,null,null,""]
["","",null,"",null,null,null,null,null,null,null,null,null,null,null,null,null,null,null,null,null,null,null,null,""]
["","",null,"",null,null,null,null,null,null,null,null,null,null,null,null,null,null,null,null,null,null,null,null,""]
["","",null,"",null,null,null,null,null,null,null,null,null,null,null,null,null,null,null,null,null,null,null,null,""]
["","",null,"",null,null,null,null,null,null,null,null,null,null,null,null,null,null,null,null,null,null,null,null,""]
["","",null,"",null,null,null,null,null,null,null,null,null,null,null,null,null,null,null,null,null,null,null,null,""]
["","",null,"",null,null,null,null,null,null,null,null,null,null,null,null,null,null,null,null,null,null,null,null,""]
["","",null,"",null,null,null,null,null,null,null,null,null,null,null,null,null,null,null,null,null,null,null,null,""]
["","",null,"",null,null,null,null,null,null,null,null,null,null,null,null,null,null,null,null,null,null,null,null,""]
["","",null,"",null,null,null,null,null,null,null,null,null,null,null,null,null,null,null,null,null,null,null,null,""]
["","",null,"",null,null,null,null,null,null,null,null,null,null,null,null,null,null,null,null,null,null,null,null,""]
["","",null,"",null,null,null,null,null,null,null,null,null,null,null,null,null,null,null,null,null,null,null,null,""]
["","",null,"",null,null,null,null,null,null,null,null,null,null,null,null,null,null,null,null,null,null,null,null,""]
["","",null,"",null,null,null,null,null,null,null,null,null,null,null,null,null,null,null,null,null,null,null,null,""]
["","",null,"",null,null,null,null,null,null,null,null,null,null,null,null,null,null,null,null,null,null,null,null,""]
["","",null,"",null,null,null,null,null,null,null,null,null,null,null,null,null,null,null,null,null,null,null,null,""]
["","",null,"",null,null,null,null,null,null,null,null,null,null,null,null,null,null,null,null,null,null,null,null,""]
["","",null,"",null,null,null,null,null,null,null,null,null,null,null,null,null,null,null,null,null,null,null,null,""]
["","",null,"",null,null,null,null,null,null,null,null,null,null,null,null,null,null,null,null,null,null,null,null,""]
["","",null,"",null,null,null,null,null,null,null,null,null,null,null,null,null,null,null,null,null,null,null,null,""]
["","",null,"",null,null,null,null,null,null,null,null,null,null,null,null,null,null,null,null,null,null,null,null,""]
["","",null,"",null,null,null,null,null,null,null,null,null,null,null,null,null,null,null,null,null,null,null,null,""]
["","",null,"",null,null,null,null,null,null,null,null,null,null,null,null,null,null,null,null,null,null,null,null,""]
["","",null,"",null,null,null,null,null,null,null,null,null,null,null,null,null,null,null,null,null,null,null,null,""]
["","",null,"",null,null,null,null,null,null,null,null,null,null,null,null,null,null,null,null,null,null,null,null,""]
["","",null,"",null,null,null,null,null,null,null,null,null,null,null,null,null,null,null,null,null,null,null,null,""]
["","",null,"",null,null,null,null,null,null,null,null,null,null,null,null,null,null,null,null,null,null,null,null,""]
["","",null,"",null,null,null,null,null,null,null,null,null,null,null,null,null,null,null,null,null,null,null,null,""]
["","",null,"",null,null,null,null,null,null,null,null,null,null,null,null,null,null,null,null,null,null,null,null,""]
["","",null,"",null,null,null,null,null,null,null,null,null,null,null,null,null,null,null,null,null,null,null,null,""]
["","",null,"",null,null,null,null,null,null,null,null,null,null,null,null,null,null,null,null,null,null,null,null,""]
["","",null,"",null,null,null,null,null,null,null,null,null,null,null,null,null,null,null,null,null,null,null,null,""]
["","",null,"",null,null,null,null,null,null,null,null,null,null,null,null,null,null,null,null,null,null,null,null,""]
["","",null,"",null,null,null,null,null,null,null,null,null,null,null,null,null,null,null,null,null,null,null,null,""]
["","",null,"",null,null,null,null,null,null,null,null,null,null,null,null,null,null,null,null,null,null,null,null,""]
["","",null,"",null,null,null,null,null,null,null,null,null,null,null,null,null,null,null,null,null,null,null,null,""]
["","",null,"",null,null,null,null,null,null,null,null,null,null,null,null,null,null,null,null,null,null,null,null,""]
["","",null,"",null,null,null,null,null,null,null,null,null,null,null,null,null,null,null,null,null,null,null,null,""]
["","",null,"",null,null,null,null,null,null,null,null,null,null,null,null,null,null,null,null,null,null,null,null,""]
["","",null,"",null,null,null,null,null,null,null,null,null,null,null,null,null,null,null,null,null,null,null,null,""]
["","",null,"",null,null,null,null,null,null,null,null,null,null,null,null,null,null,null,null,null,null,null,null,""]
["","",null,"",null,null,null,null,null,null,null,null,null,null,null,null,null,null,null,null,null,null,null,null,""]
["","",null,"",null,null,null,null,null,null,null,null,null,null,null,null,null,null,null,null,null,null,null,null,""]
["","",null,"",null,null,null,null,null,null,null,null,null,null,null,null,null,null,null,null,null,null,null,null,""]
["","",null,"",null,null,null,null,null,null,null,null,null,null,null,null,null,null,null,null,null,null,null,null,""]
["","",null,"",null,null,null,null,null,null,null,null,null,null,null,null,null,null,null,null,null,null,null,null,""]
["","",null,"",null,null,null,null,null,null,null,null,null,null,null,null,null,null,null,null,null,null,null,null,""]
["","",null,"",null,null,null,null,null,null,null,null,null,null,null,null,null,null,null,null,null,null,null,null,""]
["","",null,"",null,null,null,null,null,null,null,null,null,null,null,null,null,null,null,null,null,null,null,null,""]
["","",null,"",null,null,null,null,null,null,null,null,null,null,null,null,null,null,null,null,null,null,null,null,""]
["","",null,"",null,null,null,null,null,null,null,null,null,null,null,null,null,null,null,null,null,null,null,null,""]
["","",null,"",null,null,null,null,null,null,null,null,null,null,null,null,null,null,null,null,null,null,null,null,""]
["","",null,"",null,null,null,null,null,null,null,null,null,null,null,null,null,null,null,null,null,null,null,null,""]
["","",null,"",null,null,null,null,null,null,null,null,null,null,null,null,null,null,null,null,null,null,null,null,""]
["","",null,"",null,null,null,null,null,null,null,null,null,null,null,null,null,null,null,null,null,null,null,null,""]
["","",null,"",null,null,null,null,null,null,null,null,null,null,null,null,null,null,null,null,null,null,null,null,""]
["","",null,"",null,null,null,null,null,null,null,null,null,null,null,null,null,null,null,null,null,null,null,null,""]
["","",null,"",null,null,null,null,null,null,null,null,null,null,null,null,null,null,null,null,null,null,null,null,""]
["","",null,"",null,null,null,null,null,null,null,null,null,null,null,null,null,null,null,null,null,null,null,null,""]
["","",null,"",null,null,null,null,null,null,null,null,null,null,null,null,null,null,null,null,null,null,null,null,""]
["","",null,"",null,null,null,null,null,null,null,null,null,null,null,null,null,null,null,null,null,null,null,null,""]
["","",null,"",null,null,null,null,null,null,null,null,null,null,null,null,null,null,null,null,null,null,null,null,""]
["","",null,"",null,null,null,null,null,null,null,null,null,null,null,null,null,null,null,null,null,null,null,null,""]
["","",null,"",null,null,null,null,null,null,null,null,null,null,null,null,null,null,null,null,null,null,null,null,""]
["","",null,"",null,null,null,null,null,null,null,null,null,null,null,null,null,null,null,null,null,null,null,null,""]
["","",null,"",null,null,null,null,null,null,null,null,null,null,null,null,null,null,null,null,null,null,null,null,""]
["","",null,"",null,null,null,null,null,null,null,null,null,null,null,null,null,null,null,null,null,null,null,null,""]
["","",null,"",null,null,null,null,null,null,null,null,null,null,null,null,null,null,null,null,null,null,null,null,""]
["","",null,"",null,null,null,null,null,null,null,null,null,null,null,null,null,null,null,null,null,null,null,null,""]
["","",null,"",null,null,null,null,null,null,null,null,null,null,null,null,null,null,null,null,null,null,null,null,""]
["","",null,"",null,null,null,null,null,null,null,null,null,null,null,null,null,null,null,null,null,null,null,null,""]
["","",null,"",null,null,null,null,null,null,null,null,null,null,null,null,null,null,null,null,null,null,null,null,""]
["","",null,"",null,null,null,null,null,null,null,null,null,null,null,null,null,null,null,null,null,null,null,null,""]
["","",null,"",null,null,null,null,null,null,null,null,null,null,null,null,null,null,null,null,null,null,null,null,""]
["","",null,"",null,null,null,null,null,null,null,null,null,null,null,null,null,null,null,null,null,null,null,null,""]
["","",null,"",null,null,null,null,null,null,null,null,null,null,null,null,null,null,null,null,null,null,null,null,""]
["","",null,"",null,null,null,null,null,null,null,null,null,null,null,null,null,null,null,null,null,null,null,null,""]
["","",null,"",null,null,null,null,null,null,null,null,null,null,null,null,null,null,null,null,null,null,null,null,""]
["","",null,"",null,null,null,null,null,null,null,null,null,null,null,null,null,null,null,null,null,null,null,null,""]
["","",null,"",null,null,null,null,null,null,null,null,null,null,null,null,null,null,null,null,null,null,null,null,""]
["","",null,"",null,null,null,null,null,null,null,null,null,null,null,null,null,null,null,null,null,null,null,null,""]
["","",null,"",null,null,null,null,null,null,null,null,null,null,null,null,null,null,null,null,null,null,null,null,""]
["","",null,"",null,null,null,null,null,null,null,null,null,null,null,null,null,null,null,null,null,null,null,null,""]
["","",null,"",null,null,null,null,null,null,null,null,null,null,null,null,null,null,null,null,null,null,null,null,""]
["","",null,"",null,null,null,null,null,null,null,null,null,null,null,null,null,null,null,null,null,null,null,null,""]
["","",null,"",null,null,null,null,null,null,null,null,null,null,null,null,null,null,null,null,null,null,null,null,""]
["","",null,"",null,null,null,null,null,null,null,null,null,null,null,null,null,null,null,null,null,null,null,null,""]
["","",null,"",null,null,null,null,null,null,null,null,null,null,null,null,null,null,null,null,null,null,null,null,""]
["","",null,"",null,null,null,null,null,null,null,null,null,null,null,null,null,null,null,null,null,null,null,null,""]
["","",null,"",null,null,null,null,null,null,null,null,null,null,null,null,null,null,null,null,null,null,null,null,""]
["","",null,"",null,null,null,null,null,null,null,null,null,null,null,null,null,null,null,null,null,null,null,null,""]
["","",null,"",null,null,null,null,null,null,null,null,null,null,null,null,null,null,null,null,null,null,null,null,""]
["","",null,"",null,null,null,null,null,null,null,null,null,null,null,null,null,null,null,null,null,null,null,null,""]
["","",null,"",null,null,null,null,null,null,null,null,null,null,null,null,null,null,null,null,null,null,null,null,""]
["","",null,"",null,null,null,null,null,null,null,null,null,null,null,null,null,null,null,null,null,null,null,null,""]
["","",null,"",null,null,null,null,null,null,null,null,null,null,null,null,null,null,null,null,null,null,null,null,""]
["","",null,"",null,null,null,null,null,null,null,null,null,null,null,null,null,null,null,null,null,null,null,null,""]
["","",null,"",null,null,null,null,null,null,null,null,null,null,null,null,null,null,null,null,null,null,null,null,""]
["","",null,"",null,null,null,null,null,null,null,null,null,null,null,null,null,null,null,null,null,null,null,null,""]
["","",null,"",null,null,null,null,null,null,null,null,null,null,null,null,null,null,null,null,null,null,null,null,""]
["","",null,"",null,null,null,null,null,null,null,null,null,null,null,null,null,null,null,null,null,null,null,null,""]
["","",null,"",null,null,null,null,null,null,null,null,null,null,null,null,null,null,null,null,null,null,null,null,""]
["","",null,"",null,null,null,null,null,null,null,null,null,null,null,null,null,null,null,null,null,null,null,null,""]
["","",null,"",null,null,null,null,null,null,null,null,null,null,null,null,null,null,null,null,null,null,null,null,""]
["","",null,"",null,null,null,null,null,null,null,null,null,null,null,null,null,null,null,null,null,null,null,null,""]
["","",null,"",null,null,null,null,null,null,null,null,null,null,null,null,null,null,null,null,null,null,null,null,""]
["","",null,"",null,null,null,null,null,null,null,null,null,null,null,null,null,null,null,null,null,null,null,null,""]
["","",null,"",null,null,null,null,null,null,null,null,null,null,null,null,null,null,null,null,null,null,null,null,""]
["","",null,"",null,null,null,null,null,null,null,null,null,null,null,null,null,null,null,null,null,null,null,null,""]
["","",null,"",null,null,null,null,null,null,null,null,null,null,null,null,null,null,null,null,null,null,null,null,""]
["","",null,"",null,null,null,null,null,null,null,null,null,null,null,null,null,null,null,null,null,null,null,null,""]
["","",null,"",null,null,null,null,null,null,null,null,null,null,null,null,null,null,null,null,null,null,null,null,""]
["","",null,"",null,null,null,null,null,null,null,null,null,null,null,null,null,null,null,null,null,null,null,null,""]
["","",null,"",null,null,null,null,null,null,null,null,null,null,null,null,null,null,null,null,null,null,null,null,""]
["","",null,"",null,null,null,null,null,null,null,null,null,null,null,null,null,null,null,null,null,null,null,null,""]
["","",null,"",null,null,null,null,null,null,null,null,null,null,null,null,null,null,null,null,null,null,null,null,""]
["","",null,"",null,null,null,null,null,null,null,null,null,null,null,null,null,null,null,null,null,null,null,null,""]
["","",null,"",null,null,null,null,null,null,null,null,null,null,null,null,null,null,null,null,null,null,null,null,""]
["","",null,"",null,null,null,null,null,null,null,null,null,null,null,null,null,null,null,null,null,null,null,null,""]
["","",null,"",null,null,null,null,null,null,null,null,null,null,null,null,null,null,null,null,null,null,null,null,""]
["","",null,"",null,null,null,null,null,null,null,null,null,null,null,null,null,null,null,null,null,null,null,null,""]
["","",null,"",null,null,null,null,null,null,null,null,null,null,null,null,null,null,null,null,null,null,null,null,""]
["","",null,"",null,null,null,null,null,null,null,null,null,null,null,null,null,null,null,null,null,null,null,null,""]
["","",null,"",null,null,null,null,null,null,null,null,null,null,null,null,null,null,null,null,null,null,null,null,""]
["","",null,"",null,null,null,null,null,null,null,null,null,null,null,null,null,null,null,null,null,null,null,null,""]
["","",null,"",null,null,null,null,null,null,null,null,null,null,null,null,null,null,null,null,null,null,null,null,""]
["","",null,"",null,null,null,null,null,null,null,null,null,null,null,null,null,null,null,null,null,null,null,null,""]
["","",null,"",null,null,null,null,null,null,null,null,null,null,null,null,null,null,null,null,null,null,null,null,""]
["","",null,"",null,null,null,null,null,null,null,null,null,null,null,null,null,null,null,null,null,null,null,null,""]
["","",null,"",null,null,null,null,null,null,null,null,null,null,null,null,null,null,null,null,null,null,null,null,""]
["","",null,"",null,null,null,null,null,null,null,null,null,null,null,null,null,null,null,null,null,null,null,null,""]
["","",null,"",null,null,null,null,null,null,null,null,null,null,null,null,null,null,null,null,null,null,null,null,""]
["","",null,"",null,null,null,null,null,null,null,null,null,null,null,null,null,null,null,null,null,null,null,null,""]
["","",null,"",null,null,null,null,null,null,null,null,null,null,null,null,null,null,null,null,null,null,null,null,""]
["","",null,"",null,null,null,null,null,null,null,null,null,null,null,null,null,null,null,null,null,null,null,null,""]
["","",null,"",null,null,null,null,null,null,null,null,null,null,null,null,null,null,null,null,null,null,null,null,""]
["","",null,"",null,null,null,null,null,null,null,null,null,null,null,null,null,null,null,null,null,null,null,null,""]
["","",null,"",null,null,null,null,null,null,null,null,null,null,null,null,null,null,null,null,null,null,null,null,""]
["","",null,"",null,null,null,null,null,null,null,null,null,null,null,null,null,null,null,null,null,null,null,null,""]
["","",null,"",null,null,null,null,null,null,null,null,null,null,null,null,null,null,null,null,null,null,null,null,""]
["","",null,"",null,null,null,null,null,null,null,null,null,null,null,null,null,null,null,null,null,null,null,null,""]
["","",null,"",null,null,null,null,null,null,null,null,null,null,null,null,null,null,null,null,null,null,null,null,""]
["","",null,"",null,null,null,null,null,null,null,null,null,null,null,null,null,null,null,null,null,null,null,null,""]
["","",null,"",null,null,null,null,null,null,null,null,null,null,null,null,null,null,null,null,null,null,null,null,""]
["","",null,"",null,null,null,null,null,null,null,null,null,null,null,null,null,null,null,null,null,null,null,null,""]
["","",null,"",null,null,null,null,null,null,null,null,null,null,null,null,null,null,null,null,null,null,null,null,""]
["","",null,"",null,null,null,null,null,null,null,null,null,null,null,null,null,null,null,null,null,null,null,null,""]
["","",null,"",null,null,null,null,null,null,null,null,null,null,null,null,null,null,null,null,null,null,null,null,""]
["","",null,"",null,null,null,null,null,null,null,null,null,null,null,null,null,null,null,null,null,null,null,null,""]
["","",null,"",null,null,null,null,null,null,null,null,null,null,null,null,null,null,null,null,null,null,null,null,""]
["","",null,"",null,null,null,null,null,null,null,null,null,null,null,null,null,null,null,null,null,null,null,null,""]
["","",null,"",null,null,null,null,null,null,null,null,null,null,null,null,null,null,null,null,null,null,null,null,""]
["","",null,"",null,null,null,null,null,null,null,null,null,null,null,null,null,null,null,null,null,null,null,null,""]
["","",null,"",null,null,null,null,null,null,null,null,null,null,null,null,null,null,null,null,null,null,null,null,""]
["","",null,"",null,null,null,null,null,null,null,null,null,null,null,null,null,null,null,null,null,null,null,null,""]
["","",null,"",null,null,null,null,null,null,null,null,null,null,null,null,null,null,null,null,null,null,null,null,""]
["","",null,"",null,null,null,null,null,null,null,null,null,null,null,null,null,null,null,null,null,null,null,null,""]
["","",null,"",null,null,null,null,null,null,null,null,null,null,null,null,null,null,null,null,null,null,null,null,""]
["","",null,"",null,null,null,null,null,null,null,null,null,null,null,null,null,null,null,null,null,null,null,null,""]
["","",null,"",null,null,null,null,null,null,null,null,null,null,null,null,null,null,null,null,null,null,null,null,""]
["","",null,"",null,null,null,null,null,null,null,null,null,null,null,null,null,null,null,null,null,null,null,null,""]
["","",null,"",null,null,null,null,null,null,null,null,null,null,null,null,null,null,null,null,null,null,null,null,""]
["","",null,"",null,null,null,null,null,null,null,null,null,null,null,null,null,null,null,null,null,null,null,null,""]
["","",null,"",null,null,null,null,null,null,null,null,null,null,null,null,null,null,null,null,null,null,null,null,""]
["","",null,"",null,null,null,null,null,null,null,null,null,null,null,null,null,null,null,null,null,null,null,null,""]
["","",null,"",null,null,null,null,null,null,null,null,null,null,null,null,null,null,null,null,null,null,null,null,""]
["","",null,"",null,null,null,null,null,null,null,null,null,null,null,null,null,null,null,null,null,null,null,null,""]
["","",null,"",null,null,null,null,null,null,null,null,null,null,null,null,null,null,null,null,null,null,null,null,""]
["","",null,"",null,null,null,null,null,null,null,null,null,null,null,null,null,null,null,null,null,null,null,null,""]
["","",null,"",null,null,null,null,null,null,null,null,null,null,null,null,null,null,null,null,null,null,null,null,""]
["","",null,"",null,null,null,null,null,null,null,null,null,null,null,null,null,null,null,null,null,null,null,null,""]
["","",null,"",null,null,null,null,null,null,null,null,null,null,null,null,null,null,null,null,null,null,null,null,""]
["","",null,"",null,null,null,null,null,null,null,null,null,null,null,null,null,null,null,null,null,null,null,null,""]
["","",null,"",null,null,null,null,null,null,null,null,null,null,null,null,null,null,null,null,null,null,null,null,""]
["","",null,"",null,null,null,null,null,null,null,null,null,null,null,null,null,null,null,null,null,null,null,null,""]
["","",null,"",null,null,null,null,null,null,null,null,null,null,null,null,null,null,null,null,null,null,null,null,""]
["","",null,"",null,null,null,null,null,null,null,null,null,null,null,null,null,null,null,null,null,null,null,null,""]
["","",null,"",null,null,null,null,null,null,null,null,null,null,null,null,null,null,null,null,null,null,null,null,""]
["","",null,"",null,null,null,null,null,null,null,null,null,null,null,null,null,null,null,null,null,null,null,null,""]
["","",null,"",null,null,null,null,null,null,null,null,null,null,null,null,null,null,null,null,null,null,null,null,""]
["","",null,"",null,null,null,null,null,null,null,null,null,null,null,null,null,null,null,null,null,null,null,null,""]
["","",null,"",null,null,null,null,null,null,null,null,null,null,null,null,null,null,null,null,null,null,null,null,""]
["","",null,"",null,null,null,null,null,null,null,null,null,null,null,null,null,null,null,null,null,null,null,null,""]
["","",null,"",null,null,null,null,null,null,null,null,null,null,null,null,null,null,null,null,null,null,null,null,""]
["","",null,"",null,null,null,null,null,null,null,null,null,null,null,null,null,null,null,null,null,null,null,null,""]
["","",null,"",null,null,null,null,null,null,null,null,null,null,null,null,null,null,null,null,null,null,null,null,""]
["","",null,"",null,null,null,null,null,null,null,null,null,null,null,null,null,null,null,null,null,null,null,null,""]
["","",null,"",null,null,null,null,null,null,null,null,null,null,null,null,null,null,null,null,null,null,null,null,""]
["","",null,"",null,null,null,null,null,null,null,null,null,null,null,null,null,null,null,null,null,null,null,null,""]
["","",null,"",null,null,null,null,null,null,null,null,null,null,null,null,null,null,null,null,null,null,null,null,""]
["","",null,"",null,null,null,null,null,null,null,null,null,null,null,null,null,null,null,null,null,null,null,null,""]
["","",null,"",null,null,null,null,null,null,null,null,null,null,null,null,null,null,null,null,null,null,null,null,""]
["","",null,"",null,null,null,null,null,null,null,null,null,null,null,null,null,null,null,null,null,null,null,null,""]
["","",null,"",null,null,null,null,null,null,null,null,null,null,null,null,null,null,null,null,null,null,null,null,""]
["","",null,"",null,null,null,null,null,null,null,null,null,null,null,null,null,null,null,null,null,null,null,null,""]
["","",null,"",null,null,null,null,null,null,null,null,null,null,null,null,null,null,null,null,null,null,null,null,""]
["","",null,"",null,null,null,null,null,null,null,null,null,null,null,null,null,null,null,null,null,null,null,null,""]
["","",null,"",null,null,null,null,null,null,null,null,null,null,null,null,null,null,null,null,null,null,null,null,""]
["","",null,"",null,null,null,null,null,null,null,null,null,null,null,null,null,null,null,null,null,null,null,null,""]
["","",null,"",null,null,null,null,null,null,null,null,null,null,null,null,null,null,null,null,null,null,null,null,""]
["","",null,"",null,null,null,null,null,null,null,null,null,null,null,null,null,null,null,null,null,null,null,null,""]
["","",null,"",null,null,null,null,null,null,null,null,null,null,null,null,null,null,null,null,null,null,null,null,""]
["","",null,"",null,null,null,null,null,null,null,null,null,null,null,null,null,null,null,null,null,null,null,null,""]
["","",null,"",null,null,null,null,null,null,null,null,null,null,null,null,null,null,null,null,null,null,null,null,""]
["","",null,"",null,null,null,null,null,null,null,null,null,null,null,null,null,null,null,null,null,null,null,null,""]
["","",null,"",null,null,null,null,null,null,null,null,null,null,null,null,null,null,null,null,null,null,null,null,""]
["","",null,"",null,null,null,null,null,null,null,null,null,null,null,null,null,null,null,null,null,null,null,null,""]
["","",null,"",null,null,null,null,null,null,null,null,null,null,null,null,null,null,null,null,null,null,null,null,""]
["","",null,"",null,null,null,null,null,null,null,null,null,null,null,null,null,null,null,null,null,null,null,null,""]
["","",null,"",null,null,null,null,null,null,null,null,null,null,null,null,null,null,null,null,null,null,null,null,""]
["","",null,"",null,null,null,null,null,null,null,null,null,null,null,null,null,null,null,null,null,null,null,null,""]
["","",null,"",null,null,null,null,null,null,null,null,null,null,null,null,null,null,null,null,null,null,null,null,""]
["","",null,"",null,null,null,null,null,null,null,null,null,null,null,null,null,null,null,null,null,null,null,null,""]
["","",null,"",null,null,null,null,null,null,null,null,null,null,null,null,null,null,null,null,null,null,null,null,""]
["","",null,"",null,null,null,null,null,null,null,null,null,null,null,null,null,null,null,null,null,null,null,null,""]
["","",null,"",null,null,null,null,null,null,null,null,null,null,null,null,null,null,null,null,null,null,null,null,""]
["","",null,"",null,null,null,null,null,null,null,null,null,null,null,null,null,null,null,null,null,null,null,null,""]
["","",null,"",null,null,null,null,null,null,null,null,null,null,null,null,null,null,null,null,null,null,null,null,""]
["","",null,"",null,null,null,null,null,null,null,null,null,null,null,null,null,null,null,null,null,null,null,null,""]
["","",null,"",null,null,null,null,null,null,null,null,null,null,null,null,null,null,null,null,null,null,null,null,""]
["","",null,"",null,null,null,null,null,null,null,null,null,null,null,null,null,null,null,null,null,null,null,null,""]
["","",null,"",null,null,null,null,null,null,null,null,null,null,null,null,null,null,null,null,null,null,null,null,""]
["","",null,"",null,null,null,null,null,null,null,null,null,null,null,null,null,null,null,null,null,null,null,null,""]
["","",null,"",null,null,null,null,null,null,null,null,null,null,null,null,null,null,null,null,null,null,null,null,""]
["","",null,"",null,null,null,null,null,null,null,null,null,null,null,null,null,null,null,null,null,null,null,null,""]
["","",null,"",null,null,null,null,null,null,null,null,null,null,null,null,null,null,null,null,null,null,null,null,""]
["","",null,"",null,null,null,null,null,null,null,null,null,null,null,null,null,null,null,null,null,null,null,null,""]
["","",null,"",null,null,null,null,null,null,null,null,null,null,null,null,null,null,null,null,null,null,null,null,""]
["","",null,"",null,null,null,null,null,null,null,null,null,null,null,null,null,null,null,null,null,null,null,null,""]
["","",null,"",null,null,null,null,null,null,null,null,null,null,null,null,null,null,null,null,null,null,null,null,""]
["","",null,"",null,null,null,null,null,null,null,null,null,null,null,null,null,null,null,null,null,null,null,null,""]
["","",null,"",null,null,null,null,null,null,null,null,null,null,null,null,null,null,null,null,null,null,null,null,""]
["","",null,"",null,null,null,null,null,null,null,null,null,null,null,null,null,null,null,null,null,null,null,null,""]
["","",null,"",null,null,null,null,null,null,null,null,null,null,null,null,null,null,null,null,null,null,null,null,""]
["","",null,"",null,null,null,null,null,null,null,null,null,null,null,null,null,null,null,null,null,null,null,null,""]
["","",null,"",null,null,null,null,null,null,null,null,null,null,null,null,null,null,null,null,null,null,null,null,""]
["","",null,"",null,null,null,null,null,null,null,null,null,null,null,null,null,null,null,null,null,null,null,null,""]
["","",null,"",null,null,null,null,null,null,null,null,null,null,null,null,null,null,null,null,null,null,null,null,""]
["","",null,"",null,null,null,null,null,null,null,null,null,null,null,null,null,null,null,null,null,null,null,null,""]
["","",null,"",null,null,null,null,null,null,null,null,null,null,null,null,null,null,null,null,null,null,null,null,""]
["","",null,"",null,null,null,null,null,null,null,null,null,null,null,null,null,null,null,null,null,null,null,null,""]
["","",null,"",null,null,null,null,null,null,null,null,null,null,null,null,null,null,null,null,null,null,null,null,""]
["","",null,"",null,null,null,null,null,null,null,null,null,null,null,null,null,null,null,null,null,null,null,null,""]
["","",null,"",null,null,null,null,null,null,null,null,null,null,null,null,null,null,null,null,null,null,null,null,""]
["","",null,"",null,null,null,null,null,null,null,null,null,null,null,null,null,null,null,null,null,null,null,null,""]
["","",null,"",null,null,null,null,null,null,null,null,null,null,null,null,null,null,null,null,null,null,null,null,""]
["","",null,"",null,null,null,null,null,null,null,null,null,null,null,null,null,null,null,null,null,null,null,null,""]
["","",null,"",null,null,null,null,null,null,null,null,null,null,null,null,null,null,null,null,null,null,null,null,""]
["","",null,"",null,null,null,null,null,null,null,null,null,null,null,null,null,null,null,null,null,null,null,null,""]
["","",null,"",null,null,null,null,null,null,null,null,null,null,null,null,null,null,null,null,null,null,null,null,""]
["","",null,"",null,null,null,null,null,null,null,null,null,null,null,null,null,null,null,null,null,null,null,null,""]
["","",null,"",null,null,null,null,null,null,null,null,null,null,null,null,null,null,null,null,null,null,null,null,""]
["","",null,"",null,null,null,null,null,null,null,null,null,null,null,null,null,null,null,null,null,null,null,null,""]
["","",null,"",null,null,null,null,null,null,null,null,null,null,null,null,null,null,null,null,null,null,null,null,""]
["","",null,"",null,null,null,null,null,null,null,null,null,null,null,null,null,null,null,null,null,null,null,null,""]
["","",null,"",null,null,null,null,null,null,null,null,null,null,null,null,null,null,null,null,null,null,null,null,""]
["","",null,"",null,null,null,null,null,null,null,null,null,null,null,null,null,null,null,null,null,null,null,null,""]
["","",null,"",null,null,null,null,null,null,null,null,null,null,null,null,null,null,null,null,null,null,null,null,""]
["","",null,"",null,null,null,null,null,null,null,null,null,null,null,null,null,null,null,null,null,null,null,null,""]
["","",null,"",null,null,null,null,null,null,null,null,null,null,null,null,null,null,null,null,null,null,null,null,""]
["","",null,"",null,null,null,null,null,null,null,null,null,null,null,null,null,null,null,null,null,null,null,null,""]
["","",null,"",null,null,null,null,null,null,null,null,null,null,null,null,null,null,null,null,null,null,null,null,""]
["","",null,"",null,null,null,null,null,null,null,null,null,null,null,null,null,null,null,null,null,null,null,null,""]
["","",null,"",null,null,null,null,null,null,null,null,null,null,null,null,null,null,null,null,null,null,null,null,""]
["","",null,"",null,null,null,null,null,null,null,null,null,null,null,null,null,null,null,null,null,null,null,null,""]
["","",null,"",null,null,null,null,null,null,null,null,null,null,null,null,null,null,null,null,null,null,null,null,""]
["","",null,"",null,null,null,null,null,null,null,null,null,null,null,null,null,null,null,null,null,null,null,null,""]
["","",null,"",null,null,null,null,null,null,null,null,null,null,null,null,null,null,null,null,null,null,null,null,""]
["","",null,"",null,null,null,null,null,null,null,null,null,null,null,null,null,null,null,null,null,null,null,null,""]
["","",null,"",null,null,null,null,null,null,null,null,null,null,null,null,null,null,null,null,null,null,null,null,""]
["","",null,"",null,null,null,null,null,null,null,null,null,null,null,null,null,null,null,null,null,null,null,null,""]
["","",null,"",null,null,null,null,null,null,null,null,null,null,null,null,null,null,null,null,null,null,null,null,""]
["","",null,"",null,null,null,null,null,null,null,null,null,null,null,null,null,null,null,null,null,null,null,null,""]
["","",null,"",null,null,null,null,null,null,null,null,null,null,null,null,null,null,null,null,null,null,null,null,""]
["","",null,"",null,null,null,null,null,null,null,null,null,null,null,null,null,null,null,null,null,null,null,null,""]
["","",null,"",null,null,null,null,null,null,null,null,null,null,null,null,null,null,null,null,null,null,null,null,""]
["","",null,"",null,null,null,null,null,null,null,null,null,null,null,null,null,null,null,null,null,null,null,null,""]
["","",null,"",null,null,null,null,null,null,null,null,null,null,null,null,null,null,null,null,null,null,null,null,""]
["","",null,"",null,null,null,null,null,null,null,null,null,null,null,null,null,null,null,null,null,null,null,null,""]
["","",null,"",null,null,null,null,null,null,null,null,null,null,null,null,null,null,null,null,null,null,null,null,""]
["","",null,"",null,null,null,null,null,null,null,null,null,null,null,null,null,null,null,null,null,null,null,null,""]
["","",null,"",null,null,null,null,null,null,null,null,null,null,null,null,null,null,null,null,null,null,null,null,""]
["","",null,"",null,null,null,null,null,null,null,null,null,null,null,null,null,null,null,null,null,null,null,null,""]
["","",null,"",null,null,null,null,null,null,null,null,null,null,null,null,null,null,null,null,null,null,null,null,""]
["","",null,"",null,null,null,null,null,null,null,null,null,null,null,null,null,null,null,null,null,null,null,null,""]
["","",null,"",null,null,null,null,null,null,null,null,null,null,null,null,null,null,null,null,null,null,null,null,""]
["","",null,"",null,null,null,null,null,null,null,null,null,null,null,null,null,null,null,null,null,null,null,null,""]
["","",null,"",null,null,null,null,null,null,null,null,null,null,null,null,null,null,null,null,null,null,null,null,""]
["","",null,"",null,null,null,null,null,null,null,null,null,null,null,null,null,null,null,null,null,null,null,null,""]
["","",null,"",null,null,null,null,null,null,null,null,null,null,null,null,null,null,null,null,null,null,null,null,""]
["","",null,"",null,null,null,null,null,null,null,null,null,null,null,null,null,null,null,null,null,null,null,null,""]
["","",null,"",null,null,null,null,null,null,null,null,null,null,null,null,null,null,null,null,null,null,null,null,""]
["","",null,"",null,null,null,null,null,null,null,null,null,null,null,null,null,null,null,null,null,null,null,null,""]
["","",null,"",null,null,null,null,null,null,null,null,null,null,null,null,null,null,null,null,null,null,null,null,""]
["","",null,"",null,null,null,null,null,null,null,null,null,null,null,null,null,null,null,null,null,null,null,null,""]
["","",null,"",null,null,null,null,null,null,null,null,null,null,null,null,null,null,null,null,null,null,null,null,""]
["","",null,"",null,null,null,null,null,null,null,null,null,null,null,null,null,null,null,null,null,null,null,null,""]
["","",null,"",null,null,null,null,null,null,null,null,null,null,null,null,null,null,null,null,null,null,null,null,""]
["","",null,"",null,null,null,null,null,null,null,null,null,null,null,null,null,null,null,null,null,null,null,null,""]
["","",null,"",null,null,null,null,null,null,null,null,null,null,null,null,null,null,null,null,null,null,null,null,""]
["","",null,"",null,null,null,null,null,null,null,null,null,null,null,null,null,null,null,null,null,null,null,null,""]
["","",null,"",null,null,null,null,null,null,null,null,null,null,null,null,null,null,null,null,null,null,null,null,""]
["","",null,"",null,null,null,null,null,null,null,null,null,null,null,null,null,null,null,null,null,null,null,null,""]
["","",null,"",null,null,null,null,null,null,null,null,null,null,null,null,null,null,null,null,null,null,null,null,""]
["","",null,"",null,null,null,null,null,null,null,null,null,null,null,null,null,null,null,null,null,null,null,null,""]
["","",null,"",null,null,null,null,null,null,null,null,null,null,null,null,null,null,null,null,null,null,null,null,""]
["","",null,"",null,null,null,null,null,null,null,null,null,null,null,null,null,null,null,null,null,null,null,null,""]
["","",null,"",null,null,null,null,null,null,null,null,null,null,null,null,null,null,null,null,null,null,null,null,""]
["","",null,"",null,null,null,null,null,null,null,null,null,null,null,null,null,null,null,null,null,null,null,null,""]
["","",null,"",null,null,null,null,null,null,null,null,null,null,null,null,null,null,null,null,null,null,null,null,""]
["","",null,"",null,null,null,null,null,null,null,null,null,null,null,null,null,null,null,null,null,null,null,null,""]
["","",null,"",null,null,null,null,null,null,null,null,null,null,null,null,null,null,null,null,null,null,null,null,""]
["","",null,"",null,null,null,null,null,null,null,null,null,null,null,null,null,null,null,null,null,null,null,null,""]
["","",null,"",null,null,null,null,null,null,null,null,null,null,null,null,null,null,null,null,null,null,null,null,""]
["","",null,"",null,null,null,null,null,null,null,null,null,null,null,null,null,null,null,null,null,null,null,null,""]
["","",null,"",null,null,null,null,null,null,null,null,null,null,null,null,null,null,null,null,null,null,null,null,""]
["","",null,"",null,null,null,null,null,null,null,null,null,null,null,null,null,null,null,null,null,null,null,null,""]
["","",null,"",null,null,null,null,null,null,null,null,null,null,null,null,null,null,null,null,null,null,null,null,""]
["","",null,"",null,null,null,null,null,null,null,null,null,null,null,null,null,null,null,null,null,null,null,null,""]
["","",null,"",null,null,null,null,null,null,null,null,null,null,null,null,null,null,null,null,null,null,null,null,""]
["","",null,"",null,null,null,null,null,null,null,null,null,null,null,null,null,null,null,null,null,null,null,null,""]
["","",null,"",null,null,null,null,null,null,null,null,null,null,null,null,null,null,null,null,null,null,null,null,""]
["","",null,"",null,null,null,null,null,null,null,null,null,null,null,null,null,null,null,null,null,null,null,null,""]
["","",null,"",null,null,null,null,null,null,null,null,null,null,null,null,null,null,null,null,null,null,null,null,""]
["","",null,"",null,null,null,null,null,null,null,null,null,null,null,null,null,null,null,null,null,null,null,null,""]
["","",null,"",null,null,null,null,null,null,null,null,null,null,null,null,null,null,null,null,null,null,null,null,""]
["","",null,"",null,null,null,null,null,null,null,null,null,null,null,null,null,null,null,null,null,null,null,null,""]
["","",null,"",null,null,null,null,null,null,null,null,null,null,null,null,null,null,null,null,null,null,null,null,""]
["","",null,"",null,null,null,null,null,null,null,null,null,null,null,null,null,null,null,null,null,null,null,null,""]
["","",null,"",null,null,null,null,null,null,null,null,null,null,null,null,null,null,null,null,null,null,null,null,""]
["","",null,"",null,null,null,null,null,null,null,null,null,null,null,null,null,null,null,null,null,null,null,null,""]
["","",null,"",null,null,null,null,null,null,null,null,null,null,null,null,null,null,null,null,null,null,null,null,""]
["","",null,"",null,null,null,null,null,null,null,null,null,null,null,null,null,null,null,null,null,null,null,null,""]
["","",null,"",null,null,null,null,null,null,null,null,null,null,null,null,null,null,null,null,null,null,null,null,""]
["","",null,"",null,null,null,null,null,null,null,null,null,null,null,null,null,null,null,null,null,null,null,null,""]
["","",null,"",null,null,null,null,null,null,null,null,null,null,null,null,null,null,null,null,null,null,null,null,""]
["","",null,"",null,null,null,null,null,null,null,null,null,null,null,null,null,null,null,null,null,null,null,null,""]
["","",null,"",null,null,null,null,null,null,null,null,null,null,null,null,null,null,null,null,null,null,null,null,""]
["","",null,"",null,null,null,null,null,null,null,null,null,null,null,null,null,null,null,null,null,null,null,null,""]
["","",null,"",null,null,null,null,null,null,null,null,null,null,null,null,null,null,null,null,null,null,null,null,""]
["","",null,"",null,null,null,null,null,null,null,null,null,null,null,null,null,null,null,null,null,null,null,null,""]
["","",null,"",null,null,null,null,null,null,null,null,null,null,null,null,null,null,null,null,null,null,null,null,""]
["","",null,"",null,null,null,null,null,null,null,null,null,null,null,null,null,null,null,null,null,null,null,null,""]
["","",null,"",null,null,null,null,null,null,null,null,null,null,null,null,null,null,null,null,null,null,null,null,""]
["","",null,"",null,null,null,null,null,null,null,null,null,null,null,null,null,null,null,null,null,null,null,null,""]
["","",null,"",null,null,null,null,null,null,null,null,null,null,null,null,null,null,null,null,null,null,null,null,""]
["","",null,"",null,null,null,null,null,null,null,null,null,null,null,null,null,null,null,null,null,null,null,null,""]
["","",null,"",null,null,null,null,null,null,null,null,null,null,null,null,null,null,null,null,null,null,null,null,""]
["","",null,"",null,null,null,null,null,null,null,null,null,null,null,null,null,null,null,null,null,null,null,null,""]
["","",null,"",null,null,null,null,null,null,null,null,null,null,null,null,null,null,null,null,null,null,null,null,""]
["","",null,"",null,null,null,null,null,null,null,null,null,null,null,null,null,null,null,null,null,null,null,null,""]
["","",null,"",null,null,null,null,null,null,null,null,null,null,null,null,null,null,null,null,null,null,null,null,""]
["","",null,"",null,null,null,null,null,null,null,null,null,null,null,null,null,null,null,null,null,null,null,null,""]
["","",null,"",null,null,null,null,null,null,null,null,null,null,null,null,null,null,null,null,null,null,null,null,""]
["","",null,"",null,null,null,null,null,null,null,null,null,null,null,null,null,null,null,null,null,null,null,null,""]
["","",null,"",null,null,null,null,null,null,null,null,null,null,null,null,null,null,null,null,null,null,null,null,""]
["","",null,"",null,null,null,null,null,null,null,null,null,null,null,null,null,null,null,null,null,null,null,null,""]
["","",null,"",null,null,null,null,null,null,null,null,null,null,null,null,null,null,null,null,null,null,null,null,""]
["","",null,"",null,null,null,null,null,null,null,null,null,null,null,null,null,null,null,null,null,null,null,null,""]
["","",null,"",null,null,null,null,null,null,null,null,null,null,null,null,null,null,null,null,null,null,null,null,""]
["","",null,"",null,null,null,null,null,null,null,null,null,null,null,null,null,null,null,null,null,null,null,null,""]
["","",null,"",null,null,null,null,null,null,null,null,null,null,null,null,null,null,null,null,null,null,null,null,""]
["","",null,"",null,null,null,null,null,null,null,null,null,null,null,null,null,null,null,null,null,null,null,null,""]
["","",null,"",null,null,null,null,null,null,null,null,null,null,null,null,null,null,null,null,null,null,null,null,""]
["","",null,"",null,null,null,null,null,null,null,null,null,null,null,null,null,null,null,null,null,null,null,null,""]
["","",null,"",null,null,null,null,null,null,null,null,null,null,null,null,null,null,null,null,null,null,null,null,""]
["","",null,"",null,null,null,null,null,null,null,null,null,null,null,null,null,null,null,null,null,null,null,null,""]
["","",null,"",null,null,null,null,null,null,null,null,null,null,null,null,null,null,null,null,null,null,null,null,""]
["","",null,"",null,null,null,null,null,null,null,null,null,null,null,null,null,null,null,null,null,null,null,null,""]
["","",null,"",null,null,null,null,null,null,null,null,null,null,null,null,null,null,null,null,null,null,null,null,""]
["","",null,"",null,null,null,null,null,null,null,null,null,null,null,null,null,null,null,null,null,null,null,null,""]
["","",null,"",null,null,null,null,null,null,null,null,null,null,null,null,null,null,null,null,null,null,null,null,""]
["","",null,"",null,null,null,null,null,null,null,null,null,null,null,null,null,null,null,null,null,null,null,null,""]
["","",null,"",null,null,null,null,null,null,null,null,null,null,null,null,null,null,null,null,null,null,null,null,""]
["","",null,"",null,null,null,null,null,null,null,null,null,null,null,null,null,null,null,null,null,null,null,null,""]
["","",null,"",null,null,null,null,null,null,null,null,null,null,null,null,null,null,null,null,null,null,null,null,""]
["","",null,"",null,null,null,null,null,null,null,null,null,null,null,null,null,null,null,null,null,null,null,null,""]
["","",null,"",null,null,null,null,null,null,null,null,null,null,null,null,null,null,null,null,null,null,null,null,""]
["","",null,"",null,null,null,null,null,null,null,null,null,null,null,null,null,null,null,null,null,null,null,null,""]
["","",null,"",null,null,null,null,null,null,null,null,null,null,null,null,null,null,null,null,null,null,null,null,""]
["","",null,"",null,null,null,null,null,null,null,null,null,null,null,null,null,null,null,null,null,null,null,null,""]
["","",null,"",null,null,null,null,null,null,null,null,null,null,null,null,null,null,null,null,null,null,null,null,""]
["","",null,"",null,null,null,null,null,null,null,null,null,null,null,null,null,null,null,null,null,null,null,null,""]
["","",null,"",null,null,null,null,null,null,null,null,null,null,null,null,null,null,null,null,null,null,null,null,""]
["","",null,"",null,null,null,null,null,null,null,null,null,null,null,null,null,null,null,null,null,null,null,null,""]
["","",null,"",null,null,null,null,null,null,null,null,null,null,null,null,null,null,null,null,null,null,null,null,""]
["","",null,"",null,null,null,null,null,null,null,null,null,null,null,null,null,null,null,null,null,null,null,null,""]
["","",null,"",null,null,null,null,null,null,null,null,null,null,null,null,null,null,null,null,null,null,null,null,""]
["","",null,"",null,null,null,null,null,null,null,null,null,null,null,null,null,null,null,null,null,null,null,null,""]
["","",null,"",null,null,null,null,null,null,null,null,null,null,null,null,null,null,null,null,null,null,null,null,""]
["","",null,"",null,null,null,null,null,null,null,null,null,null,null,null,null,null,null,null,null,null,null,null,""]
["","",null,"",null,null,null,null,null,null,null,null,null,null,null,null,null,null,null,null,null,null,null,null,""]
["","",null,"",null,null,null,null,null,null,null,null,null,null,null,null,null,null,null,null,null,null,null,null,""]
["","",null,"",null,null,null,null,null,null,null,null,null,null,null,null,null,null,null,null,null,null,null,null,""]
["","",null,"",null,null,null,null,null,null,null,null,null,null,null,null,null,null,null,null,null,null,null,null,""]
["","",null,"",null,null,null,null,null,null,null,null,null,null,null,null,null,null,null,null,null,null,null,null,""]
["","",null,"",null,null,null,null,null,null,null,null,null,null,null,null,null,null,null,null,null,null,null,null,""]
["","",null,"",null,null,null,null,null,null,null,null,null,null,null,null,null,null,null,null,null,null,null,null,""]
["","",null,"",null,null,null,null,null,null,null,null,null,null,null,null,null,null,null,null,null,null,null,null,""]
["","",null,"",null,null,null,null,null,null,null,null,null,null,null,null,null,null,null,null,null,null,null,null,""]
["","",null,"",null,null,null,null,null,null,null,null,null,null,null,null,null,null,null,null,null,null,null,null,""]
["","",null,"",null,null,null,null,null,null,null,null,null,null,null,null,null,null,null,null,null,null,null,null,""]
["","",null,"",null,null,null,null,null,null,null,null,null,null,null,null,null,null,null,null,null,null,null,null,""]
["","",null,"",null,null,null,null,null,null,null,null,null,null,null,null,null,null,null,null,null,null,null,null,""]
["","",null,"",null,null,null,null,null,null,null,null,null,null,null,null,null,null,null,null,null,null,null,null,""]
["","",null,"",null,null,null,null,null,null,null,null,null,null,null,null,null,null,null,null,null,null,null,null,""]
["","",null,"",null,null,null,null,null,null,null,null,null,null,null,null,null,null,null,null,null,null,null,null,""]
["","",null,"",null,null,null,null,null,null,null,null,null,null,null,null,null,null,null,null,null,null,null,null,""]
["","",null,"",null,null,null,null,null,null,null,null,null,null,null,null,null,null,null,null,null,null,null,null,""]
["","",null,"",null,null,null,null,null,null,null,null,null,null,null,null,null,null,null,null,null,null,null,null,""]
["","",null,"",null,null,null,null,null,null,null,null,null,null,null,null,null,null,null,null,null,null,null,null,""]
["","",null,"",null,null,null,null,null,null,null,null,null,null,null,null,null,null,null,null,null,null,null,null,""]
["","",null,"",null,null,null,null,null,null,null,null,null,null,null,null,null,null,null,null,null,null,null,null,""]
["","",null,"",null,null,null,null,null,null,null,null,null,null,null,null,null,null,null,null,null,null,null,null,""]
["","",null,"",null,null,null,null,null,null,null,null,null,null,null,null,null,null,null,null,null,null,null,null,""]
["","",null,"",null,null,null,null,null,null,null,null,null,null,null,null,null,null,null,null,null,null,null,null,""]
["","",null,"",null,null,null,null,null,null,null,null,null,null,null,null,null,null,null,null,null,null,null,null,""]
["","",null,"",null,null,null,null,null,null,null,null,null,null,null,null,null,null,null,null,null,null,null,null,""]
["","",null,"",null,null,null,null,null,null,null,null,null,null,null,null,null,null,null,null,null,null,null,null,""]
["","",null,"",null,null,null,null,null,null,null,null,null,null,null,null,null,null,null,null,null,null,null,null,""]
["","",null,"",null,null,null,null,null,null,null,null,null,null,null,null,null,null,null,null,null,null,null,null,""]
["","",null,"",null,null,null,null,null,null,null,null,null,null,null,null,null,null,null,null,null,null,null,null,""]
["","",null,"",null,null,null,null,null,null,null,null,null,null,null,null,null,null,null,null,null,null,null,null,""]
["","",null,"",null,null,null,null,null,null,null,null,null,null,null,null,null,null,null,null,null,null,null,null,""]
["","",null,"",null,null,null,null,null,null,null,null,null,null,null,null,null,null,null,null,null,null,null,null,""]
["","",null,"",null,null,null,null,null,null,null,null,null,null,null,null,null,null,null,null,null,null,null,null,""]
["","",null,"",null,null,null,null,null,null,null,null,null,null,null,null,null,null,null,null,null,null,null,null,""]
["","",null,"",null,null,null,null,null,null,null,null,null,null,null,null,null,null,null,null,null,null,null,null,""]
["","",null,"",null,null,null,null,null,null,null,null,null,null,null,null,null,null,null,null,null,null,null,null,""]
["","",null,"",null,null,null,null,null,null,null,null,null,null,null,null,null,null,null,null,null,null,null,null,""]
["","",null,"",null,null,null,null,null,null,null,null,null,null,null,null,null,null,null,null,null,null,null,null,""]
["","",null,"",null,null,null,null,null,null,null,null,null,null,null,null,null,null,null,null,null,null,null,null,""]
["","",null,"",null,null,null,null,null,null,null,null,null,null,null,null,null,null,null,null,null,null,null,null,""]
["","",null,"",null,null,null,null,null,null,null,null,null,null,null,null,null,null,null,null,null,null,null,null,""]
["","",null,"",null,null,null,null,null,null,null,null,null,null,null,null,null,null,null,null,null,null,null,null,""]
["","",null,"",null,null,null,null,null,null,null,null,null,null,null,null,null,null,null,null,null,null,null,null,""]
["","",null,"",null,null,null,null,null,null,null,null,null,null,null,null,null,null,null,null,null,null,null,null,""]
["","",null,"",null,null,null,null,null,null,null,null,null,null,null,null,null,null,null,null,null,null,null,null,""]
["","",null,"",null,null,null,null,null,null,null,null,null,null,null,null,null,null,null,null,null,null,null,null,""]
["","",null,"",null,null,null,null,null,null,null,null,null,null,null,null,null,null,null,null,null,null,null,null,""]
["","",null,"",null,null,null,null,null,null,null,null,null,null,null,null,null,null,null,null,null,null,null,null,""]
["","",null,"",null,null,null,null,null,null,null,null,null,null,null,null,null,null,null,null,null,null,null,null,""]
["","",null,"",null,null,null,null,null,null,null,null,null,null,null,null,null,null,null,null,null,null,null,null,""]
["","",null,"",null,null,null,null,null,null,null,null,null,null,null,null,null,null,null,null,null,null,null,null,""]
["","",null,"",null,null,null,null,null,null,null,null,null,null,null,null,null,null,null,null,null,null,null,null,""]
["","",null,"",null,null,null,null,null,null,null,null,null,null,null,null,null,null,null,null,null,null,null,null,""]
["","",null,"",null,null,null,null,null,null,null,null,null,null,null,null,null,null,null,null,null,null,null,null,""]
["","",null,"",null,null,null,null,null,null,null,null,null,null,null,null,null,null,null,null,null,null,null,null,""]
["","",null,"",null,null,null,null,null,null,null,null,null,null,null,null,null,null,null,null,null,null,null,null,""]
["","",null,"",null,null,null,null,null,null,null,null,null,null,null,null,null,null,null,null,null,null,null,null,""]
["","",null,"",null,null,null,null,null,null,null,null,null,null,null,null,null,null,null,null,null,null,null,null,""]
["","",null,"",null,null,null,null,null,null,null,null,null,null,null,null,null,null,null,null,null,null,null,null,""]
["","",null,"",null,null,null,null,null,null,null,null,null,null,null,null,null,null,null,null,null,null,null,null,""]
["","",null,"",null,null,null,null,null,null,null,null,null,null,null,null,null,null,null,null,null,null,null,null,""]
["","",null,"",null,null,null,null,null,null,null,null,null,null,null,null,null,null,null,null,null,null,null,null,""]
["","",null,"",null,null,null,null,null,null,null,null,null,null,null,null,null,null,null,null,null,null,null,null,""]
["","",null,"",null,null,null,null,null,null,null,null,null,null,null,null,null,null,null,null,null,null,null,null,""]
["","",null,"",null,null,null,null,null,null,null,null,null,null,null,null,null,null,null,null,null,null,null,null,""]
["","",null,"",null,null,null,null,null,null,null,null,null,null,null,null,null,null,null,null,null,null,null,null,""]
["","",null,"",null,null,null,null,null,null,null,null,null,null,null,null,null,null,null,null,null,null,null,null,""]
["","",null,"",null,null,null,null,null,null,null,null,null,null,null,null,null,null,null,null,null,null,null,null,""]
["","",null,"",null,null,null,null,null,null,null,null,null,null,null,null,null,null,null,null,null,null,null,null,""]
["","",null,"",null,null,null,null,null,null,null,null,null,null,null,null,null,null,null,null,null,null,null,null,""]
["","",null,"",null,null,null,null,null,null,null,null,null,null,null,null,null,null,null,null,null,null,null,null,""]
["","",null,"",null,null,null,null,null,null,null,null,null,null,null,null,null,null,null,null,null,null,null,null,""]
["","",null,"",null,null,null,null,null,null,null,null,null,null,null,null,null,null,null,null,null,null,null,null,""]
["","",null,"",null,null,null,null,null,null,null,null,null,null,null,null,null,null,null,null,null,null,null,null,""]
["","",null,"",null,null,null,null,null,null,null,null,null,null,null,null,null,null,null,null,null,null,null,null,""]
["","",null,"",null,null,null,null,null,null,null,null,null,null,null,null,null,null,null,null,null,null,null,null,""]
["","",null,"",null,null,null,null,null,null,null,null,null,null,null,null,null,null,null,null,null,null,null,null,""]
["","",null,"",null,null,null,null,null,null,null,null,null,null,null,null,null,null,null,null,null,null,null,null,""]
["","",null,"",null,null,null,null,null,null,null,null,null,null,null,null,null,null,null,null,null,null,null,null,""]
["","",null,"",null,null,null,null,null,null,null,null,null,null,null,null,null,null,null,null,null,null,null,null,""]
["","",null,"",null,null,null,null,null,null,null,null,null,null,null,null,null,null,null,null,null,null,null,null,""]
["","",null,"",null,null,null,null,null,null,null,null,null,null,null,null,null,null,null,null,null,null,null,null,""]
["","",null,"",null,null,null,null,null,null,null,null,null,null,null,null,null,null,null,null,null,null,null,null,""]
["","",null,"",null,null,null,null,null,null,null,null,null,null,null,null,null,null,null,null,null,null,null,null,""]
["","",null,"",null,null,null,null,null,null,null,null,null,null,null,null,null,null,null,null,null,null,null,null,""]
["","",null,"",null,null,null,null,null,null,null,null,null,null,null,null,null,null,null,null,null,null,null,null,""]
["","",null,"",null,null,null,null,null,null,null,null,null,null,null,null,null,null,null,null,null,null,null,null,""]
["","",null,"",null,null,null,null,null,null,null,null,null,null,null,null,null,null,null,null,null,null,null,null,""]
["","",null,"",null,null,null,null,null,null,null,null,null,null,null,null,null,null,null,null,null,null,null,null,""]
["","",null,"",null,null,null,null,null,null,null,null,null,null,null,null,null,null,null,null,null,null,null,null,""]
["","",null,"",null,null,null,null,null,null,null,null,null,null,null,null,null,null,null,null,null,null,null,null,""]
["","",null,"",null,null,null,null,null,null,null,null,null,null,null,null,null,null,null,null,null,null,null,null,""]
["","",null,"",null,null,null,null,null,null,null,null,null,null,null,null,null,null,null,null,null,null,null,null,""]
["","",null,"",null,null,null,null,null,null,null,null,null,null,null,null,null,null,null,null,null,null,null,null,""]
["","",null,"",null,null,null,null,null,null,null,null,null,null,null,null,null,null,null,null,null,null,null,null,""]
["","",null,"",null,null,null,null,null,null,null,null,null,null,null,null,null,null,null,null,null,null,null,null,""]
["","",null,"",null,null,null,null,null,null,null,null,null,null,null,null,null,null,null,null,null,null,null,null,""]
["","",null,"",null,null,null,null,null,null,null,null,null,null,null,null,null,null,null,null,null,null,null,null,""]
["","",null,"",null,null,null,null,null,null,null,null,null,null,null,null,null,null,null,null,null,null,null,null,""]
["","",null,"",null,null,null,null,null,null,null,null,null,null,null,null,null,null,null,null,null,null,null,null,""]
["","",null,"",null,null,null,null,null,null,null,null,null,null,null,null,null,null,null,null,null,null,null,null,""]
["","",null,"",null,null,null,null,null,null,null,null,null,null,null,null,null,null,null,null,null,null,null,null,""]
["","",null,"",null,null,null,null,null,null,null,null,null,null,null,null,null,null,null,null,null,null,null,null,""]
["","",null,"",null,null,null,null,null,null,null,null,null,null,null,null,null,null,null,null,null,null,null,null,""]
["","",null,"",null,null,null,null,null,null,null,null,null,null,null,null,null,null,null,null,null,null,null,null,""]
["","",null,"",null,null,null,null,null,null,null,null,null,null,null,null,null,null,null,null,null,null,null,null,""]
["","",null,"",null,null,null,null,null,null,null,null,null,null,null,null,null,null,null,null,null,null,null,null,""]
["","",null,"",null,null,null,null,null,null,null,null,null,null,null,null,null,null,null,null,null,null,null,null,""]
["","",null,"",null,null,null,null,null,null,null,null,null,null,null,null,null,null,null,null,null,null,null,null,""]
["","",null,"",null,null,null,null,null,null,null,null,null,null,null,null,null,null,null,null,null,null,null,null,""]
["","",null,"",null,null,null,null,null,null,null,null,null,null,null,null,null,null,null,null,null,null,null,null,""]
["","",null,"",null,null,null,null,null,null,null,null,null,null,null,null,null,null,null,null,null,null,null,null,""]
["","",null,"",null,null,null,null,null,null,null,null,null,null,null,null,null,null,null,null,null,null,null,null,""]
["","",null,"",null,null,null,null,null,null,null,null,null,null,null,null,null,null,null,null,null,null,null,null,""]
["","",null,"",null,null,null,null,null,null,null,null,null,null,null,null,null,null,null,null,null,null,null,null,""]
["","",null,"",null,null,null,null,null,null,null,null,null,null,null,null,null,null,null,null,null,null,null,null,""]
["","",null,"",null,null,null,null,null,null,null,null,null,null,null,null,null,null,null,null,null,null,null,null,""]
["","",null,"",null,null,null,null,null,null,null,null,null,null,null,null,null,null,null,null,null,null,null,null,""]
["","",null,"",null,null,null,null,null,null,null,null,null,null,null,null,null,null,null,null,null,null,null,null,""]
["","",null,"",null,null,null,null,null,null,null,null,null,null,null,null,null,null,null,null,null,null,null,null,""]
["","",null,"",null,null,null,null,null,null,null,null,null,null,null,null,null,null,null,null,null,null,null,null,""]
["","",null,"",null,null,null,null,null,null,null,null,null,null,null,null,null,null,null,null,null,null,null,null,""]
["","",null,"",null,null,null,null,null,null,null,null,null,null,null,null,null,null,null,null,null,null,null,null,""]
["","",null,"",null,null,null,null,null,null,null,null,null,null,null,null,null,null,null,null,null,null,null,null,""]
["","",null,"",null,null,null,null,null,null,null,null,null,null,null,null,null,null,null,null,null,null,null,null,""]
["","",null,"",null,null,null,null,null,null,null,null,null,null,null,null,null,null,null,null,null,null,null,null,""]
["","",null,"",null,null,null,null,null,null,null,null,null,null,null,null,null,null,null,null,null,null,null,null,""]
["","",null,"",null,null,null,null,null,null,null,null,null,null,null,null,null,null,null,null,null,null,null,null,""]
["","",null,"",null,null,null,null,null,null,null,null,null,null,null,null,null,null,null,null,null,null,null,null,""]
["","",null,"",null,null,null,null,null,null,null,null,null,null,null,null,null,null,null,null,null,null,null,null,""]
["","",null,"",null,null,null,null,null,null,null,null,null,null,null,null,null,null,null,null,null,null,null,null,""]
["","",null,"",null,null,null,null,null,null,null,null,null,null,null,null,null,null,null,null,null,null,null,null,""]
["","",null,"",null,null,null,null,null,null,null,null,null,null,null,null,null,null,null,null,null,null,null,null,""]
["","",null,"",null,null,null,null,null,null,null,null,null,null,null,null,null,null,null,null,null,null,null,null,""]
["","",null,"",null,null,null,null,null,null,null,null,null,null,null,null,null,null,null,null,null,null,null,null,""]
["","",null,"",null,null,null,null,null,null,null,null,null,null,null,null,null,null,null,null,null,null,null,null,""]
["","",null,"",null,null,null,null,null,null,null,null,null,null,null,null,null,null,null,null,null,null,null,null,""]
["","",null,"",null,null,null,null,null,null,null,null,null,null,null,null,null,null,null,null,null,null,null,null,""]
["","",null,"",null,null,null,null,null,null,null,null,null,null,null,null,null,null,null,null,null,null,null,null,""]
["","",null,"",null,null,null,null,null,null,null,null,null,null,null,null,null,null,null,null,null,null,null,null,""]
["","",null,"",null,null,null,null,null,null,null,null,null,null,null,null,null,null,null,null,null,null,null,null,""]
["","",null,"",null,null,null,null,null,null,null,null,null,null,null,null,null,null,null,null,null,null,null,null,""]
["","",null,"",null,null,null,null,null,null,null,null,null,null,null,null,null,null,null,null,null,null,null,null,""]
["","",null,"",null,null,null,null,null,null,null,null,null,null,null,null,null,null,null,null,null,null,null,null,""]
["","",null,"",null,null,null,null,null,null,null,null,null,null,null,null,null,null,null,null,null,null,null,null,""]
["","",null,"",null,null,null,null,null,null,null,null,null,null,null,null,null,null,null,null,null,null,null,null,""]
["","",null,"",null,null,null,null,null,null,null,null,null,null,null,null,null,null,null,null,null,null,null,null,""]
["","",null,"",null,null,null,null,null,null,null,null,null,null,null,null,null,null,null,null,null,null,null,null,""]
["","",null,"",null,null,null,null,null,null,null,null,null,null,null,null,null,null,null,null,null,null,null,null,""]
["","",null,"",null,null,null,null,null,null,null,null,null,null,null,null,null,null,null,null,null,null,null,null,""]
["","",null,"",null,null,null,null,null,null,null,null,null,null,null,null,null,null,null,null,null,null,null,null,""]
["","",null,"",null,null,null,null,null,null,null,null,null,null,null,null,null,null,null,null,null,null,null,null,""]
["","",null,"",null,null,null,null,null,null,null,null,null,null,null,null,null,null,null,null,null,null,null,null,""]
["","",null,"",null,null,null,null,null,null,null,null,null,null,null,null,null,null,null,null,null,null,null,null,""]
["","",null,"",null,null,null,null,null,null,null,null,null,null,null,null,null,null,null,null,null,null,null,null,""]
["","",null,"",null,null,null,null,null,null,null,null,null,null,null,null,null,null,null,null,null,null,null,null,""]
["","",null,"",null,null,null,null,null,null,null,null,null,null,null,null,null,null,null,null,null,null,null,null,""]
["","",null,"",null,null,null,null,null,null,null,null,null,null,null,null,null,null,null,null,null,null,null,null,""]
["","",null,"",null,null,null,null,null,null,null,null,null,null,null,null,null,null,null,null,null,null,null,null,""]
["","",null,"",null,null,null,null,null,null,null,null,null,null,null,null,null,null,null,null,null,null,null,null,""]
["","",null,"",null,null,null,null,null,null,null,null,null,null,null,null,null,null,null,null,null,null,null,null,""]
["","",null,"",null,null,null,null,null,null,null,null,null,null,null,null,null,null,null,null,null,null,null,null,""]
["","",null,"",null,null,null,null,null,null,null,null,null,null,null,null,null,null,null,null,null,null,null,null,""]
["","",null,"",null,null,null,null,null,null,null,null,null,null,null,null,null,null,null,null,null,null,null,null,""]
["","",null,"",null,null,null,null,null,null,null,null,null,null,null,null,null,null,null,null,null,null,null,null,""]
["","",null,"",null,null,null,null,null,null,null,null,null,null,null,null,null,null,null,null,null,null,null,null,""]
["","",null,"",null,null,null,null,null,null,null,null,null,null,null,null,null,null,null,null,null,null,null,null,""]
["","",null,"",null,null,null,null,null,null,null,null,null,null,null,null,null,null,null,null,null,null,null,null,""]
["","",null,"",null,null,null,null,null,null,null,null,null,null,null,null,null,null,null,null,null,null,null,null,""]
["","",null,"",null,null,null,null,null,null,null,null,null,null,null,null,null,null,null,null,null,null,null,null,""]
["","",null,"",null,null,null,null,null,null,null,null,null,null,null,null,null,null,null,null,null,null,null,null,""]
["","",null,"",null,null,null,null,null,null,null,null,null,null,null,null,null,null,null,null,null,null,null,null,""]
["","",null,"",null,null,null,null,null,null,null,null,null,null,null,null,null,null,null,null,null,null,null,null,""]
["","",null,"",null,null,null,null,null,null,null,null,null,null,null,null,null,null,null,null,null,null,null,null,""]
["","",null,"",null,null,null,null,null,null,null,null,null,null,null,null,null,null,null,null,null,null,null,null,""]
["","",null,"",null,null,null,null,null,null,null,null,null,null,null,null,null,null,null,null,null,null,null,null,""]
["","",null,"",null,null,null,null,null,null,null,null,null,null,null,null,null,null,null,null,null,null,null,null,""]
["","",null,"",null,null,null,null,null,null,null,null,null,null,null,null,null,null,null,null,null,null,null,null,""]
["","",null,"",null,null,null,null,null,null,null,null,null,null,null,null,null,null,null,null,null,null,null,null,""]
["","",null,"",null,null,null,null,null,null,null,null,null,null,null,null,null,null,null,null,null,null,null,null,""]
["","",null,"",null,null,null,null,null,null,null,null,null,null,null,null,null,null,null,null,null,null,null,null,""]
["","",null,"",null,null,null,null,null,null,null,null,null,null,null,null,null,null,null,null,null,null,null,null,""]
["","",null,"",null,null,null,null,null,null,null,null,null,null,null,null,null,null,null,null,null,null,null,null,""]
["","",null,"",null,null,null,null,null,null,null,null,null,null,null,null,null,null,null,null,null,null,null,null,""]
["","",null,"",null,null,null,null,null,null,null,null,null,null,null,null,null,null,null,null,null,null,null,null,""]
["","",null,"",null,null,null,null,null,null,null,null,null,null,null,null,null,null,null,null,null,null,null,null,""]
["","",null,"",null,null,null,null,null,null,null,null,null,null,null,null,null,null,null,null,null,null,null,null,""]
["","",null,"",null,null,null,null,null,null,null,null,null,null,null,null,null,null,null,null,null,null,null,null,""]
["","",null,"",null,null,null,null,null,null,null,null,null,null,null,null,null,null,null,null,null,null,null,null,""]
["","",null,"",null,null,null,null,null,null,null,null,null,null,null,null,null,null,null,null,null,null,null,null,""]
["","",null,"",null,null,null,null,null,null,null,null,null,null,null,null,null,null,null,null,null,null,null,null,""]
["","",null,"",null,null,null,null,null,null,null,null,null,null,null,null,null,null,null,null,null,null,null,null,""]
["","",null,"",null,null,null,null,null,null,null,null,null,null,null,null,null,null,null,null,null,null,null,null,""]
["","",null,"",null,null,null,null,null,null,null,null,null,null,null,null,null,null,null,null,null,null,null,null,""]
["","",null,"",null,null,null,null,null,null,null,null,null,null,null,null,null,null,null,null,null,null,null,null,""]
["","",null,"",null,null,null,null,null,null,null,null,null,null,null,null,null,null,null,null,null,null,null,null,""]
["","",null,"",null,null,null,null,null,null,null,null,null,null,null,null,null,null,null,null,null,null,null,null,""]
["","",null,"",null,null,null,null,null,null,null,null,null,null,null,null,null,null,null,null,null,null,null,null,""]
["","",null,"",null,null,null,null,null,null,null,null,null,null,null,null,null,null,null,null,null,null,null,null,""]
["","",null,"",null,null,null,null,null,null,null,null,null,null,null,null,null,null,null,null,null,null,null,null,""]
["","",null,"",null,null,null,null,null,null,null,null,null,null,null,null,null,null,null,null,null,null,null,null,""]
["","",null,"",null,null,null,null,null,null,null,null,null,null,null,null,null,null,null,null,null,null,null,null,""]
["","",null,"",null,null,null,null,null,null,null,null,null,null,null,null,null,null,null,null,null,null,null,null,""]
["","",null,"",null,null,null,null,null,null,null,null,null,null,null,null,null,null,null,null,null,null,null,null,""]
["","",null,"",null,null,null,null,null,null,null,null,null,null,null,null,null,null,null,null,null,null,null,null,""]
["","",null,"",null,null,null,null,null,null,null,null,null,null,null,null,null,null,null,null,null,null,null,null,""]
["","",null,"",null,null,null,null,null,null,null,null,null,null,null,null,null,null,null,null,null,null,null,null,""]
["","",null,"",null,null,null,null,null,null,null,null,null,null,null,null,null,null,null,null,null,null,null,null,""]
["","",null,"",null,null,null,null,null,null,null,null,null,null,null,null,null,null,null,null,null,null,null,null,""]
["","",null,"",null,null,null,null,null,null,null,null,null,null,null,null,null,null,null,null,null,null,null,null,""]
["","",null,"",null,null,null,null,null,null,null,null,null,null,null,null,null,null,null,null,null,null,null,null,""]
["","",null,"",null,null,null,null,null,null,null,null,null,null,null,null,null,null,null,null,null,null,null,null,""]
["","",null,"",null,null,null,null,null,null,null,null,null,null,null,null,null,null,null,null,null,null,null,null,""]
["","",null,"",null,null,null,null,null,null,null,null,null,null,null,null,null,null,null,null,null,null,null,null,""]
["","",null,"",null,null,null,null,null,null,null,null,null,null,null,null,null,null,null,null,null,null,null,null,""]
["","",null,"",null,null,null,null,null,null,null,null,null,null,null,null,null,null,null,null,null,null,null,null,""]
["","",null,"",null,null,null,null,null,null,null,null,null,null,null,null,null,null,null,null,null,null,null,null,""]
["","",null,"",null,null,null,null,null,null,null,null,null,null,null,null,null,null,null,null,null,null,null,null,""]
["","",null,"",null,null,null,null,null,null,null,null,null,null,null,null,null,null,null,null,null,null,null,null,""]
["","",null,"",null,null,null,null,null,null,null,null,null,null,null,null,null,null,null,null,null,null,null,null,""]
["","",null,"",null,null,null,null,null,null,null,null,null,null,null,null,null,null,null,null,null,null,null,null,""]
["","",null,"",null,null,null,null,null,null,null,null,null,null,null,null,null,null,null,null,null,null,null,null,""]
["","",null,"",null,null,null,null,null,null,null,null,null,null,null,null,null,null,null,null,null,null,null,null,""]
["","",null,"",null,null,null,null,null,null,null,null,null,null,null,null,null,null,null,null,null,null,null,null,""]
["","",null,"",null,null,null,null,null,null,null,null,null,null,null,null,null,null,null,null,null,null,null,null,""]
["","",null,"",null,null,null,null,null,null,null,null,null,null,null,null,null,null,null,null,null,null,null,null,""]
["","",null,"",null,null,null,null,null,null,null,null,null,null,null,null,null,null,null,null,null,null,null,null,""]
["","",null,"",null,null,null,null,null,null,null,null,null,null,null,null,null,null,null,null,null,null,null,null,""]
["","",null,"",null,null,null,null,null,null,null,null,null,null,null,null,null,null,null,null,null,null,null,null,""]
["","",null,"",null,null,null,null,null,null,null,null,null,null,null,null,null,null,null,null,null,null,null,null,""]
["","",null,"",null,null,null,null,null,null,null,null,null,null,null,null,null,null,null,null,null,null,null,null,""]
["","",null,"",null,null,null,null,null,null,null,null,null,null,null,null,null,null,null,null,null,null,null,null,""]
["","",null,"",null,null,null,null,null,null,null,null,null,null,null,null,null,null,null,null,null,null,null,null,""]
["","",null,"",null,null,null,null,null,null,null,null,null,null,null,null,null,null,null,null,null,null,null,null,""]
["","",null,"",null,null,null,null,null,null,null,null,null,null,null,null,null,null,null,null,null,null,null,null,""]
["","",null,"",null,null,null,null,null,null,null,null,null,null,null,null,null,null,null,null,null,null,null,null,""]
["","",null,"",null,null,null,null,null,null,null,null,null,null,null,null,null,null,null,null,null,null,null,null,""]
["","",null,"",null,null,null,null,null,null,null,null,null,null,null,null,null,null,null,null,null,null,null,null,""]
["","",null,"",null,null,null,null,null,null,null,null,null,null,null,null,null,null,null,null,null,null,null,null,""]
["","",null,"",null,null,null,null,null,null,null,null,null,null,null,null,null,null,null,null,null,null,null,null,""]
["","",null,"",null,null,null,null,null,null,null,null,null,null,null,null,null,null,null,null,null,null,null,null,""]
["","",null,"",null,null,null,null,null,null,null,null,null,null,null,null,null,null,null,null,null,null,null,null,""]
["","",null,"",null,null,null,null,null,null,null,null,null,null,null,null,null,null,null,null,null,null,null,null,""]
["","",null,"",null,null,null,null,null,null,null,null,null,null,null,null,null,null,null,null,null,null,null,null,""]
["","",null,"",null,null,null,null,null,null,null,null,null,null,null,null,null,null,null,null,null,null,null,null,""]
["","",null,"",null,null,null,null,null,null,null,null,null,null,null,null,null,null,null,null,null,null,null,null,""]
["","",null,"",null,null,null,null,null,null,null,null,null,null,null,null,null,null,null,null,null,null,null,null,""]
["","",null,"",null,null,null,null,null,null,null,null,null,null,null,null,null,null,null,null,null,null,null,null,""]
["","",null,"",null,null,null,null,null,null,null,null,null,null,null,null,null,null,null,null,null,null,null,null,""]
["","",null,"",null,null,null,null,null,null,null,null,null,null,null,null,null,null,null,null,null,null,null,null,""]
["","",null,"",null,null,null,null,null,null,null,null,null,null,null,null,null,null,null,null,null,null,null,null,""]
["","",null,"",null,null,null,null,null,null,null,null,null,null,null,null,null,null,null,null,null,null,null,null,""]
["","",null,"",null,null,null,null,null,null,null,null,null,null,null,null,null,null,null,null,null,null,null,null,""]
["","",null,"",null,null,null,null,null,null,null,null,null,null,null,null,null,null,null,null,null,null,null,null,""]
["","",null,"",null,null,null,null,null,null,null,null,null,null,null,null,null,null,null,null,null,null,null,null,""]
["","",null,"",null,null,null,null,null,null,null,null,null,null,null,null,null,null,null,null,null,null,null,null,""]
["","",null,"",null,null,null,null,null,null,null,null,null,null,null,null,null,null,null,null,null,null,null,null,""]
["","",null,"",null,null,null,null,null,null,null,null,null,null,null,null,null,null,null,null,null,null,null,null,""]
["","",null,"",null,null,null,null,null,null,null,null,null,null,null,null,null,null,null,null,null,null,null,null,""]
["","",null,"",null,null,null,null,null,null,null,null,null,null,null,null,null,null,null,null,null,null,null,null,""]
["","",null,"",null,null,null,null,null,null,null,null,null,null,null,null,null,null,null,null,null,null,null,null,""]
["","",null,"",null,null,null,null,null,null,null,null,null,null,null,null,null,null,null,null,null,null,null,null,""]
["","",null,"",null,null,null,null,null,null,null,null,null,null,null,null,null,null,null,null,null,null,null,null,""]
["","",null,"",null,null,null,null,null,null,null,null,null,null,null,null,null,null,null,null,null,null,null,null,""]
["","",null,"",null,null,null,null,null,null,null,null,null,null,null,null,null,null,null,null,null,null,null,null,""]
["","",null,"",null,null,null,null,null,null,null,null,null,null,null,null,null,null,null,null,null,null,null,null,""]
["","",null,"",null,null,null,null,null,null,null,null,null,null,null,null,null,null,null,null,null,null,null,null,""]
["","",null,"",null,null,null,null,null,null,null,null,null,null,null,null,null,null,null,null,null,null,null,null,""]
["","",null,"",null,null,null,null,null,null,null,null,null,null,null,null,null,null,null,null,null,null,null,null,""]
["","",null,"",null,null,null,null,null,null,null,null,null,null,null,null,null,null,null,null,null,null,null,null,""]
["","",null,"",null,null,null,null,null,null,null,null,null,null,null,null,null,null,null,null,null,null,null,null,""]
["","",null,"",null,null,null,null,null,null,null,null,null,null,null,null,null,null,null,null,null,null,null,null,""]
["","",null,"",null,null,null,null,null,null,null,null,null,null,null,null,null,null,null,null,null,null,null,null,""]
["","",null,"",null,null,null,null,null,null,null,null,null,null,null,null,null,null,null,null,null,null,null,null,""]
["","",null,"",null,null,null,null,null,null,null,null,null,null,null,null,null,null,null,null,null,null,null,null,""]
["","",null,"",null,null,null,null,null,null,null,null,null,null,null,null,null,null,null,null,null,null,null,null,""]
["","",null,"",null,null,null,null,null,null,null,null,null,null,null,null,null,null,null,null,null,null,null,null,""]
["","",null,"",null,null,null,null,null,null,null,null,null,null,null,null,null,null,null,null,null,null,null,null,""]
["","",null,"",null,null,null,null,null,null,null,null,null,null,null,null,null,null,null,null,null,null,null,null,""]
["","",null,"",null,null,null,null,null,null,null,null,null,null,null,null,null,null,null,null,null,null,null,null,""]
["","",null,"",null,null,null,null,null,null,null,null,null,null,null,null,null,null,null,null,null,null,null,null,""]
["","",null,"",null,null,null,null,null,null,null,null,null,null,null,null,null,null,null,null,null,null,null,null,""]
["","",null,"",null,null,null,null,null,null,null,null,null,null,null,null,null,null,null,null,null,null,null,null,""]
["","",null,"",null,null,null,null,null,null,null,null,null,null,null,null,null,null,null,null,null,null,null,null,""]
["","",null,"",null,null,null,null,null,null,null,null,null,null,null,null,null,null,null,null,null,null,null,null,""]
["","",null,"",null,null,null,null,null,null,null,null,null,null,null,null,null,null,null,null,null,null,null,null,""]
["","",null,"",null,null,null,null,null,null,null,null,null,null,null,null,null,null,null,null,null,null,null,null,""]
["","",null,"",null,null,null,null,null,null,null,null,null,null,null,null,null,null,null,null,null,null,null,null,""]
["","",null,"",null,null,null,null,null,null,null,null,null,null,null,null,null,null,null,null,null,null,null,null,""]
["","",null,"",null,null,null,null,null,null,null,null,null,null,null,null,null,null,null,null,null,null,null,null,""]
["","",null,"",null,null,null,null,null,null,null,null,null,null,null,null,null,null,null,null,null,null,null,null,""]
["","",null,"",null,null,null,null,null,null,null,null,null,null,null,null,null,null,null,null,null,null,null,null,""]
["","",null,"",null,null,null,null,null,null,null,null,null,null,null,null,null,null,null,null,null,null,null,null,""]
["","",null,"",null,null,null,null,null,null,null,null,null,null,null,null,null,null,null,null,null,null,null,null,""]
["","",null,"",null,null,null,null,null,null,null,null,null,null,null,null,null,null,null,null,null,null,null,null,""]
["","",null,"",null,null,null,null,null,null,null,null,null,null,null,null,null,null,null,null,null,null,null,null,""]
["","",null,"",null,null,null,null,null,null,null,null,null,null,null,null,null,null,null,null,null,null,null,null,""]
["","",null,"",null,null,null,null,null,null,null,null,null,null,null,null,null,null,null,null,null,null,null,null,""]
["","",null,"",null,null,null,null,null,null,null,null,null,null,null,null,null,null,null,null,null,null,null,null,""]
["","",null,"",null,null,null,null,null,null,null,null,null,null,null,null,null,null,null,null,null,null,null,null,""]
["","",null,"",null,null,null,null,null,null,null,null,null,null,null,null,null,null,null,null,null,null,null,null,""]
["","",null,"",null,null,null,null,null,null,null,null,null,null,null,null,null,null,null,null,null,null,null,null,""]
["","",null,"",null,null,null,null,null,null,null,null,null,null,null,null,null,null,null,null,null,null,null,null,""]
["","",null,"",null,null,null,null,null,null,null,null,null,null,null,null,null,null,null,null,null,null,null,null,""]
["","",null,"",null,null,null,null,null,null,null,null,null,null,null,null,null,null,null,null,null,null,null,null,""]
["","",null,"",null,null,null,null,null,null,null,null,null,null,null,null,null,null,null,null,null,null,null,null,""]
["","",null,"",null,null,null,null,null,null,null,null,null,null,null,null,null,null,null,null,null,null,null,null,""]
["","",null,"",null,null,null,null,null,null,null,null,null,null,null,null,null,null,null,null,null,null,null,null,""]
["","",null,"",null,null,null,null,null,null,null,null,null,null,null,null,null,null,null,null,null,null,null,null,""]
["","",null,"",null,null,null,null,null,null,null,null,null,null,null,null,null,null,null,null,null,null,null,null,""]
["","",null,"",null,null,null,null,null,null,null,null,null,null,null,null,null,null,null,null,null,null,null,null,""]
["","",null,"",null,null,null,null,null,null,null,null,null,null,null,null,null,null,null,null,null,null,null,null,""]
["","",null,"",null,null,null,null,null,null,null,null,null,null,null,null,null,null,null,null,null,null,null,null,""]
["","",null,"",null,null,null,null,null,null,null,null,null,null,null,null,null,null,null,null,null,null,null,null,""]
["","",null,"",null,null,null,null,null,null,null,null,null,null,null,null,null,null,null,null,null,null,null,null,""]
["","",null,"",null,null,null,null,null,null,null,null,null,null,null,null,null,null,null,null,null,null,null,null,""]
["","",null,"",null,null,null,null,null,null,null,null,null,null,null,null,null,null,null,null,null,null,null,null,""]
["","",null,"",null,null,null,null,null,null,null,null,null,null,null,null,null,null,null,null,null,null,null,null,""]
["","",null,"",null,null,null,null,null,null,null,null,null,null,null,null,null,null,null,null,null,null,null,null,""]
["","",null,"",null,null,null,null,null,null,null,null,null,null,null,null,null,null,null,null,null,null,null,null,""]
["","",null,"",null,null,null,null,null,null,null,null,null,null,null,null,null,null,null,null,null,null,null,null,""]
["","",null,"",null,null,null,null,null,null,null,null,null,null,null,null,null,null,null,null,null,null,null,null,""]
["","",null,"",null,null,null,null,null,null,null,null,null,null,null,null,null,null,null,null,null,null,null,null,""]
["","",null,"",null,null,null,null,null,null,null,null,null,null,null,null,null,null,null,null,null,null,null,null,""]
["","",null,"",null,null,null,null,null,null,null,null,null,null,null,null,null,null,null,null,null,null,null,null,""]
["","",null,"",null,null,null,null,null,null,null,null,null,null,null,null,null,null,null,null,null,null,null,null,""]
["","",null,"",null,null,null,null,null,null,null,null,null,null,null,null,null,null,null,null,null,null,null,null,""]
["","",null,"",null,null,null,null,null,null,null,null,null,null,null,null,null,null,null,null,null,null,null,null,""]
["","",null,"",null,null,null,null,null,null,null,null,null,null,null,null,null,null,null,null,null,null,null,null,""]
["","",null,"",null,null,null,null,null,null,null,null,null,null,null,null,null,null,null,null,null,null,null,null,""]
["","",null,"",null,null,null,null,null,null,null,null,null,null,null,null,null,null,null,null,null,null,null,null,""]
["","",null,"",null,null,null,null,null,null,null,null,null,null,null,null,null,null,null,null,null,null,null,null,""]
["","",null,"",null,null,null,null,null,null,null,null,null,null,null,null,null,null,null,null,null,null,null,null,""]
["","",null,"",null,null,null,null,null,null,null,null,null,null,null,null,null,null,null,null,null,null,null,null,""]
["","",null,"",null,null,null,null,null,null,null,null,null,null,null,null,null,null,null,null,null,null,null,null,""]
["","",null,"",null,null,null,null,null,null,null,null,null,null,null,null,null,null,null,null,null,null,null,null,""]
["","",null,"",null,null,null,null,null,null,null,null,null,null,null,null,null,null,null,null,null,null,null,null,""]
["","",null,"",null,null,null,null,null,null,null,null,null,null,null,null,null,null,null,null,null,null,null,null,""]
["","",null,"",null,null,null,null,null,null,null,null,null,null,null,null,null,null,null,null,null,null,null,null,""]
["","",null,"",null,null,null,null,null,null,null,null,null,null,null,null,null,null,null,null,null,null,null,null,""]
["","",null,"",null,null,null,null,null,null,null,null,null,null,null,null,null,null,null,null,null,null,null,null,""]
["","",null,"",null,null,null,null,null,null,null,null,null,null,null,null,null,null,null,null,null,null,null,null,""]
["","",null,"",null,null,null,null,null,null,null,null,null,null,null,null,null,null,null,null,null,null,null,null,""]
["","",null,"",null,null,null,null,null,null,null,null,null,null,null,null,null,null,null,null,null,null,null,null,""]
["","",null,"",null,null,null,null,null,null,null,null,null,null,null,null,null,null,null,null,null,null,null,null,""]
["","",null,"",null,null,null,null,null,null,null,null,null,null,null,null,null,null,null,null,null,null,null,null,""]
["","",null,"",null,null,null,null,null,null,null,null,null,null,null,null,null,null,null,null,null,null,null,null,""]
["","",null,"",null,null,null,null,null,null,null,null,null,null,null,null,null,null,null,null,null,null,null,null,""]
["","",null,"",null,null,null,null,null,null,null,null,null,null,null,null,null,null,null,null,null,null,null,null,""]
["","",null,"",null,null,null,null,null,null,null,null,null,null,null,null,null,null,null,null,null,null,null,null,""]
["","",null,"",null,null,null,null,null,null,null,null,null,null,null,null,null,null,null,null,null,null,null,null,""]
["","",null,"",null,null,null,null,null,null,null,null,null,null,null,null,null,null,null,null,null,null,null,null,""]
["","",null,"",null,null,null,null,null,null,null,null,null,null,null,null,null,null,null,null,null,null,null,null,""]
["","",null,"",null,null,null,null,null,null,null,null,null,null,null,null,null,null,null,null,null,null,null,null,""]
["","",null,"",null,null,null,null,null,null,null,null,null,null,null,null,null,null,null,null,null,null,null,null,""]
["","",null,"",null,null,null,null,null,null,null,null,null,null,null,null,null,null,null,null,null,null,null,null,""]
["","",null,"",null,null,null,null,null,null,null,null,null,null,null,null,null,null,null,null,null,null,null,null,""]
["","",null,"",null,null,null,null,null,null,null,null,null,null,null,null,null,null,null,null,null,null,null,null,""]
["","",null,"",null,null,null,null,null,null,null,null,null,null,null,null,null,null,null,null,null,null,null,null,""]
["","",null,"",null,null,null,null,null,null,null,null,null,null,null,null,null,null,null,null,null,null,null,null,""]
["","",null,"",null,null,null,null,null,null,null,null,null,null,null,null,null,null,null,null,null,null,null,null,""]
["","",null,"",null,null,null,null,null,null,null,null,null,null,null,null,null,null,null,null,null,null,null,null,""]
["","",null,"",null,null,null,null,null,null,null,null,null,null,null,null,null,null,null,null,null,null,null,null,""]
["","",null,"",null,null,null,null,null,null,null,null,null,null,null,null,null,null,null,null,null,null,null,null,""]
["","",null,"",null,null,null,null,null,null,null,null,null,null,null,null,null,null,null,null,null,null,null,null,""]
["","",null,"",null,null,null,null,null,null,null,null,null,null,null,null,null,null,null,null,null,null,null,null,""]
["","",null,"",null,null,null,null,null,null,null,null,null,null,null,null,null,null,null,null,null,null,null,null,""]
["","",null,"",null,null,null,null,null,null,null,null,null,null,null,null,null,null,null,null,null,null,null,null,""]
["","",null,"",null,null,null,null,null,null,null,null,null,null,null,null,null,null,null,null,null,null,null,null,""]
["","",null,"",null,null,null,null,null,null,null,null,null,null,null,null,null,null,null,null,null,null,null,null,""]
["","",null,"",null,null,null,null,null,null,null,null,null,null,null,null,null,null,null,null,null,null,null,null,""]
["","",null,"",null,null,null,null,null,null,null,null,null,null,null,null,null,null,null,null,null,null,null,null,""]
["","",null,"",null,null,null,null,null,null,null,null,null,null,null,null,null,null,null,null,null,null,null,null,""]
["","",null,"",null,null,null,null,null,null,null,null,null,null,null,null,null,null,null,null,null,null,null,null,""]
["","",null,"",null,null,null,null,null,null,null,null,null,null,null,null,null,null,null,null,null,null,null,null,""]
["","",null,"",null,null,null,null,null,null,null,null,null,null,null,null,null,null,null,null,null,null,null,null,""]
["","",null,"",null,null,null,null,null,null,null,null,null,null,null,null,null,null,null,null,null,null,null,null,""]
["","",null,"",null,null,null,null,null,null,null,null,null,null,null,null,null,null,null,null,null,null,null,null,""]
["","",null,"",null,null,null,null,null,null,null,null,null,null,null,null,null,null,null,null,null,null,null,null,""]
["","",null,"",null,null,null,null,null,null,null,null,null,null,null,null,null,null,null,null,null,null,null,null,""]
["","",null,"",null,null,null,null,null,null,null,null,null,null,null,null,null,null,null,null,null,null,null,null,""]
["","",null,"",null,null,null,null,null,null,null,null,null,null,null,null,null,null,null,null,null,null,null,null,""]
["","",null,"",null,null,null,null,null,null,null,null,null,null,null,null,null,null,null,null,null,null,null,null,""]
["","",null,"",null,null,null,null,null,null,null,null,null,null,null,null,null,null,null,null,null,null,null,null,""]
["","",null,"",null,null,null,null,null,null,null,null,null,null,null,null,null,null,null,null,null,null,null,null,""]
["","",null,"",null,null,null,null,null,null,null,null,null,null,null,null,null,null,null,null,null,null,null,null,""]
["","",null,"",null,null,null,null,null,null,null,null,null,null,null,null,null,null,null,null,null,null,null,null,""]
["","",null,"",null,null,null,null,null,null,null,null,null,null,null,null,null,null,null,null,null,null,null,null,""]
["","",null,"",null,null,null,null,null,null,null,null,null,null,null,null,null,null,null,null,null,null,null,null,""]
["","",null,"",null,null,null,null,null,null,null,null,null,null,null,null,null,null,null,null,null,null,null,null,""]
["","",null,"",null,null,null,null,null,null,null,null,null,null,null,null,null,null,null,null,null,null,null,null,""]
["","",null,"",null,null,null,null,null,null,null,null,null,null,null,null,null,null,null,null,null,null,null,null,""]
["","",null,"",null,null,null,null,null,null,null,null,null,null,null,null,null,null,null,null,null,null,null,null,""]
["","",null,"",null,null,null,null,null,null,null,null,null,null,null,null,null,null,null,null,null,null,null,null,""]
["","",null,"",null,null,null,null,null,null,null,null,null,null,null,null,null,null,null,null,null,null,null,null,""]
["","",null,"",null,null,null,null,null,null,null,null,null,null,null,null,null,null,null,null,null,null,null,null,""]
["","",null,"",null,null,null,null,null,null,null,null,null,null,null,null,null,null,null,null,null,null,null,null,""]
["","",null,"",null,null,null,null,null,null,null,null,null,null,null,null,null,null,null,null,null,null,null,null,""]
["","",null,"",null,null,null,null,null,null,null,null,null,null,null,null,null,null,null,null,null,null,null,null,""]
["","",null,"",null,null,null,null,null,null,null,null,null,null,null,null,null,null,null,null,null,null,null,null,""]
["","",null,"",null,null,null,null,null,null,null,null,null,null,null,null,null,null,null,null,null,null,null,null,""]
["","",null,"",null,null,null,null,null,null,null,null,null,null,null,null,null,null,null,null,null,null,null,null,""]
["","",null,"",null,null,null,null,null,null,null,null,null,null,null,null,null,null,null,null,null,null,null,null,""]
["","",null,"",null,null,null,null,null,null,null,null,null,null,null,null,null,null,null,null,null,null,null,null,""]
["","",null,"",null,null,null,null,null,null,null,null,null,null,null,null,null,null,null,null,null,null,null,null,""]
["","",null,"",null,null,null,null,null,null,null,null,null,null,null,null,null,null,null,null,null,null,null,null,""]
["","",null,"",null,null,null,null,null,null,null,null,null,null,null,null,null,null,null,null,null,null,null,null,""]
["","",null,"",null,null,null,null,null,null,null,null,null,null,null,null,null,null,null,null,null,null,null,null,""]
["","",null,"",null,null,null,null,null,null,null,null,null,null,null,null,null,null,null,null,null,null,null,null,""]
["","",null,"",null,null,null,null,null,null,null,null,null,null,null,null,null,null,null,null,null,null,null,null,""]
["","",null,"",null,null,null,null,null,null,null,null,null,null,null,null,null,null,null,null,null,null,null,null,""]
["","",null,"",null,null,null,null,null,null,null,null,null,null,null,null,null,null,null,null,null,null,null,null,""]
["","",null,"",null,null,null,null,null,null,null,null,null,null,null,null,null,null,null,null,null,null,null,null,""]
["","",null,"",null,null,null,null,null,null,null,null,null,null,null,null,null,null,null,null,null,null,null,null,""]
["","",null,"",null,null,null,null,null,null,null,null,null,null,null,null,null,null,null,null,null,null,null,null,""]
["","",null,"",null,null,null,null,null,null,null,null,null,null,null,null,null,null,null,null,null,null,null,null,""]
["","",null,"",null,null,null,null,null,null,null,null,null,null,null,null,null,null,null,null,null,null,null,null,""]
["","",null,"",null,null,null,null,null,null,null,null,null,null,null,null,null,null,null,null,null,null,null,null,""]
["","",null,"",null,null,null,null,null,null,null,null,null,null,null,null,null,null,null,null,null,null,null,null,""]
["","",null,"",null,null,null,null,null,null,null,null,null,null,null,null,null,null,null,null,null,null,null,null,""]
["","",null,"",null,null,null,null,null,null,null,null,null,null,null,null,null,null,null,null,null,null,null,null,""]
["","",null,"",null,null,null,null,null,null,null,null,null,null,null,null,null,null,null,null,null,null,null,null,""]
["","",null,"",null,null,null,null,null,null,null,null,null,null,null,null,null,null,null,null,null,null,null,null,""]
["","",null,"",null,null,null,null,null,null,null,null,null,null,null,null,null,null,null,null,null,null,null,null,""]
["","",null,"",null,null,null,null,null,null,null,null,null,null,null,null,null,null,null,null,null,null,null,null,""]
["","",null,"",null,null,null,null,null,null,null,null,null,null,null,null,null,null,null,null,null,null,null,null,""]
["","",null,"",null,null,null,null,null,null,null,null,null,null,null,null,null,null,null,null,null,null,null,null,""]
["","",null,"",null,null,null,null,null,null,null,null,null,null,null,null,null,null,null,null,null,null,null,null,""]
["","",null,"",null,null,null,null,null,null,null,null,null,null,null,null,null,null,null,null,null,null,null,null,""]

{"sheet":"2.Забезпечення","index":1,"n_rows":983,"n_cols":12,"rows_kept":983,"cut":false,"hidden":false,"merged":[]}
[null,"Цей документ був підготовлений Фондом гарантування вкладів фізичних осіб (далі – Фонд) виключно для інформаційних цілей і не повинен вважатися як спонукання до будь-яких дій чи бездіяльності. \nІнформація, що міститься в цьому документі, була отримана з/або ґрунтується на джерелах які вважаються надійними, але не є вичерпною та не може сприйматися як повна або актуальна. Рішення покупця щодо будь яких дій або бездіяльності повинно ґрунтуватися на власних оцінках та дослідженнях майна (активу/активів) котре реалізуються. Фонд не несе відповідальності за рішення покупця та його наслідки, що ґрунтується на інформації викладеній в даному документі."]
[]
[]
[]
[]
[]
[]
[]
["Звітна дата",":","2018-01-01"]
["unicid","Colateral_ID","Банк","№ кред. Дог","Тип застави","Кількість застави","(га, м2, шт., тощо)","Область знаходження застави","Населений пункт (місто/село/смт.)","Сума/вартість за договором (грн.екв.)","Реєстрація у держ. Реєстрі (обтяження)\n(так/ні)","Ознака банкрутства/ліквідації заставодавця/фінансового поручителя(відповідно ЄДР на дату заповнення паспорту)"]
["322294_05405799_1","322294_080","Експобанк","81/08","беззаставний"]
["322294_05405799_2","322294_080","Експобанк","109-в","беззаставний"]
["322294_05405799_3","322294_080","Експобанк",431,"беззаставний"]
["322294_05405799_4","322294_080","Експобанк",432,"беззаставний"]
["322294_05405799_5","322294_080","Експобанк",291,"беззаставний"]
["322294_05405799_6","322294_080","Експобанк",505,"беззаставний"]
["322294_23504692_7","322294_080","Експобанк","46/01","беззаставний"]
["322294_23504692_8","322294_080","Експобанк",43143,"беззаставний"]
["322294_30021852_9","322294_1652359330021852","Експобанк",43418,"Обладнання",18,"шт","Київська","Квітневе",1652358.52,"ТАК","Діюче"]
["322294_30021852_10","322294_17011490130021852","Експобанк"," 11/062004","нерухомість",249.7,"кв.м.","Київська","Красилівка",17011490,"ТАК","Діюче"]
["322294_30531262_11","322294_080","Експобанк","08/042002","беззаставний"]
["322294_33195185_12","322294_3193465333195185","Експобанк","ВКЛ-03/08","Обладнання",125,"шт","Київ","Київ",3193465,"ТАК","Діюче"]
["322294_34423379_13","322294_880000634423379","Експобанк","27/КЛ-2007","майнові права",1325.21,"кв.м.","Київська","Біла Церква",880000,"ТАК","Банкрутство"]
["322294_34423379_13","322294_2491854571842902471","Експобанк","27/КЛ-2007","фінансова порука",null,null,null,null,24918544.649999999,"НІ"]
["322294_36799434_14","322294_080","Експобанк",509,"беззаставний"]
["319092_30419154_1","319092_33200000732594738","Київськая Русь","3497-47.1-02","фінансова порука",null,null,null,null,33200000,null,"діюче"]
["319092_22946976_3","319092_15850681422946976","Київськая Русь","106433-20.2.1-8","товари",44509,"упаковок","Київська","Бориспіль",15850680.59,"так","в стані припинення"]
["319092_14279320_4","319092_6037434314279320","Київськая Русь","16760-20/8-1","обладнання",60,"позицій","Чернігівська","Остер",6037433.7599999998,"так","діюче"]
["319092_14279320_4","319092_4000000724102283","Київськая Русь","16760-20/8-1","фінансова порука",null,null,null,null,4000000,null,"діюче"]
["319092_14279320_4","319092_4000000730374627","Київськая Русь","16760-20/8-1","фінансова порука",null,null,null,null,4000000,null,"діюче"]
["319092_3083026775_7","319092_3361452 3083026775","Київськая Русь","126-02-1","транспорт",1,"шт.","Одеська","м. Біляївка",336144.4,"так","припинено"]
["319092_3083026775_7","319092_13921112 3083026775","Київськая Русь","126-02-1","транспорт",1,"шт.","Одеська","м. Біляївка",1392110.45,"так","припинено"]
["319092_3083026775_7","319092_155543073031514860","Київськая Русь","126-02-1","фінансова порука",null,null,null,null,1555430,null,"фізична особа"]
["319092_3083026775_7","319092_155543072801618371","Київськая Русь","126-02-1","фінансова порука",null,null,null,null,1555430,null,"фізична особа"]
["319092_2172520535_8","319092_20000012172520535","Київськая Русь","2974-12-11","нерухомість",104.4,"кв.м.","Черкаська","Шпола",200000,"так","фізична особа"]
["319092_2172520535_8","319092_30000072172520535","Київськая Русь","2974-12-11","фінансова порука",null,null,null,null,300000,null,"фізична особа"]
["319092_2172520535_8","319092_30000072218014540","Київськая Русь","2974-12-11","фінансова порука",null,null,null,null,300000,null,"фізична особа"]
["319092_35865197_9","319092_19861331 35865197","Київськая Русь","34683-20/13-1","нерухомість",2105.8000000000002,"кв.м","Донецька","Донецьк",1986133,"так","діюче"]
["319092_35865197_9","319092_116000072273312615","Київськая Русь","34683-20/13-1","фінансова порука",null,null,null,null,1160000,null,"фізична особа"]
["319092_32281812_10","319092_21610522066411912","Київськая Русь","82315-20/12-1","транспорт",1,"шт.","Донецька","Єнакієве",216105,null,"фізична особа"]
["319092_32281812_10","319092_1758082232281812","Київськая Русь","82315-20/12-1","транспорт",1,"шт.","Донецька","Донецьк",1758082,null,"діюче"]
["319092_32281812_10","319092_151000072066411912","Київськая Русь","82315-20/12-1","фінансова порука",null,null,null,null,1510000,null,"фізична особа"]
["319092_32281812_10","319092_151000073059601624","Київськая Русь","82315-20/12-1","фінансова порука",null,null,null,null,1510000,null,"фізична особа"]
["380399_32123523_2","","Камбіо","256/02-2007","Нерухоме майно",894.2,"кв.м.","Донецька","Донецьк",6083466.1500000004,"ТАК","не перебуває в процесі припинення"]
["380399_37604525_3","","Камбіо","748/02-2013","Нерухоме майно",4499.2,"кв.м.","Донецька","Горлівка",4000000,"ТАК","не перебуває в процесі припинення"]
["380399_37604525_3","","Камбіо","748/02-2013","Устаткування",41,"шт.","Донецька","Горлівка",1003470.5,"ТАК","не перебуває в процесі припинення"]
["380399_37604525_3","","Камбіо","748/02-2013","Корпоративні права",null,null,null,null,4100000,"НІ"]
["380399_37604525_3","380399_170000072786500413","Камбіо","748/02-2013","Фінансова порука",null,null,null,null,1700000,"НІ"]
["380399_37604525_3","380399_170000072867000532","Камбіо","748/02-2013","Фінансова порука",null,null,null,null,1700000,"НІ"]
["380399_37434184_4","","Камбіо","611/02-2011","Устаткування",2,"шт.","Донецька","Донецьк",995603,"ТАК","не перебуває в процесі припинення"]
["380399_37434184_4","","Камбіо","611/02-2011","Рухоме майно",1,"шт.","Донецька","Донецьк",205020,"ТАК"]
["380399_37434184_4","380399_20000072786500413","Камбіо","611/02-2011","Фінансова порука",null,null,null,null,200000,"НІ"]
["380399_37434184_4","380399_20000072867000532","Камбіо","611/02-2011","Фінансова порука",null,null,null,null,200000,"НІ"]
["380399_37434184_4","380399_20000072700913854","Камбіо","611/02-2011","Фінансова порука",null,null,null,null,200000,"НІ"]
["380399_37820781_5","","Камбіо","785/01-2014","Товари в обороті",376.46,"тонн","Донецька","Донецьк",5426836.4000000004,"ТАК","не перебуває в процесі припинення"]
["380399_37820781_5","380399_200000071813600442","Камбіо","785/01-2014","Фінансова порука",null,null,null,null,2000000,"НІ"]
["380399_31500628_6","","Камбіо","218/02-2007","Нерухоме майно",320,"кв.м.","Донецька","Донецьк",1236146.69,"ТАК","не перебуває в процесі припинення"]
["380399_31500628_6","380399_137800072590810698","Камбіо","218/02-2007","Фінансова порука",null,null,null,null,1378000,"НІ"]
["380399_31500628_6","380399_137800072595008873","Камбіо","218/02-2007","Фінансова порука",null,null,null,null,1378000,"НІ"]
["380399_25364464_7","","Камбіо","197ю-2006/980/2","Нерухоме майно",522.79999999999995,"кв.м.","Луганська","Луганськ",2099150,"ТАК","не перебуває в процесі припинення"]
["380399_34225608_8","380399_759486072746400332","Камбіо","233 /02-2007","Фінансова порука",null,null,null,null,7594859.2999999998,"НІ"]
["380399_34225608_8","380399_759486072482600292","Камбіо","233 /02-2007","Фінансова порука",null,null,null,null,7594859.2999999998,"НІ"]
["380399_34225608_9","380399_7000390634225608","Камбіо","514/02-2010","Майнові права",null,null,null,null,7000390,"ТАК","не перебуває в процесі припинення"]
["380399_31348006_10","380399_2000000631348006","Камбіо","005/1-2012/980","Майнові права",null,null,null,null,2000000,"ТАК","не перебуває в процесі припинення"]
["380399_34441073_11","380399_12339976335366469","Камбіо","02/01-12","Обладнання",2,"шт.","Запорізька","Запоріжжя",12339976,"ТАК","не перебуває в процесі припинення"]
["380399_34441073_11","380399_1393917335366469","Камбіо","02/01-12","Обладнання",3,"шт.","Запорізька","Запоріжжя",1393917,"ТАК","не перебуває в процесі припинення"]
["380399_34441073_11","380399_636200561518116745","Камбіо","02/01-12","Майнові права",null,null,null,null,6362004.12225,"ТАК"]
["380399_34441073_11","380399_90000061978607181","Камбіо","02/01-12","Майнові права",null,null,null,null,900000,"ТАК"]
["380399_30405103_12","","Камбіо","648/02 -2011","Нерухоме майно",15992.7,"кв.м.","Київська","Іванків",40252239,"ТАК","не перебуває в процесі припинення"]
["380399_30405103_12","","Камбіо","648/02 -2011","Товари в обороті",2760,"тонн","Луганська","Покровське",8280000,"ТАК","не перебуває в процесі припинення"]
["380399_30405103_12","380399_84774344630405103","Камбіо","648/02 -2011","Майнові права",null,null,null,null,84774343.290000007,"ТАК","не перебуває в процесі припинення"]
["380399_34981487_13","","Камбіо","033/1-2012/840","Рухоме майно",3,"шт.","Київська","Київ",565140,"ТАК"]
["380399_34981487_13","380399_65473072237119455","Камбіо","033/1-2012/840","Фінансова порука",null,null,null,null,654729.25,"НІ"]
["380355_37039358_1","380355_080","Євробанк","ЮЛ-93/2012-КЛ","беззаставний"]
["380355_36563829_2","380355_178000738371581","Євробанк","ЮЛ-161/2013-О","фінансова порука",1,"од.",null,null,178000,"НІ","Діюче"]
["380355_36563829_2","380355_178000738651094","Євробанк","ЮЛ-161/2013-О","фінансова порука",1,"од.",null,null,178000,"НІ","Діюче"]
["380355_36563829_2","380355_17800072965618717","Євробанк","ЮЛ-161/2013-О","фінансова порука",1,"од.",null,null,178000,"НІ","Діюче"]
["380355_2965618717_3","380355_080","Євробанк","PR-000379/BLK-1","беззаставний"]
["380355_25271036_4","380355_30460000225271036","Євробанк","ЮЛ-181/2013-КЛ","транспорт",19,"шт.",null,null,30460000.000000004,"ТАК","Діюче"]
["380355_25271036_4","380355_419026872195004569","Євробанк","ЮЛ-181/2013-КЛ","фінансова порука",1,"од.",null,null,4190267.2,"НІ","Діюче"]
["380355_40076866_5","380355_080","Євробанк","ЮЛ-20/2016-КЛ","беззаставний"]
["380355_40071538_6","380355_080","Євробанк","ЮЛ-18/2016-КЛ","беззаставний"]
["380355_40067212_7","380355_080","Євробанк","ЮЛ-17/2016-КЛ","беззаставний"]
["380355_40067212_8","380355_30000000539693233","Євробанк","ЮЛ-89/2016-К","депозит",1,"шт.","Київ","Київ",30000000,"ТАК","Діюче"]
["380355_40071281_9","380355_080","Євробанк","ЮЛ-19/2016-КЛ","беззаставний"]
["380355_40041147_10","380355_4200340041147","Євробанк","ЮЛ-35/2016-О","обладнання",2,"шт.","Київська","Буча",4200,"ТАК","Діюче"]
["380355_40041147_10","380355_853076440041147","Євробанк","ЮЛ-35/2016-О","товари",17004.84,"м.кв.","Київська","Буча",853075.64,"ТАК","Діюче"]
["380355_40041147_10","380355_75000072084017370","Євробанк","ЮЛ-35/2016-О","фінансова порука",1,"од.",null,null,750000,"НІ","Діюче"]
["380355_34575551_11","380355_60000052579614711","Євробанк","ЮЛ-249/2014-КЛ","депозит",1,"шт.","Київ","Київ",600000,"ТАК","Діюче"]
["380355_34575551_12","380355_30000052579614711","Євробанк","ЮЛ-259/2014-КЛ","депозит",1,"шт.","Київ","Київ",300000,"ТАК","Діюче"]
["380355_2579614711_13","380355_5000072717723700","Євробанк","PR-003975/BLK-1","фінансова порука",1,"од.",null,null,50000,"НІ","Діюче"]
["380355_38914194_14","380355_38000073206610770","Євробанк","ЮЛ-184/2014-О","фінансова порука",1,"од.",null,null,380000,"НІ","Діюче"]
["380355_39366876_15","380355_080","Євробанк","ЮЛ-58/2015-КЛ","беззаставний"]
["380355_19497799_16","380355_9750000019497799","Євробанк","ЮЛ-36/2011-К","інше",9750,"шт.",null,null,9750000,"ТАК","Діюче"]
["380355_19497799_17","380355_080","Євробанк","ЮЛ-114/2011-К","беззаставний"]
["380355_37674545_18","380355_2000031437674545","Євробанк","ЮЛ-60/214-О","товари",4795,"шт.","Київ","Київ",2000030.85,"ТАК","В стані припинення (крім банкрутства)"]
["380355_37859075_19","380355_100000073017300299","Євробанк","ЮЛ-178/2013-О","фінансова порука",1,"од.",null,null,1000000,"НІ","Діюче"]
["380355_38261388_20","380355_489502338317126","Євробанк","ЮЛ-151/2015-О","обладнання",3,"шт.","Київ","Київ",489502,"ТАК","Діюче"]
["380355_38261388_20","380355_24300072705913470","Євробанк","ЮЛ-151/2015-О","фінансова порука",1,"од.",null,null,243000,"НІ","Діюче"]
["380355_38261388_20","380355_243000738317126","Євробанк","ЮЛ-151/2015-О","фінансова порука",1,"од.",null,null,243000,"НІ","Діюче"]
["380355_38261388_20","380355_243000737119019","Євробанк","ЮЛ-151/2015-О","фінансова порука",1,"од.",null,null,243000,"НІ","Діюче"]
["380355_2705913470_21","380355_080","Євробанк","PR-000248/BLK-1","беззаставний"]
["380355_3081905648_22","380355_6000072705913470","Євробанк","PR-000275/BLK-1","фінансова порука",1,"од.",null,null,60000,"НІ","Діюче"]
["380355_37101881_23","380355_4844997637101881","Євробанк","ЮЛ-25/2012-КЛ","майнові права",1,"од.",null,null,4844996.45,"ТАК","Діюче"]
["380355_37101881_23","380355_40000072391514692","Євробанк","ЮЛ-25/2012-КЛ","фінансова порука",1,"од.",null,null,400000,"НІ","Діюче"]
["380355_37266778_24","380355_12334000033499012","Євробанк","ЮЛ-62/2010-К","інше",12334,"шт.",null,null,12334000,"ТАК","Діюче"]
["380355_37266778_25","380355_9400000033499012","Євробанк","ЮЛ-120/2010-К","інше",9400,"шт.",null,null,9400000,"ТАК","Діюче"]
["380355_37266778_26","380355_080","Євробанк","ЮЛ-113/2011-К","беззаставний"]
["380355_35756987_27","380355_25000072890308831","Євробанк","ЮЛ-176/2014-О","фінансова порука",1,"од.",null,null,250000,"НІ","Діюче"]
["380355_31648072_28","380355_2310613431648072","Євробанк","ЮЛ-92/2014-О","товари",114.386,"т","Київ","Київ",2310612.67,"ТАК","Діюче"]
["380355_31648072_28","380355_100000072756001999","Євробанк","ЮЛ-92/2014-О","фінансова порука",1,"од.",null,null,1000000,"НІ","Діюче"]
["380355_31648072_28","380355_100000072975918041","Євробанк","ЮЛ-92/2014-О","фінансова порука",1,"од.",null,null,1000000,"НІ","Діюче"]
["380355_31648072_28","380355_100000072988709114","Євробанк","ЮЛ-92/2014-О","фінансова порука",1,"од.",null,null,1000000,"НІ","Діюче"]
["380355_3087111395_29","380355_080","Євробанк","ZP-001202/BLK-1","беззаставний"]
["380355_2756001999_30","380355_080","Євробанк","ZP-001204/BLK-1","беззаставний"]
["380355_2975918041_31","380355_20000737035018","Євробанк","PR-001388/BLK-1","фінансова порука",1,"од.",null,null,20000,"НІ","Діюче"]
["380355_33272196_32","380355_139000072469914652","Євробанк","ЮЛ-112/2012-О","фінансова порука",1,"од.",null,null,1390000,"НІ","Діюче"]
["380355_33272196_33","380355_523783472469914652","Євробанк","ЮЛ-139/2013-К","фінансова порука",1,"од.",null,null,5237834,"НІ","Діюче"]
["380355_2469914652_34","380355_120000733272196","Євробанк","PR-000187/BLK-2","фінансова порука",1,"од.",null,null,120000,"НІ","Діюче"]
["320843_30009327_1","320843_5500000130009327","Укргазпромбанк","04-КЛ/13-ЛУГ","нерухомість",1156.3,"м.кв.","Луганська","Луганськ",5500000,"ТАК","Діюче"]
["320843_30009327_1","320843_300000071919701941","Укргазпромбанк","04-КЛ/13-ЛУГ","фінансова порука",null,null,"Луганська","Луганськ",3000000,"НІ"]
["320843_35210613_2","320843_080","Укргазпромбанк","240-КЛ/10","беззаставний"]
["320843_34192080_3","320843_1161967512166923223","Укргазпромбанк","66-10-08","нерухомість",5.5293000000000001,"га","Київська","Копилів",11619674.50609529,"ТАК"]
["320843_34192080_3","320843_1171781412166923223","Укргазпромбанк","66-10-08","нерухомість",5.5759999999999996,"га","Київська","Копилів",11717813.293904711,"ТАК"]
["320843_34386966_4","320843_91834234386966","Укргазпромбанк","6-К/13-СІ","транспорт",1,"од.","Автономна Республіка Крим","Сімферополь",91833.33,"ТАК","Діюче"]
["320843_34386966_4","320843_7000072599913915","Укргазпромбанк","6-К/13-СІ","фінансова порука",null,null,"Луганська","Лисичанськ",70000,"НІ"]
["300272_30087819_1","300272_2202207330087819","Енергобанк","1301-02","обладнання",1,"шт.","Автономна Республіка Крим","Сімферополь",2202206.09,"НІ","Діюче"]
["300272_30087819_1","300272_1880258330087819","Енергобанк","1301-02","обладнання",1,"шт.","Автономна Республіка Крим","Сімферополь",1880257.5,"НІ","Діюче"]
["300272_30087819_1","300272_193630972929601317","Енергобанк","1301-02","фінансова порука",null,null,null,null,1936309]
["300272_35916927_2","300272_1550760335916927","Енергобанк","1204-03","обладнання",199,"од.","Київ","Київ",1550759.19,"НІ","Діюче"]
["300272_35916927_2","300272_479600072639425179","Енергобанк","1204-03","фінансова порука",null,null,null,null,4796000]
["300272_35916927_2","300272_65450072324408478","Енергобанк","1204-03","фінансова порука",null,null,null,null,654500]
["300272_36698193_3","300272_1400000530930046","Енергобанк","1212-04","депозит",null,null,"Київ","Київ",1400000,"ТАК","Діюче"]
["300272_36698193_4","300272_132527117636698193","Енергобанк","1205-16","майнові права",null,null,"Київ","Київ",132527116.39,"НІ","Діюче"]
["300272_36698193_4","300272_132527117636698193","Енергобанк","1205-16","майнові права",null,null,"Київ","Київ",132527116.39,"НІ","Діюче"]
["300272_36698193_4","300272_132527117636698193","Енергобанк","1205-16","майнові права",null,null,"Київ","Київ",132527116.39,"НІ","Діюче"]
["300272_36698193_4","300272_334568472781602753","Енергобанк","1205-16","фінансова порука",null,null,null,null,3345683.7]
["300272_32253460_5","300272_64000012683417174","Енергобанк","1310-46","нерухомість",47.2,"м.кв.","Київ","Київ",640000,"ТАК"]
["300272_32253460_5","300272_98400012683417174","Енергобанк","1310-46","нерухомість",240.5,"м.кв.","Київська","Глеваха",984000,"ТАК"]
["300272_32253460_5","300272_9600012683417174","Енергобанк","1310-46","нерухомість",0.06,"га","Київська","Глеваха",96000,"ТАК"]
["300272_32253460_5","300272_9600012683417174","Енергобанк","1310-46","нерухомість",0.1018,"га","Київська","Васильків",96000,"ТАК"]
["300272_32253460_5","300272_37510023130810351","Енергобанк","1310-46","транспорт",1,"од.","Київ","Київ",375100,"ТАК"]
["300272_32253460_5","300272_150000072683417174","Енергобанк","1310-46","фінансова порука",null,null,null,null,1500000]
["300272_32253460_5","300272_1500000737355113","Енергобанк","1310-46","фінансова порука",null,null,null,null,1500000,null,"Діюче"]
["300272_32253460_6","300272_30000072683417174","Енергобанк","ОЮ-000472-2612 ","фінансова порука",null,null,null,null,300000]
["300272_32253460_6","300272_300000737355113","Енергобанк","ОЮ-000472-2612 ","фінансова порука",null,null,null,null,300000,null,"Діюче"]
["300272_33240206_7","300272_307500002441004212","Енергобанк","1009-07","інше",null,null,"Київ","Київ",3075000,"ТАК"]
["300272_33240206_7","300272_307500002869805749","Енергобанк","1009-07","інше",null,null,"Київ","Київ",3075000,"ТАК"]
["300272_33240206_7","300272_21000000038472393","Енергобанк","1009-07","інше",3000000,"шт.","Київ","Київ",21000000,"ТАК","Банкрутство"]
["300272_33240206_7","300272_1556113034560999","Енергобанк","1009-07","інше",285002,"шт.","Київ","Київ",1556112.37,"ТАК","Банкрутство"]
["300272_33240206_7","300272_615000072441004212","Енергобанк","1009-07","фінансова порука",null,null,null,null,6150000]
["300272_33240206_7","300272_615000072869805749","Енергобанк","1009-07","фінансова порука",null,null,null,null,6150000]
["300272_34616578_8","300272_2000000034560999","Енергобанк","911-17","інше",366300,"шт.","Київ","Київ",2000000,"ТАК","Банкрутство"]
["300272_34616578_8","300272_332000072166923223","Енергобанк","911-17","фінансова порука",null,null,null,null,3320000]
["300272_34616578_8","300272_332000072996719717","Енергобанк","911-17","фінансова порука",null,null,null,null,3320000]
["300272_34616578_9","300272_5500000034560999","Енергобанк","711-81","інше",1007326,"шт.","Київ","Київ",5500000,"ТАК","Банкрутство"]
["300272_35952221_10","300272_175000135952221","Енергобанк","90670/07-12 КЛ","нерухомість",437.9,"м.кв.","Донецька","Донецьк",175000,"ТАК","Діюче"]
["300272_35952221_10","300272_450000235952221","Енергобанк","90670/07-12 КЛ","транспорт",1,"од.","Донецька","Донецьк",450000,"ТАК","Діюче"]
["300272_35952221_10","300272_14379022588217226","Енергобанк","90670/07-12 КЛ","транспорт",1,"од.","Донецька","Донецьк",143790,"ТАК"]
["300272_35952221_10","300272_25000072588217226","Енергобанк","90670/07-12 КЛ","фінансова порука",null,null,null,null,250000]
["300272_36324000_11","300272_1332200136324000","Енергобанк",11,"нерухомість",587.1,"м.кв.","Луганська","Луганськ",1332200,"ТАК","Діюче"]
["300272_36324000_11","300272_105000336324000","Енергобанк",11,"обладнання",1,"од.","Луганська","Луганськ",105000,"НІ","Діюче"]
["300272_36324000_11","300272_100000072331500353","Енергобанк",11,"фінансова порука",null,null,null,null,1000000]
["300272_32819813_12","300272_25603912472816042","Енергобанк",33,"нерухомість",46.4,"м.кв.","Миколаївська","Миколаїв",256039,"ТАК"]
["300272_36859975_13","300272_5000072762206545","Енергобанк","ОЮ-000371-1201 ","фінансова порука",null,null,null,null,50000]
["300272_13556242_14","300272_500000213556242","Енергобанк",116,"транспорт",6,"од.","Житомирська","Обухівка",500000,"ТАК","Діюче"]
["300272_36995140_15","300272_23800022826700984","Енергобанк","1204-12","транспорт",1,"од.","Черкаська","Черкаси",238000,"НІ"]
["300272_36995140_15","300272_2000000436995140","Енергобанк","1204-12","товари",73,"од.","Київська","Рокитне",2000000,"ТАК","Банкрутство"]
["300272_36995140_15","300272_1250000636995140","Енергобанк","1204-12","майнові права",null,null,"Черкаська","Черкаси",1250000,"ТАК","Банкрутство"]
["300272_36995140_15","300272_1741781072845117115","Енергобанк","1204-12","фінансова порука",null,null,null,null,17417809.550000001]
["300272_36995140_15","300272_1741781072826700984","Енергобанк","1204-12","фінансова порука",null,null,null,null,17417809.550000001]
["300272_36995140_15","300272_1741781072486111550","Енергобанк","1204-12","фінансова порука",null,null,null,null,17417809.550000001]
["334594_31206116_1","334594_4302525131206116","Профінбанк",1,"нерухомість",4449.2,"м.кв.","Донецька","Донецьк",4302524.71,"ТАК","Діюче"]
["334594_31206116_1","334594_2679039331206116","Профінбанк",1,"обладнання",36,"од.","Донецька","Донецьк",2679038.0499999998,"ТАК","Діюче"]
["334594_31206116_1","334594_1726007431206116","Профінбанк",1,"товари",174,"од.","Донецька","Донецьк",1726006.39,"ТАК","Діюче"]
["334594_2367200367_2","334594_23822512367200367","Профінбанк",1,"нерухомість",0.2024,"га","Донецька",null,238224.8,"ТАК","Діюче"]
["334594_2367200367_2","334594_66177612367200367","Профінбанк",1,"нерухомість",187.7,"м.кв.","Донецька",null,661775.19999999995,"ТАК","Діюче"]
["334594_2367200367_2","334594_145447812367200367","Профінбанк",1,"нерухомість",99.6,"м.кв.","Донецька","Донецьк",1454478,"ТАК","Діюче"]
["334594_33912868_3","334594_335500233912868","Профінбанк",1,"транспорт",3,"шт.",null,null,335500,"ТАК","Діюче"]
["334594_33912868_3","334594_418896233912868","Профінбанк",1,"транспорт",3,"шт.",null,null,418896,"ТАК","Діюче"]
["334594_33912868_3","334594_554319233912868","Профінбанк",1,"транспорт",5,"шт.",null,null,554319,"ТАК","Діюче"]
["334594_24155954_4","334594_416262324155954","Профінбанк",1,"обладнання",1,"од.","Київ",null,416262,"ТАК","Діюче"]
["334594_24155954_4","334594_981616424155954","Профінбанк",1,"товари",2.3479999999999999,"од.","Київ",null,981615.76,"ТАК","Діюче"]
["334594_24155954_4","334594_200000011715100505","Профінбанк",1,"нерухомість",174.7,"м.кв.","Донецька","Донецьк",2000000,"ТАК"]
["334594_24155954_4","334594_23047211715100505","Профінбанк",1,"нерухомість",13.5,"м.кв.","Донецька","Донецьк",230471.3,"ТАК"]
["334594_35231078_5","334594_209902812903505774","Профінбанк",1,"нерухомість",1366.3,"м.кв.","Донецька",null,2099027.2000000002,"ТАК"]
["334594_35231078_5","334594_7320442335231078","Профінбанк",1,"обладнання",119,"од.","Донецька",null,7320442,"ТАК","Діюче"]
["334594_37702289_6","334594_1780031237702289","Профінбанк",1,"транспорт",18,"од.",null,null,1780030.77,"НІ","Діюче"]
["334594_37702289_6","334594_3437610237702289","Профінбанк",1,"транспорт",1,"од.",null,null,3437610,"НІ","Діюче"]
["334594_37702289_6","334594_3132249237702289","Профінбанк",1,"транспорт",19,"од.",null,null,3132249,"НІ","Діюче"]
["334594_2367200367_2","334594_072144400456","Профінбанк",1,"фінансова порука",null,null,"Донецька","Донецьк",null,"НІ"]
["334594_33912868_3","334594_072355015228","Профінбанк",1,"фінансова порука",null,null,"Донецька","Донецьк",null,"НІ"]
["334594_33912868_3","334594_072236413175","Профінбанк",1,"фінансова порука",null,null,"Донецька","Донецьк",null,"НІ"]
["334594_33912868_3","334594_073173803406","Профінбанк",1,"фінансова порука",null,null,"Донецька","Донецьк",null,"НІ"]
["334594_24155954_4","334594_072653100351","Профінбанк",1,"фінансова порука",null,null,"Донецька","Донецьк",null,"НІ"]
["334594_35231078_5","334594_0735231078","Профінбанк",1,"фінансова порука",null,null,"Київ",null,null,"НІ"]
["334594_35231078_5","334594_072903505774","Профінбанк",1,"фінансова порука",null,null,"Донецька","Донецьк",null,"НІ"]
["334969_32332264_1","334969_209325412157002444","Укрбізнесбанк","3-СевДКр","нерухомість",280.2,"м.кв.","Севастополь","Севастополь",2093254,"ТАК","Діюче"]
["334969_32332264_1","334969_13317312132332264","Укрбізнесбанк","3-СевДКр","нерухомість",1733.7,"м.кв.","Севастополь","Севастополь",13317312,"ТАК","Діюче"]
["334969_32332264_1","334969_3006248116329802","Укрбізнесбанк","3-СевДКр","нерухомість",1092.3,"м.кв.","Севастополь","Севастополь",3006248,"ТАК","Діюче"]
["334969_32332264_1","334969_2920616372118567952","Укрбізнесбанк","3-СевДКр","фінансова порука",1,"од.","Севастополь","Севастополь",29206162.379999999,"НІ","Діюче"]
["334969_32332264_1","334969_2920616372897009164","Укрбізнесбанк","3-СевДКр","фінансова порука",1,"од.","Севастополь","Севастополь",29206162.379999999,"НІ","Діюче"]
["334969_32332264_2","334969_209325412157002444","Укрбізнесбанк","4-СевДКр","нерухомість",280.2,"м.кв.","Севастополь","Севастополь",2093254,"ТАК","Діюче"]
["334969_32332264_2","334969_13317312132332264","Укрбізнесбанк","4-СевДКр","нерухомість",1733.7,"м.кв.","Севастополь","Севастополь",13317312,"ТАК","Діюче"]
["334969_32332264_2","334969_3006248116329802","Укрбізнесбанк","4-СевДКр","нерухомість",1092.3,"м.кв.","Севастополь","Севастополь",3006248,"ТАК","Діюче"]
["334969_32332264_2","334969_480893272118567952","Укрбізнесбанк","4-СевДКр","фінансова порука",1,"од.","Севастополь","Севастополь",4808931.26,"НІ","Діюче"]
["334969_32332264_2","334969_480893272897009164","Укрбізнесбанк","4-СевДКр","фінансова порука",1,"од.","Севастополь","Севастополь",4808931.26,"НІ","Діюче"]
["334969_32332264_3","334969_5443512132332264","Укрбізнесбанк","5-СевДКр","нерухомість",1,"од.","Севастополь","Севастополь",5443512,"ТАК","Діюче"]
["334969_32332264_3","334969_347320872118567952","Укрбізнесбанк","5-СевДКр","фінансова порука",1,"од.","Севастополь","Севастополь",3473207.73,"НІ","Діюче"]
["334969_32332264_3","334969_347320872897009164","Укрбізнесбанк","5-СевДКр","фінансова порука",1,"од.","Севастополь","Севастополь",3473207.73,"НІ","Діюче"]
["334969_32332264_3","334969_3473208731833837","Укрбізнесбанк","5-СевДКр","фінансова порука",1,"од.","Севастополь","Севастополь",3473207.73,"НІ","Діюче"]
["334969_35886484_4","334969_4670000135886484","Укрбізнесбанк","41","нерухомість",291.8,"м.кв.","Донецька","Донецьк",4670000,"ТАК","Діюче"]
["334969_35886484_4","334969_900000012859819656","Укрбізнесбанк","41","нерухомість",1.5,"га","Київська","с.Підгірці",9000000,"ТАК","Діюче"]
["334969_35886484_4","334969_160000012692611795","Укрбізнесбанк","41","нерухомість",9.2399999999999996E-2,"га","Донецька","Донецьк",1600000,"ТАК","Діюче"]
["300131_00232093_1","300131_44973683100232093","Фінанси та Кредит","1296-09","нерухомість",9993.5,"м2","Донецька","м.Маріуполь",44973683,"так","діюче"]
["300131_00232093_1","","Фінанси та Кредит","1296-09","рухоме майно",83,"од","Донецька","м.Маріуполь",1854249,"так","діюче"]
["300131_00232093_1","","Фінанси та Кредит","1296-09","порука юридичної особи","-","-","Полтавська ","м Кременчук",10512325,"-","дані відсутні"]
["300131_32723351_1","","Фінанси та Кредит","64-07/МВ","рухоме майно",106,"шт","Дніпропетровська ","с.м.т.Кіровське",49256125.759999998,"так","діюче"]
["300131_32723351_1","","Фінанси та Кредит","64-07/МВ","рухоме майно",9,"шт","Дніпропетровська ","с.м.т.Кіровське",8021738.8600000003,"так","діюче"]
["300131_32723351_1","","Фінанси та Кредит","64-07/МВ","рухоме майно",23,"шт","Дніпропетровська ","Чумаківська сільрада",17869438.829999998,"так","діюче"]
["300131_32723351_1","","Фінанси та Кредит","64-07/МВ","рухоме майно",12,"шт","Дніпропетровська ","Чумаківська сільрада",9175744.6500000004,"так","діюче"]
["300131_32723351_1","","Фінанси та Кредит","64-07/МВ","рухоме майно",10,"шт","Дніпропетровська ","Чумаківська сільрада",7760580.0599999996,"так","діюче"]
["300131_32723351_1","","Фінанси та Кредит","64-07/МВ","рухоме майно",13,"шт","Дніпропетровська ","Чумаківська сільрада",11697172.119999999,"так","діюче"]
["300131_32723351_1","","Фінанси та Кредит","64-07/МВ","корпоративні права","-","-","Дніпропетровська ","Чумаківська сільрада",200000,"так","діюче"]
["300131_32723351_1","","Фінанси та Кредит","64-07/МВ","порука фізичної особи","-","-","Дніпропетровська "," м.Дніпропетровськ",94772025.769999996,"-","-"]
["300131_32723351_1","","Фінанси та Кредит","64-07/МВ","порука фізичної особи","-","-","Дніпропетровська "," м.Дніпропетровськ",94772025.769999996,"-","-"]
["300131_32723351_1","","Фінанси та Кредит","64-07/МВ","порука фізичної особи","-","-","Дніпропетровська "," м.Дніпропетровськ",76376076.760000005,"-","-"]
[null,"","",""]
[null,"","",""]
[null,"","",""]
[null,"","",""]
[null,"","",""]
[null,"","",""]
[null,"","",""]
[null,"","",""]
[null,"","",""]
[null,"","",""]
[null,"","",""]
[null,"","",""]
[null,"","",""]
[null,"","",""]
[null,"","",""]
[null,"","",""]
[null,"","",""]
[null,"","",""]
[null,"","",""]
[null,"","",""]
[null,"","",""]
[null,"","",""]
[null,"","",""]
[null,"","",""]
[null,"","",""]
[null,"","",""]
[null,"","",""]
[null,"","",""]
[null,"","",""]
[null,"","",""]
[null,"","",""]
[null,"","",""]
[null,"","",""]
[null,"","",""]
[null,"","",""]
[null,"","",""]
[null,"","",""]
[null,"","",""]
[null,"","",""]
[null,"","",""]
[null,"","",""]
[null,"","",""]
[null,"","",""]
[null,"","",""]
[null,"","",""]
[null,"","",""]
[null,"","",""]
[null,"","",""]
[null,"","",""]
[null,"","",""]
[null,"","",""]
[null,"","",""]
[null,"","",""]
[null,"","",""]
[null,"","",""]
[null,"","",""]
[null,"","",""]
[null,"","",""]
[null,"","",""]
[null,"","",""]
[null,"","",""]
[null,"","",""]
[null,"","",""]
[null,"","",""]
[null,"","",""]
[null,"","",""]
[null,"","",""]
[null,"","",""]
[null,"","",""]
[null,"","",""]
[null,"","",""]
[null,"","",""]
[null,"","",""]
[null,"","",""]
[null,"","",""]
[null,"","",""]
[null,"","",""]
[null,"","",""]
[null,"","",""]
[null,"","",""]
[null,"","",""]
[null,"","",""]
[null,"","",""]
[null,"","",""]
[null,"","",""]
[null,"","",""]
[null,"","",""]
[null,"","",""]
[null,"","",""]
[null,"","",""]
[null,"","",""]
[null,"","",""]
[null,"","",""]
[null,"","",""]
[null,"","",""]
[null,"","",""]
[null,"","",""]
[null,"","",""]
[null,"","",""]
[null,"","",""]
[null,"","",""]
[null,"","",""]
[null,"","",""]
[null,"","",""]
[null,"","",""]
[null,"","",""]
[null,"","",""]
[null,"","",""]
[null,"","",""]
[null,"","",""]
[null,"","",""]
[null,"","",""]
[null,"","",""]
[null,"","",""]
[null,"","",""]
[null,"","",""]
[null,"","",""]
[null,"","",""]
[null,"","",""]
[null,"","",""]
[null,"","",""]
[null,"","",""]
[null,"","",""]
[null,"","",""]
[null,"","",""]
[null,"","",""]
[null,"","",""]
[null,"","",""]
[null,"","",""]
[null,"","",""]
[null,"","",""]
[null,"","",""]
[null,"","",""]
[null,"","",""]
[null,"","",""]
[null,"","",""]
[null,"","",""]
[null,"","",""]
[null,"","",""]
[null,"","",""]
[null,"","",""]
[null,"","",""]
[null,"","",""]
[null,"","",""]
[null,"","",""]
[null,"","",""]
[null,"","",""]
[null,"","",""]
[null,"","",""]
[null,"","",""]
[null,"","",""]
[null,"","",""]
[null,"","",""]
[null,"","",""]
[null,"","",""]
[null,"","",""]
[null,"","",""]
[null,"","",""]
[null,"","",""]
[null,"","",""]
[null,"","",""]
[null,"","",""]
[null,"","",""]
[null,"","",""]
[null,"","",""]
[null,"","",""]
[null,"","",""]
[null,"","",""]
[null,"","",""]
[null,"","",""]
[null,"","",""]
[null,"","",""]
[null,"","",""]
[null,"","",""]
[null,"","",""]
[null,"","",""]
[null,"","",""]
[null,"","",""]
[null,"","",""]
[null,"","",""]
[null,"","",""]
[null,"","",""]
[null,"","",""]
[null,"","",""]
[null,"","",""]
[null,"","",""]
[null,"","",""]
[null,"","",""]
[null,"","",""]
[null,"","",""]
[null,"","",""]
[null,"","",""]
[null,"","",""]
[null,"","",""]
[null,"","",""]
[null,"","",""]
[null,"","",""]
[null,"","",""]
[null,"","",""]
[null,"","",""]
[null,"","",""]
[null,"","",""]
[null,"","",""]
[null,"","",""]
[null,"","",""]
[null,"","",""]
[null,"","",""]
[null,"","",""]
[null,"","",""]
[null,"","",""]
[null,"","",""]
[null,"","",""]
[null,"","",""]
[null,"","",""]
[null,"","",""]
[null,"","",""]
[null,"","",""]
[null,"","",""]
[null,"","",""]
[null,"","",""]
[null,"","",""]
[null,"","",""]
[null,"","",""]
[null,"","",""]
[null,"","",""]
[null,"","",""]
[null,"","",""]
[null,"","",""]
[null,"","",""]
[null,"","",""]
[null,"","",""]
[null,"","",""]
[null,"","",""]
[null,"","",""]
[null,"","",""]
[null,"","",""]
[null,"","",""]
[null,"","",""]
[null,"","",""]
[null,"","",""]
[null,"","",""]
[null,"","",""]
[null,"","",""]
[null,"","",""]
[null,"","",""]
[null,"","",""]
[null,"","",""]
[null,"","",""]
[null,"","",""]
[null,"","",""]
[null,"","",""]
[null,"","",""]
[null,"","",""]
[null,"","",""]
[null,"","",""]
[null,"","",""]
[null,"","",""]
[null,"","",""]
[null,"","",""]
[null,"","",""]
[null,"","",""]
[null,"","",""]
[null,"","",""]
[null,"","",""]
[null,"","",""]
[null,"","",""]
[null,"","",""]
[null,"","",""]
[null,"","",""]
[null,"","",""]
[null,"","",""]
[null,"","",""]
[null,"","",""]
[null,"","",""]
[null,"","",""]
[null,"","",""]
[null,"","",""]
[null,"","",""]
[null,"","",""]
[null,"","",""]
[null,"","",""]
[null,"","",""]
[null,"","",""]
[null,"","",""]
[null,"","",""]
[null,"","",""]
[null,"","",""]
[null,"","",""]
[null,"","",""]
[null,"","",""]
[null,"","",""]
[null,"","",""]
[null,"","",""]
[null,"","",""]
[null,"","",""]
[null,"","",""]
[null,"","",""]
[null,"","",""]
[null,"","",""]
[null,"","",""]
[null,"","",""]
[null,"","",""]
[null,"","",""]
[null,"","",""]
[null,"","",""]
[null,"","",""]
[null,"","",""]
[null,"","",""]
[null,"","",""]
[null,"","",""]
[null,"","",""]
[null,"","",""]
[null,"","",""]
[null,"","",""]
[null,"","",""]
[null,"","",""]
[null,"","",""]
[null,"","",""]
[null,"","",""]
[null,"","",""]
[null,"","",""]
[null,"","",""]
[null,"","",""]
[null,"","",""]
[null,"","",""]
[null,"","",""]
[null,"","",""]
[null,"","",""]
[null,"","",""]
[null,"","",""]
[null,"","",""]
[null,"","",""]
[null,"","",""]
[null,"","",""]
[null,"","",""]
[null,"","",""]
[null,"","",""]
[null,"","",""]
[null,"","",""]
[null,"","",""]
[null,"","",""]
[null,"","",""]
[null,"","",""]
[null,"","",""]
[null,"","",""]
[null,"","",""]
[null,"","",""]
[null,"","",""]
[null,"","",""]
[null,"","",""]
[null,"","",""]
[null,"","",""]
[null,"","",""]
[null,"","",""]
[null,"","",""]
[null,"","",""]
[null,"","",""]
[null,"","",""]
[null,"","",""]
[null,"","",""]
[null,"","",""]
[null,"","",""]
[null,"","",""]
[null,"","",""]
[null,"","",""]
[null,"","",""]
[null,"","",""]
[null,"","",""]
[null,"","",""]
[null,"","",""]
[null,"","",""]
[null,"","",""]
[null,"","",""]
[null,"","",""]
[null,"","",""]
[null,"","",""]
[null,"","",""]
[null,"","",""]
[null,"","",""]
[null,"","",""]
[null,"","",""]
[null,"","",""]
[null,"","",""]
[null,"","",""]
[null,"","",""]
[null,"","",""]
[null,"","",""]
[null,"","",""]
[null,"","",""]
[null,"","",""]
[null,"","",""]
[null,"","",""]
[null,"","",""]
[null,"","",""]
[null,"","",""]
[null,"","",""]
[null,"","",""]
[null,"","",""]
[null,"","",""]
[null,"","",""]
[null,"","",""]
[null,"","",""]
[null,"","",""]
[null,"","",""]
[null,"","",""]
[null,"","",""]
[null,"","",""]
[null,"","",""]
[null,"","",""]
[null,"","",""]
[null,"","",""]
[null,"","",""]
[null,"","",""]
[null,"","",""]
[null,"","",""]
[null,"","",""]
[null,"","",""]
[null,"","",""]
[null,"","",""]
[null,"","",""]
[null,"","",""]
[null,"","",""]
[null,"","",""]
[null,"","",""]
[null,"","",""]
[null,"","",""]
[null,"","",""]
[null,"","",""]
[null,"","",""]
[null,"","",""]
[null,"","",""]
[null,"","",""]
[null,"","",""]
[null,"","",""]
[null,"","",""]
[null,"","",""]
[null,"","",""]
[null,"","",""]
[null,"","",""]
[null,"","",""]
[null,"","",""]
[null,"","",""]
[null,"","",""]
[null,"","",""]
[null,"","",""]
[null,"","",""]
[null,"","",""]
[null,"","",""]
[null,"","",""]
[null,"","",""]
[null,"","",""]
[null,"","",""]
[null,"","",""]
[null,"","",""]
[null,"","",""]
[null,"","",""]
[null,"","",""]
[null,"","",""]
[null,"","",""]
[null,"","",""]
[null,"","",""]
[null,"","",""]
[null,"","",""]
[null,"","",""]
[null,"","",""]
[null,"","",""]
[null,"","",""]
[null,"","",""]
[null,"","",""]
[null,"","",""]
[null,"","",""]
[null,"","",""]
[null,"","",""]
[null,"","",""]
[null,"","",""]
[null,"","",""]
[null,"","",""]
[null,"","",""]
[null,"","",""]
[null,"","",""]
[null,"","",""]
[null,"","",""]
[null,"","",""]
[null,"","",""]
[null,"","",""]
[null,"","",""]
[null,"","",""]
[null,"","",""]
[null,"","",""]
[null,"","",""]
[null,"","",""]
[null,"","",""]
[null,"","",""]
[null,"","",""]
[null,"","",""]
[null,"","",""]
[null,"","",""]
[null,"","",""]
[null,"","",""]
[null,"","",""]
[null,"","",""]
[null,"","",""]
[null,"","",""]
[null,"","",""]
[null,"","",""]
[null,"","",""]
[null,"","",""]
[null,"","",""]
[null,"","",""]
[null,"","",""]
[null,"","",""]
[null,"","",""]
[null,"","",""]
[null,"","",""]
[null,"","",""]
[null,"","",""]
[null,"","",""]
[null,"","",""]
[null,"","",""]
[null,"","",""]
[null,"","",""]
[null,"","",""]
[null,"","",""]
[null,"","",""]
[null,"","",""]
[null,"","",""]
[null,"","",""]
[null,"","",""]
[null,"","",""]
[null,"","",""]
[null,"","",""]
[null,"","",""]
[null,"","",""]
[null,"","",""]
[null,"","",""]
[null,"","",""]
[null,"","",""]
[null,"","",""]
[null,"","",""]
[null,"","",""]
[null,"","",""]
[null,"","",""]
[null,"","",""]
[null,"","",""]
[null,"","",""]
[null,"","",""]
[null,"","",""]
[null,"","",""]
[null,"","",""]
[null,"","",""]
[null,"","",""]
[null,"","",""]
[null,"","",""]
[null,"","",""]
[null,"","",""]
[null,"","",""]
[null,"","",""]
[null,"","",""]
[null,"","",""]
[null,"","",""]
[null,"","",""]
[null,"","",""]
[null,"","",""]
[null,"","",""]
[null,"","",""]
[null,"","",""]
[null,"","",""]
[null,"","",""]
[null,"","",""]
[null,"","",""]
[null,"","",""]
[null,"","",""]
[null,"","",""]
[null,"","",""]
[null,"","",""]
[null,"","",""]
[null,"","",""]
[null,"","",""]
[null,"","",""]
[null,"","",""]
[null,"","",""]
[null,"","",""]
[null,"","",""]
[null,"","",""]
[null,"","",""]
[null,"","",""]
[null,"","",""]
[null,"","",""]
[null,"","",""]
[null,"","",""]
[null,"","",""]
[null,"","",""]
[null,"","",""]
[null,"","",""]
[null,"","",""]
[null,"","",""]
[null,"","",""]
[null,"","",""]
[null,"","",""]
[null,"","",""]
[null,"","",""]
[null,"","",""]
[null,"","",""]
[null,"","",""]
[null,"","",""]
[null,"","",""]
[null,"","",""]
[null,"","",""]
[null,"","",""]
[null,"","",""]
[null,"","",""]
[null,"","",""]
[null,"","",""]
[null,"","",""]
[null,"","",""]
[null,"","",""]
[null,"","",""]
[null,"","",""]
[null,"","",""]
[null,"","",""]
[null,"","",""]
[null,"","",""]
[null,"","",""]
[null,"","",""]
[null,"","",""]
[null,"","",""]
[null,"","",""]
[null,"","",""]
[null,"","",""]
[null,"","",""]
[null,"","",""]
[null,"","",""]
[null,"","",""]
[null,"","",""]
[null,"","",""]
[null,"","",""]
[null,"","",""]
[null,"","",""]
[null,"","",""]
[null,"","",""]
[null,"","",""]
[null,"","",""]
[null,"","",""]
[null,"","",""]
[null,"","",""]
[null,"","",""]
[null,"","",""]
[null,"","",""]
[null,"","",""]
[null,"","",""]
[null,"","",""]
[null,"","",""]
[null,"","",""]
[null,"","",""]
[null,"","",""]
[null,"","",""]
[null,"","",""]
[null,"","",""]
[null,"","",""]
[null,"","",""]
[null,"","",""]
[null,"","",""]
[null,"","",""]
[null,"","",""]
[null,"","",""]
[null,"","",""]
[null,"","",""]
[null,"","",""]
[null,"","",""]
[null,"","",""]
[null,"","",""]
[null,"","",""]
[null,"","",""]
[null,"","",""]
[null,"","",""]
[null,"","",""]
[null,"","",""]
[null,"","",""]
[null,"","",""]
[null,"","",""]
[null,"","",""]
[null,"","",""]
[null,"","",""]
[null,"","",""]
[null,"","",""]
[null,"","",""]
[null,"","",""]
[null,"","",""]
[null,"","",""]
[null,"","",""]
[null,"","",""]
[null,"","",""]
[null,"","",""]
[null,"","",""]
[null,"","",""]
[null,"","",""]
[null,"","",""]
[null,"","",""]
[null,"","",""]
[null,"","",""]
[null,"","",""]
[null,"","",""]
[null,"","",""]
[null,"","",""]
[null,"","",""]
[null,"","",""]
[null,"","",""]
[null,"","",""]
[null,"","",""]
[null,"","",""]
[null,"","",""]
[null,"","",""]
[null,"","",""]
[null,"","",""]
[null,"","",""]
[null,"","",""]
[null,"","",""]
[null,"","",""]
[null,"","",""]
[null,"","",""]
[null,"","",""]
[null,"","",""]
[null,"","",""]
[null,"","",""]
[null,"","",""]
[null,"","",""]
[null,"","",""]
[null,"","",""]
[null,"","",""]
[null,"","",""]
[null,"","",""]
[null,"","",""]
[null,"","",""]
[null,"","",""]
[null,"","",""]
[null,"","",""]
[null,"","",""]
[null,"","",""]
[null,"","",""]
[null,"","",""]
[null,"","",""]
[null,"","",""]
[null,"","",""]
[null,"","",""]
[null,"","",""]
[null,"","",""]
[null,"","",""]
[null,"","",""]
[null,"","",""]
[null,"","",""]
[null,"","",""]
[null,"","",""]
[null,"","",""]
[null,"","",""]
[null,"","",""]
[null,"","",""]

{"sheet":"3.ППР","index":2,"n_rows":1498,"n_cols":17,"rows_kept":1498,"cut":false,"hidden":false,"merged":[]}
[null,"Цей документ був підготовлений Фондом гарантування вкладів фізичних осіб (далі – Фонд) виключно для інформаційних цілей і не повинен вважатися як спонукання до будь-яких дій чи бездіяльності. \nІнформація, що міститься в цьому документі, була отримана з/або ґрунтується на джерелах які вважаються надійними, але не є вичерпною та не може сприйматися як повна або актуальна. Рішення покупця щодо будь яких дій або бездіяльності повинно ґрунтуватися на власних оцінках та дослідженнях майна (активу/активів) котре реалізуються. Фонд не несе відповідальності за рішення покупця та його наслідки, що ґрунтується на інформації викладеній в даному документі."]
[]
[]
[]
[]
[]
["unicid","Банк","№ кред. Дог","Розгляд справи у суді",null,null,null,"ДВС",null,null,"Банкрутство",null,null,null,null,null,"Кримінальне провадження за кредитною угодою\n(Так/Ні)"]
[null,null,null,"Предмет спору","Відповідач (позичальник/поручитель)","Дата надіслання вимоги / претензії","Дати звернення до суду","Дата провадження","Процесс (Так/Ні)","Реалізація майна (Так/Ні)","Дата провадження","Банк заявлений як кредитор (Так/Ні)","Банк внесенний в реєстр кредиторів (Так/Ні)","Дата визнання позичальника банкрутом","Дата визнання підприємства ліквідованим","Банкрутство фінансового поручителя"]
["322294_05405799_1","Експобанк","81/08",null,"Позичальник",null,null,null,null,null,"2010-03-26","так","так","2010-09-27","2015-06-23",null,"Ні"]
["322294_05405799_2","Експобанк","109-в",null,"Позичальник",null,null,null,null,null,"2010-03-26","так","так","2010-09-27","2015-06-23",null,"Ні"]
["322294_05405799_3","Експобанк",431,null,"Позичальник",null,null,null,null,null,"2010-03-26","так","так","2010-09-27","2015-06-23",null,"Ні"]
["322294_05405799_4","Експобанк",432,null,"Позичальник",null,null,null,null,null,"2010-03-26","так","так","2010-09-27","2015-06-23",null,"Ні"]
["322294_05405799_5","Експобанк",291,null,"Позичальник",null,null,null,null,null,"2010-03-26","так","так","2010-09-27","2015-06-23",null,"Ні"]
["322294_05405799_6","Експобанк",505,null,"Позичальник",null,null,null,null,null,"2010-03-26","так","так","2010-09-27","2015-06-23",null,"Ні"]
["322294_23504692_7","Експобанк","46/01",null,null,null,null,null,null,null,null,null,null,null,null,null,"Ні"]
["322294_23504692_8","Експобанк",43143,null,null,null,null,null,null,null,null,null,null,null,null,null,"Ні"]
["322294_30021852_9","Експобанк",43418,"стягнення боргу","Позичальник","2012-05-30","2012-07-23","2013-02-19","так","ні",null,null,null,null,null,null,"Ні"]
["322294_30021852_10","Експобанк"," 11/062004","стягнення боргу","Позичальник","2012-05-30","2012-07-26","2013-08-09","так","ні",null,null,null,null,null,null,"Ні"]
["322294_30531262_11","Експобанк","08/042002",null,null,null,null,null,null,null,null,null,null,null,null,null,"Ні"]
["322294_33195185_12","Експобанк","ВКЛ-03/08","стягнення боргу","Позичальник","2013-04-05","2013-04-02",null,"ні","ні",null,null,null,null,null,null,"Ні"]
["322294_34423379_13","Експобанк","27/КЛ-2007","стягнення боргу","Позичальник",null,"2013-04-10",null,null,null,null,"так","так","2015-11-25",null,null,"Ні"]
["322294_36799434_14","Експобанк",509,"стягнення боргу","Позичальник","2011-08-04","2011-04-23",null,"ні","ні",null,null,null,null,null,null,"Ні"]
["319092_30419154_1","Київськая Русь","3497-47.1-02","про стягнення заборгованості з ТОВ \"Союз-Трейд\" як з боржника та з ТОВ \"Транснафта\" як з солідарного боржника відповідно до договору поруки","позичальник/поручитель","не направлялось","2015-08-17","2016-02-22","так","ні"]
["319092_32594738_2","Київськая Русь","19728-20/11-1","про стягнення заборгованості з ТОВ \"Транснафта\" у сумі 29 295 819,66 грн.","позичальник",null,"2015-07-09","2015-09-28","так","ні"]
["319092_22946976_3","Київськая Русь","106433-20.2.1-8","участь банку у справі про банкрутство ПрАТ \"Альба Україна\"","позичальник","2015-01-30","2014-08-20",null,null,null,"2016-02-23","так","так",null,null,null,"ТАК      Повідомлення Банку від 10.01.2017р. за №77/13 до Київської міської прокуратури №7 про вчинення кримінального правопорушення (за фактом реалізації заставного майна товарів в обороті (медичні препарати), в т. ч. передані в заклад, а отримані кошти не направили на погашення кредиту, чим унеможливили звернення стягнення на предмет застави на суму 17,6 млн. грн.). Відповідно до даного повідомлення порушено кримінальне провадження №42017101070000026, дата внесення в ЄРДР 16.01.2017р. Орган досудового розслідування Подільське управління поліції ГУНП у м. Києві."]
["319092_14279320_4","Київськая Русь","16760-20/8-1","про солідарне стягнення з ТОВ «ЕЙБЛ ЛТД Ко», ТОВ «Лаума Україна», ТОВ «Продторг 96» заборгованості в сумі 5 131 013,56 грн. (справа №4/298 19.11.2010 у Господарському суді м.Києва)","позичальник/поручителі",null,"2010-11-01","2011-03-12","так","ні",null,null,null,null,null,null,"ТАК   26.12.17 УОФГВФО  звернулася до ГУ НП в Чернігівській обл. з повідомленням про вчинення здочину службовими  особи ТОВ \"ЕЙБЛ \nЛТД Ко\", які  здійснили приховування та розтрату майна, що є предметом забезпечення грошових вимог за кредитним договором №16769/60-20/8-1 від 05.05.2008, на яке накладено арешт ДВС, чим завдано збитків ПАТ \"БАНК \"КИЇВСЬКА РУСЬ\" в особливо великих розмірах.  Відомостьі внесено до ЄРДР №120182701300000032"]
["319092_31821931_5","Київськая Русь","К/16-05","Позов Державної податкової інспекції у Ленінському районі м. Миколаєва про  припинення юридичної особи "]
["319092_31821931_5","Київськая Русь","К/16-05","Позов до Господарського суду Миколаївської області про стягнення заборгованості за кредит","позичальник",null,null,"1.09.2008 р.","так","ні",null,null,null,null,null,null,"ні"]
["319092_32391031_6","Київськая Русь","9188","Стягнення заборгованості ","позичальник","2008-04-02","2010-02-22","02.07.2010 р.","так","ні",null,null,null,null,null,null,"Так.    08.09.2017 р. Банком на адресу ГУНП Миколаївської області скировано повідомлення про вчинення кримінального правопорушення службовими особами ТОВ \"АС\" за фактом незаконної реалізації заставного майна загальною вартістю 126,8 тисяч грн. 25.09.2017р. зазначений факт зареєстровано в журналі єдиного обліку заяв і повідомлень про вчинен. кримінальні правопорушення та інші події Заводського ВП ГУНП в Миколаївській обл. за №19367 та розпочато перевірку інфомації. Банком подано скаргу в порядку ст.303 КПК України. Відповідно до ухвали слідчого судді Заводського районного суду м. Миколаєва від 03.11.2017р. скаргу Банку задоволено і зобов\"язано слідчого Заводського відділу поліції ГУНП в Миколаївській області внести  в Єдиний реєстр досудових розслідувань відомості заяви. "]
["319092_32391031_6","Київськая Русь","9188",null,null,null,null,null,null,null,"2012-11-29","Так","Так","2014-03-20"]
["319092_3083026775_7","Київськая Русь","126-02-1","позов Банку про стягнення заборгованості з поручителів за кредитом","поручителі","2012-03-27"," 05.04.2012","28.11.2012         02.04.2015","ні","ні"]
["319092_3083026775_7","Київськая Русь","126-02-1","позов Кіпєра І.В. до Банку про визнання недійсни договору застави","Банк",null,"2012-07-07"]
["319092_3083026775_7","Київськая Русь","126-02-1"," позов Кіпєр Тетяни Володимирівни до Кіпєра І.В. про припинення права власності на автобуси","позичальник",null," 03.09.2013"]
["319092_3083026775_7","Київськая Русь","126-02-1","позов Кіпєр Тетяни Володимирівни до Другого Приморського відділу державної виконавчої служби Одеського міського управління юстиції, ПАТ «Банк «Київська Русь» про виключення з акту опису й арешту майна та звільнення з-під арешту","Банк",null," 04.08.2014"]
["319092_3083026775_7","Київськая Русь","126-02-1"," позов Кіпєра І.В. до Одеської філії державного підприємства \"Інформаційний центр\" Міністерства юстиції України про зобов'язання припинити обтяження застави",null,null," 02.04.2015"]
["319092_2172520535_8","Київськая Русь","2974-12-11","Позов про стягнення заборгованості з за кредитним договором з Кепші С.М у сумі  305 436,94 грн.","позичальник","2012-07-09"," 17.07.2012","2016-07-27","так","ні"]
["319092_2172520535_8","Київськая Русь","2974-12-11","19.11.2013р. Позов банку задоволено в повному обсязі(справа №2/710/1015/2013. про стягнення заборгованості за КД у сумі 231 716,35 грн.;","позичальник",null,".2013р.",null,null,null,null,null,null,null,null,null,"          "]
["319092_35865197_9","Київськая Русь","34683-20/13-1","Пртензійно-правова робота не проводилась"]
["319092_32281812_10","Київськая Русь","82315-20/12-1","Пртензійно-правова робота не проводилась"]
["380399_32123523_2","Камбіо","256/02-2007","Стягнення заборгованості за кредитним договором у розмірі 4 897 219,31 грн. (Звернення стягнення на предмет іпотеки не повадилось, оскільки сам Позичальник є Іпотекодавцем. Нерухомість розташована у зоні АТО)","Позичальник",null,"2015-08-26","24.12.2015 - отримано Наказ Господарського суду Донецької області № 905/1815/15 про стягнення з ДП \"ІНТЕРІНВЕСТ\";  14.01.2016 - наказ направлено до ВПВР Донецької області; 28.01.2016 винесена постанова про відмову у відкритті вик.провадження (у звязку із АТО); 11.02.2016 - направлена скарга до Господарського суду Донецької області; 17.03.2016 - відкладено на 07.04.2016 р. - надати письмові пояснення; 07.04.2016 - скаргу банку задоволено; 22.04.2016 - наказ № 905/1815/15 направлено до ВПВР УДВС; 13.05.2016 - відкрито виконавче провадження ВП № 51060638 ід. 40ВЕ5ЕДД22ГА; 13.05.2016 - постанова про арешт всього майна; 17.11.2016 - направлено заяву про хід виконання; 12.12.2016 - отримано відповідь про хід виконання (нерухомість в м.Донецьку); 06.06.2017 - отримано відповідь про хід виконання по ТОВ \"ІНТЕРІНВЕСТ\"(адмін.будівля - зона АТО);","так","ні",null,null,null,null,null,null,"ні"]
["380399_37604525_3","Камбіо","748/02-2013","1. Про звернення стягнення на предмет іпотеки ТОВ \"ДОН-АГРО\".                                               2. Стягнення заборгованості за кредитним договором у розмірі 31 519,45 грн. з поручителів Ребріщева А.В., Ребрищева Є.В., ТОВ \"ДОН-АГРО\".","Позичальник; Поручителі",null,"2015-08-28","1) 21.10.2015 - рішенням Господарського суду Донецької області позов задоволено. 02.11.2015 - банком отримано рішення. 18.11.2015 - банком отримано Наказ Господарського суду Донецької області про звернення стягнення; 13.09.2016 - наказ направлено на виконання до Дружківскього ВДВС; 13.10.2016 - відкрито ВП № 52637049 ід. 8453В5490944 - зв.ст. по ТОВ \"ДОН-АГРО\";  07.12.2016 - постанова про повернення по ТОВ \"ДОН-АГРО\" (зона АТО);  2) 07.11.2016 - відповідь про хід виконання - по ТОВ \"Дон АГРО\" (майно відсутнє); 12.08.2016 - направлено заяву про хід виконання (виявлення рухомого/нерухмого майна) - по ТОВ \"ДОН АГРО\"; 24.03.2016 - до Куйбишевського ВДВС (Словянськ) подано виконавчий лист № 185/9908/15-ц про стягнення з ТОВ \"Дон-Агро\" - солідарно 31 519,45 грн. 04.04.2016 - відкрито вик.провадження про стягнення з ТОВ \"ДОН-АГРО\" Куйбишевським ВДВС   № ВП 52748509 ід. 02ГБ2739А82Б;    Куйбишевського ВДВС (Словянськ) подано виконавчий лист № 185/9908/15-ц про стягнення з Ребрищева Є.В. - солідарно 31 519,45 грн. 04.04.2016 -постнаова про відмову у відкритті вик.провадження (в ІНН не вистачає однієї цифри). Готується заява на виправлення помилки); 06.06.2017 - отримано повторно відповідь про хід виконання по Ребрищеву Євгену(постанова про арешт від 26.05.2017 р., майно відсутнє, не працює, пенсію не отримує); 07.09.2016 - отримано відповідь - Ребріщев Євген - не працює, пенсію не отримує, рахунків не має; 12.08.2016 - направлено заяву про хід виконання (виявлення рухомого/нерухмого майна) - по Ребріщеву Є.; 17.06.2016 - відкрито ВП по Ребрищеву Євгену № 51455029 ід. 350761ДААД2Е; 29.09.2016 - предявлено повторно - по РЕБРИЩЕВУ Є.В. 13.10.2016 -повідомлення про повернення(не сплата авансовоговнеску - по Ребріщєву Євгену); 01.12.2016- до Павлоградського суду направлено скаргу на дії ДВС по Ребрищеву ЄВГЕНУ; Скаргу призначено до розгляду на 24.01.2017 - по Ребрищеву Євгену; 13.10.2016 -повторне відкриття ВП № 52642667 ід. 1Д0ВЕ6382Д45 - по Ребрищеву Євгену;  17.01.2017 - вик.лист по Ребрищеву Євгену направлено до Куйбишевського ВДВС; 03.06.2016 - до Куйбишевського ВДВС направлено  вик.лист та Ухвалу на виконання; 06.02. 2018 р. - вик.лист № 185/9908 з виправленими описками (дата народження) направлено до Куйбишевського ВДВС м.Донецька (м.Словянськ); 21.04.2016 - до суду подана заява на виправлення описки;  24.03.2016 -до Павлоградського міськрайонного суду подано заяву про виправлення описки по Ребріщеву А.В.;  20.10.2017 - до Павлоградського міського суду направлено заяву про виправлення описки та поновлення строку предявлення на виконання по Ребріщеву Андрію (без дати народження не вноситься в АСВП); 17.05.2016 - по Ребріщеву Андрію вик.лист направлено до Київського ВДВС (Шкадінова, 20); 02.06.2016 - відкрито ВП по Ребріщеву А.В. № 51333466 ід 0Д126ГГД78А7. 13.10.2016 - отримано відповідь по Ребріщеву А. (майно відстунє); 30.09.2016 - постанова про повернення (майновідсутнє); 04.07.2017 - по Ребріщеву АНДРІЮ подано вик.лист повторно (авансовий внесок 630,38 грн.)24.07.2017 - постанова про повернення (не за належністью - по Ребріщеву Андрію); ;04.03.2016 - отримано три виконавчих листа про солідарне стягненя з Ребріщева А.В., Ребрищева Є.В., ТОВ \"ДОН-АГРО\" - 31 519,45 грн.; 09.02.2016 - подана заява про видачу вик.листів;27.01.2016 - Павлоградським судом винесено заочне рішення про солідарне стягнення з Ребріщева А.В., Ребрищева Є.В. - 31 519,45 грн. Позов задоволено. ","так","ні",null,null,null,null,null,null,"ні"]
["380399_37434184_4","Камбіо","611/02-2011","1) Стягнення заборгованості за кредитним договором у розмірі 274 383,85 грн. звернення стягнення на обладнання не відбувалось, оскільки Позичальник є Заставодавцем.                         2) До Павлоградського міськрайонного суду Дніпропетровської області подано позов про звернення стягнення на майно Соколової. (Позови до фінансових поручителів не подавалися, оскільки договори припинилися на підставі ст. 559 ЦК.)","Позичальник; Поручителі","2015-01-19","2015-08-28","01.06.2017 - пост.про арешт майна боржника - по ТОВ \"АРТ БЕТОН\" ;22.12.2016 - ухвала уду про залишення скарги без розгляду; 07.12.2016 - заява про залишення без розгляду; 12.10.2016 - повторно відкрито ВП № 53039339 ід. А8БЕГ17Д180Б; 28.11.2016 -  повторно направлено на Кіровського ВДВС (держ.вик.готовий відкрити без сплати авансового внеску); 14.11.2016 - подана скарга на дії ДВС до Господарського суду Донецької області; 13.10.2016 -повідомлення про повернення (не сплата авансового внеску); 30.09.2016 - наказ № 905/1912/15 - подано на виконання повторно; 09.09.2016 - постанова про повернення по ТОВ \"Арт-Бетон\" (майно відстунє, застава - вібропрес, бетонний вузол - в зоні АТО м.Донецьк);  07.08.2017 - отримано відповідь про хід виконання (майно зона АТО, зупинено - по АРТ Бетону); 06.05.2016 - відкрито ВП № 51007549 ід. 5123Е6АД4В1Г - про стягнення з ТОВ \"АРТ Бетон\" по наказу; 22.10.2015 - наказ№ 905/1912/15  подано до ВДВС Кіровського РУЮ у м.Донецьку.29.09.2015 - рішення суду про стягнення на користь банку 274 383,85 грн. 16.10.2015 -отримано наказ. 2) 24.03.2016 - два виконавчих листа про звернення стягнення та стягнення 420,00 грн. подано до Куйбишевського ВДВС (Солвянськ); 01.03.2016 - отримано виконавчий лист № 185/9907/15-ц про звернення стягнення на автомобіль по Соколовій В.Л. та стягнення  420,00 грн. за оголошення в прессі; 04.04.2016 - відкрито виконавче провадження про стягнення 420,00 грн. 06.10.2016 - отримано відповідь про хід виконання по Соколовій В.Л. - постанова про розшук автомобіль Ниссан, 2008 р.в., днз АН 5105 ЕЕ;12.08.2016 - направлено заяву про хід виконання (виявлення рухомого/нерухмого майна);  04.04.2016 - відкрито виконавче провадження  за виконавчим листом № 185/9907/15-ц виданий Павлоградським судом; (НОМЕРА ВП НЕ ЗАЗНАЧЕНІ). 03.06.2016 - постанова про розшук авто по Соколовій В.Л. 22.06.2017 - отримано відповідь про хід викоання по Соколовій В.Л. Постанова про розшук Ніссан Теана, 2008 р.в, АН 5105 ЕЕ; пенсію не отримує, майно зона АТО;","так","ні",null,null,null,null,null,null,"ні"]
["380399_37820781_5","Камбіо","785/01-2014","Стягнення заборгованості за кредитним договором з Позичальника у розмірі 1 019 726,07 грн.  (звернення стягнення на товари в обороті не провадилось, оскільки сам позичальник є Заставодавцем.) ","Позичальник","2015-01-19","2015-08-19","Договір застави дизельного пального направлено на виконання  разом з виконавчим документом до органів ДВС.  Майно знаходиться за адресою м. Донецьк, вул. Малова, 35 \"В\". У звязку з тим, що м.Донецьк  зона АТО - на цій территорії виконавчі дії не проводяться згідно Законодавства України. 24.04.2016 р. - постанова про арешт майна боржника; 22.04.2016 - відкрито ВП № 50932917 ід. 122Е0Е207Г46; 07.04.2016  - наказ та ухвалу подано Будьонівського ВДВС (Шкадінова); 10.03.2016 - скаргу банку задоволено частково; на 10.03.2016 -  11-20 час; призначено на 22.02.2016 - отримано 22.02.2016 р.;11.02.2016 -  направлено клопотання пр о залучення до матеріалів справи документів; 26.01.2016 - направлена скарга на дії ДВС до Господарського суду Донецької області; 14.12.2015 - постанова про відмову у відкритті виконавчого провадження у звязку із АТО. Готується скарга на дії ДВС до Господарського суду Донецької області; 24.11.2015 - наказ № 905/1665/15 Господарського суду подано на виконання до ВДВС Будьонівського РУЮ у Донецькій області; 30.10.2015 - отримано наказ Господарського суду м.Києва про стягнення 1 019 726,07 грн., який готується до направлення до органів ВДВС,","так","ні",null,null,null,null,null,null,"ні"]
["380399_31500628_6","Камбіо","218/02-2007","1. Позов про визнання права власності на предмет іпотеки. 2.Подано позов до Павлоградського міськрайонного суду про стягнення 3 433 135,68 грн. з Криводубського К.О., Гроховського О.М., ТОВ \"Виробничо-фінансової компанії \"Донбасресурси\"","Позичальник; Поручителі",null,"1) 2011 рік \n2)12.11.2015 ","06.10.2017 - постанова про відкриття ВП54850898  ід А91519А9В94В -по ТОВ \"ВФК Донбасресурси\" ДУБЛІКАТ\" ; Заяву банку про видлачу дублікату задоволено;   15.06.2017 - направлено заяву про розгляд без нашої участі; Справу призначено на 03.07.2017 р.; 12.05.2017 р. - до Павлоградського суду подано заяву про відновлення втраченого судового провадження; апеляцію призначено на 25.04.2017 р.; 30.01.2017 - банком подано апеляцію; 11.01.2017 - відмовлено у видачі дублікату; Справу призначено на 11.01.2017 р. 08.12.2016- до Київського районного суду м. Донецька  (м.Павлгорад) направлено заяву про видачу дублікату виконачого листа з метою встановлення втраченого виконавчого провадження;  04.11.2015 - до ВДВС у Донецькій області направлено заяву про хід виконання. 07.12.2015 - отримано відповідь. 16.03.2010 - відкрито виконавче провадження № 18017835.","так","ні",null,null,null,null,null,null,"ні"]
["380399_25364464_7","Камбіо","197ю-2006/980/2","1. Позов про стягнення заборговангоості до Господарського суду Луганської області про стягнення 1152076,13грн.         2. Стягнення заборгованості за кредитним договором у розмірі 2 430 870,21 грн. Позов подано до господарського сулу Луганської області разом з заявою про відстрочення сплати судового збору","Позичальник",null,"1) 2009 рік\n2) 04.11.2015","14.06.2016 - постанова про розшук автобуса, 1983 р.в.; 07.05.2010 - постанова про відкриття ВП № 19055330 ід. Б86Г3ГЕБД294; 01.09.2016 - отримано відповідь про хід виконаня; 12.08.2016 - направлено заяву про хід виконання (виявлення рухомого/нерухмого майна); 05.05.2016 - постанова про відновлення виконавчого провадження ВП № 19055330; 06.05.2016 -постанова про арешт всього майна; 22.04.2016 - направлено до Ворошиловського ВДВС; 15.04.2016 -  отримано ДУБЛІКАТ наказу; Призначено на 12.04.2016 р.; 25.03.2016 - подано заяву про розгляд без нашої участі та про залучення до матеріалів до справи; Призначено до розгляду 30.03.2016 р.; 11.03.2016 - до Господарського суду Луганської області подано заяву про видачу дублікату наказу; 15.02.2016 - отримано відповідь УВДВС Головного територіального управління юстиції у луганській області  щодо перебування на виконанні у ЛЕНІНСЬКОМУ ВДВС наказу Господарського суду Луганської області № 9/292 від 15.04.2010 р. про стягнення на користь ПАТ \"Банк Камбіо\" - 1 187 203, 47 грн. Інформація мається лише в електронному виді. Інофрмація на папероносіях залишена в зоні АТО. Рекомендовано звернутися до суду за отриманням доублікату  наказу; 14.01.2016 - направлено запит про хід виконання виконавчого провадження;готується запит до ДВС про стан виконавчого провадження. ","так","ні",null,null,null,null,null,null,"ні"]
["380399_34225608_8","Камбіо","233 /02-2007","1) позов про солідарне стягнення боргу з позичальника та фінансових поручителів (Семенов О.О., Савінов К.Л.) і звернення стягнення на предмет застави, належний ТОВ \"КВФ \"Алкор\" із заявою про відстрочення сплати судового збору;                2) позов про стяг нення боргу з заявою про відстрочення сплати судового збору 3) 21.04.2015р. на офіційному веб-сайті ВГС України оприлюднено оголошення про порушення справи про банкрутство ТОВ \"КПФ \"Алкор\". 15.05.2015р. ліквідатору ТОВ \"КПФ \"Алкор\", ГС Запорізької області, ТОВ \"КПФ \"Алкор\" надіслано заяву про визнання кредиторських вимог банку в розмірі 39 017 437,31грн., в т.ч. за Договорами застави, якими забезпечено зобовязання ТОВ \"ЕКСПІПРОМ\" за кредитним договором в сумі 20 417 117,46 грн. ","Позичальник; Поручителі",null,"1) 04.11.2015\n2) 03.11.2015","28.07.2011р. банком вчинено виконавчий напис на договорі іпотеки.  03.11.2015 - направлено заяву до ВДВС у Донецькій області про хід виконання виконавчого напису. 07.12.2015 - отримано відповідь ДВС у м.м.Донецька -  ви виконанні вик.документи не перебувають.","так","ні",null,null,null,null,null,null,"ні"]
["380399_34225608_9","Камбіо","514/02-2010"," 1) подано позов про стягнення боргу з позичальника. Звернення стягнення на майнові права не здійснювалось, оскільки вони належать безпосередньо позичальнику. 2) 04.11.2015 подано позов до господарського суду Донецької області про стягнення заборгованості разом з заявою про відстрочення сплати судового збору","Позичальник",null,"1)31.08.2015;\n2)04.11.2015",null,"ні","ні",null,null,null,null,null,null,"ні"]
["380399_31348006_10","Камбіо","005/1-2012/980","Подано позов про стягнення кредитної заборгованості. Позов про стягнення 749 365,81 грн. було подано повторно.                                       Звернення стягнення на заставне майно не відбувалось, оскільке надане позичальником.  ","Позичальник","2014-12-31","2014-02-27","29.05.2018 - до суду подано заяву про розгляд без нашої участі; Скаргу призначено до розгляду на 30.05.2018 р. 15.05.2018 вих № 04/599 - до Біляївського районного суду подана скарга на бездіяльність СВ; Внесено в ЄРДР № 418 (по старому кодексу) 25.04.2018 - подано заяву про кримінальне правопорушення;14.04.2017 -  до ДВС подано заяву про проведення звірки по договорам поставки; 03.02.2017 - заява про перевірку предмету застави до Приморського ВДВС м. Одеси; 30.12.2016 - постанова про повернення (майно відстунє) - по Білявському ВДВС; 01.08.2016 - отримано відповідь. Майно в заставі інших банків. Направлено заяву про обмеження виїзду за кордон креівника; 10.06.2016 - скаргу передано на розгляд до Головного територіального управуління в Одеській області; 07.06.2016 - подана скарга до ДДВС; 13.05.2016 - постанова начальника Біляївського ВДВС про перевірку ВП; 04.03.2016 - постанова про арешт коштів; 25.02.2016 - постанова про арешт всього майна; 25.02.2016 - відкрито виконавче провадження № 50277912 (ід.734379551454); 02.02.2016 - Наказ повторно направлено до Приморського ВДВС м. Одеси цінним листом; Наказ № 916/3119/15 Приморським ВДВС м. Одесса на протязі місяця не отримано та повернуто до банку; 08.12.2015  -  наказ № 916/3119/15 направлено на виконання до Примосрького ВДВС м. Одеса; 19.10.2015 - направлено доручення до Першого Приморського ВДВС та  Другого Приморського ВДВС для проведення опису активів, що знаходяться у м.Одесі. 17.10.2014 - відкрито виконавче провадження ВДВС Біляївського МУЮ, 24.10.2015 - постанова про арешт всього майна; 06.11.2014 -постанова про розшук транспортних засобів у кількості 7 одиниць; 22.12.2014 - постанова про приєднання до зведеного вик.провадження; 30.09.2015 - заява про проведення опису виявлених активів у вигляді нерухомості (5 обїєктів). ","так","ні",null,null,null,null,null,null,"так"]
["380399_34441073_11","Камбіо","02/01-12",") Звернення стягнення на предмет іпотеки та на предмет застави.                                  2) Стягнення заборгованості за кредитним договором                                     3) Звернення стягнення на предмет застави                                                                ","Позичальник; Поручителі","2015-07-01","1) 03.08.2015\n2) 06.08.2015","2) Отримано наказ № 904/7171/15 про стягнення з \"НВП ІСТ ЛАЙН\" - 21 624 232,62 грн. 04.10.2016 - наказ подано на виконання дог ВПВР ДДВС (Рильського);  13.10.2016 -постанова про відкриття ВП № 52637212; 13.10.2016 -постанова про арешт майна; 25.10.2016 - постанова про арешт коштів; 02.08.2017 - ПОСТАНОВА ПРО ПОВЕРНЕННЯ (МАЙНО ВІДСТУНЄ); 3) Отримано наказ № 908/2630/17 про звернення стягнення на майно з помилками. Направлено заяву до суду про виправлення помилок. Справу призначено до розгляду на 30.05.2018 р. 12-00 год;  Заяву банку про виправлення описки задоволено. 11.06.2018 - отримано ухвалу. 15.06.2018 - ін-цію направлено на розподіл;","так","ні",null,null,null,null,null,null,"ні"]
["380399_30405103_12","Камбіо","648/02 -2011","1) подано позов до ТОВ ТПК \"Регіон\"  про стягнення кредитної заборгованості у розмірі 3 457 000,00 доларів США; 2) подано позов про ПРАСТ \"Іванківський льонзавод\" про звернення стягнення на предмет іпотеки","Позичальник; Поручителі",null,"1) 03.03.2015;\n2) 17.02.2015","19.06.2015р.- відкрито винонавче провадження № 47913713, 19.06.2015 - постанова про арешт всього майна; 15.07.2015р.- постанова про арешт коштів боржника, 02.09.2015 -  отримано відомості з реєстру нерухомого майна - майно відстунє;","так","ні",null,null,null,null,null,null,"ні"]
["380399_34981487_13","Камбіо","033/1-2012/840","1. Стягнення кредитної заборгованості в розмірі  24 576,73 дол.США; з боржника; 2. Звернення стягнення на заставне майно, що належить Кравцову С.П.;                              3. Стягнення заборгованості з поручителя - Смовжа С.В. ","Позичальник; Поручителі","2014-10-30","1. 18.12.2014; 2. 03.09.2015   3) 06.01.2015","1) 30.03.2015. ДВС Печерського районного управління юстиції відкрито ВП № 47048962 про стягнення боргу з ТОВ \"БВК \"Аталант\". Постановами від 15.04.2014р. накладено арешт на майно боржника/кошти боржника.  17.11.2015 - постанова про повернення наказу № 910/28351/14 про стягнення з ТОВ \"БВК \"Аталант\" боргу в суммі 613 189,42 грн. (майно відсутнє). 25.01.2016р. до ВДВС Печерського РУЮ  у м. Києві надіслано заяву про повторне примусове виконання наказу ГС Києва від 24.02.2015р. (в наказі виявлено помилку в адресі боржника: зазначено бульвар замість вулиця Приймаченко). Постановою ВДВС від 17.02.2016р. відкрито ВП № 50177112 про стягнення боргу з ТОВ \"БВК \"Аталант\".  Постановою від 03.06.2016р. виконавчий документ повернуто без виконання в звязку з відсутністю майна у боржника. 25.08.2016р. наказ повторно подано на виконання до ВДВС Печерського РУЮ.   05.09.2016 - повторне відкриття ВП № 52087158 ід. 4ВБАБ6Б46714;   29.05.2017 - постанова про повернення (майно відсутнє); 28.03.2018 - постанова про відкриття  ВП № 56065468 ід. 3В12ЕГ62664Е - по ТОВ Аталанту на 10 000,00 грн.;     3) 16.10.2015 - подано заяяву про відкриття виконавчого провадження по  поручителю Смовж С.В.  до Соломянскього ВДВС; 27.10.2015 - постанова про відкриття виконавчого провадження про стягнення з Смовж С.В.; 27.10.2016 - постанова про арешт всього майна; направлено запит до ВРЕР-4 УДАІ у м.Києві; 24.05.2016 - до Соломянського ВДВС направлено заяву про хід виконання; 22.06.2016 - до ВДВС направлена заява про обмеження виїзду за кордон;  31.08.2016 - д/в отримано відповіді майно відсутнє; повторно подано заяву про обмеження виїзду за кордон; 2) 22.12.2016 - виконавчий лист № 759/14446/15-ц про звернення стягнення на майно (екскаватори 3 шт.) по Кравцову С.П. направлено на виконання до Святошинського ВДВС; 19.01.2017 - відкрито ВП № 53261714 ід Б4092988А929. 18.04.2017 - отримано відповідь екскаватори зняті з обліку; 11.05.2017 р. - подано заяву про кримінальне правопорушення, Слідчий відділ Печерської НП вх. № 6530 від 15.05.2017 р. 19.06.2017 - отримано відповідь, що справу не порушено у звязку із відсутністью ознак злочину; 23.06.2017 - слідчому судді Печерського району направлено скаргу в порядку ст.303 КПК; призначено скаргу на 25.07.2017 р.;  19.09.2017 - отримано ухвалу суду. Скаргу задоволено частково; Банком готується апеляційна скарга; 07.03.2018 -Печерським райсудом м. Києва  відмовлено у відкритті провадження щодо розгляду  клопотання про видачу памятки;23.03.2018 - отримано лист Печерського СВ про необхідність явки до слідчого за отриманням памятки; 10.11.2017 - отримано інформаційну довідку про відстуність нерухомого майна; По транспорту - відповіді ГАИ не дають;  Отримано відповідь з міграційної служби про перетин кордону (обіцяв направити подання до суду про обмеження виїзду за кордон); Рішення суду про звернення стягнення, отже звернутися до суду з поданням про обмеження - НЕ можливо;  26.09.2017 - справу № 757/36394/17-к  заяву не задоволено. Ухвалу направлено поштою, станом на 16.11.2017 р. - не отримано; 29.11.2017 -  до СВ Печерського УП ГУ НП направлено ухвалу суду про розгляд заяви про кримінальне правопорушення;  28.12.2017 вих. № 04/1662 через канцелярію Печерського СВ будло подано ухвалу Печерського суду про розгляд заяви про кримінальне правопорушення по екскаваторам;  26.12.2017 - направлено заяву про обмеження виїзду за кордон по СМОВЖУ та КРАВЦОВУ до відповідних ВДВС;   Ідти на прийом до начальника СВ Недошовенко Святослава Сергійовича у середу з 11-13 щоб викликав начальника відділу Ялового та розподілив справи; 07.03.2018 - З РЕЄСТРУ отримано ухвалу про відмову у задоволенні клопотання баанку про видачу памятки;  22.03.2018 - наказ подано на виконання повторно на суму 10 000,00 грн. до Печерського ВДВС м. Києва; ","так","ні",null,null,null,null,null,null,"так"]
["380355_37039358_1","Євробанк","ЮЛ-93/2012-КЛ",null,null,null,null,null,null,null,null,null,null,null,null,null,"ТАК"]
["380355_36563829_2","Євробанк","ЮЛ-161/2013-О","стягнення заборгованості","Позичальник",null,"2016-04-07",null,null,null,null,null,null,null,null,null,"НІ"]
["380355_36563829_2","Євробанк","ЮЛ-161/2013-О","стягнення заборгованості","Поручитель",null,"2016-04-07",null,null,null,null,null,null,null,null,null,"НІ"]
["380355_2965618717_3","Євробанк","PR-000379/BLK-1",null,null,null,null,null,null,null,null,null,null,null,null,null,"НІ"]
["380355_25271036_4","Євробанк","ЮЛ-181/2013-КЛ","стягнення заборгованості","Поручитель",null,"2015-04-22",null,null,null,null,null,null,null,null,null,"ТАК"]
["380355_25271036_4","Євробанк","ЮЛ-181/2013-КЛ","стягнення заборгованості","Поручитель",null,"2015-04-22",null,null,null,null,null,null,null,null,null,"ТАК"]
["380355_40076866_5","Євробанк","ЮЛ-20/2016-КЛ",null,null,null,null,null,null,null,null,null,null,null,null,null,"ТАК"]
["380355_40071538_6","Євробанк","ЮЛ-18/2016-КЛ",null,null,null,null,null,null,null,null,null,null,null,null,null,"ТАК"]
["380355_40067212_7","Євробанк","ЮЛ-17/2016-КЛ",null,null,null,null,null,null,null,null,null,null,null,null,null,"ТАК"]
["380355_40067212_8","Євробанк","ЮЛ-89/2016-К",null,null,null,null,null,null,null,null,null,null,null,null,null,"ТАК"]
["380355_40071281_9","Євробанк","ЮЛ-19/2016-КЛ",null,null,null,null,null,null,null,null,null,null,null,null,null,"ТАК"]
["380355_40041147_10","Євробанк","ЮЛ-35/2016-О","стягнення заборгованості","Позичальник",null,"2016-08-30","2017-09-20","ТАК","НІ",null,null,null,null,null,null,"НІ"]
["380355_34575551_11","Євробанк","ЮЛ-249/2014-КЛ",null,null,null,null,null,null,null,null,null,null,null,null,null,"ТАК"]
["380355_34575551_12","Євробанк","ЮЛ-259/2014-КЛ",null,null,null,null,null,null,null,null,null,null,null,null,null,"ТАК"]
["380355_2579614711_13","Євробанк","PR-003975/BLK-1",null,null,null,null,null,null,null,null,null,null,null,null,null,"НІ"]
["380355_38914194_14","Євробанк","ЮЛ-184/2014-О","інше",null,null,"2016-11-23",null,null,null,null,null,null,null,null,null,"ТАК"]
["380355_39366876_15","Євробанк","ЮЛ-58/2015-КЛ",null,null,null,null,null,null,null,null,null,null,null,null,null,"ТАК"]
["380355_19497799_16","Євробанк","ЮЛ-36/2011-К","інше",null,null,"2016-08-05",null,null,null,null,null,null,null,null,null,"ТАК"]
["380355_19497799_17","Євробанк","ЮЛ-114/2011-К","інше",null,null,"2016-08-05",null,null,null,null,null,null,null,null,null,"ТАК"]
["380355_37674545_18","Євробанк","ЮЛ-60/214-О","банкрутство","Позичальник",null,"2016-09-21",null,null,null,"2016-05-31","ТАК","ТАК","2016-08-23",null,null,"ТАК"]
["380355_37859075_19","Євробанк","ЮЛ-178/2013-О","стягнення заборгованості","Позичальник",null,"2016-08-25",null,null,null,null,null,null,null,null,null,"НІ"]
["380355_38261388_20","Євробанк","ЮЛ-151/2015-О","стягнення заборгованості","Солідарно",null,"2016-10-31","2017-11-21","ТАК","НІ",null,null,null,null,null,null,"НІ"]
["380355_2705913470_21","Євробанк","PR-000248/BLK-1",null,null,null,null,null,null,null,null,null,null,null,null,null,"НІ"]
["380355_3081905648_22","Євробанк","PR-000275/BLK-1",null,null,null,null,null,null,null,null,null,null,null,null,null,"НІ"]
["380355_37101881_23","Євробанк","ЮЛ-25/2012-КЛ","стягнення заборгованості","Позичальник",null,"2016-05-04","2017-04-05","ТАК","НІ",null,null,null,null,null,null,"НІ"]
["380355_37266778_24","Євробанк","ЮЛ-62/2010-К",null,null,null,null,null,null,null,"2016-07-25","ні","ні","2016-09-28",null,null,"ТАК"]
["380355_37266778_25","Євробанк","ЮЛ-120/2010-К",null,null,null,null,null,null,null,"2016-07-25","ні","ні","2016-09-28",null,null,"ТАК"]
["380355_37266778_26","Євробанк","ЮЛ-113/2011-К",null,null,null,null,null,null,null,"2016-07-25","ні","ні","2016-09-28",null,null,"ТАК"]
["380355_35756987_27","Євробанк","ЮЛ-176/2014-О","стягнення заборгованості","Позичальник",null,"2016-11-15","2017-04-06","ТАК","НІ",null,null,null,null,null,null,"НІ"]
["380355_31648072_28","Євробанк","ЮЛ-92/2014-О","стягнення заборгованості","Позичальник",null,"2016-11-30","2017-09-29","ТАК","НІ",null,null,null,null,null,null,"ТАК"]
["380355_3087111395_29","Євробанк","ZP-001202/BLK-1",null,null,null,null,null,null,null,null,null,null,null,null,null,"НІ"]
["380355_2756001999_30","Євробанк","ZP-001204/BLK-1",null,null,null,null,null,null,null,null,null,null,null,null,null,"НІ"]
["380355_2975918041_31","Євробанк","PR-001388/BLK-1",null,null,null,null,null,null,null,null,null,null,null,null,null,"НІ"]
["380355_33272196_32","Євробанк","ЮЛ-112/2012-О","стягнення заборгованості","Позичальник",null,"2015-07-13","2015-11-11","ТАК","ТАК",null,null,null,null,null,null,"ТАК"]
["380355_33272196_33","Євробанк","ЮЛ-139/2013-К","стягнення заборгованості","Позичальник",null,"2015-06-30","2015-11-11","ТАК","ТАК",null,null,null,null,null,null,"НІ"]
["380355_2469914652_34","Євробанк","PR-000187/BLK-2","стягнення заборгованості","Позичальник",null,"2015-06-30",null,null,null,null,null,null,null,null,null,"ТАК"]
["320843_30009327_1","Укргазпромбанк","04-КЛ/13-ЛУГ","стягнення заборгованості","Солідарно",null,"19.01.015","2018-04-03","ТАК","НІ",null,null,null,null,null,null,"НІ"]
["320843_30009327_1","Укргазпромбанк","04-КЛ/13-ЛУГ","стягнення заборгованості","Солідарно",null,"2017-01-12",null,null,null,null,null,null,null,null,null,"НІ"]
["320843_35210613_2","Укргазпромбанк","240-КЛ/10","стягнення заборгованості","Позичальник",null,"2014-04-18",null,"НІ","НІ",null,null,null,null,null,null,"ні"]
["320843_34192080_3","Укргазпромбанк","66-10-08","стягнення заборгованості","Поручитель",null,"2011-11-10",null,"НІ","НІ"]
["320843_34192080_3","Укргазпромбанк","66-10-08","стягнення заборгованості","Поручитель"]
["320843_34192080_3","Укргазпромбанк","66-10-08","визнання зобов'язань недійсними","3-і особи",null,"2012-08-21"]
["320843_34192080_3","Укргазпромбанк","66-10-08","стягнення заборгованості","Позичальник",null,"2011-10-11"]
["320843_34192080_3","Укргазпромбанк","66-10-08","банкрутство","Позичальник",null,"2015-03-18",null,null,null,"2015-03-18","так","так","2016-02-08",null,null,"ТАК"]
["320843_34192080_3","Укргазпромбанк","66-10-08","стягнення забезпечення","Поручитель",null,"2011-10-25"]
["320843_34386966_4","Укргазпромбанк","6-К/13-СІ","стягнення заборгованості","Позичальник",null,"2018-05-17"]
["300272_30087819_1","Енергобанк","1301-02",null,null,null,null,null,"НІ","НІ",null,null,null,null,null,null,"НІ"]
["300272_35916927_2","Енергобанк","1204-03","стягнення заборгованості","Позичальник","2015-01-12","2015-08-31",null,"ТАК","НІ",null,null,null,null,null,null,"НІ"]
["300272_35916927_2","Енергобанк","1204-03","стягнення заборгованості","Поручитель","2015-01-12","2015-08-31",null,"НІ","НІ",null,null,null,null,null,null,"НІ"]
["300272_35916927_2","Енергобанк","1204-03","стягнення забезпечення","Позичальник","2015-01-12","2015-08-31",null,"ТАК","НІ",null,null,null,null,null,null,"НІ"]
["300272_36698193_3","Енергобанк","1212-04","стягнення заборгованості","Позичальник","2015-03-18","2015-08-19","2016-09-15","ТАК","НІ",null,null,null,null,null,null,"НІ"]
["300272_36698193_4","Енергобанк","1205-16","стягнення заборгованості","Позичальник","2015-03-18","2015-08-19","2016-03-23","ТАК","НІ",null,null,null,null,null,null,"НІ"]
["300272_36698193_4","Енергобанк","1205-16","стягнення заборгованості","Поручитель","2015-03-18","2015-08-19","2016-07-07","ТАК","НІ",null,null,null,null,null,null,"НІ"]
["300272_32253460_5","Енергобанк","1310-46","стягнення заборгованості","Позичальник","2015-01-09","2015-08-14","2016-01-13","НІ","НІ",null,null,null,null,null,null,"НІ"]
["300272_32253460_5","Енергобанк","1310-46","стягнення забезпечення","Поручитель","2015-01-09","2015-09-12",null,"НІ","НІ",null,null,null,null,null,null,"НІ"]
["300272_32253460_5","Енергобанк","1310-46","стягнення забезпечення","Поручитель","2015-01-09","2015-09-12",null,"НІ","НІ",null,null,null,null,null,null,"НІ"]
["300272_32253460_5","Енергобанк","1310-46","стягнення забезпечення","Поручитель","2015-01-09","2016-02-01","2016-04-04","ТАК","НІ",null,null,null,null,null,null,"НІ"]
["300272_32253460_5","Енергобанк","1310-46","стягнення забезпечення","Поручитель",null,"2018-01-31",null,"НІ","НІ",null,null,null,null,null,null,"НІ"]
["300272_32253460_5","Енергобанк","1310-46","інше","3-і особи",null,"2015-11-05",null,"НІ","НІ",null,null,null,null,null,null,"НІ"]
["300272_32253460_6","Енергобанк","ОЮ-000472-2612 ","стягнення заборгованості","Позичальник","2015-01-09","2015-08-14","2015-11-05","ТАК","НІ",null,null,null,null,null,null,"НІ"]
["300272_33240206_7","Енергобанк","1009-07","стягнення заборгованості","Позичальник",null,"2012-02-21","2012-06-26","ТАК","НІ",null,null,null,null,null,null,"НІ"]
["300272_33240206_7","Енергобанк","1009-07","стягнення забезпечення","Поручитель",null,"2014-07-16",null,"НІ","НІ",null,null,null,null,null,null,"НІ"]
["300272_33240206_7","Енергобанк","1009-07","стягнення заборгованості","Поручитель",null,null,"2012-11-28","ТАК","НІ",null,null,null,null,null,null,"НІ"]
["300272_33240206_7","Енергобанк","1009-07","стягнення забезпечення","Поручитель",null,"2014-07-16",null,"НІ","НІ",null,null,null,null,null,null,"НІ"]
["300272_33240206_7","Енергобанк","1009-07","банкрутство","Поручитель",null,"2017-01-23",null,"НІ","НІ",null,"ТАК","ТАК","2016-01-27",null,null,"НІ"]
["300272_34616578_8","Енергобанк","911-17","стягнення забезпечення","Солідарно",null,"2012-11-14",null,"НІ","НІ",null,null,null,null,null,null,"НІ"]
["300272_34616578_8","Енергобанк","911-17","стягнення заборгованості","Поручитель",null,"2012-11-14",null,"НІ","НІ",null,null,null,null,null,null,"НІ"]
["300272_34616578_8","Енергобанк","911-17","стягнення заборгованості","Поручитель",null,"2012-11-14",null,"НІ","НІ",null,null,null,null,null,null,"НІ"]
["300272_34616578_8","Енергобанк","911-17","банкрутство","Поручитель",null,"2017-01-23",null,"НІ","НІ",null,"ТАК","ТАК","2016-01-27",null,null,"НІ"]
["300272_34616578_9","Енергобанк","711-81","стягнення заборгованості","Позичальник",null,"2016-03-06",null,"НІ","НІ",null,null,null,null,null,null,"НІ"]
["300272_34616578_9","Енергобанк","711-81","банкрутство","Поручитель",null,"2017-01-23",null,"НІ","НІ",null,"ТАК","ТАК","2016-01-27",null,null,"НІ"]
["300272_35952221_10","Енергобанк","90670/07-12 КЛ","стягнення заборгованості","Позичальник",null,"2016-04-15","2016-10-11","ТАК","НІ",null,null,null,null,null,null,"НІ"]
["300272_35952221_10","Енергобанк","90670/07-12 КЛ","стягнення забезпечення","Поручитель",null,"2016-04-25","2016-10-11","ТАК","НІ",null,null,null,null,null,null,"НІ"]
["300272_36324000_11","Енергобанк",11,"стягнення заборгованості","Позичальник",null,"2016-04-01","2016-06-30","ТАК","НІ",null,null,null,null,null,null,"НІ"]
["300272_32819813_12","Енергобанк",33,"стягнення забезпечення","Поручитель",null,"2012-12-01","2014-02-03","ТАК","НІ",null,null,null,null,null,null,"НІ"]
["300272_32819813_12","Енергобанк",33,"стягнення заборгованості","Позичальник",null,"2012-02-01","2016-09-05","ТАК","НІ",null,null,null,null,null,null,"НІ"]
["300272_36859975_13","Енергобанк","ОЮ-000371-1201 ","стягнення заборгованості","Позичальник",null,"2016-04-04","2016-08-11","ТАК","НІ",null,null,null,null,null,null,"НІ"]
["300272_13556242_14","Енергобанк",116,"стягнення заборгованості","Позичальник","2015-07-31","2015-08-26","2016-01-14","ТАК","НІ",null,null,null,null,null,null,"НІ"]
["300272_36995140_15","Енергобанк","1204-12","банкрутство","Позичальник",null,"2014-12-30",null,"НІ","НІ","2014-12-03","ТАК","ТАК","2015-08-25",null,null,"НІ"]
["300272_36995140_15","Енергобанк","1204-12","стягнення заборгованості","Поручитель",null,null,"2016-12-06","ТАК","НІ",null,null,null,null,null,null,"НІ"]
["300272_36995140_15","Енергобанк","1204-12","стягнення забезпечення","Поручитель",null,null,"2014-04-24","НІ","ТАК",null,null,null,null,null,null,"НІ"]
["300272_36995140_15","Енергобанк","1204-12","стягнення забезпечення","Поручитель",null,null,"2012-12-03","НІ","НІ",null,null,null,null,null,null,"НІ"]
["300272_36995140_15","Енергобанк","1204-12","стягнення заборгованості","Поручитель",null,null,"2014-04-24","ТАК","НІ",null,null,null,null,null,null,"НІ"]
["300272_36995140_15","Енергобанк","1204-12","стягнення заборгованості","Поручитель",null,null,null,"НІ","НІ",null,null,null,null,null,null,"НІ"]
["300272_36995140_15","Енергобанк","1204-12","стягнення забезпечення","Поручитель",null,null,"2013-07-01","НІ","ТАК",null,null,null,null,null,null,"НІ"]
["334594_31206116_1","Профінбанк",1,"стягнення заборгованості","Позичальник","2015-03-25","2015-08-31"]
["334594_2367200367_2","Профінбанк",1,"стягнення заборгованості","Солідарно",null,"2015-10-29"]
["334594_33912868_3","Профінбанк",1,"стягнення заборгованості","Солідарно","2015-03-23","2015-04-03"]
["334594_24155954_4","Профінбанк",1,"стягнення заборгованості","Солідарно",null,"2015-08-28"]
["334594_35231078_5","Профінбанк",1,"стягнення заборгованості","Солідарно","2015-03-05","2015-08-28"]
["334594_35231078_5","Профінбанк",1,"стягнення заборгованості","Солідарно",null,"2015-09-11"]
["334594_37702289_6","Профінбанк",1,"стягнення заборгованості","Позичальник",null,"2015-08-27","2016-01-12","ТАК","НІ"]
["334969_32332264_1","Укрбізнесбанк","3-СевДКр",null,null,"-","-","-",null,null,"-",null,null,null,null,"-","НІ"]
["334969_32332264_2","Укрбізнесбанк","4-СевДКр","стягнення заборгованості","Позичальник","-","2015-08-28","-",null,null,"-",null,null,null,null,"-","НІ"]
["334969_32332264_3","Укрбізнесбанк","5-СевДКр",null,null,"-","-","-",null,null,"-",null,null,null,null,"-","НІ"]
["334969_35886484_4","Укрбізнесбанк","41","стягнення заборгованості","Позичальник","-","2015-08-31","2017-05-03","ТАК","НІ","-",null,null,null,null,"-","НІ"]
["300131_00232093_1","Фінанси та Кредит","1296-09","стягнення заборгованісті","позичальник","2017-02-08","2017-03-13","-","-","-","-","-","-","-","-","дані відсутні","-"]
["300131_32723351_1","Фінанси та Кредит","64-07/МВ","стягнення заборгованості","поручителі/позичальник","2016-03-14","2016-03-31","-","-","-","-","-","-","-","-","дані відсутні","-"]
[null,"",""]
[null,"",""]
[null,"",""]
[null,"",""]
[null,"",""]
[null,"",""]
[null,"",""]
[null,"",""]
[null,"",""]
[null,"",""]
[null,"",""]
[null,"",""]
[null,"",""]
[null,"",""]
[null,"",""]
[null,"",""]
[null,"",""]
[null,"",""]
[null,"",""]
[null,"",""]
[null,"",""]
[null,"",""]
[null,"",""]
[null,"",""]
[null,"",""]
[null,"",""]
[null,"",""]
[null,"",""]
[null,"",""]
[null,"",""]
[null,"",""]
[null,"",""]
[null,"",""]
[null,"",""]
[null,"",""]
[null,"",""]
[null,"",""]
[null,"",""]
[null,"",""]
[null,"",""]
[null,"",""]
[null,"",""]
[null,"",""]
[null,"",""]
[null,"",""]
[null,"",""]
[null,"",""]
[null,"",""]
[null,"",""]
[null,"",""]
[null,"",""]
[null,"",""]
[null,"",""]
[null,"",""]
[null,"",""]
[null,"",""]
[null,"",""]
[null,"",""]
[null,"",""]
[null,"",""]
[null,"",""]
[null,"",""]
[null,"",""]
[null,"",""]
[null,"",""]
[null,"",""]
[null,"",""]
[null,"",""]
[null,"",""]
[null,"",""]
[null,"",""]
[null,"",""]
[null,"",""]
[null,"",""]
[null,"",""]
[null,"",""]
[null,"",""]
[null,"",""]
[null,"",""]
[null,"",""]
[null,"",""]
[null,"",""]
[null,"",""]
[null,"",""]
[null,"",""]
[null,"",""]
[null,"",""]
[null,"",""]
[null,"",""]
[null,"",""]
[null,"",""]
[null,"",""]
[null,"",""]
[null,"",""]
[null,"",""]
[null,"",""]
[null,"",""]
[null,"",""]
[null,"",""]
[null,"",""]
[null,"",""]
[null,"",""]
[null,"",""]
[null,"",""]
[null,"",""]
[null,"",""]
[null,"",""]
[null,"",""]
[null,"",""]
[null,"",""]
[null,"",""]
[null,"",""]
[null,"",""]
[null,"",""]
[null,"",""]
[null,"",""]
[null,"",""]
[null,"",""]
[null,"",""]
[null,"",""]
[null,"",""]
[null,"",""]
[null,"",""]
[null,"",""]
[null,"",""]
[null,"",""]
[null,"",""]
[null,"",""]
[null,"",""]
[null,"",""]
[null,"",""]
[null,"",""]
[null,"",""]
[null,"",""]
[null,"",""]
[null,"",""]
[null,"",""]
[null,"",""]
[null,"",""]
[null,"",""]
[null,"",""]
[null,"",""]
[null,"",""]
[null,"",""]
[null,"",""]
[null,"",""]
[null,"",""]
[null,"",""]
[null,"",""]
[null,"",""]
[null,"",""]
[null,"",""]
[null,"",""]
[null,"",""]
[null,"",""]
[null,"",""]
[null,"",""]
[null,"",""]
[null,"",""]
[null,"",""]
[null,"",""]
[null,"",""]
[null,"",""]
[null,"",""]
[null,"",""]
[null,"",""]
[null,"",""]
[null,"",""]
[null,"",""]
[null,"",""]
[null,"",""]
[null,"",""]
[null,"",""]
[null,"",""]
[null,"",""]
[null,"",""]
[null,"",""]
[null,"",""]
[null,"",""]
[null,"",""]
[null,"",""]
[null,"",""]
[null,"",""]
[null,"",""]
[null,"",""]
[null,"",""]
[null,"",""]
[null,"",""]
[null,"",""]
[null,"",""]
[null,"",""]
[null,"",""]
[null,"",""]
[null,"",""]
[null,"",""]
[null,"",""]
[null,"",""]
[null,"",""]
[null,"",""]
[null,"",""]
[null,"",""]
[null,"",""]
[null,"",""]
[null,"",""]
[null,"",""]
[null,"",""]
[null,"",""]
[null,"",""]
[null,"",""]
[null,"",""]
[null,"",""]
[null,"",""]
[null,"",""]
[null,"",""]
[null,"",""]
[null,"",""]
[null,"",""]
[null,"",""]
[null,"",""]
[null,"",""]
[null,"",""]
[null,"",""]
[null,"",""]
[null,"",""]
[null,"",""]
[null,"",""]
[null,"",""]
[null,"",""]
[null,"",""]
[null,"",""]
[null,"",""]
[null,"",""]
[null,"",""]
[null,"",""]
[null,"",""]
[null,"",""]
[null,"",""]
[null,"",""]
[null,"",""]
[null,"",""]
[null,"",""]
[null,"",""]
[null,"",""]
[null,"",""]
[null,"",""]
[null,"",""]
[null,"",""]
[null,"",""]
[null,"",""]
[null,"",""]
[null,"",""]
[null,"",""]
[null,"",""]
[null,"",""]
[null,"",""]
[null,"",""]
[null,"",""]
[null,"",""]
[null,"",""]
[null,"",""]
[null,"",""]
[null,"",""]
[null,"",""]
[null,"",""]
[null,"",""]
[null,"",""]
[null,"",""]
[null,"",""]
[null,"",""]
[null,"",""]
[null,"",""]
[null,"",""]
[null,"",""]
[null,"",""]
[null,"",""]
[null,"",""]
[null,"",""]
[null,"",""]
[null,"",""]
[null,"",""]
[null,"",""]
[null,"",""]
[null,"",""]
[null,"",""]
[null,"",""]
[null,"",""]
[null,"",""]
[null,"",""]
[null,"",""]
[null,"",""]
[null,"",""]
[null,"",""]
[null,"",""]
[null,"",""]
[null,"",""]
[null,"",""]
[null,"",""]
[null,"",""]
[null,"",""]
[null,"",""]
[null,"",""]
[null,"",""]
[null,"",""]
[null,"",""]
[null,"",""]
[null,"",""]
[null,"",""]
[null,"",""]
[null,"",""]
[null,"",""]
[null,"",""]
[null,"",""]
[null,"",""]
[null,"",""]
[null,"",""]
[null,"",""]
[null,"",""]
[null,"",""]
[null,"",""]
[null,"",""]
[null,"",""]
[null,"",""]
[null,"",""]
[null,"",""]
[null,"",""]
[null,"",""]
[null,"",""]
[null,"",""]
[null,"",""]
[null,"",""]
[null,"",""]
[null,"",""]
[null,"",""]
[null,"",""]
[null,"",""]
[null,"",""]
[null,"",""]
[null,"",""]
[null,"",""]
[null,"",""]
[null,"",""]
[null,"",""]
[null,"",""]
[null,"",""]
[null,"",""]
[null,"",""]
[null,"",""]
[null,"",""]
[null,"",""]
[null,"",""]
[null,"",""]
[null,"",""]
[null,"",""]
[null,"",""]
[null,"",""]
[null,"",""]
[null,"",""]
[null,"",""]
[null,"",""]
[null,"",""]
[null,"",""]
[null,"",""]
[null,"",""]
[null,"",""]
[null,"",""]
[null,"",""]
[null,"",""]
[null,"",""]
[null,"",""]
[null,"",""]
[null,"",""]
[null,"",""]
[null,"",""]
[null,"",""]
[null,"",""]
[null,"",""]
[null,"",""]
[null,"",""]
[null,"",""]
[null,"",""]
[null,"",""]
[null,"",""]
[null,"",""]
[null,"",""]
[null,"",""]
[null,"",""]
[null,"",""]
[null,"",""]
[null,"",""]
[null,"",""]
[null,"",""]
[null,"",""]
[null,"",""]
[null,"",""]
[null,"",""]
[null,"",""]
[null,"",""]
[null,"",""]
[null,"",""]
[null,"",""]
[null,"",""]
[null,"",""]
[null,"",""]
[null,"",""]
[null,"",""]
[null,"",""]
[null,"",""]
[null,"",""]
[null,"",""]
[null,"",""]
[null,"",""]
[null,"",""]
[null,"",""]
[null,"",""]
[null,"",""]
[null,"",""]
[null,"",""]
[null,"",""]
[null,"",""]
[null,"",""]
[null,"",""]
[null,"",""]
[null,"",""]
[null,"",""]
[null,"",""]
[null,"",""]
[null,"",""]
[null,"",""]
[null,"",""]
[null,"",""]
[null,"",""]
[null,"",""]
[null,"",""]
[null,"",""]
[null,"",""]
[null,"",""]
[null,"",""]
[null,"",""]
[null,"",""]
[null,"",""]
[null,"",""]
[null,"",""]
[null,"",""]
[null,"",""]
[null,"",""]
[null,"",""]
[null,"",""]
[null,"",""]
[null,"",""]
[null,"",""]
[null,"",""]
[null,"",""]
[null,"",""]
[null,"",""]
[null,"",""]
[null,"",""]
[null,"",""]
[null,"",""]
[null,"",""]
[null,"",""]
[null,"",""]
[null,"",""]
[null,"",""]
[null,"",""]
[null,"",""]
[null,"",""]
[null,"",""]
[null,"",""]
[null,"",""]
[null,"",""]
[null,"",""]
[null,"",""]
[null,"",""]
[null,"",""]
[null,"",""]
[null,"",""]
[null,"",""]
[null,"",""]
[null,"",""]
[null,"",""]
[null,"",""]
[null,"",""]
[null,"",""]
[null,"",""]
[null,"",""]
[null,"",""]
[null,"",""]
[null,"",""]
[null,"",""]
[null,"",""]
[null,"",""]
[null,"",""]
[null,"",""]
[null,"",""]
[null,"",""]
[null,"",""]
[null,"",""]
[null,"",""]
[null,"",""]
[null,"",""]
[null,"",""]
[null,"",""]
[null,"",""]
[null,"",""]
[null,"",""]
[null,"",""]
[null,"",""]
[null,"",""]
[null,"",""]
[null,"",""]
[null,"",""]
[null,"",""]
[null,"",""]
[null,"",""]
[null,"",""]
[null,"",""]
[null,"",""]
[null,"",""]
[null,"",""]
[null,"",""]
[null,"",""]
[null,"",""]
[null,"",""]
[null,"",""]
[null,"",""]
[null,"",""]
[null,"",""]
[null,"",""]
[null,"",""]
[null,"",""]
[null,"",""]
[null,"",""]
[null,"",""]
[null,"",""]
[null,"",""]
[null,"",""]
[null,"",""]
[null,"",""]
[null,"",""]
[null,"",""]
[null,"",""]
[null,"",""]
[null,"",""]
[null,"",""]
[null,"",""]
[null,"",""]
[null,"",""]
[null,"",""]
[null,"",""]
[null,"",""]
[null,"",""]
[null,"",""]
[null,"",""]
[null,"",""]
[null,"",""]
[null,"",""]
[null,"",""]
[null,"",""]
[null,"",""]
[null,"",""]
[null,"",""]
[null,"",""]
[null,"",""]
[null,"",""]
[null,"",""]
[null,"",""]
[null,"",""]
[null,"",""]
[null,"",""]
[null,"",""]
[null,"",""]
[null,"",""]
[null,"",""]
[null,"",""]
[null,"",""]
[null,"",""]
[null,"",""]
[null,"",""]
[null,"",""]
[null,"",""]
[null,"",""]
[null,"",""]
[null,"",""]
[null,"",""]
[null,"",""]
[null,"",""]
[null,"",""]
[null,"",""]
[null,"",""]
[null,"",""]
[null,"",""]
[null,"",""]
[null,"",""]
[null,"",""]
[null,"",""]
[null,"",""]
[null,"",""]
[null,"",""]
[null,"",""]
[null,"",""]
[null,"",""]
[null,"",""]
[null,"",""]
[null,"",""]
[null,"",""]
[null,"",""]
[null,"",""]
[null,"",""]
[null,"",""]
[null,"",""]
[null,"",""]
[null,"",""]
[null,"",""]
[null,"",""]
[null,"",""]
[null,"",""]
[null,"",""]
[null,"",""]
[null,"",""]
[null,"",""]
[null,"",""]
[null,"",""]
[null,"",""]
[null,"",""]
[null,"",""]
[null,"",""]
[null,"",""]
[null,"",""]
[null,"",""]
[null,"",""]
[null,"",""]
[null,"",""]
[null,"",""]
[null,"",""]
[null,"",""]
[null,"",""]
[null,"",""]
[null,"",""]
[null,"",""]
[null,"",""]
[null,"",""]
[null,"",""]
[null,"",""]
[null,"",""]
[null,"",""]
[null,"",""]
[null,"",""]
[null,"",""]
[null,"",""]
[null,"",""]
[null,"",""]
[null,"",""]
[null,"",""]
[null,"",""]
[null,"",""]
[null,"",""]
[null,"",""]
[null,"",""]
[null,"",""]
[null,"",""]
[null,"",""]
[null,"",""]
[null,"",""]
[null,"",""]
[null,"",""]
[null,"",""]
[null,"",""]
[null,"",""]
[null,"",""]
[null,"",""]
[null,"",""]
[null,"",""]
[null,"",""]
[null,"",""]
[null,"",""]
[null,"",""]
[null,"",""]
[null,"",""]
[null,"",""]
[null,"",""]
[null,"",""]
[null,"",""]
[null,"",""]
[null,"",""]
[null,"",""]
[null,"",""]
[null,"",""]
[null,"",""]
[null,"",""]
[null,"",""]
[null,"",""]
[null,"",""]
[null,"",""]
[null,"",""]
[null,"",""]
[null,"",""]
[null,"",""]
[null,"",""]
[null,"",""]
[null,"",""]
[null,"",""]
[null,"",""]
[null,"",""]
[null,"",""]
[null,"",""]
[null,"",""]
[null,"",""]
[null,"",""]
[null,"",""]
[null,"",""]
[null,"",""]
[null,"",""]
[null,"",""]
[null,"",""]
[null,"",""]
[null,"",""]
[null,"",""]
[null,"",""]
[null,"",""]
[null,"",""]
[null,"",""]
[null,"",""]
[null,"",""]
[null,"",""]
[null,"",""]
[null,"",""]
[null,"",""]
[null,"",""]
[null,"",""]
[null,"",""]
[null,"",""]
[null,"",""]
[null,"",""]
[null,"",""]
[null,"",""]
[null,"",""]
[null,"",""]
[null,"",""]
[null,"",""]
[null,"",""]
[null,"",""]
[null,"",""]
[null,"",""]
[null,"",""]
[null,"",""]
[null,"",""]
[null,"",""]
[null,"",""]
[null,"",""]
[null,"",""]
[null,"",""]
[null,"",""]
[null,"",""]
[null,"",""]
[null,"",""]
[null,"",""]
[null,"",""]
[null,"",""]
[null,"",""]
[null,"",""]
[null,"",""]
[null,"",""]
[null,"",""]
[null,"",""]
[null,"",""]
[null,"",""]
[null,"",""]
[null,"",""]
[null,"",""]
[null,"",""]
[null,"",""]
[null,"",""]
[null,"",""]
[null,"",""]
[null,"",""]
[null,"",""]
[null,"",""]
[null,"",""]
[null,"",""]
[null,"",""]
[null,"",""]
[null,"",""]
[null,"",""]
[null,"",""]
[null,"",""]
[null,"",""]
[null,"",""]
[null,"",""]
[null,"",""]
[null,"",""]
[null,"",""]
[null,"",""]
[null,"",""]
[null,"",""]
[null,"",""]
[null,"",""]
[null,"",""]
[null,"",""]
[null,"",""]
[null,"",""]
[null,"",""]
[null,"",""]
[null,"",""]
[null,"",""]
[null,"",""]
[null,"",""]
[null,"",""]
[null,"",""]
[null,"",""]
[null,"",""]
[null,"",""]
[null,"",""]
[null,"",""]
[null,"",""]
[null,"",""]
[null,"",""]
[null,"",""]
[null,"",""]
[null,"",""]
[null,"",""]
[null,"",""]
[null,"",""]
[null,"",""]
[null,"",""]
[null,"",""]
[null,"",""]
[null,"",""]
[null,"",""]
[null,"",""]
[null,"",""]
[null,"",""]
[null,"",""]
[null,"",""]
[null,"",""]
[null,"",""]
[null,"",""]
[null,"",""]
[null,"",""]
[null,"",""]
[null,"",""]
[null,"",""]
[null,"",""]
[null,"",""]
[null,"",""]
[null,"",""]
[null,"",""]
[null,"",""]
[null,"",""]
[null,"",""]
[null,"",""]
[null,"",""]
[null,"",""]
[null,"",""]
[null,"",""]
[null,"",""]
[null,"",""]
[null,"",""]
[null,"",""]
[null,"",""]
[null,"",""]
[null,"",""]
[null,"",""]
[null,"",""]
[null,"",""]
[null,"",""]
[null,"",""]
[null,"",""]
[null,"",""]
[null,"",""]
[null,"",""]
[null,"",""]
[null,"",""]
[null,"",""]
[null,"",""]
[null,"",""]
[null,"",""]
[null,"",""]
[null,"",""]
[null,"",""]
[null,"",""]
[null,"",""]
[null,"",""]
[null,"",""]
[null,"",""]
[null,"",""]
[null,"",""]
[null,"",""]
[null,"",""]
[null,"",""]
[null,"",""]
[null,"",""]
[null,"",""]
[null,"",""]
[null,"",""]
[null,"",""]
[null,"",""]
[null,"",""]
[null,"",""]
[null,"",""]
[null,"",""]
[null,"",""]
[null,"",""]
[null,"",""]
[null,"",""]
[null,"",""]
[null,"",""]
[null,"",""]
[null,"",""]
[null,"",""]
[null,"",""]
[null,"",""]
[null,"",""]
[null,"",""]
[null,"",""]
[null,"",""]
[null,"",""]
[null,"",""]
[null,"",""]
[null,"",""]
[null,"",""]
[null,"",""]
[null,"",""]
[null,"",""]
[null,"",""]
[null,"",""]
[null,"",""]
[null,"",""]
[null,"",""]
[null,"",""]
[null,"",""]
[null,"",""]
[null,"",""]
[null,"",""]
[null,"",""]
[null,"",""]
[null,"",""]
[null,"",""]
[null,"",""]
[null,"",""]
[null,"",""]
[null,"",""]
[null,"",""]
[null,"",""]
[null,"",""]
[null,"",""]
[null,"",""]
[null,"",""]
[null,"",""]
[null,"",""]
[null,"",""]
[null,"",""]
[null,"",""]
[null,"",""]
[null,"",""]
[null,"",""]
[null,"",""]
[null,"",""]
[null,"",""]
[null,"",""]
[null,"",""]
[null,"",""]
[null,"",""]
[null,"",""]
[null,"",""]
[null,"",""]
[null,"",""]
[null,"",""]
[null,"",""]
[null,"",""]
[null,"",""]
[null,"",""]
[null,"",""]
[null,"",""]
[null,"",""]
[null,"",""]
[null,"",""]
[null,"",""]
[null,"",""]
[null,"",""]
[null,"",""]
[null,"",""]
[null,"",""]
[null,"",""]
[null,"",""]
[null,"",""]
[null,"",""]
[null,"",""]
[null,"",""]
[null,"",""]
[null,"",""]
[null,"",""]
[null,"",""]
[null,"",""]
[null,"",""]
[null,"",""]
[null,"",""]
[null,"",""]
[null,"",""]
[null,"",""]
[null,"",""]
[null,"",""]
[null,"",""]
[null,"",""]
[null,"",""]
[null,"",""]
[null,"",""]
[null,"",""]
[null,"",""]
[null,"",""]
[null,"",""]
[null,"",""]
[null,"",""]
[null,"",""]
[null,"",""]
[null,"",""]
[null,"",""]
[null,"",""]
[null,"",""]
[null,"",""]
[null,"",""]
[null,"",""]
[null,"",""]
[null,"",""]
[null,"",""]
[null,"",""]
[null,"",""]
[null,"",""]
[null,"",""]
[null,"",""]
[null,"",""]
[null,"",""]
[null,"",""]
[null,"",""]
[null,"",""]
[null,"",""]
[null,"",""]
[null,"",""]
[null,"",""]
[null,"",""]
[null,"",""]
[null,"",""]
[null,"",""]
[null,"",""]
[null,"",""]
[null,"",""]
[null,"",""]
[null,"",""]
[null,"",""]
[null,"",""]
[null,"",""]
[null,"",""]
[null,"",""]
[null,"",""]
[null,"",""]
[null,"",""]
[null,"",""]
[null,"",""]
[null,"",""]
[null,"",""]
[null,"",""]
[null,"",""]
[null,"",""]
[null,"",""]
[null,"",""]
[null,"",""]
[null,"",""]
[null,"",""]
[null,"",""]
[null,"",""]
[null,"",""]
[null,"",""]
[null,"",""]
[null,"",""]
[null,"",""]
[null,"",""]
[null,"",""]
[null,"",""]
[null,"",""]
[null,"",""]
[null,"",""]
[null,"",""]
[null,"",""]
[null,"",""]
[null,"",""]
[null,"",""]
[null,"",""]
[null,"",""]
[null,"",""]
[null,"",""]
[null,"",""]
[null,"",""]
[null,"",""]
[null,"",""]
[null,"",""]
[null,"",""]
[null,"",""]
[null,"",""]
[null,"",""]
[null,"",""]
[null,"",""]
[null,"",""]
[null,"",""]
[null,"",""]
[null,"",""]
[null,"",""]
[null,"",""]
[null,"",""]
[null,"",""]
[null,"",""]
[null,"",""]
[null,"",""]
[null,"",""]
[null,"",""]
[null,"",""]
[null,"",""]
[null,"",""]
[null,"",""]
[null,"",""]
[null,"",""]
[null,"",""]
[null,"",""]
[null,"",""]
[null,"",""]
[null,"",""]
[null,"",""]
[null,"",""]
[null,"",""]
[null,"",""]
[null,"",""]
[null,"",""]
[null,"",""]
[null,"",""]
[null,"",""]
[null,"",""]
[null,"",""]
[null,"",""]
[null,"",""]
[null,"",""]
[null,"",""]
[null,"",""]
[null,"",""]
[null,"",""]
[null,"",""]
[null,"",""]
[null,"",""]
[null,"",""]
[null,"",""]
[null,"",""]
[null,"",""]
[null,"",""]
[null,"",""]
[null,"",""]
[null,"",""]
[null,"",""]
[null,"",""]
[null,"",""]
[null,"",""]
[null,"",""]
[null,"",""]
[null,"",""]
[null,"",""]
[null,"",""]
[null,"",""]
[null,"",""]
[null,"",""]
[null,"",""]
[null,"",""]
[null,"",""]
[null,"",""]
[null,"",""]
[null,"",""]
[null,"",""]
[null,"",""]
[null,"",""]
[null,"",""]
[null,"",""]
[null,"",""]
[null,"",""]
[null,"",""]
[null,"",""]
[null,"",""]
[null,"",""]
[null,"",""]
[null,"",""]
[null,"",""]
[null,"",""]
[null,"",""]
[null,"",""]
[null,"",""]
[null,"",""]
[null,"",""]
[null,"",""]
[null,"",""]
[null,"",""]
[null,"",""]
[null,"",""]
[null,"",""]
[null,"",""]
[null,"",""]
[null,"",""]
[null,"",""]
[null,"",""]
[null,"",""]
[null,"",""]
[null,"",""]
[null,"",""]
[null,"",""]
[null,"",""]
[null,"",""]
[null,"",""]
[null,"",""]
[null,"",""]
[null,"",""]
[null,"",""]
[null,"",""]
[null,"",""]
[null,"",""]
[null,"",""]
[null,"",""]
[null,"",""]
[null,"",""]
[null,"",""]
[null,"",""]
[null,"",""]
[null,"",""]
[null,"",""]
[null,"",""]
[null,"",""]
[null,"",""]
[null,"",""]
[null,"",""]
[null,"",""]
[null,"",""]
[null,"",""]
[null,"",""]
[null,"",""]
[null,"",""]
[null,"",""]
[null,"",""]
[null,"",""]
[null,"",""]
[null,"",""]
[null,"",""]
[null,"",""]
[null,"",""]
[null,"",""]
[null,"",""]
[null,"",""]
[null,"",""]
[null,"",""]
[null,"",""]
[null,"",""]
[null,"",""]
[null,"",""]
[null,"",""]
[null,"",""]
[null,"",""]
[null,"",""]
[null,"",""]
[null,"",""]
[null,"",""]
[null,"",""]
[null,"",""]
[null,"",""]
[null,"",""]
[null,"",""]
[null,"",""]
[null,"",""]
[null,"",""]
[null,"",""]
[null,"",""]
[null,"",""]
[null,"",""]
[null,"",""]
[null,"",""]
[null,"",""]
[null,"",""]
[null,"",""]
[null,"",""]
[null,"",""]
[null,"",""]
[null,"",""]
[null,"",""]
[null,"",""]
[null,"",""]
[null,"",""]
[null,"",""]
[null,"",""]
[null,"",""]
[null,"",""]
[null,"",""]
[null,"",""]
[null,"",""]
[null,"",""]
[null,"",""]
[null,"",""]
[null,"",""]
[null,"",""]
[null,"",""]
[null,"",""]
[null,"",""]
[null,"",""]
[null,"",""]
[null,"",""]
[null,"",""]
[null,"",""]
[null,"",""]
[null,"",""]
[null,"",""]
[null,"",""]
[null,"",""]
[null,"",""]
[null,"",""]
[null,"",""]
[null,"",""]
[null,"",""]
[null,"",""]
[null,"",""]
[null,"",""]
[null,"",""]
[null,"",""]
[null,"",""]
[null,"",""]
[null,"",""]
[null,"",""]
[null,"",""]
[null,"",""]
[null,"",""]
[null,"",""]
[null,"",""]
[null,"",""]
[null,"",""]
[null,"",""]
[null,"",""]
[null,"",""]
[null,"",""]
[null,"",""]
[null,"",""]
[null,"",""]
[null,"",""]
[null,"",""]
[null,"",""]
[null,"",""]
[null,"",""]
[null,"",""]
[null,"",""]
[null,"",""]
[null,"",""]
[null,"",""]

{"sheet":"4.журнал торгів","index":3,"n_rows":1150,"n_cols":16,"rows_kept":1150,"cut":false,"hidden":false,"merged":[]}
[null,"Цей документ був підготовлений Фондом гарантування вкладів фізичних осіб (далі – Фонд) виключно для інформаційних цілей і не повинен вважатися як спонукання до будь-яких дій чи бездіяльності. \nІнформація, що міститься в цьому документі, була отримана з/або ґрунтується на джерелах які вважаються надійними, але не є вичерпною та не може сприйматися як повна або актуальна. Рішення покупця щодо будь яких дій або бездіяльності повинно ґрунтуватися на власних оцінках та дослідженнях майна (активу/активів) котре реалізуються. Фонд не несе відповідальності за рішення покупця та його наслідки, що ґрунтується на інформації викладеній в даному документі."]
[]
[]
[]
[]
[]
["unicid","Банк","№ кред. Дог","Кількість торгів","Початкова вартість реалізації","Ціна на останніх торгах","№ лота","Дата проведення останнього аукціону "]
["322294_05405799_1","Експобанк","81/08",1,1061773.53,212354.71,"F13GL19343","2018-05-16",null,null,null,null,null,null,null,0.20000000376728169]
["322294_05405799_2","Експобанк","109-в",1,5137850,1027570,"F13GL19343",43236,null,null,null,null,null,null,null,0.2]
["322294_05405799_3","Експобанк",431,1,1777900.11,355580.02,"F13GL19343",43236,null,null,null,null,null,null,null,0.19999999887507741]
["322294_05405799_4","Експобанк",432,1,36345013.229999997,7269002.6500000004,"F13GL19343",43236,null,null,null,null,null,null,null,0.20000000011005639]
["322294_05405799_5","Експобанк",291,1,5513062.79,1102612.56,"F13GL19343",43236,null,null,null,null,null,null,null,0.20000000036277477]
["322294_05405799_6","Експобанк",505,1,1716059.02,343211.8,"F13GL19343",43236,null,null,null,null,null,null,null,0.19999999766907783]
["322294_23504692_7","Експобанк","46/01",1,4597004.72,919400.94,"F13GL19339",43236,null,null,null,null,null,null,null,0.19999999912986821]
["322294_23504692_8","Експобанк",43143,1,6638083.4699999997,1327616.69,"F13GL19339",43236,null,null,null,null,null,null,null,0.19999999939741644]
["322294_30021852_9","Експобанк",43418,3,863735.42,172747.08,"F13GL19341",43236,null,null,null,null,null,null,null,0.19999999536895219]
["322294_30021852_10","Експобанк"," 11/062004",3,12408873.439999999,2481774.69,"F13GL19341",43236,null,null,null,null,null,null,null,0.200000000161175]
["322294_30531262_11","Експобанк","08/042002",1,75764,15152.8,"F13GL19339",43236,null,null,null,null,null,null,null,0.19999999999999998]
["322294_33195185_12","Експобанк","ВКЛ-03/08",3,2929300,585860,"F13GL19342",43236,null,null,null,null,null,null,null,0.2]
["322294_34423379_13","Експобанк","27/КЛ-2007",3,15863888.210000001,3172777.64,"F13GL19340",43236,null,null,null,null,null,null,null,0.1999999998739275]
["322294_36799434_14","Експобанк",509,1,10973579.26,2194715.85,"F13GL19338",43236,null,null,null,null,null,null,null,0.19999999981774408]
["319092_30419154_1","Київськая Русь","3497-47.1-02",9,31193704.010000002,6238740.7999999998,"F29GL20970",43236,null,null,null,null,null,null,null,0.19999999993588449]
["319092_32594738_2","Київськая Русь","19728-20/11-1",9,16880964.98,3376193,"F29GL20970",43236,null,null,null,null,null,null,null,0.20000000023695327]
["319092_22946976_3","Київськая Русь","106433-20.2.1-8",18,24745577.25,4949115.45,"F29GL20971",43236,null,null,null,null,null,null,null,0.2]
["319092_14279320_4","Київськая Русь","16760-20/8-1",17,10594494.26,2118898.85,"F29GL20972",43236,null,null,null,null,null,null,null,0.19999999981122271]
["319092_31821931_5","Київськая Русь","К/16-05",9,502290.72,100458.14,"F29GL20967",43236,null,null,null,null,null,null,null,0.19999999203648439]
["319092_32391031_6","Київськая Русь","9188",9,247342.22,49468.44,"F29GL20969",43236,null,null,null,null,null,null,null,0.19999998382807432]
["319092_3083026775_7","Київськая Русь","126-02-1",20,2502514.04,500502.81,"F29GL20973",43236,null,null,null,null,null,null,null,0.2000000007991963]
["319092_2172520535_8","Київськая Русь","2974-12-11",20,158520.60999999999,31704.12,"F29GL20974",43236,null,null,null,null,null,null,null,0.19999998738334404]
["319092_35865197_9","Київськая Русь","34683-20/13-1",13,1530757.9,306151.58,"F29GL20975",43236,null,null,null,null,null,null,null,0.2]
["319092_32281812_10","Київськая Русь","82315-20/12-1",13,1894628.81,378925.76,"F29GL20976",43236,null,null,null,null,null,null,null,0.19999999894438425]
["380399_32123523_2","Камбіо","256/02-2007",14,162823.99,32564.83,"F31GL18930",43236,null,null,null,null,null,null,null,0.20000019653123599]
["380399_37604525_3","Камбіо","748/02-2013",14,3575626.67,715125.33,"F31GL18931",43236,null,null,null,null,null,null,null,0.19999999888131498]
["380399_37434184_4","Камбіо","611/02-2011",14,46223.87,9244.77,"F31GL18931",43236,null,null,null,null,null,null,null,0.19999991346462337]
["380399_37820781_5","Камбіо","785/01-2014",14,400000.26,80000.06,"F31GL18933",43236,null,null,null,null,null,null,null,0.20000001999998698]
["380399_31500628_6","Камбіо","218/02-2007",14,1535890.46,307178.09000000003,"F31GL18934",43236,null,null,null,null,null,null,null,0.19999999869782381]
["380399_25364464_7","Камбіо","197ю-2006/980/2",14,1516765.04,303353.01,"F31GL18935",43236,null,null,null,null,null,null,null,0.2000000013185958]
["380399_34225608_8","Камбіо","233 /02-2007",14,1170430.02,234086,"F31GL18936",43236,null,null,null,null,null,null,null,0.19999999658245265]
["380399_34225608_9","Камбіо","514/02-2010",14,4776833.09,955366.62,"F31GL18936",43236,null,null,null,null,null,null,null,0.20000000041868743]
["380399_31348006_10","Камбіо","005/1-2012/980",14,2576167.86,515233.57,"F31GL18938",43236,null,null,null,null,null,null,null,0.19999999922365308]
["380399_34441073_11","Камбіо","02/01-12",14,959148.13,191829.63,"F31GL18939",43236,null,null,null,null,null,null,null,0.20000000417036731]
["380399_30405103_12","Камбіо","648/02 -2011",14,23158742.989999998,4631748.5999999996,"F31GL18940",43236,null,null,null,null,null,null,null,0.20000000008636046]
["380399_34981487_13","Камбіо","033/1-2012/840",14,64040636.509999998,12808127.300000001,"F31GL18941",43236,null,null,null,null,null,null,null,0.19999999996876985]
["380355_37039358_1","Євробанк","ЮЛ-93/2012-КЛ",9,279016.83,55803.37,"F85GL19619",43267,null,null,null,null,null,null,null,0.20000001433605277]
["380355_36563829_2","Євробанк","ЮЛ-161/2013-О",9,276678.65000000002,55335.73,"F85GL19620",43267,null,null,null,null,null,null,null,0.19999999999999998]
["380355_2965618717_3","Євробанк","PR-000379/BLK-1",1,14853.9,2970.78,"F85GL19620",43267,null,null,null,null,null,null,null,0.2]
["380355_25271036_4","Євробанк","ЮЛ-181/2013-КЛ",9,26979244.789999999,5395848.96,"F85GL19621",43267,null,null,null,null,null,null,null,0.20000000007413107]
["380355_40076866_5","Євробанк","ЮЛ-20/2016-КЛ",9,3113742.57,622748.51,"F85GL19622",43267,null,null,null,null,null,null,null,0.1999999987153723]
["380355_40071538_6","Євробанк","ЮЛ-18/2016-КЛ",9,2684586.21,536917.24,"F85GL19623",43267,null,null,null,null,null,null,null,0.19999999925500622]
["380355_40067212_7","Євробанк","ЮЛ-17/2016-КЛ",9,32430.26,6486.05,"F85GL19624",43267,null,null,null,null,null,null,null,0.19999993832920243]
["380355_40067212_8","Євробанк","ЮЛ-89/2016-К",9,41769583.329999998,8353916.6699999999,"F85GL19624",43267,null,null,null,null,null,null,null,0.20000000009576346]
["380355_40071281_9","Євробанк","ЮЛ-19/2016-КЛ",9,2854162.24,570832.44999999995,"F85GL19625",43267,null,null,null,null,null,null,null,0.20000000070073098]
["380355_40041147_10","Євробанк","ЮЛ-35/2016-О",9,497100,99420,"F85GL19626",43267,null,null,null,null,null,null,null,0.2]
["380355_34575551_11","Євробанк","ЮЛ-249/2014-КЛ",9,827120,165424,"F85GL19627",43267,null,null,null,null,null,null,null,0.2]
["380355_34575551_12","Євробанк","ЮЛ-259/2014-КЛ",9,413560,82712,"F85GL19627",43267,null,null,null,null,null,null,null,0.2]
["380355_2579614711_13","Євробанк","PR-003975/BLK-1",1,22584.37,4516.87,"F85GL19627",43267,null,null,null,null,null,null,null,0.19999982288635901]
["380355_38914194_14","Євробанк","ЮЛ-184/2014-О",9,475825.65,95165.13,"F85GL19628",43267,null,null,null,null,null,null,null,0.2]
["380355_39366876_15","Євробанк","ЮЛ-58/2015-КЛ",9,19246416.149999999,3849283.23,"F85GL19629",43267,null,null,null,null,null,null,null,0.2]
["380355_19497799_16","Євробанк","ЮЛ-36/2011-К",9,10994034.199999999,2198806.84,"F85GL19630",43267,null,null,null,null,null,null,null,0.2]
["380355_19497799_17","Євробанк","ЮЛ-114/2011-К",9,22483333.329999998,4496666.67,"F85GL19630",43267,null,null,null,null,null,null,null,0.20000000017790959]
["380355_37674545_18","Євробанк","ЮЛ-60/214-О",9,806506.18,161301.24,"F85GL19631",43267,null,null,null,null,null,null,null,0.20000000495966438]
["380355_37859075_19","Євробанк","ЮЛ-178/2013-О",9,1569428.52,313885.7,"F85GL19632",43267,null,null,null,null,null,null,null,0.19999999745130156]
["380355_38261388_20","Євробанк","ЮЛ-151/2015-О",9,244329.63,48865.93,"F85GL19633",43267,null,null,null,null,null,null,null,0.20000001637132589]
["380355_2705913470_21","Євробанк","PR-000248/BLK-1",1,69591.009999999995,13918.2,"F85GL19633",43267,null,null,null,null,null,null,null,0.19999997126065569]
["380355_3081905648_22","Євробанк","PR-000275/BLK-1",1,72162.28,14432.46,"F85GL19633",43267,null,null,null,null,null,null,null,0.20000005543062108]
["380355_37101881_23","Євробанк","ЮЛ-25/2012-КЛ",9,403136.81,80627.360000000001,"F85GL19634",43267,null,null,null,null,null,null,null,0.19999999503890503]
["380355_37266778_24","Євробанк","ЮЛ-62/2010-К",9,4452332.49,890466.5,"F85GL19635",43267,null,null,null,null,null,null,null,0.20000000044920274]
["380355_37266778_25","Євробанк","ЮЛ-120/2010-К",9,4495235.93,899047.19,"F85GL19635",43267,null,null,null,null,null,null,null,0.20000000088983094]
["380355_37266778_26","Євробанк","ЮЛ-113/2011-К",9,25981666.649999999,5196333.33,"F85GL19635",43267,null,null,null,null,null,null,null,0.2]
["380355_35756987_27","Євробанк","ЮЛ-176/2014-О",9,371039.92,74207.98,"F85GL19636",43267,null,null,null,null,null,null,null,0.19999998921948883]
["380355_31648072_28","Євробанк","ЮЛ-92/2014-О",9,1614886.82,322977.36,"F85GL19637",43267,null,null,null,null,null,null,null,0.1999999975230462]
["380355_3087111395_29","Євробанк","ZP-001202/BLK-1",1,19190.63,3838.13,"F85GL19637",43267,null,null,null,null,null,null,null,0.20000020843505398]
["380355_2756001999_30","Євробанк","ZP-001204/BLK-1",1,33526.9,6705.38,"F85GL19637",43267,null,null,null,null,null,null,null,0.19999999999999998]
["380355_2975918041_31","Євробанк","PR-001388/BLK-1",1,35815.980000000003,7163.2,"F85GL19637",43267,null,null,null,null,null,null,null,0.20000011168199219]
["380355_33272196_32","Євробанк","ЮЛ-112/2012-О",9,961947.6,192389.52,"F85GL19638",43267,null,null,null,null,null,null,null,0.19999999999999998]
["380355_33272196_33","Євробанк","ЮЛ-139/2013-К",9,6619170.54,1323834.1100000001,"F85GL19638",43267,null,null,null,null,null,null,null,0.20000000030215268]
["380355_2469914652_34","Євробанк","PR-000187/BLK-2",9,300265.65000000002,60053.13,"F85GL19638",43267,null,null,null,null,null,null,null,0.19999999999999998]
["320843_30009327_1","Укргазпромбанк","04-КЛ/13-ЛУГ",21,1074863.72,214972.74,"F73GL19862",43236,null,null,null,null,null,null,null,0.19999999627859799]
["320843_35210613_2","Укргазпромбанк","240-КЛ/10",23,124041.06,24808.21,"F73GL19863",43236,null,null,null,null,null,null,null,0.19999998387630677]
["320843_34192080_3","Укргазпромбанк","66-10-08",17,14870413.51,2974082.7,"F73GL19864",43236,null,null,null,null,null,null,null,0.19999999986550476]
["320843_34386966_4","Укргазпромбанк","6-К/13-СІ",13,100213.3,20042.66,"F73GL19865",43236,null,null,null,null,null,null,null,0.19999999999999998]
["300272_30087819_1","Енергобанк","1301-02",21,1155925.32,231185.06,"F43GL21476",43235,null,null,null,null,null,null,null,0.19999999653956882]
["300272_35916927_2","Енергобанк","1204-03",21,5926842.29,1185368.46,"F43GL21482",43235,null,null,null,null,null,null,null,0.2000000003374478]
["300272_36698193_3","Енергобанк","1212-04",19,1869743.03,373948.61,"F43GL21486",43235,null,null,null,null,null,null,null,0.20000000213933139]
["300272_36698193_4","Енергобанк","1205-16",19,5446730.8099999996,1089346.1599999999,"F43GL21486",43235,null,null,null,null,null,null,null,0.19999999963280726]
["300272_32253460_5","Енергобанк","1310-46",21,3170671.03,634134.21,"F43GL21483",43235,null,null,null,null,null,null,null,0.20000000126156262]
["300272_32253460_6","Енергобанк","ОЮ-000472-2612 ",21,591244.13,118248.83,"F43GL21483",43235,null,null,null,null,null,null,null,0.20000000676539487]
["300272_33240206_7","Енергобанк","1009-07",16,15078457.939999999,3015691.59,"F43GL21487",43235,null,null,null,null,null,null,null,0.20000000013263955]
["300272_34616578_8","Енергобанк","911-17",16,1173477.69,234695.54,"F43GL21488",43235,null,null,null,null,null,null,null,0.20000000170433579]
["300272_34616578_9","Енергобанк","711-81",20,1720029.64,344005.93,"F43GL21488",43235,null,null,null,null,null,null,null,0.20000000116277067]
["300272_35952221_10","Енергобанк","90670/07-12 КЛ",17,150321.82999999999,30064.37,"F43GL21478",43235,null,null,null,null,null,null,null,0.20000002660957494]
["300272_36324000_11","Енергобанк",11,17,465621.39,93124.28,"F43GL21479",43235,null,null,null,null,null,null,null,0.20000000429533529]
["300272_32819813_12","Енергобанк",33,21,144583.14000000001,28916.63,"F43GL21477",43235,null,null,null,null,null,null,null,0.2000000138328715]
["300272_36859975_13","Енергобанк","ОЮ-000371-1201 ",17,114146.45,22829.29,"F43GL21480",43235,null,null,null,null,null,null,null,0.2]
["300272_13556242_14","Енергобанк",116,21,250409.74,50081.95,"F43GL21481",43235,null,null,null,null,null,null,null,0.20000000798690978]
["300272_36995140_15","Енергобанк","1204-12",17,973423.74,194684.75,"F43GL21484",43235,null,null,null,null,null,null,null,0.20000000205460369]
["334594_31206116_1","Профінбанк",1,1,5610690.1600000001,1122138.03,"F67GL19187",43236,null,null,null,null,null,null,null,0.19999999964353762]
["334594_2367200367_2","Профінбанк",1,1,3023714.41,604742.88,"F67GL19188",43236,null,null,null,null,null,null,null,0.19999999933856186]
["334594_33912868_3","Профінбанк",1,1,1582657.33,316531.46999999997,"F67GL19189",43236,null,null,null,null,null,null,null,0.20000000252739483]
["334594_24155954_4","Профінбанк",1,1,4472037.25,894407.45,"F67GL19190",43236,null,null,null,null,null,null,null,0.19999999999999998]
["334594_35231078_5","Профінбанк",1,1,10364016.710000001,2072803.34,"F67GL19191",43236,null,null,null,null,null,null,null,0.19999999980702463]
["334594_37702289_6","Профінбанк",1,1,25549655.440000001,5109931.09,"F67GL19192",43236,null,null,null,null,null,null,null,0.20000000007827892]
["334969_32332264_1","Укрбізнесбанк","3-СевДКр",14,64778887.420000002,12955777.48,"F72GL21770",43235,null,null,null,null,null,null,null,0.19999999993825149]
["334969_32332264_2","Укрбізнесбанк","4-СевДКр",14,11042905.609999999,2208581.12,"F72GL21770",43235,null,null,null,null,null,null,null,0.19999999981888827]
["334969_32332264_3","Укрбізнесбанк","5-СевДКр",14,8962141.2699999996,1792428.26,"F72GL21770",43235,null,null,null,null,null,null,null,0.20000000066948287]
["334969_35886484_4","Укрбізнесбанк","41",14,18162538.149999999,3632507.63,"F72GL21771",43235,null,null,null,null,null,null,null,0.2]
["300131_00232093_1","Фінанси та Кредит","1296-09",15,98616538.370000005,251596022.22,"F07GL18276",43237,null,null,null,null,null,null,null,2.551255868219946]
["300131_32723351_1","Фінанси та Кредит","64-07/МВ",16,131640230.27,26328046.059999999,"F07GL18277","2018-05-17",null,null,null,null,null,null,null,0.20000000004557877]
[null,"",""]
[null,"",""]
[null,"",""]
[null,"",""]
[null,"",""]
[null,"",""]
[null,"",""]
[null,"",""]
[null,"",""]
[null,"",""]
[null,"",""]
[null,"",""]
[null,"",""]
[null,"",""]
[null,"",""]
[null,"",""]
[null,"",""]
[null,"",""]
[null,"",""]
[null,"",""]
[null,"",""]
[null,"",""]
[null,"",""]
[null,"",""]
[null,"",""]
[null,"",""]
[null,"",""]
[null,"",""]
[null,"",""]
[null,"",""]
[null,"",""]
[null,"",""]
[null,"",""]
[null,"",""]
[null,"",""]
[null,"",""]
[null,"",""]
[null,"",""]
[null,"",""]
[null,"",""]
[null,"",""]
[null,"",""]
[null,"",""]
[null,"",""]
[null,"",""]
[null,"",""]
[null,"",""]
[null,"",""]
[null,"",""]
[null,"",""]
[null,"",""]
[null,"",""]
[null,"",""]
[null,"",""]
[null,"",""]
[null,"",""]
[null,"",""]
[null,"",""]
[null,"",""]
[null,"",""]
[null,"",""]
[null,"",""]
[null,"",""]
[null,"",""]
[null,"",""]
[null,"",""]
[null,"",""]
[null,"",""]
[null,"",""]
[null,"",""]
[null,"",""]
[null,"",""]
[null,"",""]
[null,"",""]
[null,"",""]
[null,"",""]
[null,"",""]
[null,"",""]
[null,"",""]
[null,"",""]
[null,"",""]
[null,"",""]
[null,"",""]
[null,"",""]
[null,"",""]
[null,"",""]
[null,"",""]
[null,"",""]
[null,"",""]
[null,"",""]
[null,"",""]
[null,"",""]
[null,"",""]
[null,"",""]
[null,"",""]
[null,"",""]
[null,"",""]
[null,"",""]
[null,"",""]
[null,"",""]
[null,"",""]
[null,"",""]
[null,"",""]
[null,"",""]
[null,"",""]
[null,"",""]
[null,"",""]
[null,"",""]
[null,"",""]
[null,"",""]
[null,"",""]
[null,"",""]
[null,"",""]
[null,"",""]
[null,"",""]
[null,"",""]
[null,"",""]
[null,"",""]
[null,"",""]
[null,"",""]
[null,"",""]
[null,"",""]
[null,"",""]
[null,"",""]
[null,"",""]
[null,"",""]
[null,"",""]
[null,"",""]
[null,"",""]
[null,"",""]
[null,"",""]
[null,"",""]
[null,"",""]
[null,"",""]
[null,"",""]
[null,"",""]
[null,"",""]
[null,"",""]
[null,"",""]
[null,"",""]
[null,"",""]
[null,"",""]
[null,"",""]
[null,"",""]
[null,"",""]
[null,"",""]
[null,"",""]
[null,"",""]
[null,"",""]
[null,"",""]
[null,"",""]
[null,"",""]
[null,"",""]
[null,"",""]
[null,"",""]
[null,"",""]
[null,"",""]
[null,"",""]
[null,"",""]
[null,"",""]
[null,"",""]
[null,"",""]
[null,"",""]
[null,"",""]
[null,"",""]
[null,"",""]
[null,"",""]
[null,"",""]
[null,"",""]
[null,"",""]
[null,"",""]
[null,"",""]
[null,"",""]
[null,"",""]
[null,"",""]
[null,"",""]
[null,"",""]
[null,"",""]
[null,"",""]
[null,"",""]
[null,"",""]
[null,"",""]
[null,"",""]
[null,"",""]
[null,"",""]
[null,"",""]
[null,"",""]
[null,"",""]
[null,"",""]
[null,"",""]
[null,"",""]
[null,"",""]
[null,"",""]
[null,"",""]
[null,"",""]
[null,"",""]
[null,"",""]
[null,"",""]
[null,"",""]
[null,"",""]
[null,"",""]
[null,"",""]
[null,"",""]
[null,"",""]
[null,"",""]
[null,"",""]
[null,"",""]
[null,"",""]
[null,"",""]
[null,"",""]
[null,"",""]
[null,"",""]
[null,"",""]
[null,"",""]
[null,"",""]
[null,"",""]
[null,"",""]
[null,"",""]
[null,"",""]
[null,"",""]
[null,"",""]
[null,"",""]
[null,"",""]
[null,"",""]
[null,"",""]
[null,"",""]
[null,"",""]
[null,"",""]
[null,"",""]
[null,"",""]
[null,"",""]
[null,"",""]
[null,"",""]
[null,"",""]
[null,"",""]
[null,"",""]
[null,"",""]
[null,"",""]
[null,"",""]
[null,"",""]
[null,"",""]
[null,"",""]
[null,"",""]
[null,"",""]
[null,"",""]
[null,"",""]
[null,"",""]
[null,"",""]
[null,"",""]
[null,"",""]
[null,"",""]
[null,"",""]
[null,"",""]
[null,"",""]
[null,"",""]
[null,"",""]
[null,"",""]
[null,"",""]
[null,"",""]
[null,"",""]
[null,"",""]
[null,"",""]
[null,"",""]
[null,"",""]
[null,"",""]
[null,"",""]
[null,"",""]
[null,"",""]
[null,"",""]
[null,"",""]
[null,"",""]
[null,"",""]
[null,"",""]
[null,"",""]
[null,"",""]
[null,"",""]
[null,"",""]
[null,"",""]
[null,"",""]
[null,"",""]
[null,"",""]
[null,"",""]
[null,"",""]
[null,"",""]
[null,"",""]
[null,"",""]
[null,"",""]
[null,"",""]
[null,"",""]
[null,"",""]
[null,"",""]
[null,"",""]
[null,"",""]
[null,"",""]
[null,"",""]
[null,"",""]
[null,"",""]
[null,"",""]
[null,"",""]
[null,"",""]
[null,"",""]
[null,"",""]
[null,"",""]
[null,"",""]
[null,"",""]
[null,"",""]
[null,"",""]
[null,"",""]
[null,"",""]
[null,"",""]
[null,"",""]
[null,"",""]
[null,"",""]
[null,"",""]
[null,"",""]
[null,"",""]
[null,"",""]
[null,"",""]
[null,"",""]
[null,"",""]
[null,"",""]
[null,"",""]
[null,"",""]
[null,"",""]
[null,"",""]
[null,"",""]
[null,"",""]
[null,"",""]
[null,"",""]
[null,"",""]
[null,"",""]
[null,"",""]
[null,"",""]
[null,"",""]
[null,"",""]
[null,"",""]
[null,"",""]
[null,"",""]
[null,"",""]
[null,"",""]
[null,"",""]
[null,"",""]
[null,"",""]
[null,"",""]
[null,"",""]
[null,"",""]
[null,"",""]
[null,"",""]
[null,"",""]
[null,"",""]
[null,"",""]
[null,"",""]
[null,"",""]
[null,"",""]
[null,"",""]
[null,"",""]
[null,"",""]
[null,"",""]
[null,"",""]
[null,"",""]
[null,"",""]
[null,"",""]
[null,"",""]
[null,"",""]
[null,"",""]
[null,"",""]
[null,"",""]
[null,"",""]
[null,"",""]
[null,"",""]
[null,"",""]
[null,"",""]
[null,"",""]
[null,"",""]
[null,"",""]
[null,"",""]
[null,"",""]
[null,"",""]
[null,"",""]
[null,"",""]
[null,"",""]
[null,"",""]
[null,"",""]
[null,"",""]
[null,"",""]
[null,"",""]
[null,"",""]
[null,"",""]
[null,"",""]
[null,"",""]
[null,"",""]
[null,"",""]
[null,"",""]
[null,"",""]
[null,"",""]
[null,"",""]
[null,"",""]
[null,"",""]
[null,"",""]
[null,"",""]
[null,"",""]
[null,"",""]
[null,"",""]
[null,"",""]
[null,"",""]
[null,"",""]
[null,"",""]
[null,"",""]
[null,"",""]
[null,"",""]
[null,"",""]
[null,"",""]
[null,"",""]
[null,"",""]
[null,"",""]
[null,"",""]
[null,"",""]
[null,"",""]
[null,"",""]
[null,"",""]
[null,"",""]
[null,"",""]
[null,"",""]
[null,"",""]
[null,"",""]
[null,"",""]
[null,"",""]
[null,"",""]
[null,"",""]
[null,"",""]
[null,"",""]
[null,"",""]
[null,"",""]
[null,"",""]
[null,"",""]
[null,"",""]
[null,"",""]
[null,"",""]
[null,"",""]
[null,"",""]
[null,"",""]
[null,"",""]
[null,"",""]
[null,"",""]
[null,"",""]
[null,"",""]
[null,"",""]
[null,"",""]
[null,"",""]
[null,"",""]
[null,"",""]
[null,"",""]
[null,"",""]
[null,"",""]
[null,"",""]
[null,"",""]
[null,"",""]
[null,"",""]
[null,"",""]
[null,"",""]
[null,"",""]
[null,"",""]
[null,"",""]
[null,"",""]
[null,"",""]
[null,"",""]
[null,"",""]
[null,"",""]
[null,"",""]
[null,"",""]
[null,"",""]
[null,"",""]
[null,"",""]
[null,"",""]
[null,"",""]
[null,"",""]
[null,"",""]
[null,"",""]
[null,"",""]
[null,"",""]
[null,"",""]
[null,"",""]
[null,"",""]
[null,"",""]
[null,"",""]
[null,"",""]
[null,"",""]
[null,"",""]
[null,"",""]
[null,"",""]
[null,"",""]
[null,"",""]
[null,"",""]
[null,"",""]
[null,"",""]
[null,"",""]
[null,"",""]
[null,"",""]
[null,"",""]
[null,"",""]
[null,"",""]
[null,"",""]
[null,"",""]
[null,"",""]
[null,"",""]
[null,"",""]
[null,"",""]
[null,"",""]
[null,"",""]
[null,"",""]
[null,"",""]
[null,"",""]
[null,"",""]
[null,"",""]
[null,"",""]
[null,"",""]
[null,"",""]
[null,"",""]
[null,"",""]
[null,"",""]
[null,"",""]
[null,"",""]
[null,"",""]
[null,"",""]
[null,"",""]
[null,"",""]
[null,"",""]
[null,"",""]
[null,"",""]
[null,"",""]
[null,"",""]
[null,"",""]
[null,"",""]
[null,"",""]
[null,"",""]
[null,"",""]
[null,"",""]
[null,"",""]
[null,"",""]
[null,"",""]
[null,"",""]
[null,"",""]
[null,"",""]
[null,"",""]
[null,"",""]
[null,"",""]
[null,"",""]
[null,"",""]
[null,"",""]
[null,"",""]
[null,"",""]
[null,"",""]
[null,"",""]
[null,"",""]
[null,"",""]
[null,"",""]
[null,"",""]
[null,"",""]
[null,"",""]
[null,"",""]
[null,"",""]
[null,"",""]
[null,"",""]
[null,"",""]
[null,"",""]
[null,"",""]
[null,"",""]
[null,"",""]
[null,"",""]
[null,"",""]
[null,"",""]
[null,"",""]
[null,"",""]
[null,"",""]
[null,"",""]
[null,"",""]
[null,"",""]
[null,"",""]
[null,"",""]
[null,"",""]
[null,"",""]
[null,"",""]
[null,"",""]
[null,"",""]
[null,"",""]
[null,"",""]
[null,"",""]
[null,"",""]
[null,"",""]
[null,"",""]
[null,"",""]
[null,"",""]
[null,"",""]
[null,"",""]
[null,"",""]
[null,"",""]
[null,"",""]
[null,"",""]
[null,"",""]
[null,"",""]
[null,"",""]
[null,"",""]
[null,"",""]
[null,"",""]
[null,"",""]
[null,"",""]
[null,"",""]
[null,"",""]
[null,"",""]
[null,"",""]
[null,"",""]
[null,"",""]
[null,"",""]
[null,"",""]
[null,"",""]
[null,"",""]
[null,"",""]
[null,"",""]
[null,"",""]
[null,"",""]
[null,"",""]
[null,"",""]
[null,"",""]
[null,"",""]
[null,"",""]
[null,"",""]
[null,"",""]
[null,"",""]
[null,"",""]
[null,"",""]
[null,"",""]
[null,"",""]
[null,"",""]
[null,"",""]
[null,"",""]
[null,"",""]
[null,"",""]
[null,"",""]
[null,"",""]
[null,"",""]
[null,"",""]
[null,"",""]
[null,"",""]
[null,"",""]
[null,"",""]
[null,"",""]
[null,"",""]
[null,"",""]
[null,"",""]
[null,"",""]
[null,"",""]
[null,"",""]
[null,"",""]
[null,"",""]
[null,"",""]
[null,"",""]
[null,"",""]
[null,"",""]
[null,"",""]
[null,"",""]
[null,"",""]
[null,"",""]
[null,"",""]
[null,"",""]
[null,"",""]
[null,"",""]
[null,"",""]
[null,"",""]
[null,"",""]
[null,"",""]
[null,"",""]
[null,"",""]
[null,"",""]
[null,"",""]
[null,"",""]
[null,"",""]
[null,"",""]
[null,"",""]
[null,"",""]
[null,"",""]
[null,"",""]
[null,"",""]
[null,"",""]
[null,"",""]
[null,"",""]
[null,"",""]
[null,"",""]
[null,"",""]
[null,"",""]
[null,"",""]
[null,"",""]
[null,"",""]
[null,"",""]
[null,"",""]
[null,"",""]
[null,"",""]
[null,"",""]
[null,"",""]
[null,"",""]
[null,"",""]
[null,"",""]
[null,"",""]
[null,"",""]
[null,"",""]
[null,"",""]
[null,"",""]
[null,"",""]
[null,"",""]
[null,"",""]
[null,"",""]
[null,"",""]
[null,"",""]
[null,"",""]
[null,"",""]
[null,"",""]
[null,"",""]
[null,"",""]
[null,"",""]
[null,"",""]
[null,"",""]
[null,"",""]
[null,"",""]
[null,"",""]
[null,"",""]
[null,"",""]
[null,"",""]
[null,"",""]
[null,"",""]
[null,"",""]
[null,"",""]
[null,"",""]
[null,"",""]
[null,"",""]
[null,"",""]
[null,"",""]
[null,"",""]
[null,"",""]
[null,"",""]
[null,"",""]
[null,"",""]
[null,"",""]
[null,"",""]
[null,"",""]
[null,"",""]
[null,"",""]
[null,"",""]
[null,"",""]
[null,"",""]
[null,"",""]
[null,"",""]
[null,"",""]
[null,"",""]
[null,"",""]
[null,"",""]
[null,"",""]
[null,"",""]
[null,"",""]
[null,"",""]
[null,"",""]
[null,"",""]
[null,"",""]
[null,"",""]
[null,"",""]
[null,"",""]
[null,"",""]
[null,"",""]
[null,"",""]
[null,"",""]
[null,"",""]
[null,"",""]
[null,"",""]
[null,"",""]
[null,"",""]
[null,"",""]
[null,"",""]
[null,"",""]
[null,"",""]
[null,"",""]
[null,"",""]
[null,"",""]
[null,"",""]
[null,"",""]
[null,"",""]
[null,"",""]
[null,"",""]
[null,"",""]
[null,"",""]
[null,"",""]
[null,"",""]
[null,"",""]
[null,"",""]
[null,"",""]
[null,"",""]
[null,"",""]
[null,"",""]
[null,"",""]
[null,"",""]
[null,"",""]
[null,"",""]
[null,"",""]
[null,"",""]
[null,"",""]
[null,"",""]
[null,"",""]
[null,"",""]
[null,"",""]
[null,"",""]
[null,"",""]
[null,"",""]
[null,"",""]
[null,"",""]
[null,"",""]
[null,"",""]
[null,"",""]
[null,"",""]
[null,"",""]
[null,"",""]
[null,"",""]
[null,"",""]
[null,"",""]
[null,"",""]
[null,"",""]
[null,"",""]
[null,"",""]
[null,"",""]
[null,"",""]
[null,"",""]
[null,"",""]
[null,"",""]
[null,"",""]
[null,"",""]
[null,"",""]
[null,"",""]
[null,"",""]
[null,"",""]
[null,"",""]
[null,"",""]
[null,"",""]
[null,"",""]
[null,"",""]
[null,"",""]
[null,"",""]
[null,"",""]
[null,"",""]
[null,"",""]
[null,"",""]
[null,"",""]
[null,"",""]
[null,"",""]
[null,"",""]
[null,"",""]
[null,"",""]
[null,"",""]
[null,"",""]
[null,"",""]
[null,"",""]
[null,"",""]
[null,"",""]
[null,"",""]
[null,"",""]
[null,"",""]
[null,"",""]
[null,"",""]
[null,"",""]
[null,"",""]
[null,"",""]
[null,"",""]
[null,"",""]
[null,"",""]
[null,"",""]
[null,"",""]
[null,"",""]
[null,"",""]
[null,"",""]
[null,"",""]
[null,"",""]
[null,"",""]
[null,"",""]
[null,"",""]
[null,"",""]
[null,"",""]
[null,"",""]
[null,"",""]
[null,"",""]
[null,"",""]
[null,"",""]
[null,"",""]
[null,"",""]
[null,"",""]
[null,"",""]
[null,"",""]
[null,"",""]
[null,"",""]
[null,"",""]
[null,"",""]
[null,"",""]
[null,"",""]
[null,"",""]
[null,"",""]
[null,"",""]
[null,"",""]
[null,"",""]
[null,"",""]
[null,"",""]
[null,"",""]
[null,"",""]
[null,"",""]
[null,"",""]
[null,"",""]
[null,"",""]
[null,"",""]
[null,"",""]
[null,"",""]
[null,"",""]
[null,"",""]
[null,"",""]
[null,"",""]
[null,"",""]
[null,"",""]
[null,"",""]
[null,"",""]
[null,"",""]
[null,"",""]
[null,"",""]
[null,"",""]
[null,"",""]
[null,"",""]
[null,"",""]
[null,"",""]
[null,"",""]
[null,"",""]
[null,"",""]
[null,"",""]
[null,"",""]
[null,"",""]
[null,"",""]
[null,"",""]
[null,"",""]
[null,"",""]
[null,"",""]
[null,"",""]
[null,"",""]
[null,"",""]
[null,"",""]
[null,"",""]
[null,"",""]
[null,"",""]
[null,"",""]
[null,"",""]
[null,"",""]
[null,"",""]
[null,"",""]
[null,"",""]
[null,"",""]
[null,"",""]
[null,"",""]
[null,"",""]
[null,"",""]
[null,"",""]
[null,"",""]
[null,"",""]
[null,"",""]
[null,"",""]
[null,"",""]
[null,"",""]
[null,"",""]
[null,"",""]
[null,"",""]
[null,"",""]
[null,"",""]
[null,"",""]
[null,"",""]
[null,"",""]
[null,"",""]
[null,"",""]
[null,"",""]
[null,"",""]
[null,"",""]
[null,"",""]
[null,"",""]
[null,"",""]
[null,"",""]
[null,"",""]
[null,"",""]
[null,"",""]
[null,"",""]
[null,"",""]
[null,"",""]
[null,"",""]
[null,"",""]
[null,"",""]
[null,"",""]
[null,"",""]
[null,"",""]
[null,"",""]
[null,"",""]
[null,"",""]
[null,"",""]
[null,"",""]
[null,"",""]
[null,"",""]
[null,"",""]
[null,"",""]
[null,"",""]
[null,"",""]
[null,"",""]
[null,"",""]
[null,"",""]
[null,"",""]
[null,"",""]
[null,"",""]
[null,"",""]
[null,"",""]
[null,"",""]
[null,"",""]
[null,"",""]
[null,"",""]
[null,"",""]
[null,"",""]
[null,"",""]
[null,"",""]
[null,"",""]
[null,"",""]
[null,"",""]
[null,"",""]
[null,"",""]
[null,"",""]
[null,"",""]
[null,"",""]
[null,"",""]
[null,"",""]
[null,"",""]
[null,"",""]
[null,"",""]
[null,"",""]
[null,"",""]
[null,"",""]
[null,"",""]
[null,"",""]
[null,"",""]
[null,"",""]
[null,"",""]

{"sheet":"журнал_пулів","index":4,"n_rows":1001,"n_cols":11,"rows_kept":1001,"cut":false,"hidden":true,"merged":[[0,2,0,3],[1,2,1,3],[2,2,2,3]]}
[null,null,"Тип пулу",null,4]
[null,null,"Дата надходження",null,"2018-06-01"]
[null,null,{"$f":"\"Номер пулу типу \"&E1&\" на дату \"&TEXT(E2,\"dd.mm.yyyy\")","v":"Номер пулу типу 4 на дату 01.06.2018"},null,2]
["Група активу","МФО",{"$f":"'[2]1.Портфель кредитів'!F15","v":"Найменування Позичальника"},{"$f":"'[2]1.Портфель кредитів'!G15","v":"Група Позичальників"},{"$f":"'[2]1.Портфель кредитів'!H15","v":"ЄДРПОУ"},{"$f":"'[2]1.Портфель кредитів'!M15","v":"Номер кредитного договору"},{"$f":"'[2]1.Портфель кредитів'!AA15","v":"Оціночна вартість"},{"$f":"'[2]1.Портфель кредитів'!AC15","v":"Заборгованстіь  на дату заповнення паспорту 01.02.2018р. (тіло та проценти):"},"Тип пулу","Дата надходження","ID_pool"]
[{"$f":"'1.Портфель кредитів'!H9","v":"II"},{"$f":"'1.Портфель кредитів'!D9","v":"322294"},{"$f":"'1.Портфель кредитів'!#REF!","v":{"$error":"#REF!"}},{"$f":"'1.Портфель кредитів'!#REF!","v":{"$error":"#REF!"}},{"$f":"'1.Портфель кредитів'!#REF!","v":{"$error":"#REF!"}},{"$f":"'1.Портфель кредитів'!I9","v":"81/08"},{"$f":"'1.Портфель кредитів'!W9","v":78},{"$f":"'1.Портфель кредитів'!Y9","v":932927.68748024991},{"$f":"$E$1","v":4},{"$f":"$E$2","v":"2018-06-01"},{"$f":"B5&\"_\"&I5&\"_\"&J5&\"_\"&$E$3","v":"322294_4_43252_2"}]
[{"$f":"'1.Портфель кредитів'!H10","v":"II"},{"$f":"'1.Портфель кредитів'!D10","v":"322294"},{"$f":"'1.Портфель кредитів'!#REF!","v":{"$error":"#REF!"}},{"$f":"'1.Портфель кредитів'!#REF!","v":{"$error":"#REF!"}},{"$f":"'1.Портфель кредитів'!#REF!","v":{"$error":"#REF!"}},{"$f":"'1.Портфель кредитів'!I10","v":"109-в"},{"$f":"'1.Портфель кредитів'!W10","v":430},{"$f":"'1.Портфель кредитів'!Y10","v":4804064.0867485004},{"$f":"$E$1","v":4},{"$f":"$E$2","v":"2018-06-01"},{"$f":"B6&\"_\"&I6&\"_\"&J6&\"_\"&$E$3","v":"322294_4_43252_2"}]
[{"$f":"'1.Портфель кредитів'!H11","v":"II"},{"$f":"'1.Портфель кредитів'!D11","v":"322294"},{"$f":"'1.Портфель кредитів'!#REF!","v":{"$error":"#REF!"}},{"$f":"'1.Портфель кредитів'!#REF!","v":{"$error":"#REF!"}},{"$f":"'1.Портфель кредитів'!#REF!","v":{"$error":"#REF!"}},{"$f":"'1.Портфель кредитів'!I11","v":431},{"$f":"'1.Портфель кредитів'!W11","v":178},{"$f":"'1.Портфель кредитів'!Y11","v":1777900.11},4,"2018-06-01","322294_4_43252_2"]
[{"$f":"'1.Портфель кредитів'!H12","v":"II"},{"$f":"'1.Портфель кредитів'!D12","v":"322294"},{"$f":"'1.Портфель кредитів'!#REF!","v":{"$error":"#REF!"}},{"$f":"'1.Портфель кредитів'!#REF!","v":{"$error":"#REF!"}},{"$f":"'1.Портфель кредитів'!#REF!","v":{"$error":"#REF!"}},{"$f":"'1.Портфель кредитів'!I12","v":432},{"$f":"'1.Портфель кредитів'!W12","v":3634},{"$f":"'1.Портфель кредитів'!Y12","v":36345013.229999997},4,"2018-06-01","322294_4_43252_2"]
[{"$f":"'1.Портфель кредитів'!H13","v":"II"},{"$f":"'1.Портфель кредитів'!D13","v":"322294"},{"$f":"'1.Портфель кредитів'!#REF!","v":{"$error":"#REF!"}},{"$f":"'1.Портфель кредитів'!#REF!","v":{"$error":"#REF!"}},{"$f":"'1.Портфель кредитів'!#REF!","v":{"$error":"#REF!"}},{"$f":"'1.Портфель кредитів'!I13","v":291},{"$f":"'1.Портфель кредитів'!W13","v":551},{"$f":"'1.Портфель кредитів'!Y13","v":5513062.79},4,"2018-06-01","322294_4_43252_2"]
[{"$f":"'1.Портфель кредитів'!H14","v":"II"},{"$f":"'1.Портфель кредитів'!D14","v":"322294"},{"$f":"'1.Портфель кредитів'!#REF!","v":{"$error":"#REF!"}},{"$f":"'1.Портфель кредитів'!#REF!","v":{"$error":"#REF!"}},{"$f":"'1.Портфель кредитів'!#REF!","v":{"$error":"#REF!"}},{"$f":"'1.Портфель кредитів'!I14","v":505},{"$f":"'1.Портфель кредитів'!W14","v":171},{"$f":"'1.Портфель кредитів'!Y14","v":1716059.02},4,"2018-06-01","322294_4_43252_2"]
[{"$f":"'1.Портфель кредитів'!H15","v":"I"},{"$f":"'1.Портфель кредитів'!D15","v":"322294"},{"$f":"'1.Портфель кредитів'!#REF!","v":{"$error":"#REF!"}},{"$f":"'1.Портфель кредитів'!#REF!","v":{"$error":"#REF!"}},{"$f":"'1.Портфель кредитів'!#REF!","v":{"$error":"#REF!"}},{"$f":"'1.Портфель кредитів'!I15","v":"46/01"},{"$f":"'1.Портфель кредитів'!W15","v":385},{"$f":"'1.Портфель кредитів'!Y15","v":4298355.4043156998},4,"2018-06-01","322294_4_43252_2"]
[{"$f":"'1.Портфель кредитів'!H16","v":"I"},{"$f":"'1.Портфель кредитів'!D16","v":"322294"},{"$f":"'1.Портфель кредитів'!#REF!","v":{"$error":"#REF!"}},{"$f":"'1.Портфель кредитів'!#REF!","v":{"$error":"#REF!"}},{"$f":"'1.Портфель кредитів'!#REF!","v":{"$error":"#REF!"}},{"$f":"'1.Портфель кредитів'!I16","v":"12/02"},{"$f":"'1.Портфель кредитів'!W16","v":556},{"$f":"'1.Портфель кредитів'!Y16","v":6206833.29},4,"2018-06-01","322294_4_43252_2"]
[{"$f":"'1.Портфель кредитів'!H17","v":"I"},{"$f":"'1.Портфель кредитів'!D17","v":"322294"},{"$f":"'1.Портфель кредитів'!#REF!","v":{"$error":"#REF!"}},{"$f":"'1.Портфель кредитів'!#REF!","v":{"$error":"#REF!"}},{"$f":"'1.Портфель кредитів'!#REF!","v":{"$error":"#REF!"}},{"$f":"'1.Портфель кредитів'!I17","v":"14/11"},{"$f":"'1.Портфель кредитів'!W17","v":310899},{"$f":"'1.Портфель кредитів'!Y17","v":863735.42},4,"2018-06-01","322294_4_43252_2"]
[{"$f":"'1.Портфель кредитів'!H18","v":"I"},{"$f":"'1.Портфель кредитів'!D18","v":"322294"},{"$f":"'1.Портфель кредитів'!#REF!","v":{"$error":"#REF!"}},{"$f":"'1.Портфель кредитів'!#REF!","v":{"$error":"#REF!"}},{"$f":"'1.Портфель кредитів'!#REF!","v":{"$error":"#REF!"}},{"$f":"'1.Портфель кредитів'!I18","v":" 11/062004"},{"$f":"'1.Портфель кредитів'!W18","v":6335314},{"$f":"'1.Портфель кредитів'!Y18","v":12408873.440000001},4,"2018-06-01","322294_4_43252_2"]
[{"$f":"'1.Портфель кредитів'!H19","v":"I"},{"$f":"'1.Портфель кредитів'!D19","v":"322294"},{"$f":"'1.Портфель кредитів'!#REF!","v":{"$error":"#REF!"}},{"$f":"'1.Портфель кредитів'!#REF!","v":{"$error":"#REF!"}},{"$f":"'1.Портфель кредитів'!#REF!","v":{"$error":"#REF!"}},{"$f":"'1.Портфель кредитів'!I19","v":"08/042002"},{"$f":"'1.Портфель кредитів'!W19","v":8},{"$f":"'1.Портфель кредитів'!Y19","v":75764},4,"2018-06-01","322294_4_43252_2"]
[{"$f":"'1.Портфель кредитів'!H20","v":"I"},{"$f":"'1.Портфель кредитів'!D20","v":"322294"},{"$f":"'1.Портфель кредитів'!#REF!","v":{"$error":"#REF!"}},{"$f":"'1.Портфель кредитів'!#REF!","v":{"$error":"#REF!"}},{"$f":"'1.Портфель кредитів'!#REF!","v":{"$error":"#REF!"}},{"$f":"'1.Портфель кредитів'!I20","v":"ВКЛ-03/08"},{"$f":"'1.Портфель кредитів'!W20","v":1189290},{"$f":"'1.Портфель кредитів'!Y20","v":2929300},4,"2018-06-01","322294_4_43252_2"]
[{"$f":"'1.Портфель кредитів'!H21","v":"I"},{"$f":"'1.Портфель кредитів'!D21","v":"322294"},{"$f":"'1.Портфель кредитів'!#REF!","v":{"$error":"#REF!"}},{"$f":"'1.Портфель кредитів'!#REF!","v":{"$error":"#REF!"}},{"$f":"'1.Портфель кредитів'!#REF!","v":{"$error":"#REF!"}},{"$f":"'1.Портфель кредитів'!I21","v":"27/КЛ-2007"},{"$f":"'1.Портфель кредитів'!W21","v":352000},{"$f":"'1.Портфель кредитів'!Y21","v":14833273.779999999},4,"2018-06-01","322294_4_43252_2"]
[{"$f":"'1.Портфель кредитів'!H22","v":"I"},{"$f":"'1.Портфель кредитів'!D22","v":"322294"},{"$f":"'1.Портфель кредитів'!#REF!","v":{"$error":"#REF!"}},{"$f":"'1.Портфель кредитів'!#REF!","v":{"$error":"#REF!"}},{"$f":"'1.Портфель кредитів'!#REF!","v":{"$error":"#REF!"}},{"$f":"'1.Портфель кредитів'!I22","v":509},{"$f":"'1.Портфель кредитів'!W22","v":1097},{"$f":"'1.Портфель кредитів'!Y22","v":10973579.26},4,"2018-06-01","322294_4_43252_2"]
[{"$f":"'1.Портфель кредитів'!H23","v":1},{"$f":"'1.Портфель кредитів'!D23","v":"319092"},{"$f":"'1.Портфель кредитів'!#REF!","v":{"$error":"#REF!"}},{"$f":"'1.Портфель кредитів'!#REF!","v":{"$error":"#REF!"}},{"$f":"'1.Портфель кредитів'!#REF!","v":{"$error":"#REF!"}},{"$f":"'1.Портфель кредитів'!I23","v":"3497-47.1-02"},{"$f":"'1.Портфель кредитів'!W23","v":1721647},{"$f":"'1.Портфель кредитів'!Y23","v":31193704.010000002},4,"2018-06-01","319092_4_43252_2"]
[{"$f":"'1.Портфель кредитів'!H24","v":1},{"$f":"'1.Портфель кредитів'!D24","v":"319092"},{"$f":"'1.Портфель кредитів'!#REF!","v":{"$error":"#REF!"}},{"$f":"'1.Портфель кредитів'!#REF!","v":{"$error":"#REF!"}},{"$f":"'1.Портфель кредитів'!#REF!","v":{"$error":"#REF!"}},{"$f":"'1.Портфель кредитів'!I24","v":"19728-20/11-1"},{"$f":"'1.Портфель кредитів'!W24","v":1277057},{"$f":"'1.Портфель кредитів'!Y24","v":16880964.98},4,"2018-06-01","319092_4_43252_2"]
[{"$f":"'1.Портфель кредитів'!H25","v":1},{"$f":"'1.Портфель кредитів'!D25","v":"319092"},{"$f":"'1.Портфель кредитів'!#REF!","v":{"$error":"#REF!"}},{"$f":"'1.Портфель кредитів'!#REF!","v":{"$error":"#REF!"}},{"$f":"'1.Портфель кредитів'!#REF!","v":{"$error":"#REF!"}},{"$f":"'1.Портфель кредитів'!I25","v":"106433-20.2.1-8"},{"$f":"'1.Портфель кредитів'!W25","v":1914271},{"$f":"'1.Портфель кредитів'!Y25","v":24048600.285183601},4,"2018-06-01","319092_4_43252_2"]
[{"$f":"'1.Портфель кредитів'!H26","v":1},{"$f":"'1.Портфель кредитів'!D26","v":"319092"},{"$f":"'1.Портфель кредитів'!#REF!","v":{"$error":"#REF!"}},{"$f":"'1.Портфель кредитів'!#REF!","v":{"$error":"#REF!"}},{"$f":"'1.Портфель кредитів'!#REF!","v":{"$error":"#REF!"}},{"$f":"'1.Портфель кредитів'!I26","v":"16760-20/8-1"},{"$f":"'1.Портфель кредитів'!W26","v":106294},{"$f":"'1.Портфель кредитів'!Y26","v":10933383.140000001},4,"2018-06-01","319092_4_43252_2"]
[{"$f":"'1.Портфель кредитів'!H27","v":1},{"$f":"'1.Портфель кредитів'!D27","v":"319092"},{"$f":"'1.Портфель кредитів'!#REF!","v":{"$error":"#REF!"}},{"$f":"'1.Портфель кредитів'!#REF!","v":{"$error":"#REF!"}},{"$f":"'1.Портфель кредитів'!#REF!","v":{"$error":"#REF!"}},{"$f":"'1.Портфель кредитів'!I27","v":"К/16-05"},{"$f":"'1.Портфель кредитів'!W27","v":126},{"$f":"'1.Портфель кредитів'!Y27","v":512285.74},4,"2018-06-01","319092_4_43252_2"]
[{"$f":"'1.Портфель кредитів'!H28","v":1},{"$f":"'1.Портфель кредитів'!D28","v":"319092"},{"$f":"'1.Портфель кредитів'!#REF!","v":{"$error":"#REF!"}},{"$f":"'1.Портфель кредитів'!#REF!","v":{"$error":"#REF!"}},{"$f":"'1.Портфель кредитів'!#REF!","v":{"$error":"#REF!"}},{"$f":"'1.Портфель кредитів'!I28","v":"9188"},{"$f":"'1.Портфель кредитів'!W28","v":1},{"$f":"'1.Портфель кредитів'!Y28","v":247342.22},4,"2018-06-01","319092_4_43252_2"]
[{"$f":"'1.Портфель кредитів'!H29","v":1},{"$f":"'1.Портфель кредитів'!D29","v":"319092"},{"$f":"'1.Портфель кредитів'!#REF!","v":{"$error":"#REF!"}},{"$f":"'1.Портфель кредитів'!#REF!","v":{"$error":"#REF!"}},{"$f":"'1.Портфель кредитів'!#REF!","v":{"$error":"#REF!"}},{"$f":"'1.Портфель кредитів'!I29","v":"126-02-1"},{"$f":"'1.Портфель кредитів'!W29","v":24256},{"$f":"'1.Портфель кредитів'!Y29","v":2502514.04},4,"2018-06-01","319092_4_43252_2"]
[{"$f":"'1.Портфель кредитів'!H30","v":1},{"$f":"'1.Портфель кредитів'!D30","v":"319092"},{"$f":"'1.Портфель кредитів'!#REF!","v":{"$error":"#REF!"}},{"$f":"'1.Портфель кредитів'!#REF!","v":{"$error":"#REF!"}},{"$f":"'1.Портфель кредитів'!#REF!","v":{"$error":"#REF!"}},{"$f":"'1.Портфель кредитів'!I30","v":"2974-12-11"},{"$f":"'1.Портфель кредитів'!W30","v":2217},{"$f":"'1.Портфель кредитів'!Y30","v":158520.60999999999},4,"2018-06-01","319092_4_43252_2"]
[{"$f":"'1.Портфель кредитів'!H31","v":1},{"$f":"'1.Портфель кредитів'!D31","v":"319092"},{"$f":"'1.Портфель кредитів'!#REF!","v":{"$error":"#REF!"}},{"$f":"'1.Портфель кредитів'!#REF!","v":{"$error":"#REF!"}},{"$f":"'1.Портфель кредитів'!#REF!","v":{"$error":"#REF!"}},{"$f":"'1.Портфель кредитів'!I31","v":"34683-20/13-1"},{"$f":"'1.Портфель кредитів'!W31","v":130404},{"$f":"'1.Портфель кредитів'!Y31","v":1530757.9},4,"2018-06-01","319092_4_43252_2"]
[{"$f":"'1.Портфель кредитів'!H32","v":1},{"$f":"'1.Портфель кредитів'!D32","v":"319092"},{"$f":"'1.Портфель кредитів'!#REF!","v":{"$error":"#REF!"}},{"$f":"'1.Портфель кредитів'!#REF!","v":{"$error":"#REF!"}},{"$f":"'1.Портфель кредитів'!#REF!","v":{"$error":"#REF!"}},{"$f":"'1.Портфель кредитів'!I32","v":"82315-20/12-1"},{"$f":"'1.Портфель кредитів'!W32","v":16325},{"$f":"'1.Портфель кредитів'!Y32","v":1894628.81},4,"2018-06-01","319092_4_43252_2"]
[{"$f":"'1.Портфель кредитів'!#REF!","v":{"$error":"#REF!"}},{"$f":"'1.Портфель кредитів'!#REF!","v":{"$error":"#REF!"}},{"$f":"'1.Портфель кредитів'!#REF!","v":{"$error":"#REF!"}},{"$f":"'1.Портфель кредитів'!#REF!","v":{"$error":"#REF!"}},{"$f":"'1.Портфель кредитів'!#REF!","v":{"$error":"#REF!"}},{"$f":"'1.Портфель кредитів'!#REF!","v":{"$error":"#REF!"}},{"$f":"'1.Портфель кредитів'!#REF!","v":{"$error":"#REF!"}},{"$f":"'1.Портфель кредитів'!#REF!","v":{"$error":"#REF!"}},4,"2018-06-01",{"$error":"#REF!"}]
[{"$f":"'1.Портфель кредитів'!H33","v":1},{"$f":"'1.Портфель кредитів'!D33","v":"380399"},{"$f":"'1.Портфель кредитів'!#REF!","v":{"$error":"#REF!"}},{"$f":"'1.Портфель кредитів'!#REF!","v":{"$error":"#REF!"}},{"$f":"'1.Портфель кредитів'!#REF!","v":{"$error":"#REF!"}},{"$f":"'1.Портфель кредитів'!I33","v":"256/02-2007"},{"$f":"'1.Портфель кредитів'!W33","v":46051},{"$f":"'1.Портфель кредитів'!Y33","v":3575626.67},4,"2018-06-01","380399_4_43252_2"]
[{"$f":"'1.Портфель кредитів'!H34","v":1},{"$f":"'1.Портфель кредитів'!D34","v":"380399"},{"$f":"'1.Портфель кредитів'!#REF!","v":{"$error":"#REF!"}},{"$f":"'1.Портфель кредитів'!#REF!","v":{"$error":"#REF!"}},{"$f":"'1.Портфель кредитів'!#REF!","v":{"$error":"#REF!"}},{"$f":"'1.Портфель кредитів'!I34","v":"748/02-2013"},{"$f":"'1.Портфель кредитів'!W34","v":833},{"$f":"'1.Портфель кредитів'!Y34","v":48128.25},4,"2018-06-01","380399_4_43252_2"]
[{"$f":"'1.Портфель кредитів'!H35","v":1},{"$f":"'1.Портфель кредитів'!D35","v":"380399"},{"$f":"'1.Портфель кредитів'!#REF!","v":{"$error":"#REF!"}},{"$f":"'1.Портфель кредитів'!#REF!","v":{"$error":"#REF!"}},{"$f":"'1.Портфель кредитів'!#REF!","v":{"$error":"#REF!"}},{"$f":"'1.Портфель кредитів'!I35","v":"611/02-2011"},{"$f":"'1.Портфель кредитів'!W35","v":4027},{"$f":"'1.Портфель кредитів'!Y35","v":416712.58999999997},4,"2018-06-01","380399_4_43252_2"]
[{"$f":"'1.Портфель кредитів'!H36","v":1},{"$f":"'1.Портфель кредитів'!D36","v":"380399"},{"$f":"'1.Портфель кредитів'!#REF!","v":{"$error":"#REF!"}},{"$f":"'1.Портфель кредитів'!#REF!","v":{"$error":"#REF!"}},{"$f":"'1.Портфель кредитів'!#REF!","v":{"$error":"#REF!"}},{"$f":"'1.Портфель кредитів'!I36","v":"785/01-2014"},{"$f":"'1.Портфель кредитів'!W36","v":27246},{"$f":"'1.Портфель кредитів'!Y36","v":1602739.79},4,"2018-06-01","380399_4_43252_2"]
[{"$f":"'1.Портфель кредитів'!H37","v":1},{"$f":"'1.Портфель кредитів'!D37","v":"380399"},{"$f":"'1.Портфель кредитів'!#REF!","v":{"$error":"#REF!"}},{"$f":"'1.Портфель кредитів'!#REF!","v":{"$error":"#REF!"}},{"$f":"'1.Портфель кредитів'!#REF!","v":{"$error":"#REF!"}},{"$f":"'1.Портфель кредитів'!I37","v":"218/02-2007"},{"$f":"'1.Портфель кредитів'!W37","v":171008},{"$f":"'1.Портфель кредитів'!Y37","v":1516765.04},4,"2018-06-01","380399_4_43252_2"]
[{"$f":"'1.Портфель кредитів'!H38","v":1},{"$f":"'1.Портфель кредитів'!D38","v":"380399"},{"$f":"'1.Портфель кредитів'!#REF!","v":{"$error":"#REF!"}},{"$f":"'1.Портфель кредитів'!#REF!","v":{"$error":"#REF!"}},{"$f":"'1.Портфель кредитів'!#REF!","v":{"$error":"#REF!"}},{"$f":"'1.Портфель кредитів'!I38","v":"197ю-2006/980/2"},{"$f":"'1.Портфель кредитів'!W38","v":613698},{"$f":"'1.Портфель кредитів'!Y38","v":1170430.02},4,"2018-06-01","380399_4_43252_2"]
[{"$f":"'1.Портфель кредитів'!H39","v":1},{"$f":"'1.Портфель кредитів'!D39","v":"380399"},{"$f":"'1.Портфель кредитів'!#REF!","v":{"$error":"#REF!"}},{"$f":"'1.Портфель кредитів'!#REF!","v":{"$error":"#REF!"}},{"$f":"'1.Портфель кредитів'!#REF!","v":{"$error":"#REF!"}},{"$f":"'1.Портфель кредитів'!I39","v":"233 /02-2007"},{"$f":"'1.Портфель кредитів'!W39","v":21026},{"$f":"'1.Портфель кредитів'!Y39","v":4776833.09},4,"2018-06-01","380399_4_43252_2"]
[{"$f":"'1.Портфель кредитів'!H40","v":1},{"$f":"'1.Портфель кредитів'!D40","v":"380399"},{"$f":"'1.Портфель кредитів'!#REF!","v":{"$error":"#REF!"}},{"$f":"'1.Портфель кредитів'!#REF!","v":{"$error":"#REF!"}},{"$f":"'1.Портфель кредитів'!#REF!","v":{"$error":"#REF!"}},{"$f":"'1.Портфель кредитів'!I40","v":"514/02-2010"},{"$f":"'1.Портфель кредитів'!W40","v":25245},{"$f":"'1.Портфель кредитів'!Y40","v":2576167.86},4,"2018-06-01","380399_4_43252_2"]
[{"$f":"'1.Портфель кредитів'!H41","v":1},{"$f":"'1.Портфель кредитів'!D41","v":"380399"},{"$f":"'1.Портфель кредитів'!#REF!","v":{"$error":"#REF!"}},{"$f":"'1.Портфель кредитів'!#REF!","v":{"$error":"#REF!"}},{"$f":"'1.Портфель кредитів'!#REF!","v":{"$error":"#REF!"}},{"$f":"'1.Портфель кредитів'!I41","v":"005/1-2012/980"},{"$f":"'1.Портфель кредитів'!W41","v":30575},{"$f":"'1.Портфель кредитів'!Y41","v":998254.99},4,"2018-06-01","380399_4_43252_2"]
[{"$f":"'1.Портфель кредитів'!H42","v":1},{"$f":"'1.Портфель кредитів'!D42","v":"380399"},{"$f":"'1.Портфель кредитів'!#REF!","v":{"$error":"#REF!"}},{"$f":"'1.Портфель кредитів'!#REF!","v":{"$error":"#REF!"}},{"$f":"'1.Портфель кредитів'!#REF!","v":{"$error":"#REF!"}},{"$f":"'1.Портфель кредитів'!I42","v":"02/01-12"},{"$f":"'1.Портфель кредитів'!W42","v":9450750},{"$f":"'1.Портфель кредитів'!Y42","v":23994359.439999998},4,"2018-06-01","380399_4_43252_2"]
[{"$f":"'1.Портфель кредитів'!H43","v":1},{"$f":"'1.Портфель кредитів'!D43","v":"380399"},{"$f":"'1.Портфель кредитів'!#REF!","v":{"$error":"#REF!"}},{"$f":"'1.Портфель кредитів'!#REF!","v":{"$error":"#REF!"}},{"$f":"'1.Портфель кредитів'!#REF!","v":{"$error":"#REF!"}},{"$f":"'1.Портфель кредитів'!I43","v":"648/02 -2011"},{"$f":"'1.Портфель кредитів'!W43","v":1033762},{"$f":"'1.Портфель кредитів'!Y43","v":65837906.629999995},4,"2018-06-01","380399_4_43252_2"]
[{"$f":"'1.Портфель кредитів'!H44","v":1},{"$f":"'1.Портфель кредитів'!D44","v":"380399"},{"$f":"'1.Портфель кредитів'!#REF!","v":{"$error":"#REF!"}},{"$f":"'1.Портфель кредитів'!#REF!","v":{"$error":"#REF!"}},{"$f":"'1.Портфель кредитів'!#REF!","v":{"$error":"#REF!"}},{"$f":"'1.Портфель кредитів'!I44","v":"033/1-2012/840"},{"$f":"'1.Портфель кредитів'!W44","v":424562},{"$f":"'1.Портфель кредитів'!Y44","v":661663.1},4,"2018-06-01","380399_4_43252_2"]
[{"$f":"'1.Портфель кредитів'!#REF!","v":{"$error":"#REF!"}},{"$f":"'1.Портфель кредитів'!#REF!","v":{"$error":"#REF!"}},{"$f":"'1.Портфель кредитів'!#REF!","v":{"$error":"#REF!"}},{"$f":"'1.Портфель кредитів'!#REF!","v":{"$error":"#REF!"}},{"$f":"'1.Портфель кредитів'!#REF!","v":{"$error":"#REF!"}},{"$f":"'1.Портфель кредитів'!#REF!","v":{"$error":"#REF!"}},{"$f":"'1.Портфель кредитів'!#REF!","v":{"$error":"#REF!"}},{"$f":"'1.Портфель кредитів'!#REF!","v":{"$error":"#REF!"}},4,"2018-06-01",{"$error":"#REF!"}]
[{"$f":"'1.Портфель кредитів'!H45","v":1},{"$f":"'1.Портфель кредитів'!D45","v":"380355"},{"$f":"'1.Портфель кредитів'!#REF!","v":{"$error":"#REF!"}},{"$f":"'1.Портфель кредитів'!#REF!","v":{"$error":"#REF!"}},{"$f":"'1.Портфель кредитів'!#REF!","v":{"$error":"#REF!"}},{"$f":"'1.Портфель кредитів'!I45","v":"ЮЛ-93/2012-КЛ"},{"$f":"'1.Портфель кредитів'!W45","v":2266915.35},{"$f":"'1.Портфель кредитів'!Y45","v":7636656.5},4,"2018-06-01","380355_4_43252_2"]
[{"$f":"'1.Портфель кредитів'!H46","v":1},{"$f":"'1.Портфель кредитів'!D46","v":"380355"},{"$f":"'1.Портфель кредитів'!#REF!","v":{"$error":"#REF!"}},{"$f":"'1.Портфель кредитів'!#REF!","v":{"$error":"#REF!"}},{"$f":"'1.Портфель кредитів'!#REF!","v":{"$error":"#REF!"}},{"$f":"'1.Портфель кредитів'!I46","v":"ЮЛ-161/2013-О"},{"$f":"'1.Портфель кредитів'!W46","v":7706.59},{"$f":"'1.Портфель кредитів'!Y46","v":291820.32},4,"2018-06-01","380355_4_43252_2"]
[{"$f":"'1.Портфель кредитів'!H47","v":1},{"$f":"'1.Портфель кредитів'!D47","v":"380355"},{"$f":"'1.Портфель кредитів'!#REF!","v":{"$error":"#REF!"}},{"$f":"'1.Портфель кредитів'!#REF!","v":{"$error":"#REF!"}},{"$f":"'1.Портфель кредитів'!#REF!","v":{"$error":"#REF!"}},{"$f":"'1.Портфель кредитів'!I47","v":"PR-000379/BLK-1"},{"$f":"'1.Портфель кредитів'!W47","v":862.77},{"$f":"'1.Портфель кредитів'!Y47","v":16469.669999999998},4,"2018-06-01","380355_4_43252_2"]
[{"$f":"'1.Портфель кредитів'!H48","v":1},{"$f":"'1.Портфель кредитів'!D48","v":"380355"},{"$f":"'1.Портфель кредитів'!#REF!","v":{"$error":"#REF!"}},{"$f":"'1.Портфель кредитів'!#REF!","v":{"$error":"#REF!"}},{"$f":"'1.Портфель кредитів'!#REF!","v":{"$error":"#REF!"}},{"$f":"'1.Портфель кредитів'!I48","v":"ЮЛ-181/2013-КЛ"},{"$f":"'1.Портфель кредитів'!W48","v":6917595.9199999999},{"$f":"'1.Портфель кредитів'!Y48","v":24648915.300000001},4,"2018-06-01","380355_4_43252_2"]
[{"$f":"'1.Портфель кредитів'!H49","v":1},{"$f":"'1.Портфель кредитів'!D49","v":"380355"},{"$f":"'1.Портфель кредитів'!#REF!","v":{"$error":"#REF!"}},{"$f":"'1.Портфель кредитів'!#REF!","v":{"$error":"#REF!"}},{"$f":"'1.Портфель кредитів'!#REF!","v":{"$error":"#REF!"}},{"$f":"'1.Портфель кредитів'!I49","v":"ЮЛ-20/2016-КЛ"},{"$f":"'1.Портфель кредитів'!W49","v":705622.24},{"$f":"'1.Портфель кредитів'!Y49","v":3294272.88},4,"2018-06-01","380355_4_43252_2"]
[{"$f":"'1.Портфель кредитів'!H50","v":1},{"$f":"'1.Портфель кредитів'!D50","v":"380355"},{"$f":"'1.Портфель кредитів'!#REF!","v":{"$error":"#REF!"}},{"$f":"'1.Портфель кредитів'!#REF!","v":{"$error":"#REF!"}},{"$f":"'1.Портфель кредитів'!#REF!","v":{"$error":"#REF!"}},{"$f":"'1.Портфель кредитів'!I50","v":"ЮЛ-18/2016-КЛ"},{"$f":"'1.Портфель кредитів'!W50","v":608323.69999999995},{"$f":"'1.Портфель кредитів'!Y50","v":2840288.38},4,"2018-06-01","380355_4_43252_2"]
[{"$f":"'1.Портфель кредитів'!H51","v":1},{"$f":"'1.Портфель кредитів'!D51","v":"380355"},{"$f":"'1.Портфель кредитів'!#REF!","v":{"$error":"#REF!"}},{"$f":"'1.Портфель кредитів'!#REF!","v":{"$error":"#REF!"}},{"$f":"'1.Портфель кредитів'!#REF!","v":{"$error":"#REF!"}},{"$f":"'1.Портфель кредитів'!I51","v":"ЮЛ-17/2016-КЛ"},{"$f":"'1.Портфель кредитів'!W51","v":4526.79},{"$f":"'1.Портфель кредитів'!Y51","v":30646.83},4,"2018-06-01","380355_4_43252_2"]
[{"$f":"'1.Портфель кредитів'!H52","v":1},{"$f":"'1.Портфель кредитів'!D52","v":"380355"},{"$f":"'1.Портфель кредитів'!#REF!","v":{"$error":"#REF!"}},{"$f":"'1.Портфель кредитів'!#REF!","v":{"$error":"#REF!"}},{"$f":"'1.Портфель кредитів'!#REF!","v":{"$error":"#REF!"}},{"$f":"'1.Портфель кредитів'!I52","v":"ЮЛ-89/2016-К"},{"$f":"'1.Портфель кредитів'!W52","v":8459763},{"$f":"'1.Портфель кредитів'!Y52","v":44707083.329999998},4,"2018-06-01","380355_4_43252_2"]
[{"$f":"'1.Портфель кредитів'!H53","v":1},{"$f":"'1.Портфель кредитів'!D53","v":"380355"},{"$f":"'1.Портфель кредитів'!#REF!","v":{"$error":"#REF!"}},{"$f":"'1.Портфель кредитів'!#REF!","v":{"$error":"#REF!"}},{"$f":"'1.Портфель кредитів'!#REF!","v":{"$error":"#REF!"}},{"$f":"'1.Портфель кредитів'!I53","v":"ЮЛ-19/2016-КЛ"},{"$f":"'1.Портфель кредитів'!W53","v":646798.69999999995},{"$f":"'1.Портфель кредитів'!Y53","v":3019640.8},4,"2018-06-01","380355_4_43252_2"]
[{"$f":"'1.Портфель кредитів'!H54","v":1},{"$f":"'1.Портфель кредитів'!D54","v":"380355"},{"$f":"'1.Портфель кредитів'!#REF!","v":{"$error":"#REF!"}},{"$f":"'1.Портфель кредитів'!#REF!","v":{"$error":"#REF!"}},{"$f":"'1.Портфель кредитів'!#REF!","v":{"$error":"#REF!"}},{"$f":"'1.Портфель кредитів'!I54","v":"ЮЛ-35/2016-О"},{"$f":"'1.Портфель кредитів'!W54","v":201934.71},{"$f":"'1.Портфель кредитів'!Y54","v":542100},4,"2018-06-01","380355_4_43252_2"]
[{"$f":"'1.Портфель кредитів'!H55","v":1},{"$f":"'1.Портфель кредитів'!D55","v":"380355"},{"$f":"'1.Портфель кредитів'!#REF!","v":{"$error":"#REF!"}},{"$f":"'1.Портфель кредитів'!#REF!","v":{"$error":"#REF!"}},{"$f":"'1.Портфель кредитів'!#REF!","v":{"$error":"#REF!"}},{"$f":"'1.Портфель кредитів'!I55","v":"ЮЛ-249/2014-КЛ"},{"$f":"'1.Портфель кредитів'!W55","v":178344.38},{"$f":"'1.Портфель кредитів'!Y55","v":885920},4,"2018-06-01","380355_4_43252_2"]
[{"$f":"'1.Портфель кредитів'!H56","v":1},{"$f":"'1.Портфель кредитів'!D56","v":"380355"},{"$f":"'1.Портфель кредитів'!#REF!","v":{"$error":"#REF!"}},{"$f":"'1.Портфель кредитів'!#REF!","v":{"$error":"#REF!"}},{"$f":"'1.Портфель кредитів'!#REF!","v":{"$error":"#REF!"}},{"$f":"'1.Портфель кредитів'!I56","v":"ЮЛ-259/2014-КЛ"},{"$f":"'1.Портфель кредитів'!W56","v":89172.19},{"$f":"'1.Портфель кредитів'!Y56","v":442960},4,"2018-06-01","380355_4_43252_2"]
[{"$f":"'1.Портфель кредитів'!H57","v":1},{"$f":"'1.Портфель кредитів'!D57","v":"380355"},{"$f":"'1.Портфель кредитів'!#REF!","v":{"$error":"#REF!"}},{"$f":"'1.Портфель кредитів'!#REF!","v":{"$error":"#REF!"}},{"$f":"'1.Портфель кредитів'!#REF!","v":{"$error":"#REF!"}},{"$f":"'1.Портфель кредитів'!I57","v":"PR-003975/BLK-1"},{"$f":"'1.Портфель кредитів'!W57","v":6849.1},{"$f":"'1.Портфель кредитів'!Y57","v":25124.04},4,"2018-06-01","380355_4_43252_2"]
[{"$f":"'1.Портфель кредитів'!H58","v":1},{"$f":"'1.Портфель кредитів'!D58","v":"380355"},{"$f":"'1.Портфель кредитів'!#REF!","v":{"$error":"#REF!"}},{"$f":"'1.Портфель кредитів'!#REF!","v":{"$error":"#REF!"}},{"$f":"'1.Портфель кредитів'!#REF!","v":{"$error":"#REF!"}},{"$f":"'1.Портфель кредитів'!I58","v":"ЮЛ-184/2014-О"},{"$f":"'1.Портфель кредитів'!W58","v":90682.55},{"$f":"'1.Портфель кредитів'!Y58","v":520137.57},4,"2018-06-01","380355_4_43252_2"]
[{"$f":"'1.Портфель кредитів'!H59","v":1},{"$f":"'1.Портфель кредитів'!D59","v":"380355"},{"$f":"'1.Портфель кредитів'!#REF!","v":{"$error":"#REF!"}},{"$f":"'1.Портфель кредитів'!#REF!","v":{"$error":"#REF!"}},{"$f":"'1.Портфель кредитів'!#REF!","v":{"$error":"#REF!"}},{"$f":"'1.Портфель кредитів'!I59","v":"ЮЛ-58/2015-КЛ"},{"$f":"'1.Портфель кредитів'!W59","v":4002747.77},{"$f":"'1.Портфель кредитів'!Y59","v":20790166.109999999},4,"2018-06-01","380355_4_43252_2"]
[{"$f":"'1.Портфель кредитів'!H60","v":1},{"$f":"'1.Портфель кредитів'!D60","v":"380355"},{"$f":"'1.Портфель кредитів'!#REF!","v":{"$error":"#REF!"}},{"$f":"'1.Портфель кредитів'!#REF!","v":{"$error":"#REF!"}},{"$f":"'1.Портфель кредитів'!#REF!","v":{"$error":"#REF!"}},{"$f":"'1.Портфель кредитів'!I60","v":"ЮЛ-36/2011-К"},{"$f":"'1.Портфель кредитів'!W60","v":2794774.45},{"$f":"'1.Портфель кредитів'!Y60","v":11440909.199999999},4,"2018-06-01","380355_4_43252_2"]
[{"$f":"'1.Портфель кредитів'!H61","v":1},{"$f":"'1.Портфель кредитів'!D61","v":"380355"},{"$f":"'1.Портфель кредитів'!#REF!","v":{"$error":"#REF!"}},{"$f":"'1.Портфель кредитів'!#REF!","v":{"$error":"#REF!"}},{"$f":"'1.Портфель кредитів'!#REF!","v":{"$error":"#REF!"}},{"$f":"'1.Портфель кредитів'!I61","v":"ЮЛ-114/2011-К"},{"$f":"'1.Портфель кредитів'!W61","v":5457923.8300000001},{"$f":"'1.Портфель кредитів'!Y61","v":23354166.66},4,"2018-06-01","380355_4_43252_2"]
[{"$f":"'1.Портфель кредитів'!H62","v":1},{"$f":"'1.Портфель кредитів'!D62","v":"380355"},{"$f":"'1.Портфель кредитів'!#REF!","v":{"$error":"#REF!"}},{"$f":"'1.Портфель кредитів'!#REF!","v":{"$error":"#REF!"}},{"$f":"'1.Портфель кредитів'!#REF!","v":{"$error":"#REF!"}},{"$f":"'1.Портфель кредитів'!I62","v":"ЮЛ-60/214-О"},{"$f":"'1.Портфель кредитів'!W62","v":345209.01},{"$f":"'1.Портфель кредитів'!Y62","v":864006.67999999993},4,"2018-06-01","380355_4_43252_2"]
[{"$f":"'1.Портфель кредитів'!H63","v":1},{"$f":"'1.Портфель кредитів'!D63","v":"380355"},{"$f":"'1.Портфель кредитів'!#REF!","v":{"$error":"#REF!"}},{"$f":"'1.Портфель кредитів'!#REF!","v":{"$error":"#REF!"}},{"$f":"'1.Портфель кредитів'!#REF!","v":{"$error":"#REF!"}},{"$f":"'1.Портфель кредитів'!I63","v":"ЮЛ-178/2013-О"},{"$f":"'1.Портфель кредитів'!W63","v":371215.03},{"$f":"'1.Портфель кредитів'!Y63","v":1694428.52},4,"2018-06-01","380355_4_43252_2"]
[{"$f":"'1.Портфель кредитів'!H64","v":1},{"$f":"'1.Портфель кредитів'!D64","v":"380355"},{"$f":"'1.Портфель кредитів'!#REF!","v":{"$error":"#REF!"}},{"$f":"'1.Портфель кредитів'!#REF!","v":{"$error":"#REF!"}},{"$f":"'1.Портфель кредитів'!#REF!","v":{"$error":"#REF!"}},{"$f":"'1.Портфель кредитів'!I64","v":"ЮЛ-151/2015-О"},{"$f":"'1.Портфель кредитів'!W64","v":96633.91},{"$f":"'1.Портфель кредитів'!Y64","v":266808.27},4,"2018-06-01","380355_4_43252_2"]
[{"$f":"'1.Портфель кредитів'!H65","v":1},{"$f":"'1.Портфель кредитів'!D65","v":"380355"},{"$f":"'1.Портфель кредитів'!#REF!","v":{"$error":"#REF!"}},{"$f":"'1.Портфель кредитів'!#REF!","v":{"$error":"#REF!"}},{"$f":"'1.Портфель кредитів'!#REF!","v":{"$error":"#REF!"}},{"$f":"'1.Портфель кредитів'!I65","v":"PR-000248/BLK-1"},{"$f":"'1.Портфель кредитів'!W65","v":29996.2},{"$f":"'1.Портфель кредитів'!Y65","v":80083.360000000001},4,"2018-06-01","380355_4_43252_2"]
[{"$f":"'1.Портфель кредитів'!H66","v":1},{"$f":"'1.Портфель кредитів'!D66","v":"380355"},{"$f":"'1.Портфель кредитів'!#REF!","v":{"$error":"#REF!"}},{"$f":"'1.Портфель кредитів'!#REF!","v":{"$error":"#REF!"}},{"$f":"'1.Портфель кредитів'!#REF!","v":{"$error":"#REF!"}},{"$f":"'1.Портфель кредитів'!I66","v":"PR-000275/BLK-1"},{"$f":"'1.Портфель кредитів'!W66","v":32281.15},{"$f":"'1.Портфель кредитів'!Y66","v":81157.58},4,"2018-06-01","380355_4_43252_2"]
[{"$f":"'1.Портфель кредитів'!H67","v":1},{"$f":"'1.Портфель кредитів'!D67","v":"380355"},{"$f":"'1.Портфель кредитів'!#REF!","v":{"$error":"#REF!"}},{"$f":"'1.Портфель кредитів'!#REF!","v":{"$error":"#REF!"}},{"$f":"'1.Портфель кредитів'!#REF!","v":{"$error":"#REF!"}},{"$f":"'1.Портфель кредитів'!I67","v":"ЮЛ-25/2012-КЛ"},{"$f":"'1.Портфель кредитів'!W67","v":10748.8},{"$f":"'1.Портфель кредитів'!Y67","v":421470.14},4,"2018-06-01","380355_4_43252_2"]
[{"$f":"'1.Портфель кредитів'!H68","v":1},{"$f":"'1.Портфель кредитів'!D68","v":"380355"},{"$f":"'1.Портфель кредитів'!#REF!","v":{"$error":"#REF!"}},{"$f":"'1.Портфель кредитів'!#REF!","v":{"$error":"#REF!"}},{"$f":"'1.Портфель кредитів'!#REF!","v":{"$error":"#REF!"}},{"$f":"'1.Портфель кредитів'!I68","v":"ЮЛ-62/2010-К"},{"$f":"'1.Портфель кредитів'!W68","v":1507516.77},{"$f":"'1.Портфель кредитів'!Y68","v":4637332.45},4,"2018-06-01","380355_4_43252_2"]
[{"$f":"'1.Портфель кредитів'!H69","v":1},{"$f":"'1.Портфель кредитів'!D69","v":"380355"},{"$f":"'1.Портфель кредитів'!#REF!","v":{"$error":"#REF!"}},{"$f":"'1.Портфель кредитів'!#REF!","v":{"$error":"#REF!"}},{"$f":"'1.Портфель кредитів'!#REF!","v":{"$error":"#REF!"}},{"$f":"'1.Портфель кредитів'!I69","v":"ЮЛ-120/2010-К"},{"$f":"'1.Портфель кредитів'!W69","v":1522043.46},{"$f":"'1.Портфель кредитів'!Y69","v":4682018.59},4,"2018-06-01","380355_4_43252_2"]
[{"$f":"'1.Портфель кредитів'!H70","v":1},{"$f":"'1.Портфель кредитів'!D70","v":"380355"},{"$f":"'1.Портфель кредитів'!#REF!","v":{"$error":"#REF!"}},{"$f":"'1.Портфель кредитів'!#REF!","v":{"$error":"#REF!"}},{"$f":"'1.Портфель кредитів'!#REF!","v":{"$error":"#REF!"}},{"$f":"'1.Портфель кредитів'!I70","v":"ЮЛ-113/2011-К"},{"$f":"'1.Портфель кредитів'!W70","v":8625376.2599999998},{"$f":"'1.Портфель кредитів'!Y70","v":27206666.649999999},4,"2018-06-01","380355_4_43252_2"]
[{"$f":"'1.Портфель кредитів'!H71","v":1},{"$f":"'1.Портфель кредитів'!D71","v":"380355"},{"$f":"'1.Портфель кредитів'!#REF!","v":{"$error":"#REF!"}},{"$f":"'1.Портфель кредитів'!#REF!","v":{"$error":"#REF!"}},{"$f":"'1.Портфель кредитів'!#REF!","v":{"$error":"#REF!"}},{"$f":"'1.Портфель кредитів'!I71","v":"ЮЛ-176/2014-О"},{"$f":"'1.Портфель кредитів'!W71","v":20854.8},{"$f":"'1.Портфель кредитів'!Y71","v":400772.25},4,"2018-06-01","380355_4_43252_2"]
[{"$f":"'1.Портфель кредитів'!H72","v":1},{"$f":"'1.Портфель кредитів'!D72","v":"380355"},{"$f":"'1.Портфель кредитів'!#REF!","v":{"$error":"#REF!"}},{"$f":"'1.Портфель кредитів'!#REF!","v":{"$error":"#REF!"}},{"$f":"'1.Портфель кредитів'!#REF!","v":{"$error":"#REF!"}},{"$f":"'1.Портфель кредитів'!I72","v":"ЮЛ-92/2014-О"},{"$f":"'1.Портфель кредитів'!W72","v":458017.67},{"$f":"'1.Портфель кредитів'!Y72","v":1752386.82},{"$f":"$E$1","v":4},{"$f":"$E$2","v":"2018-06-01"},{"$f":"B70&\"_\"&I70&\"_\"&J70&\"_\"&$E$3","v":"380355_4_43252_2"}]
[{"$f":"'1.Портфель кредитів'!H73","v":1},{"$f":"'1.Портфель кредитів'!D73","v":"380355"},{"$f":"'1.Портфель кредитів'!#REF!","v":{"$error":"#REF!"}},{"$f":"'1.Портфель кредитів'!#REF!","v":{"$error":"#REF!"}},{"$f":"'1.Портфель кредитів'!#REF!","v":{"$error":"#REF!"}},{"$f":"'1.Портфель кредитів'!I73","v":"ZP-001202/BLK-1"},{"$f":"'1.Портфель кредитів'!W73","v":5856.04},{"$f":"'1.Портфель кредитів'!Y73","v":21396.42},4,"2018-06-01","380355_4_43252_2"]
[{"$f":"'1.Портфель кредитів'!H74","v":1},{"$f":"'1.Портфель кредитів'!D74","v":"380355"},{"$f":"'1.Портфель кредитів'!#REF!","v":{"$error":"#REF!"}},{"$f":"'1.Портфель кредитів'!#REF!","v":{"$error":"#REF!"}},{"$f":"'1.Портфель кредитів'!#REF!","v":{"$error":"#REF!"}},{"$f":"'1.Портфель кредитів'!I74","v":"ZP-001204/BLK-1"},{"$f":"'1.Портфель кредитів'!W74","v":10124.040000000001},{"$f":"'1.Портфель кредитів'!Y74","v":37429.11},4,"2018-06-01","380355_4_43252_2"]
[{"$f":"'1.Портфель кредитів'!H75","v":1},{"$f":"'1.Портфель кредитів'!D75","v":"380355"},{"$f":"'1.Портфель кредитів'!#REF!","v":{"$error":"#REF!"}},{"$f":"'1.Портфель кредитів'!#REF!","v":{"$error":"#REF!"}},{"$f":"'1.Портфель кредитів'!#REF!","v":{"$error":"#REF!"}},{"$f":"'1.Портфель кредитів'!I75","v":"PR-001388/BLK-1"},{"$f":"'1.Портфель кредитів'!W75","v":10716.39},{"$f":"'1.Портфель кредитів'!Y75","v":39815.990000000005},4,"2018-06-01","380355_4_43252_2"]
[{"$f":"'1.Портфель кредитів'!H76","v":1},{"$f":"'1.Портфель кредитів'!D76","v":"380355"},{"$f":"'1.Портфель кредитів'!#REF!","v":{"$error":"#REF!"}},{"$f":"'1.Портфель кредитів'!#REF!","v":{"$error":"#REF!"}},{"$f":"'1.Портфель кредитів'!#REF!","v":{"$error":"#REF!"}},{"$f":"'1.Портфель кредитів'!I76","v":"ЮЛ-112/2012-О"},{"$f":"'1.Портфель кредитів'!W76","v":53886.8},{"$f":"'1.Портфель кредитів'!Y76","v":1005820.23},4,"2018-06-01","380355_4_43252_2"]
[{"$f":"'1.Портфель кредитів'!H77","v":1},{"$f":"'1.Портфель кредитів'!D77","v":"380355"},{"$f":"'1.Портфель кредитів'!#REF!","v":{"$error":"#REF!"}},{"$f":"'1.Портфель кредитів'!#REF!","v":{"$error":"#REF!"}},{"$f":"'1.Портфель кредитів'!#REF!","v":{"$error":"#REF!"}},{"$f":"'1.Портфель кредитів'!I77","v":"ЮЛ-139/2013-К"},{"$f":"'1.Портфель кредитів'!W77","v":198962.67},{"$f":"'1.Портфель кредитів'!Y77","v":6460949.4199999999},4,"2018-06-01","380355_4_43252_2"]
[{"$f":"'1.Портфель кредитів'!H78","v":1},{"$f":"'1.Портфель кредитів'!D78","v":"380355"},{"$f":"'1.Портфель кредитів'!#REF!","v":{"$error":"#REF!"}},{"$f":"'1.Портфель кредитів'!#REF!","v":{"$error":"#REF!"}},{"$f":"'1.Портфель кредитів'!#REF!","v":{"$error":"#REF!"}},{"$f":"'1.Портфель кредитів'!I78","v":"PR-000187/BLK-2"},{"$f":"'1.Портфель кредитів'!W78","v":9397.81},{"$f":"'1.Портфель кредитів'!Y78","v":324265.65000000002},4,"2018-06-01","380355_4_43252_2"]
[{"$f":"'1.Портфель кредитів'!I79","v":"04-КЛ/13-ЛУГ"},{"$f":"'1.Портфель кредитів'!D79","v":"320843"},{"$f":"'1.Портфель кредитів'!#REF!","v":{"$error":"#REF!"}},{"$f":"'1.Портфель кредитів'!#REF!","v":{"$error":"#REF!"}},{"$f":"'1.Портфель кредитів'!#REF!","v":{"$error":"#REF!"}},{"$f":"'1.Портфель кредитів'!J79","v":"кредитная лінія"},{"$f":"'1.Портфель кредитів'!X79","v":3237702.92},{"$f":"'1.Портфель кредитів'!Z79","v":0},4,"2018-06-01","320843_4_43252_2"]
[{"$f":"'1.Портфель кредитів'!I80","v":"240-КЛ/10"},{"$f":"'1.Портфель кредитів'!D80","v":"320843"},{"$f":"'1.Портфель кредитів'!#REF!","v":{"$error":"#REF!"}},{"$f":"'1.Портфель кредитів'!#REF!","v":{"$error":"#REF!"}},{"$f":"'1.Портфель кредитів'!#REF!","v":{"$error":"#REF!"}},{"$f":"'1.Портфель кредитів'!J80","v":"Кредитни лінія"},{"$f":"'1.Портфель кредитів'!X80","v":79875.45},{"$f":"'1.Портфель кредитів'!Z80","v":61481.53},4,"2018-06-01","320843_4_43252_2"]
[{"$f":"'1.Портфель кредитів'!I81","v":"66-10-08"},{"$f":"'1.Портфель кредитів'!D81","v":"320843"},{"$f":"'1.Портфель кредитів'!#REF!","v":{"$error":"#REF!"}},{"$f":"'1.Портфель кредитів'!#REF!","v":{"$error":"#REF!"}},{"$f":"'1.Портфель кредитів'!#REF!","v":{"$error":"#REF!"}},{"$f":"'1.Портфель кредитів'!J81","v":"кредитная лінія"},{"$f":"'1.Портфель кредитів'!X81","v":14870413.51},{"$f":"'1.Портфель кредитів'!Z81","v":9798500},4,"2018-06-01","320843_4_43252_2"]
[{"$f":"'1.Портфель кредитів'!I82","v":"6-К/13-СІ"},{"$f":"'1.Портфель кредитів'!D82","v":"320843"},{"$f":"'1.Портфель кредитів'!#REF!","v":{"$error":"#REF!"}},{"$f":"'1.Портфель кредитів'!#REF!","v":{"$error":"#REF!"}},{"$f":"'1.Портфель кредитів'!#REF!","v":{"$error":"#REF!"}},{"$f":"'1.Портфель кредитів'!J82","v":"кредит"},{"$f":"'1.Портфель кредитів'!X82","v":74073.210000000006},{"$f":"'1.Портфель кредитів'!Z82","v":54440},4,"2018-06-01","320843_4_43252_2"]
[{"$f":"'1.Портфель кредитів'!#REF!","v":{"$error":"#REF!"}},{"$f":"'1.Портфель кредитів'!#REF!","v":{"$error":"#REF!"}},{"$f":"'1.Портфель кредитів'!#REF!","v":{"$error":"#REF!"}},{"$f":"'1.Портфель кредитів'!#REF!","v":{"$error":"#REF!"}},{"$f":"'1.Портфель кредитів'!#REF!","v":{"$error":"#REF!"}},{"$f":"'1.Портфель кредитів'!#REF!","v":{"$error":"#REF!"}},{"$f":"'1.Портфель кредитів'!#REF!","v":{"$error":"#REF!"}},{"$f":"'1.Портфель кредитів'!#REF!","v":{"$error":"#REF!"}},4,"2018-06-01",{"$error":"#REF!"}]
[{"$f":"'1.Портфель кредитів'!#REF!","v":{"$error":"#REF!"}},{"$f":"'1.Портфель кредитів'!#REF!","v":{"$error":"#REF!"}},{"$f":"'1.Портфель кредитів'!#REF!","v":{"$error":"#REF!"}},{"$f":"'1.Портфель кредитів'!#REF!","v":{"$error":"#REF!"}},{"$f":"'1.Портфель кредитів'!#REF!","v":{"$error":"#REF!"}},{"$f":"'1.Портфель кредитів'!#REF!","v":{"$error":"#REF!"}},{"$f":"'1.Портфель кредитів'!#REF!","v":{"$error":"#REF!"}},{"$f":"'1.Портфель кредитів'!#REF!","v":{"$error":"#REF!"}},4,"2018-06-01",{"$error":"#REF!"}]
[{"$f":"'1.Портфель кредитів'!#REF!","v":{"$error":"#REF!"}},{"$f":"'1.Портфель кредитів'!#REF!","v":{"$error":"#REF!"}},{"$f":"'1.Портфель кредитів'!#REF!","v":{"$error":"#REF!"}},{"$f":"'1.Портфель кредитів'!#REF!","v":{"$error":"#REF!"}},{"$f":"'1.Портфель кредитів'!#REF!","v":{"$error":"#REF!"}},{"$f":"'1.Портфель кредитів'!#REF!","v":{"$error":"#REF!"}},{"$f":"'1.Портфель кредитів'!#REF!","v":{"$error":"#REF!"}},{"$f":"'1.Портфель кредитів'!#REF!","v":{"$error":"#REF!"}},4,"2018-06-01",{"$error":"#REF!"}]
[{"$f":"'1.Портфель кредитів'!#REF!","v":{"$error":"#REF!"}},{"$f":"'1.Портфель кредитів'!#REF!","v":{"$error":"#REF!"}},{"$f":"'1.Портфель кредитів'!#REF!","v":{"$error":"#REF!"}},{"$f":"'1.Портфель кредитів'!#REF!","v":{"$error":"#REF!"}},{"$f":"'1.Портфель кредитів'!#REF!","v":{"$error":"#REF!"}},{"$f":"'1.Портфель кредитів'!#REF!","v":{"$error":"#REF!"}},{"$f":"'1.Портфель кредитів'!#REF!","v":{"$error":"#REF!"}},{"$f":"'1.Портфель кредитів'!#REF!","v":{"$error":"#REF!"}},4,"2018-06-01",{"$error":"#REF!"}]
[{"$f":"'1.Портфель кредитів'!H83","v":1},{"$f":"'1.Портфель кредитів'!D83","v":"300272"},{"$f":"'1.Портфель кредитів'!#REF!","v":{"$error":"#REF!"}},{"$f":"'1.Портфель кредитів'!#REF!","v":{"$error":"#REF!"}},{"$f":"'1.Портфель кредитів'!#REF!","v":{"$error":"#REF!"}},{"$f":"'1.Портфель кредитів'!I83","v":"1301-02"},{"$f":"'1.Портфель кредитів'!W83","v":312691.40999999997},{"$f":"'1.Портфель кредитів'!Y83","v":1204654.06},4,"2018-06-01","300272_4_43252_2"]
[{"$f":"'1.Портфель кредитів'!H84","v":1},{"$f":"'1.Портфель кредитів'!D84","v":"300272"},{"$f":"'1.Портфель кредитів'!#REF!","v":{"$error":"#REF!"}},{"$f":"'1.Портфель кредитів'!#REF!","v":{"$error":"#REF!"}},{"$f":"'1.Портфель кредитів'!#REF!","v":{"$error":"#REF!"}},{"$f":"'1.Портфель кредитів'!I84","v":"1204-03"},{"$f":"'1.Портфель кредитів'!W84","v":293974.75},{"$f":"'1.Портфель кредитів'!Y84","v":6221065.5899999999},4,"2018-06-01","300272_4_43252_2"]
[{"$f":"'1.Портфель кредитів'!H85","v":1},{"$f":"'1.Портфель кредитів'!D85","v":"300272"},{"$f":"'1.Портфель кредитів'!#REF!","v":{"$error":"#REF!"}},{"$f":"'1.Портфель кредитів'!#REF!","v":{"$error":"#REF!"}},{"$f":"'1.Портфель кредитів'!#REF!","v":{"$error":"#REF!"}},{"$f":"'1.Портфель кредитів'!I85","v":"1212-04"},{"$f":"'1.Портфель кредитів'!W85","v":391803.61},{"$f":"'1.Портфель кредитів'!Y85","v":1925311.51},4,"2018-06-01","300272_4_43252_2"]
[{"$f":"'1.Портфель кредитів'!H86","v":1},{"$f":"'1.Портфель кредитів'!D86","v":"300272"},{"$f":"'1.Портфель кредитів'!#REF!","v":{"$error":"#REF!"}},{"$f":"'1.Портфель кредитів'!#REF!","v":{"$error":"#REF!"}},{"$f":"'1.Портфель кредитів'!#REF!","v":{"$error":"#REF!"}},{"$f":"'1.Портфель кредитів'!I86","v":"1205-16"},{"$f":"'1.Портфель кредитів'!W86","v":948996.6},{"$f":"'1.Портфель кредитів'!Y86","v":5708445.8700000001},4,"2018-06-01","300272_4_43252_2"]
[{"$f":"'1.Портфель кредитів'!H87","v":1},{"$f":"'1.Портфель кредитів'!D87","v":"300272"},{"$f":"'1.Портфель кредитів'!#REF!","v":{"$error":"#REF!"}},{"$f":"'1.Портфель кредитів'!#REF!","v":{"$error":"#REF!"}},{"$f":"'1.Портфель кредитів'!#REF!","v":{"$error":"#REF!"}},{"$f":"'1.Портфель кредитів'!I87","v":"1310-46"},{"$f":"'1.Портфель кредитів'!W87","v":1367526.03},{"$f":"'1.Портфель кредитів'!Y87","v":3306040.87},4,"2018-06-01","300272_4_43252_2"]
[{"$f":"'1.Портфель кредитів'!H88","v":1},{"$f":"'1.Портфель кредитів'!D88","v":"300272"},{"$f":"'1.Портфель кредитів'!#REF!","v":{"$error":"#REF!"}},{"$f":"'1.Портфель кредитів'!#REF!","v":{"$error":"#REF!"}},{"$f":"'1.Портфель кредитів'!#REF!","v":{"$error":"#REF!"}},{"$f":"'1.Портфель кредитів'!I88","v":"ОЮ-000472-2612 "},{"$f":"'1.Портфель кредитів'!W88","v":260481.15},{"$f":"'1.Портфель кредитів'!Y88","v":615309.89},4,"2018-06-01","300272_4_43252_2"]
[{"$f":"'1.Портфель кредитів'!H89","v":1},{"$f":"'1.Портфель кредитів'!D89","v":"300272"},{"$f":"'1.Портфель кредитів'!#REF!","v":{"$error":"#REF!"}},{"$f":"'1.Портфель кредитів'!#REF!","v":{"$error":"#REF!"}},{"$f":"'1.Портфель кредитів'!#REF!","v":{"$error":"#REF!"}},{"$f":"'1.Портфель кредитів'!I89","v":"1009-07"},{"$f":"'1.Портфель кредитів'!W89","v":11306},{"$f":"'1.Портфель кредитів'!Y89","v":15797923.699999999},4,"2018-06-01","300272_4_43252_2"]
[{"$f":"'1.Портфель кредитів'!H90","v":1},{"$f":"'1.Портфель кредитів'!D90","v":"300272"},{"$f":"'1.Портфель кредитів'!#REF!","v":{"$error":"#REF!"}},{"$f":"'1.Портфель кредитів'!#REF!","v":{"$error":"#REF!"}},{"$f":"'1.Портфель кредитів'!#REF!","v":{"$error":"#REF!"}},{"$f":"'1.Портфель кредитів'!I90","v":"911-17"},{"$f":"'1.Портфель кредитів'!W90","v":36186},{"$f":"'1.Портфель кредитів'!Y90","v":1180592.19},4,"2018-06-01","300272_4_43252_2"]
[{"$f":"'1.Портфель кредитів'!H91","v":1},{"$f":"'1.Портфель кредитів'!D91","v":"300272"},{"$f":"'1.Портфель кредитів'!#REF!","v":{"$error":"#REF!"}},{"$f":"'1.Портфель кредитів'!#REF!","v":{"$error":"#REF!"}},{"$f":"'1.Портфель кредитів'!#REF!","v":{"$error":"#REF!"}},{"$f":"'1.Портфель кредитів'!I91","v":"711-81"},{"$f":"'1.Портфель кредитів'!W91","v":1720029.64},{"$f":"'1.Портфель кредитів'!Y91","v":1720029.64},4,"2018-06-01","300272_4_43252_2"]
[{"$f":"'1.Портфель кредитів'!H92","v":1},{"$f":"'1.Портфель кредитів'!D92","v":"300272"},{"$f":"'1.Портфель кредитів'!#REF!","v":{"$error":"#REF!"}},{"$f":"'1.Портфель кредитів'!#REF!","v":{"$error":"#REF!"}},{"$f":"'1.Портфель кредитів'!#REF!","v":{"$error":"#REF!"}},{"$f":"'1.Портфель кредитів'!I92","v":"90670/07-12 КЛ"},{"$f":"'1.Портфель кредитів'!W92","v":38747.769999999997},{"$f":"'1.Портфель кредитів'!Y92","v":157340.99},4,"2018-06-01","300272_4_43252_2"]
[{"$f":"'1.Портфель кредитів'!H93","v":1},{"$f":"'1.Портфель кредитів'!D93","v":"300272"},{"$f":"'1.Портфель кредитів'!#REF!","v":{"$error":"#REF!"}},{"$f":"'1.Портфель кредитів'!#REF!","v":{"$error":"#REF!"}},{"$f":"'1.Портфель кредитів'!#REF!","v":{"$error":"#REF!"}},{"$f":"'1.Портфель кредитів'!I93","v":11},{"$f":"'1.Портфель кредитів'!W93","v":36984.595772965942},{"$f":"'1.Портфель кредитів'!Y93","v":487858.87},4,"2018-06-01","300272_4_43252_2"]
[{"$f":"'1.Портфель кредитів'!H94","v":1},{"$f":"'1.Портфель кредитів'!D94","v":"300272"},{"$f":"'1.Портфель кредитів'!#REF!","v":{"$error":"#REF!"}},{"$f":"'1.Портфель кредитів'!#REF!","v":{"$error":"#REF!"}},{"$f":"'1.Портфель кредитів'!#REF!","v":{"$error":"#REF!"}},{"$f":"'1.Портфель кредитів'!I94","v":33},{"$f":"'1.Портфель кредитів'!W94","v":35964.25},{"$f":"'1.Портфель кредитів'!Y94","v":151798.78},4,"2018-06-01","300272_4_43252_2"]
[{"$f":"'1.Портфель кредитів'!H95","v":1},{"$f":"'1.Портфель кредитів'!D95","v":"300272"},{"$f":"'1.Портфель кредитів'!#REF!","v":{"$error":"#REF!"}},{"$f":"'1.Портфель кредитів'!#REF!","v":{"$error":"#REF!"}},{"$f":"'1.Портфель кредитів'!#REF!","v":{"$error":"#REF!"}},{"$f":"'1.Портфель кредитів'!I95","v":"ОЮ-000371-1201 "},{"$f":"'1.Портфель кредитів'!W95","v":9008.2615264735541},{"$f":"'1.Портфель кредитів'!Y95","v":119664.70999999999},4,"2018-06-01","300272_4_43252_2"]
[{"$f":"'1.Портфель кредитів'!H96","v":1},{"$f":"'1.Портфель кредитів'!D96","v":"300272"},{"$f":"'1.Портфель кредитів'!#REF!","v":{"$error":"#REF!"}},{"$f":"'1.Портфель кредитів'!#REF!","v":{"$error":"#REF!"}},{"$f":"'1.Портфель кредитів'!#REF!","v":{"$error":"#REF!"}},{"$f":"'1.Портфель кредитів'!I96","v":116},{"$f":"'1.Портфель кредитів'!W96","v":88536.05},{"$f":"'1.Портфель кредитів'!Y96","v":262074.72000000003},4,"2018-06-01","300272_4_43252_2"]
[{"$f":"'1.Портфель кредитів'!H97","v":1},{"$f":"'1.Портфель кредитів'!D97","v":"300272"},{"$f":"'1.Портфель кредитів'!#REF!","v":{"$error":"#REF!"}},{"$f":"'1.Портфель кредитів'!#REF!","v":{"$error":"#REF!"}},{"$f":"'1.Портфель кредитів'!#REF!","v":{"$error":"#REF!"}},{"$f":"'1.Портфель кредитів'!I97","v":"1204-12"},{"$f":"'1.Портфель кредитів'!W97","v":387559.03},{"$f":"'1.Портфель кредитів'!Y97","v":1007491.54},4,"2018-06-01","300272_4_43252_2"]
[{"$f":"'1.Портфель кредитів'!#REF!","v":{"$error":"#REF!"}},{"$f":"'1.Портфель кредитів'!#REF!","v":{"$error":"#REF!"}},{"$f":"'1.Портфель кредитів'!#REF!","v":{"$error":"#REF!"}},{"$f":"'1.Портфель кредитів'!#REF!","v":{"$error":"#REF!"}},{"$f":"'1.Портфель кредитів'!#REF!","v":{"$error":"#REF!"}},{"$f":"'1.Портфель кредитів'!#REF!","v":{"$error":"#REF!"}},{"$f":"'1.Портфель кредитів'!#REF!","v":{"$error":"#REF!"}},{"$f":"'1.Портфель кредитів'!#REF!","v":{"$error":"#REF!"}},4,"2018-06-01",{"$error":"#REF!"}]
[{"$f":"'1.Портфель кредитів'!#REF!","v":{"$error":"#REF!"}},{"$f":"'1.Портфель кредитів'!#REF!","v":{"$error":"#REF!"}},{"$f":"'1.Портфель кредитів'!#REF!","v":{"$error":"#REF!"}},{"$f":"'1.Портфель кредитів'!#REF!","v":{"$error":"#REF!"}},{"$f":"'1.Портфель кредитів'!#REF!","v":{"$error":"#REF!"}},{"$f":"'1.Портфель кредитів'!#REF!","v":{"$error":"#REF!"}},{"$f":"'1.Портфель кредитів'!#REF!","v":{"$error":"#REF!"}},{"$f":"'1.Портфель кредитів'!#REF!","v":{"$error":"#REF!"}},4,"2018-06-01",{"$error":"#REF!"}]
[{"$f":"'1.Портфель кредитів'!#REF!","v":{"$error":"#REF!"}},{"$f":"'1.Портфель кредитів'!#REF!","v":{"$error":"#REF!"}},{"$f":"'1.Портфель кредитів'!#REF!","v":{"$error":"#REF!"}},{"$f":"'1.Портфель кредитів'!#REF!","v":{"$error":"#REF!"}},{"$f":"'1.Портфель кредитів'!#REF!","v":{"$error":"#REF!"}},{"$f":"'1.Портфель кредитів'!#REF!","v":{"$error":"#REF!"}},{"$f":"'1.Портфель кредитів'!#REF!","v":{"$error":"#REF!"}},{"$f":"'1.Портфель кредитів'!#REF!","v":{"$error":"#REF!"}},4,"2018-06-01",{"$error":"#REF!"}]
[{"$f":"'1.Портфель кредитів'!#REF!","v":{"$error":"#REF!"}},{"$f":"'1.Портфель кредитів'!#REF!","v":{"$error":"#REF!"}},{"$f":"'1.Портфель кредитів'!#REF!","v":{"$error":"#REF!"}},{"$f":"'1.Портфель кредитів'!#REF!","v":{"$error":"#REF!"}},{"$f":"'1.Портфель кредитів'!#REF!","v":{"$error":"#REF!"}},{"$f":"'1.Портфель кредитів'!#REF!","v":{"$error":"#REF!"}},{"$f":"'1.Портфель кредитів'!#REF!","v":{"$error":"#REF!"}},{"$f":"'1.Портфель кредитів'!#REF!","v":{"$error":"#REF!"}},4,"2018-06-01",{"$error":"#REF!"}]
[{"$f":"'1.Портфель кредитів'!#REF!","v":{"$error":"#REF!"}},{"$f":"'1.Портфель кредитів'!#REF!","v":{"$error":"#REF!"}},{"$f":"'1.Портфель кредитів'!#REF!","v":{"$error":"#REF!"}},{"$f":"'1.Портфель кредитів'!#REF!","v":{"$error":"#REF!"}},{"$f":"'1.Портфель кредитів'!#REF!","v":{"$error":"#REF!"}},{"$f":"'1.Портфель кредитів'!#REF!","v":{"$error":"#REF!"}},{"$f":"'1.Портфель кредитів'!#REF!","v":{"$error":"#REF!"}},{"$f":"'1.Портфель кредитів'!#REF!","v":{"$error":"#REF!"}},4,"2018-06-01",{"$error":"#REF!"}]
[{"$f":"'1.Портфель кредитів'!#REF!","v":{"$error":"#REF!"}},{"$f":"'1.Портфель кредитів'!#REF!","v":{"$error":"#REF!"}},{"$f":"'1.Портфель кредитів'!#REF!","v":{"$error":"#REF!"}},{"$f":"'1.Портфель кредитів'!#REF!","v":{"$error":"#REF!"}},{"$f":"'1.Портфель кредитів'!#REF!","v":{"$error":"#REF!"}},{"$f":"'1.Портфель кредитів'!#REF!","v":{"$error":"#REF!"}},{"$f":"'1.Портфель кредитів'!#REF!","v":{"$error":"#REF!"}},{"$f":"'1.Портфель кредитів'!#REF!","v":{"$error":"#REF!"}},4,"2018-06-01",{"$error":"#REF!"}]
[{"$f":"'1.Портфель кредитів'!#REF!","v":{"$error":"#REF!"}},{"$f":"'1.Портфель кредитів'!#REF!","v":{"$error":"#REF!"}},{"$f":"'1.Портфель кредитів'!#REF!","v":{"$error":"#REF!"}},{"$f":"'1.Портфель кредитів'!#REF!","v":{"$error":"#REF!"}},{"$f":"'1.Портфель кредитів'!#REF!","v":{"$error":"#REF!"}},{"$f":"'1.Портфель кредитів'!#REF!","v":{"$error":"#REF!"}},{"$f":"'1.Портфель кредитів'!#REF!","v":{"$error":"#REF!"}},{"$f":"'1.Портфель кредитів'!#REF!","v":{"$error":"#REF!"}},4,"2018-06-01",{"$error":"#REF!"}]
[{"$f":"'1.Портфель кредитів'!#REF!","v":{"$error":"#REF!"}},{"$f":"'1.Портфель кредитів'!#REF!","v":{"$error":"#REF!"}},{"$f":"'1.Портфель кредитів'!#REF!","v":{"$error":"#REF!"}},{"$f":"'1.Портфель кредитів'!#REF!","v":{"$error":"#REF!"}},{"$f":"'1.Портфель кредитів'!#REF!","v":{"$error":"#REF!"}},{"$f":"'1.Портфель кредитів'!#REF!","v":{"$error":"#REF!"}},{"$f":"'1.Портфель кредитів'!#REF!","v":{"$error":"#REF!"}},{"$f":"'1.Портфель кредитів'!#REF!","v":{"$error":"#REF!"}},4,"2018-06-01",{"$error":"#REF!"}]
[{"$f":"'1.Портфель кредитів'!#REF!","v":{"$error":"#REF!"}},{"$f":"'1.Портфель кредитів'!#REF!","v":{"$error":"#REF!"}},{"$f":"'1.Портфель кредитів'!#REF!","v":{"$error":"#REF!"}},{"$f":"'1.Портфель кредитів'!#REF!","v":{"$error":"#REF!"}},{"$f":"'1.Портфель кредитів'!#REF!","v":{"$error":"#REF!"}},{"$f":"'1.Портфель кредитів'!#REF!","v":{"$error":"#REF!"}},{"$f":"'1.Портфель кредитів'!#REF!","v":{"$error":"#REF!"}},{"$f":"'1.Портфель кредитів'!#REF!","v":{"$error":"#REF!"}},4,"2018-06-01",{"$error":"#REF!"}]
[{"$f":"'1.Портфель кредитів'!#REF!","v":{"$error":"#REF!"}},{"$f":"'1.Портфель кредитів'!#REF!","v":{"$error":"#REF!"}},{"$f":"'1.Портфель кредитів'!#REF!","v":{"$error":"#REF!"}},{"$f":"'1.Портфель кредитів'!#REF!","v":{"$error":"#REF!"}},{"$f":"'1.Портфель кредитів'!#REF!","v":{"$error":"#REF!"}},{"$f":"'1.Портфель кредитів'!#REF!","v":{"$error":"#REF!"}},{"$f":"'1.Портфель кредитів'!#REF!","v":{"$error":"#REF!"}},{"$f":"'1.Портфель кредитів'!#REF!","v":{"$error":"#REF!"}},4,"2018-06-01",{"$error":"#REF!"}]
[{"$f":"'1.Портфель кредитів'!#REF!","v":{"$error":"#REF!"}},{"$f":"'1.Портфель кредитів'!#REF!","v":{"$error":"#REF!"}},{"$f":"'1.Портфель кредитів'!#REF!","v":{"$error":"#REF!"}},{"$f":"'1.Портфель кредитів'!#REF!","v":{"$error":"#REF!"}},{"$f":"'1.Портфель кредитів'!#REF!","v":{"$error":"#REF!"}},{"$f":"'1.Портфель кредитів'!#REF!","v":{"$error":"#REF!"}},{"$f":"'1.Портфель кредитів'!#REF!","v":{"$error":"#REF!"}},{"$f":"'1.Портфель кредитів'!#REF!","v":{"$error":"#REF!"}},4,"2018-06-01",{"$error":"#REF!"}]
[{"$f":"'1.Портфель кредитів'!#REF!","v":{"$error":"#REF!"}},{"$f":"'1.Портфель кредитів'!#REF!","v":{"$error":"#REF!"}},{"$f":"'1.Портфель кредитів'!#REF!","v":{"$error":"#REF!"}},{"$f":"'1.Портфель кредитів'!#REF!","v":{"$error":"#REF!"}},{"$f":"'1.Портфель кредитів'!#REF!","v":{"$error":"#REF!"}},{"$f":"'1.Портфель кредитів'!#REF!","v":{"$error":"#REF!"}},{"$f":"'1.Портфель кредитів'!#REF!","v":{"$error":"#REF!"}},{"$f":"'1.Портфель кредитів'!#REF!","v":{"$error":"#REF!"}},4,"2018-06-01",{"$error":"#REF!"}]
[{"$f":"'1.Портфель кредитів'!#REF!","v":{"$error":"#REF!"}},{"$f":"'1.Портфель кредитів'!#REF!","v":{"$error":"#REF!"}},{"$f":"'1.Портфель кредитів'!#REF!","v":{"$error":"#REF!"}},{"$f":"'1.Портфель кредитів'!#REF!","v":{"$error":"#REF!"}},{"$f":"'1.Портфель кредитів'!#REF!","v":{"$error":"#REF!"}},{"$f":"'1.Портфель кредитів'!#REF!","v":{"$error":"#REF!"}},{"$f":"'1.Портфель кредитів'!#REF!","v":{"$error":"#REF!"}},{"$f":"'1.Портфель кредитів'!#REF!","v":{"$error":"#REF!"}},4,"2018-06-01",{"$error":"#REF!"}]
[{"$f":"'1.Портфель кредитів'!#REF!","v":{"$error":"#REF!"}},{"$f":"'1.Портфель кредитів'!#REF!","v":{"$error":"#REF!"}},{"$f":"'1.Портфель кредитів'!#REF!","v":{"$error":"#REF!"}},{"$f":"'1.Портфель кредитів'!#REF!","v":{"$error":"#REF!"}},{"$f":"'1.Портфель кредитів'!#REF!","v":{"$error":"#REF!"}},{"$f":"'1.Портфель кредитів'!#REF!","v":{"$error":"#REF!"}},{"$f":"'1.Портфель кредитів'!#REF!","v":{"$error":"#REF!"}},{"$f":"'1.Портфель кредитів'!#REF!","v":{"$error":"#REF!"}},4,"2018-06-01",{"$error":"#REF!"}]
[{"$f":"'1.Портфель кредитів'!#REF!","v":{"$error":"#REF!"}},{"$f":"'1.Портфель кредитів'!#REF!","v":{"$error":"#REF!"}},{"$f":"'1.Портфель кредитів'!#REF!","v":{"$error":"#REF!"}},{"$f":"'1.Портфель кредитів'!#REF!","v":{"$error":"#REF!"}},{"$f":"'1.Портфель кредитів'!#REF!","v":{"$error":"#REF!"}},{"$f":"'1.Портфель кредитів'!#REF!","v":{"$error":"#REF!"}},{"$f":"'1.Портфель кредитів'!#REF!","v":{"$error":"#REF!"}},{"$f":"'1.Портфель кредитів'!#REF!","v":{"$error":"#REF!"}},4,"2018-06-01",{"$error":"#REF!"}]
[{"$f":"'1.Портфель кредитів'!#REF!","v":{"$error":"#REF!"}},{"$f":"'1.Портфель кредитів'!#REF!","v":{"$error":"#REF!"}},{"$f":"'1.Портфель кредитів'!#REF!","v":{"$error":"#REF!"}},{"$f":"'1.Портфель кредитів'!#REF!","v":{"$error":"#REF!"}},{"$f":"'1.Портфель кредитів'!#REF!","v":{"$error":"#REF!"}},{"$f":"'1.Портфель кредитів'!#REF!","v":{"$error":"#REF!"}},{"$f":"'1.Портфель кредитів'!#REF!","v":{"$error":"#REF!"}},{"$f":"'1.Портфель кредитів'!#REF!","v":{"$error":"#REF!"}},4,"2018-06-01",{"$error":"#REF!"}]
[{"$f":"'1.Портфель кредитів'!#REF!","v":{"$error":"#REF!"}},{"$f":"'1.Портфель кредитів'!#REF!","v":{"$error":"#REF!"}},{"$f":"'1.Портфель кредитів'!#REF!","v":{"$error":"#REF!"}},{"$f":"'1.Портфель кредитів'!#REF!","v":{"$error":"#REF!"}},{"$f":"'1.Портфель кредитів'!#REF!","v":{"$error":"#REF!"}},{"$f":"'1.Портфель кредитів'!#REF!","v":{"$error":"#REF!"}},{"$f":"'1.Портфель кредитів'!#REF!","v":{"$error":"#REF!"}},{"$f":"'1.Портфель кредитів'!#REF!","v":{"$error":"#REF!"}},4,"2018-06-01",{"$error":"#REF!"}]
[{"$f":"'1.Портфель кредитів'!#REF!","v":{"$error":"#REF!"}},{"$f":"'1.Портфель кредитів'!#REF!","v":{"$error":"#REF!"}},{"$f":"'1.Портфель кредитів'!#REF!","v":{"$error":"#REF!"}},{"$f":"'1.Портфель кредитів'!#REF!","v":{"$error":"#REF!"}},{"$f":"'1.Портфель кредитів'!#REF!","v":{"$error":"#REF!"}},{"$f":"'1.Портфель кредитів'!#REF!","v":{"$error":"#REF!"}},{"$f":"'1.Портфель кредитів'!#REF!","v":{"$error":"#REF!"}},{"$f":"'1.Портфель кредитів'!#REF!","v":{"$error":"#REF!"}},4,"2018-06-01",{"$error":"#REF!"}]
[{"$f":"'1.Портфель кредитів'!#REF!","v":{"$error":"#REF!"}},{"$f":"'1.Портфель кредитів'!#REF!","v":{"$error":"#REF!"}},{"$f":"'1.Портфель кредитів'!#REF!","v":{"$error":"#REF!"}},{"$f":"'1.Портфель кредитів'!#REF!","v":{"$error":"#REF!"}},{"$f":"'1.Портфель кредитів'!#REF!","v":{"$error":"#REF!"}},{"$f":"'1.Портфель кредитів'!#REF!","v":{"$error":"#REF!"}},{"$f":"'1.Портфель кредитів'!#REF!","v":{"$error":"#REF!"}},{"$f":"'1.Портфель кредитів'!#REF!","v":{"$error":"#REF!"}},4,"2018-06-01",{"$error":"#REF!"}]
[{"$f":"'1.Портфель кредитів'!#REF!","v":{"$error":"#REF!"}},{"$f":"'1.Портфель кредитів'!#REF!","v":{"$error":"#REF!"}},{"$f":"'1.Портфель кредитів'!#REF!","v":{"$error":"#REF!"}},{"$f":"'1.Портфель кредитів'!#REF!","v":{"$error":"#REF!"}},{"$f":"'1.Портфель кредитів'!#REF!","v":{"$error":"#REF!"}},{"$f":"'1.Портфель кредитів'!#REF!","v":{"$error":"#REF!"}},{"$f":"'1.Портфель кредитів'!#REF!","v":{"$error":"#REF!"}},{"$f":"'1.Портфель кредитів'!#REF!","v":{"$error":"#REF!"}},4,"2018-06-01",{"$error":"#REF!"}]
[{"$f":"'1.Портфель кредитів'!#REF!","v":{"$error":"#REF!"}},{"$f":"'1.Портфель кредитів'!#REF!","v":{"$error":"#REF!"}},{"$f":"'1.Портфель кредитів'!#REF!","v":{"$error":"#REF!"}},{"$f":"'1.Портфель кредитів'!#REF!","v":{"$error":"#REF!"}},{"$f":"'1.Портфель кредитів'!#REF!","v":{"$error":"#REF!"}},{"$f":"'1.Портфель кредитів'!#REF!","v":{"$error":"#REF!"}},{"$f":"'1.Портфель кредитів'!#REF!","v":{"$error":"#REF!"}},{"$f":"'1.Портфель кредитів'!#REF!","v":{"$error":"#REF!"}},4,"2018-06-01",{"$error":"#REF!"}]
[{"$f":"'1.Портфель кредитів'!#REF!","v":{"$error":"#REF!"}},{"$f":"'1.Портфель кредитів'!#REF!","v":{"$error":"#REF!"}},{"$f":"'1.Портфель кредитів'!#REF!","v":{"$error":"#REF!"}},{"$f":"'1.Портфель кредитів'!#REF!","v":{"$error":"#REF!"}},{"$f":"'1.Портфель кредитів'!#REF!","v":{"$error":"#REF!"}},{"$f":"'1.Портфель кредитів'!#REF!","v":{"$error":"#REF!"}},{"$f":"'1.Портфель кредитів'!#REF!","v":{"$error":"#REF!"}},{"$f":"'1.Портфель кредитів'!#REF!","v":{"$error":"#REF!"}},4,"2018-06-01",{"$error":"#REF!"}]
[{"$f":"'1.Портфель кредитів'!#REF!","v":{"$error":"#REF!"}},{"$f":"'1.Портфель кредитів'!#REF!","v":{"$error":"#REF!"}},{"$f":"'1.Портфель кредитів'!#REF!","v":{"$error":"#REF!"}},{"$f":"'1.Портфель кредитів'!#REF!","v":{"$error":"#REF!"}},{"$f":"'1.Портфель кредитів'!#REF!","v":{"$error":"#REF!"}},{"$f":"'1.Портфель кредитів'!#REF!","v":{"$error":"#REF!"}},{"$f":"'1.Портфель кредитів'!#REF!","v":{"$error":"#REF!"}},{"$f":"'1.Портфель кредитів'!#REF!","v":{"$error":"#REF!"}},4,"2018-06-01",{"$error":"#REF!"}]
[{"$f":"'1.Портфель кредитів'!#REF!","v":{"$error":"#REF!"}},{"$f":"'1.Портфель кредитів'!#REF!","v":{"$error":"#REF!"}},{"$f":"'1.Портфель кредитів'!#REF!","v":{"$error":"#REF!"}},{"$f":"'1.Портфель кредитів'!#REF!","v":{"$error":"#REF!"}},{"$f":"'1.Портфель кредитів'!#REF!","v":{"$error":"#REF!"}},{"$f":"'1.Портфель кредитів'!#REF!","v":{"$error":"#REF!"}},{"$f":"'1.Портфель кредитів'!#REF!","v":{"$error":"#REF!"}},{"$f":"'1.Портфель кредитів'!#REF!","v":{"$error":"#REF!"}},4,"2018-06-01",{"$error":"#REF!"}]
[{"$f":"'1.Портфель кредитів'!#REF!","v":{"$error":"#REF!"}},{"$f":"'1.Портфель кредитів'!#REF!","v":{"$error":"#REF!"}},{"$f":"'1.Портфель кредитів'!#REF!","v":{"$error":"#REF!"}},{"$f":"'1.Портфель кредитів'!#REF!","v":{"$error":"#REF!"}},{"$f":"'1.Портфель кредитів'!#REF!","v":{"$error":"#REF!"}},{"$f":"'1.Портфель кредитів'!#REF!","v":{"$error":"#REF!"}},{"$f":"'1.Портфель кредитів'!#REF!","v":{"$error":"#REF!"}},{"$f":"'1.Портфель кредитів'!#REF!","v":{"$error":"#REF!"}},4,"2018-06-01",{"$error":"#REF!"}]
[{"$f":"'1.Портфель кредитів'!#REF!","v":{"$error":"#REF!"}},{"$f":"'1.Портфель кредитів'!#REF!","v":{"$error":"#REF!"}},{"$f":"'1.Портфель кредитів'!#REF!","v":{"$error":"#REF!"}},{"$f":"'1.Портфель кредитів'!#REF!","v":{"$error":"#REF!"}},{"$f":"'1.Портфель кредитів'!#REF!","v":{"$error":"#REF!"}},{"$f":"'1.Портфель кредитів'!#REF!","v":{"$error":"#REF!"}},{"$f":"'1.Портфель кредитів'!#REF!","v":{"$error":"#REF!"}},{"$f":"'1.Портфель кредитів'!#REF!","v":{"$error":"#REF!"}},4,"2018-06-01",{"$error":"#REF!"}]
[{"$f":"'1.Портфель кредитів'!#REF!","v":{"$error":"#REF!"}},{"$f":"'1.Портфель кредитів'!#REF!","v":{"$error":"#REF!"}},{"$f":"'1.Портфель кредитів'!#REF!","v":{"$error":"#REF!"}},{"$f":"'1.Портфель кредитів'!#REF!","v":{"$error":"#REF!"}},{"$f":"'1.Портфель кредитів'!#REF!","v":{"$error":"#REF!"}},{"$f":"'1.Портфель кредитів'!#REF!","v":{"$error":"#REF!"}},{"$f":"'1.Портфель кредитів'!#REF!","v":{"$error":"#REF!"}},{"$f":"'1.Портфель кредитів'!#REF!","v":{"$error":"#REF!"}},4,"2018-06-01",{"$error":"#REF!"}]
[{"$f":"'1.Портфель кредитів'!#REF!","v":{"$error":"#REF!"}},{"$f":"'1.Портфель кредитів'!#REF!","v":{"$error":"#REF!"}},{"$f":"'1.Портфель кредитів'!#REF!","v":{"$error":"#REF!"}},{"$f":"'1.Портфель кредитів'!#REF!","v":{"$error":"#REF!"}},{"$f":"'1.Портфель кредитів'!#REF!","v":{"$error":"#REF!"}},{"$f":"'1.Портфель кредитів'!#REF!","v":{"$error":"#REF!"}},{"$f":"'1.Портфель кредитів'!#REF!","v":{"$error":"#REF!"}},{"$f":"'1.Портфель кредитів'!#REF!","v":{"$error":"#REF!"}},4,"2018-06-01",{"$error":"#REF!"}]
[{"$f":"'1.Портфель кредитів'!#REF!","v":{"$error":"#REF!"}},{"$f":"'1.Портфель кредитів'!#REF!","v":{"$error":"#REF!"}},{"$f":"'1.Портфель кредитів'!#REF!","v":{"$error":"#REF!"}},{"$f":"'1.Портфель кредитів'!#REF!","v":{"$error":"#REF!"}},{"$f":"'1.Портфель кредитів'!#REF!","v":{"$error":"#REF!"}},{"$f":"'1.Портфель кредитів'!#REF!","v":{"$error":"#REF!"}},{"$f":"'1.Портфель кредитів'!#REF!","v":{"$error":"#REF!"}},{"$f":"'1.Портфель кредитів'!#REF!","v":{"$error":"#REF!"}},4,"2018-06-01",{"$error":"#REF!"}]
[{"$f":"'1.Портфель кредитів'!#REF!","v":{"$error":"#REF!"}},{"$f":"'1.Портфель кредитів'!#REF!","v":{"$error":"#REF!"}},{"$f":"'1.Портфель кредитів'!#REF!","v":{"$error":"#REF!"}},{"$f":"'1.Портфель кредитів'!#REF!","v":{"$error":"#REF!"}},{"$f":"'1.Портфель кредитів'!#REF!","v":{"$error":"#REF!"}},{"$f":"'1.Портфель кредитів'!#REF!","v":{"$error":"#REF!"}},{"$f":"'1.Портфель кредитів'!#REF!","v":{"$error":"#REF!"}},{"$f":"'1.Портфель кредитів'!#REF!","v":{"$error":"#REF!"}},4,"2018-06-01",{"$error":"#REF!"}]
[{"$f":"'1.Портфель кредитів'!#REF!","v":{"$error":"#REF!"}},{"$f":"'1.Портфель кредитів'!#REF!","v":{"$error":"#REF!"}},{"$f":"'1.Портфель кредитів'!#REF!","v":{"$error":"#REF!"}},{"$f":"'1.Портфель кредитів'!#REF!","v":{"$error":"#REF!"}},{"$f":"'1.Портфель кредитів'!#REF!","v":{"$error":"#REF!"}},{"$f":"'1.Портфель кредитів'!#REF!","v":{"$error":"#REF!"}},{"$f":"'1.Портфель кредитів'!#REF!","v":{"$error":"#REF!"}},{"$f":"'1.Портфель кредитів'!#REF!","v":{"$error":"#REF!"}},4,"2018-06-01",{"$error":"#REF!"}]
[{"$f":"'1.Портфель кредитів'!#REF!","v":{"$error":"#REF!"}},{"$f":"'1.Портфель кредитів'!#REF!","v":{"$error":"#REF!"}},{"$f":"'1.Портфель кредитів'!#REF!","v":{"$error":"#REF!"}},{"$f":"'1.Портфель кредитів'!#REF!","v":{"$error":"#REF!"}},{"$f":"'1.Портфель кредитів'!#REF!","v":{"$error":"#REF!"}},{"$f":"'1.Портфель кредитів'!#REF!","v":{"$error":"#REF!"}},{"$f":"'1.Портфель кредитів'!#REF!","v":{"$error":"#REF!"}},{"$f":"'1.Портфель кредитів'!#REF!","v":{"$error":"#REF!"}},4,"2018-06-01",{"$error":"#REF!"}]
[{"$f":"'1.Портфель кредитів'!#REF!","v":{"$error":"#REF!"}},{"$f":"'1.Портфель кредитів'!#REF!","v":{"$error":"#REF!"}},{"$f":"'1.Портфель кредитів'!#REF!","v":{"$error":"#REF!"}},{"$f":"'1.Портфель кредитів'!#REF!","v":{"$error":"#REF!"}},{"$f":"'1.Портфель кредитів'!#REF!","v":{"$error":"#REF!"}},{"$f":"'1.Портфель кредитів'!#REF!","v":{"$error":"#REF!"}},{"$f":"'1.Портфель кредитів'!#REF!","v":{"$error":"#REF!"}},{"$f":"'1.Портфель кредитів'!#REF!","v":{"$error":"#REF!"}},4,"2018-06-01",{"$error":"#REF!"}]
[{"$f":"'1.Портфель кредитів'!#REF!","v":{"$error":"#REF!"}},{"$f":"'1.Портфель кредитів'!#REF!","v":{"$error":"#REF!"}},{"$f":"'1.Портфель кредитів'!#REF!","v":{"$error":"#REF!"}},{"$f":"'1.Портфель кредитів'!#REF!","v":{"$error":"#REF!"}},{"$f":"'1.Портфель кредитів'!#REF!","v":{"$error":"#REF!"}},{"$f":"'1.Портфель кредитів'!#REF!","v":{"$error":"#REF!"}},{"$f":"'1.Портфель кредитів'!#REF!","v":{"$error":"#REF!"}},{"$f":"'1.Портфель кредитів'!#REF!","v":{"$error":"#REF!"}},4,"2018-06-01",{"$error":"#REF!"}]
[{"$f":"'1.Портфель кредитів'!#REF!","v":{"$error":"#REF!"}},{"$f":"'1.Портфель кредитів'!#REF!","v":{"$error":"#REF!"}},{"$f":"'1.Портфель кредитів'!#REF!","v":{"$error":"#REF!"}},{"$f":"'1.Портфель кредитів'!#REF!","v":{"$error":"#REF!"}},{"$f":"'1.Портфель кредитів'!#REF!","v":{"$error":"#REF!"}},{"$f":"'1.Портфель кредитів'!#REF!","v":{"$error":"#REF!"}},{"$f":"'1.Портфель кредитів'!#REF!","v":{"$error":"#REF!"}},{"$f":"'1.Портфель кредитів'!#REF!","v":{"$error":"#REF!"}},{"$f":"$E$1","v":4},{"$f":"$E$2","v":"2018-06-01"},{"$f":"B134&\"_\"&I134&\"_\"&J134&\"_\"&$E$3","v":{"$error":"#REF!"}}]
[{"$f":"'1.Портфель кредитів'!#REF!","v":{"$error":"#REF!"}},{"$f":"'1.Портфель кредитів'!#REF!","v":{"$error":"#REF!"}},{"$f":"'1.Портфель кредитів'!#REF!","v":{"$error":"#REF!"}},{"$f":"'1.Портфель кредитів'!#REF!","v":{"$error":"#REF!"}},{"$f":"'1.Портфель кредитів'!#REF!","v":{"$error":"#REF!"}},{"$f":"'1.Портфель кредитів'!#REF!","v":{"$error":"#REF!"}},{"$f":"'1.Портфель кредитів'!#REF!","v":{"$error":"#REF!"}},{"$f":"'1.Портфель кредитів'!#REF!","v":{"$error":"#REF!"}},4,"2018-06-01",{"$error":"#REF!"}]
[{"$f":"'1.Портфель кредитів'!#REF!","v":{"$error":"#REF!"}},{"$f":"'1.Портфель кредитів'!#REF!","v":{"$error":"#REF!"}},{"$f":"'1.Портфель кредитів'!#REF!","v":{"$error":"#REF!"}},{"$f":"'1.Портфель кредитів'!#REF!","v":{"$error":"#REF!"}},{"$f":"'1.Портфель кредитів'!#REF!","v":{"$error":"#REF!"}},{"$f":"'1.Портфель кредитів'!#REF!","v":{"$error":"#REF!"}},{"$f":"'1.Портфель кредитів'!#REF!","v":{"$error":"#REF!"}},{"$f":"'1.Портфель кредитів'!#REF!","v":{"$error":"#REF!"}},4,"2018-06-01",{"$error":"#REF!"}]
[{"$f":"'1.Портфель кредитів'!#REF!","v":{"$error":"#REF!"}},{"$f":"'1.Портфель кредитів'!#REF!","v":{"$error":"#REF!"}},{"$f":"'1.Портфель кредитів'!#REF!","v":{"$error":"#REF!"}},{"$f":"'1.Портфель кредитів'!#REF!","v":{"$error":"#REF!"}},{"$f":"'1.Портфель кредитів'!#REF!","v":{"$error":"#REF!"}},{"$f":"'1.Портфель кредитів'!#REF!","v":{"$error":"#REF!"}},{"$f":"'1.Портфель кредитів'!#REF!","v":{"$error":"#REF!"}},{"$f":"'1.Портфель кредитів'!#REF!","v":{"$error":"#REF!"}},4,"2018-06-01",{"$error":"#REF!"}]
[{"$f":"'1.Портфель кредитів'!#REF!","v":{"$error":"#REF!"}},{"$f":"'1.Портфель кредитів'!#REF!","v":{"$error":"#REF!"}},{"$f":"'1.Портфель кредитів'!#REF!","v":{"$error":"#REF!"}},{"$f":"'1.Портфель кредитів'!#REF!","v":{"$error":"#REF!"}},{"$f":"'1.Портфель кредитів'!#REF!","v":{"$error":"#REF!"}},{"$f":"'1.Портфель кредитів'!#REF!","v":{"$error":"#REF!"}},{"$f":"'1.Портфель кредитів'!#REF!","v":{"$error":"#REF!"}},{"$f":"'1.Портфель кредитів'!#REF!","v":{"$error":"#REF!"}},4,"2018-06-01",{"$error":"#REF!"}]
[{"$f":"'1.Портфель кредитів'!#REF!","v":{"$error":"#REF!"}},{"$f":"'1.Портфель кредитів'!#REF!","v":{"$error":"#REF!"}},{"$f":"'1.Портфель кредитів'!#REF!","v":{"$error":"#REF!"}},{"$f":"'1.Портфель кредитів'!#REF!","v":{"$error":"#REF!"}},{"$f":"'1.Портфель кредитів'!#REF!","v":{"$error":"#REF!"}},{"$f":"'1.Портфель кредитів'!#REF!","v":{"$error":"#REF!"}},{"$f":"'1.Портфель кредитів'!#REF!","v":{"$error":"#REF!"}},{"$f":"'1.Портфель кредитів'!#REF!","v":{"$error":"#REF!"}},4,"2018-06-01",{"$error":"#REF!"}]
[{"$f":"'1.Портфель кредитів'!#REF!","v":{"$error":"#REF!"}},{"$f":"'1.Портфель кредитів'!#REF!","v":{"$error":"#REF!"}},{"$f":"'1.Портфель кредитів'!#REF!","v":{"$error":"#REF!"}},{"$f":"'1.Портфель кредитів'!#REF!","v":{"$error":"#REF!"}},{"$f":"'1.Портфель кредитів'!#REF!","v":{"$error":"#REF!"}},{"$f":"'1.Портфель кредитів'!#REF!","v":{"$error":"#REF!"}},{"$f":"'1.Портфель кредитів'!#REF!","v":{"$error":"#REF!"}},{"$f":"'1.Портфель кредитів'!#REF!","v":{"$error":"#REF!"}},4,"2018-06-01",{"$error":"#REF!"}]
[{"$f":"'1.Портфель кредитів'!#REF!","v":{"$error":"#REF!"}},{"$f":"'1.Портфель кредитів'!#REF!","v":{"$error":"#REF!"}},{"$f":"'1.Портфель кредитів'!#REF!","v":{"$error":"#REF!"}},{"$f":"'1.Портфель кредитів'!#REF!","v":{"$error":"#REF!"}},{"$f":"'1.Портфель кредитів'!#REF!","v":{"$error":"#REF!"}},{"$f":"'1.Портфель кредитів'!#REF!","v":{"$error":"#REF!"}},{"$f":"'1.Портфель кредитів'!#REF!","v":{"$error":"#REF!"}},{"$f":"'1.Портфель кредитів'!#REF!","v":{"$error":"#REF!"}},4,"2018-06-01",{"$error":"#REF!"}]
[{"$f":"'1.Портфель кредитів'!#REF!","v":{"$error":"#REF!"}},{"$f":"'1.Портфель кредитів'!#REF!","v":{"$error":"#REF!"}},{"$f":"'1.Портфель кредитів'!#REF!","v":{"$error":"#REF!"}},{"$f":"'1.Портфель кредитів'!#REF!","v":{"$error":"#REF!"}},{"$f":"'1.Портфель кредитів'!#REF!","v":{"$error":"#REF!"}},{"$f":"'1.Портфель кредитів'!#REF!","v":{"$error":"#REF!"}},{"$f":"'1.Портфель кредитів'!#REF!","v":{"$error":"#REF!"}},{"$f":"'1.Портфель кредитів'!#REF!","v":{"$error":"#REF!"}},4,"2018-06-01",{"$error":"#REF!"}]
[{"$f":"'1.Портфель кредитів'!#REF!","v":{"$error":"#REF!"}},{"$f":"'1.Портфель кредитів'!#REF!","v":{"$error":"#REF!"}},{"$f":"'1.Портфель кредитів'!#REF!","v":{"$error":"#REF!"}},{"$f":"'1.Портфель кредитів'!#REF!","v":{"$error":"#REF!"}},{"$f":"'1.Портфель кредитів'!#REF!","v":{"$error":"#REF!"}},{"$f":"'1.Портфель кредитів'!#REF!","v":{"$error":"#REF!"}},{"$f":"'1.Портфель кредитів'!#REF!","v":{"$error":"#REF!"}},{"$f":"'1.Портфель кредитів'!#REF!","v":{"$error":"#REF!"}},4,"2018-06-01",{"$error":"#REF!"}]
[{"$f":"'1.Портфель кредитів'!#REF!","v":{"$error":"#REF!"}},{"$f":"'1.Портфель кредитів'!#REF!","v":{"$error":"#REF!"}},{"$f":"'1.Портфель кредитів'!#REF!","v":{"$error":"#REF!"}},{"$f":"'1.Портфель кредитів'!#REF!","v":{"$error":"#REF!"}},{"$f":"'1.Портфель кредитів'!#REF!","v":{"$error":"#REF!"}},{"$f":"'1.Портфель кредитів'!#REF!","v":{"$error":"#REF!"}},{"$f":"'1.Портфель кредитів'!#REF!","v":{"$error":"#REF!"}},{"$f":"'1.Портфель кредитів'!#REF!","v":{"$error":"#REF!"}},4,"2018-06-01",{"$error":"#REF!"}]
[{"$f":"'1.Портфель кредитів'!#REF!","v":{"$error":"#REF!"}},{"$f":"'1.Портфель кредитів'!#REF!","v":{"$error":"#REF!"}},{"$f":"'1.Портфель кредитів'!#REF!","v":{"$error":"#REF!"}},{"$f":"'1.Портфель кредитів'!#REF!","v":{"$error":"#REF!"}},{"$f":"'1.Портфель кредитів'!#REF!","v":{"$error":"#REF!"}},{"$f":"'1.Портфель кредитів'!#REF!","v":{"$error":"#REF!"}},{"$f":"'1.Портфель кредитів'!#REF!","v":{"$error":"#REF!"}},{"$f":"'1.Портфель кредитів'!#REF!","v":{"$error":"#REF!"}},4,"2018-06-01",{"$error":"#REF!"}]
[{"$f":"'1.Портфель кредитів'!#REF!","v":{"$error":"#REF!"}},{"$f":"'1.Портфель кредитів'!#REF!","v":{"$error":"#REF!"}},{"$f":"'1.Портфель кредитів'!#REF!","v":{"$error":"#REF!"}},{"$f":"'1.Портфель кредитів'!#REF!","v":{"$error":"#REF!"}},{"$f":"'1.Портфель кредитів'!#REF!","v":{"$error":"#REF!"}},{"$f":"'1.Портфель кредитів'!#REF!","v":{"$error":"#REF!"}},{"$f":"'1.Портфель кредитів'!#REF!","v":{"$error":"#REF!"}},{"$f":"'1.Портфель кредитів'!#REF!","v":{"$error":"#REF!"}},4,"2018-06-01",{"$error":"#REF!"}]
[{"$f":"'1.Портфель кредитів'!#REF!","v":{"$error":"#REF!"}},{"$f":"'1.Портфель кредитів'!#REF!","v":{"$error":"#REF!"}},{"$f":"'1.Портфель кредитів'!#REF!","v":{"$error":"#REF!"}},{"$f":"'1.Портфель кредитів'!#REF!","v":{"$error":"#REF!"}},{"$f":"'1.Портфель кредитів'!#REF!","v":{"$error":"#REF!"}},{"$f":"'1.Портфель кредитів'!#REF!","v":{"$error":"#REF!"}},{"$f":"'1.Портфель кредитів'!#REF!","v":{"$error":"#REF!"}},{"$f":"'1.Портфель кредитів'!#REF!","v":{"$error":"#REF!"}},4,"2018-06-01",{"$error":"#REF!"}]
[{"$f":"'1.Портфель кредитів'!#REF!","v":{"$error":"#REF!"}},{"$f":"'1.Портфель кредитів'!#REF!","v":{"$error":"#REF!"}},{"$f":"'1.Портфель кредитів'!#REF!","v":{"$error":"#REF!"}},{"$f":"'1.Портфель кредитів'!#REF!","v":{"$error":"#REF!"}},{"$f":"'1.Портфель кредитів'!#REF!","v":{"$error":"#REF!"}},{"$f":"'1.Портфель кредитів'!#REF!","v":{"$error":"#REF!"}},{"$f":"'1.Портфель кредитів'!#REF!","v":{"$error":"#REF!"}},{"$f":"'1.Портфель кредитів'!#REF!","v":{"$error":"#REF!"}},4,"2018-06-01",{"$error":"#REF!"}]
[{"$f":"'1.Портфель кредитів'!#REF!","v":{"$error":"#REF!"}},{"$f":"'1.Портфель кредитів'!#REF!","v":{"$error":"#REF!"}},{"$f":"'1.Портфель кредитів'!#REF!","v":{"$error":"#REF!"}},{"$f":"'1.Портфель кредитів'!#REF!","v":{"$error":"#REF!"}},{"$f":"'1.Портфель кредитів'!#REF!","v":{"$error":"#REF!"}},{"$f":"'1.Портфель кредитів'!#REF!","v":{"$error":"#REF!"}},{"$f":"'1.Портфель кредитів'!#REF!","v":{"$error":"#REF!"}},{"$f":"'1.Портфель кредитів'!#REF!","v":{"$error":"#REF!"}},4,"2018-06-01",{"$error":"#REF!"}]
[{"$f":"'1.Портфель кредитів'!#REF!","v":{"$error":"#REF!"}},{"$f":"'1.Портфель кредитів'!#REF!","v":{"$error":"#REF!"}},{"$f":"'1.Портфель кредитів'!#REF!","v":{"$error":"#REF!"}},{"$f":"'1.Портфель кредитів'!#REF!","v":{"$error":"#REF!"}},{"$f":"'1.Портфель кредитів'!#REF!","v":{"$error":"#REF!"}},{"$f":"'1.Портфель кредитів'!#REF!","v":{"$error":"#REF!"}},{"$f":"'1.Портфель кредитів'!#REF!","v":{"$error":"#REF!"}},{"$f":"'1.Портфель кредитів'!#REF!","v":{"$error":"#REF!"}},4,"2018-06-01",{"$error":"#REF!"}]
[{"$f":"'1.Портфель кредитів'!#REF!","v":{"$error":"#REF!"}},{"$f":"'1.Портфель кредитів'!#REF!","v":{"$error":"#REF!"}},{"$f":"'1.Портфель кредитів'!#REF!","v":{"$error":"#REF!"}},{"$f":"'1.Портфель кредитів'!#REF!","v":{"$error":"#REF!"}},{"$f":"'1.Портфель кредитів'!#REF!","v":{"$error":"#REF!"}},{"$f":"'1.Портфель кредитів'!#REF!","v":{"$error":"#REF!"}},{"$f":"'1.Портфель кредитів'!#REF!","v":{"$error":"#REF!"}},{"$f":"'1.Портфель кредитів'!#REF!","v":{"$error":"#REF!"}},4,"2018-06-01",{"$error":"#REF!"}]
[{"$f":"'1.Портфель кредитів'!H98","v":1},{"$f":"'1.Портфель кредитів'!D98","v":"334594"},{"$f":"'1.Портфель кредитів'!#REF!","v":{"$error":"#REF!"}},{"$f":"'1.Портфель кредитів'!#REF!","v":{"$error":"#REF!"}},{"$f":"'1.Портфель кредитів'!#REF!","v":{"$error":"#REF!"}},{"$f":"'1.Портфель кредитів'!I98","v":"41/кл/2013"},{"$f":"'1.Портфель кредитів'!W98","v":0},{"$f":"'1.Портфель кредитів'!Y98","v":5850320.46},4,"2018-06-01","334594_4_43252_2"]
[{"$f":"'1.Портфель кредитів'!H99","v":1},{"$f":"'1.Портфель кредитів'!D99","v":"334594"},{"$f":"'1.Портфель кредитів'!#REF!","v":{"$error":"#REF!"}},{"$f":"'1.Портфель кредитів'!#REF!","v":{"$error":"#REF!"}},{"$f":"'1.Портфель кредитів'!#REF!","v":{"$error":"#REF!"}},{"$f":"'1.Портфель кредитів'!I99","v":"24/кл/2013"},{"$f":"'1.Портфель кредитів'!W99","v":0},{"$f":"'1.Портфель кредитів'!Y99","v":3145975.01},4,"2018-06-01","334594_4_43252_2"]
[{"$f":"'1.Портфель кредитів'!H100","v":1},{"$f":"'1.Портфель кредитів'!D100","v":"334594"},{"$f":"'1.Портфель кредитів'!#REF!","v":{"$error":"#REF!"}},{"$f":"'1.Портфель кредитів'!#REF!","v":{"$error":"#REF!"}},{"$f":"'1.Портфель кредитів'!#REF!","v":{"$error":"#REF!"}},{"$f":"'1.Портфель кредитів'!I100","v":"54/кл/2013"},{"$f":"'1.Портфель кредитів'!W100","v":0},{"$f":"'1.Портфель кредитів'!Y100","v":1645254.9},4,"2018-06-01","334594_4_43252_2"]
[{"$f":"'1.Портфель кредитів'!H101","v":1},{"$f":"'1.Портфель кредитів'!D101","v":"334594"},{"$f":"'1.Портфель кредитів'!#REF!","v":{"$error":"#REF!"}},{"$f":"'1.Портфель кредитів'!#REF!","v":{"$error":"#REF!"}},{"$f":"'1.Портфель кредитів'!#REF!","v":{"$error":"#REF!"}},{"$f":"'1.Портфель кредитів'!I101","v":"9/кл/2013"},{"$f":"'1.Портфель кредитів'!W101","v":665964},{"$f":"'1.Портфель кредитів'!Y101","v":4680576.42},4,"2018-06-01","334594_4_43252_2"]
[{"$f":"'1.Портфель кредитів'!H102","v":1},{"$f":"'1.Портфель кредитів'!D102","v":"334594"},{"$f":"'1.Портфель кредитів'!#REF!","v":{"$error":"#REF!"}},{"$f":"'1.Портфель кредитів'!#REF!","v":{"$error":"#REF!"}},{"$f":"'1.Портфель кредитів'!#REF!","v":{"$error":"#REF!"}},{"$f":"'1.Портфель кредитів'!I102","v":"2/1/2013"},{"$f":"'1.Портфель кредитів'!W102","v":0},{"$f":"'1.Портфель кредитів'!Y102","v":10854883.379999999},4,"2018-06-01","334594_4_43252_2"]
[{"$f":"'1.Портфель кредитів'!H103","v":1},{"$f":"'1.Портфель кредитів'!D103","v":"334594"},{"$f":"'1.Портфель кредитів'!#REF!","v":{"$error":"#REF!"}},{"$f":"'1.Портфель кредитів'!#REF!","v":{"$error":"#REF!"}},{"$f":"'1.Портфель кредитів'!#REF!","v":{"$error":"#REF!"}},{"$f":"'1.Портфель кредитів'!I103","v":"986/980-ЮО"},{"$f":"'1.Портфель кредитів'!W103","v":2167800},{"$f":"'1.Портфель кредитів'!Y103","v":26514626.440000001},4,"2018-06-01","334594_4_43252_2"]
[{"$f":"'1.Портфель кредитів'!H104","v":1},{"$f":"'1.Портфель кредитів'!D104","v":"334969"},{"$f":"'1.Портфель кредитів'!#REF!","v":{"$error":"#REF!"}},{"$f":"'1.Портфель кредитів'!#REF!","v":{"$error":"#REF!"}},{"$f":"'1.Портфель кредитів'!#REF!","v":{"$error":"#REF!"}},{"$f":"'1.Портфель кредитів'!I104","v":"3-СевДКр"},{"$f":"'1.Портфель кредитів'!W104","v":2323012.9700000002},{"$f":"'1.Портфель кредитів'!Y104","v":66922731.269999996},4,"2018-06-01","334969_4_43252_2"]
[{"$f":"'1.Портфель кредитів'!H105","v":1},{"$f":"'1.Портфель кредитів'!D105","v":"334969"},{"$f":"'1.Портфель кредитів'!#REF!","v":{"$error":"#REF!"}},{"$f":"'1.Портфель кредитів'!#REF!","v":{"$error":"#REF!"}},{"$f":"'1.Портфель кредитів'!#REF!","v":{"$error":"#REF!"}},{"$f":"'1.Портфель кредитів'!I105","v":"4-СевДКр"},{"$f":"'1.Портфель кредитів'!W105","v":516095.53},{"$f":"'1.Портфель кредитів'!Y105","v":11360543.969999999},4,"2018-06-01","334969_4_43252_2"]
[{"$f":"'1.Портфель кредитів'!H106","v":1},{"$f":"'1.Портфель кредитів'!D106","v":"334969"},{"$f":"'1.Портфель кредитів'!#REF!","v":{"$error":"#REF!"}},{"$f":"'1.Портфель кредитів'!#REF!","v":{"$error":"#REF!"}},{"$f":"'1.Портфель кредитів'!#REF!","v":{"$error":"#REF!"}},{"$f":"'1.Портфель кредитів'!I106","v":"5-СевДКр"},{"$f":"'1.Портфель кредитів'!W106","v":2137626.67},{"$f":"'1.Портфель кредитів'!Y106","v":9190372.9400000013},4,"2018-06-01","334969_4_43252_2"]
[{"$f":"'1.Портфель кредитів'!H107","v":1},{"$f":"'1.Портфель кредитів'!D107","v":"334969"},{"$f":"'1.Портфель кредитів'!#REF!","v":{"$error":"#REF!"}},{"$f":"'1.Портфель кредитів'!#REF!","v":{"$error":"#REF!"}},{"$f":"'1.Портфель кредитів'!#REF!","v":{"$error":"#REF!"}},{"$f":"'1.Портфель кредитів'!I107","v":"41"},{"$f":"'1.Портфель кредитів'!W107","v":5476605.9000000004},{"$f":"'1.Портфель кредитів'!Y107","v":19523282.649999999},4,"2018-06-01","334969_4_43252_2"]
[{"$f":"'1.Портфель кредитів'!H108","v":1},{"$f":"'1.Портфель кредитів'!D108","v":"300131"},{"$f":"'1.Портфель кредитів'!#REF!","v":{"$error":"#REF!"}},{"$f":"'1.Портфель кредитів'!#REF!","v":{"$error":"#REF!"}},{"$f":"'1.Портфель кредитів'!#REF!","v":{"$error":"#REF!"}},{"$f":"'1.Портфель кредитів'!I108","v":"1296-09"},{"$f":"'1.Портфель кредитів'!W108","v":98616538.370000005},{"$f":"'1.Портфель кредитів'!Y108","v":285609443.06},4,"2018-06-01","300131_4_43252_2"]
[{"$f":"'1.Портфель кредитів'!H109","v":1},{"$f":"'1.Портфель кредитів'!D109","v":"300131"},{"$f":"'1.Портфель кредитів'!#REF!","v":{"$error":"#REF!"}},{"$f":"'1.Портфель кредитів'!#REF!","v":{"$error":"#REF!"}},{"$f":"'1.Портфель кредитів'!#REF!","v":{"$error":"#REF!"}},{"$f":"'1.Портфель кредитів'!I109","v":"64-07/МВ"},{"$f":"'1.Портфель кредитів'!W109","v":42736422.530000001},{"$f":"'1.Портфель кредитів'!Y109","v":138254791.47999999},4,"2018-06-01","300131_4_43252_2"]
[{"$f":"'1.Портфель кредитів'!H110","v":0},{"$f":"'1.Портфель кредитів'!D110","v":""},{"$f":"'1.Портфель кредитів'!#REF!","v":{"$error":"#REF!"}},{"$f":"'1.Портфель кредитів'!#REF!","v":{"$error":"#REF!"}},{"$f":"'1.Портфель кредитів'!#REF!","v":{"$error":"#REF!"}},{"$f":"'1.Портфель кредитів'!I110","v":0},{"$f":"'1.Портфель кредитів'!W110","v":0},{"$f":"'1.Портфель кредитів'!Y110","v":""},4,"2018-06-01","_4_43252_2"]
[{"$f":"'1.Портфель кредитів'!H111","v":0},{"$f":"'1.Портфель кредитів'!D111","v":""},{"$f":"'1.Портфель кредитів'!#REF!","v":{"$error":"#REF!"}},{"$f":"'1.Портфель кредитів'!#REF!","v":{"$error":"#REF!"}},{"$f":"'1.Портфель кредитів'!#REF!","v":{"$error":"#REF!"}},{"$f":"'1.Портфель кредитів'!I111","v":0},{"$f":"'1.Портфель кредитів'!W111","v":0},{"$f":"'1.Портфель кредитів'!Y111","v":""},4,"2018-06-01","_4_43252_2"]
[{"$f":"'1.Портфель кредитів'!H112","v":0},{"$f":"'1.Портфель кредитів'!D112","v":""},{"$f":"'1.Портфель кредитів'!#REF!","v":{"$error":"#REF!"}},{"$f":"'1.Портфель кредитів'!#REF!","v":{"$error":"#REF!"}},{"$f":"'1.Портфель кредитів'!#REF!","v":{"$error":"#REF!"}},{"$f":"'1.Портфель кредитів'!I112","v":0},{"$f":"'1.Портфель кредитів'!W112","v":0},{"$f":"'1.Портфель кредитів'!Y112","v":""},4,"2018-06-01","_4_43252_2"]
[{"$f":"'1.Портфель кредитів'!H113","v":0},{"$f":"'1.Портфель кредитів'!D113","v":""},{"$f":"'1.Портфель кредитів'!#REF!","v":{"$error":"#REF!"}},{"$f":"'1.Портфель кредитів'!#REF!","v":{"$error":"#REF!"}},{"$f":"'1.Портфель кредитів'!#REF!","v":{"$error":"#REF!"}},{"$f":"'1.Портфель кредитів'!I113","v":0},{"$f":"'1.Портфель кредитів'!W113","v":0},{"$f":"'1.Портфель кредитів'!Y113","v":""},4,"2018-06-01","_4_43252_2"]
[{"$f":"'1.Портфель кредитів'!H114","v":0},{"$f":"'1.Портфель кредитів'!D114","v":""},{"$f":"'1.Портфель кредитів'!#REF!","v":{"$error":"#REF!"}},{"$f":"'1.Портфель кредитів'!#REF!","v":{"$error":"#REF!"}},{"$f":"'1.Портфель кредитів'!#REF!","v":{"$error":"#REF!"}},{"$f":"'1.Портфель кредитів'!I114","v":0},{"$f":"'1.Портфель кредитів'!W114","v":0},{"$f":"'1.Портфель кредитів'!Y114","v":""},4,"2018-06-01","_4_43252_2"]
[{"$f":"'1.Портфель кредитів'!H115","v":0},{"$f":"'1.Портфель кредитів'!D115","v":""},{"$f":"'1.Портфель кредитів'!#REF!","v":{"$error":"#REF!"}},{"$f":"'1.Портфель кредитів'!#REF!","v":{"$error":"#REF!"}},{"$f":"'1.Портфель кредитів'!#REF!","v":{"$error":"#REF!"}},{"$f":"'1.Портфель кредитів'!I115","v":0},{"$f":"'1.Портфель кредитів'!W115","v":0},{"$f":"'1.Портфель кредитів'!Y115","v":""},4,"2018-06-01","_4_43252_2"]
[{"$f":"'1.Портфель кредитів'!H116","v":0},{"$f":"'1.Портфель кредитів'!D116","v":""},{"$f":"'1.Портфель кредитів'!#REF!","v":{"$error":"#REF!"}},{"$f":"'1.Портфель кредитів'!#REF!","v":{"$error":"#REF!"}},{"$f":"'1.Портфель кредитів'!#REF!","v":{"$error":"#REF!"}},{"$f":"'1.Портфель кредитів'!I116","v":0},{"$f":"'1.Портфель кредитів'!W116","v":0},{"$f":"'1.Портфель кредитів'!Y116","v":""},4,"2018-06-01","_4_43252_2"]
[{"$f":"'1.Портфель кредитів'!H117","v":0},{"$f":"'1.Портфель кредитів'!D117","v":""},{"$f":"'1.Портфель кредитів'!#REF!","v":{"$error":"#REF!"}},{"$f":"'1.Портфель кредитів'!#REF!","v":{"$error":"#REF!"}},{"$f":"'1.Портфель кредитів'!#REF!","v":{"$error":"#REF!"}},{"$f":"'1.Портфель кредитів'!I117","v":0},{"$f":"'1.Портфель кредитів'!W117","v":0},{"$f":"'1.Портфель кредитів'!Y117","v":""},4,"2018-06-01","_4_43252_2"]
[{"$f":"'1.Портфель кредитів'!H118","v":0},{"$f":"'1.Портфель кредитів'!D118","v":""},{"$f":"'1.Портфель кредитів'!#REF!","v":{"$error":"#REF!"}},{"$f":"'1.Портфель кредитів'!#REF!","v":{"$error":"#REF!"}},{"$f":"'1.Портфель кредитів'!#REF!","v":{"$error":"#REF!"}},{"$f":"'1.Портфель кредитів'!I118","v":0},{"$f":"'1.Портфель кредитів'!W118","v":0},{"$f":"'1.Портфель кредитів'!Y118","v":""},4,"2018-06-01","_4_43252_2"]
[{"$f":"'1.Портфель кредитів'!H119","v":0},{"$f":"'1.Портфель кредитів'!D119","v":""},{"$f":"'1.Портфель кредитів'!#REF!","v":{"$error":"#REF!"}},{"$f":"'1.Портфель кредитів'!#REF!","v":{"$error":"#REF!"}},{"$f":"'1.Портфель кредитів'!#REF!","v":{"$error":"#REF!"}},{"$f":"'1.Портфель кредитів'!I119","v":0},{"$f":"'1.Портфель кредитів'!W119","v":0},{"$f":"'1.Портфель кредитів'!Y119","v":""},4,"2018-06-01","_4_43252_2"]
[{"$f":"'1.Портфель кредитів'!H120","v":0},{"$f":"'1.Портфель кредитів'!D120","v":""},{"$f":"'1.Портфель кредитів'!#REF!","v":{"$error":"#REF!"}},{"$f":"'1.Портфель кредитів'!#REF!","v":{"$error":"#REF!"}},{"$f":"'1.Портфель кредитів'!#REF!","v":{"$error":"#REF!"}},{"$f":"'1.Портфель кредитів'!I120","v":0},{"$f":"'1.Портфель кредитів'!W120","v":0},{"$f":"'1.Портфель кредитів'!Y120","v":""},4,"2018-06-01","_4_43252_2"]
[{"$f":"'1.Портфель кредитів'!H121","v":0},{"$f":"'1.Портфель кредитів'!D121","v":""},{"$f":"'1.Портфель кредитів'!#REF!","v":{"$error":"#REF!"}},{"$f":"'1.Портфель кредитів'!#REF!","v":{"$error":"#REF!"}},{"$f":"'1.Портфель кредитів'!#REF!","v":{"$error":"#REF!"}},{"$f":"'1.Портфель кредитів'!I121","v":0},{"$f":"'1.Портфель кредитів'!W121","v":0},{"$f":"'1.Портфель кредитів'!Y121","v":""},4,"2018-06-01","_4_43252_2"]
[{"$f":"'1.Портфель кредитів'!H122","v":0},{"$f":"'1.Портфель кредитів'!D122","v":""},{"$f":"'1.Портфель кредитів'!#REF!","v":{"$error":"#REF!"}},{"$f":"'1.Портфель кредитів'!#REF!","v":{"$error":"#REF!"}},{"$f":"'1.Портфель кредитів'!#REF!","v":{"$error":"#REF!"}},{"$f":"'1.Портфель кредитів'!I122","v":0},{"$f":"'1.Портфель кредитів'!W122","v":0},{"$f":"'1.Портфель кредитів'!Y122","v":""},4,"2018-06-01","_4_43252_2"]
[{"$f":"'1.Портфель кредитів'!H123","v":0},{"$f":"'1.Портфель кредитів'!D123","v":""},{"$f":"'1.Портфель кредитів'!#REF!","v":{"$error":"#REF!"}},{"$f":"'1.Портфель кредитів'!#REF!","v":{"$error":"#REF!"}},{"$f":"'1.Портфель кредитів'!#REF!","v":{"$error":"#REF!"}},{"$f":"'1.Портфель кредитів'!I123","v":0},{"$f":"'1.Портфель кредитів'!W123","v":0},{"$f":"'1.Портфель кредитів'!Y123","v":""},4,"2018-06-01","_4_43252_2"]
[{"$f":"'1.Портфель кредитів'!H124","v":0},{"$f":"'1.Портфель кредитів'!D124","v":""},{"$f":"'1.Портфель кредитів'!#REF!","v":{"$error":"#REF!"}},{"$f":"'1.Портфель кредитів'!#REF!","v":{"$error":"#REF!"}},{"$f":"'1.Портфель кредитів'!#REF!","v":{"$error":"#REF!"}},{"$f":"'1.Портфель кредитів'!I124","v":0},{"$f":"'1.Портфель кредитів'!W124","v":0},{"$f":"'1.Портфель кредитів'!Y124","v":""},4,"2018-06-01","_4_43252_2"]
[{"$f":"'1.Портфель кредитів'!H125","v":0},{"$f":"'1.Портфель кредитів'!D125","v":""},{"$f":"'1.Портфель кредитів'!#REF!","v":{"$error":"#REF!"}},{"$f":"'1.Портфель кредитів'!#REF!","v":{"$error":"#REF!"}},{"$f":"'1.Портфель кредитів'!#REF!","v":{"$error":"#REF!"}},{"$f":"'1.Портфель кредитів'!I125","v":0},{"$f":"'1.Портфель кредитів'!W125","v":0},{"$f":"'1.Портфель кредитів'!Y125","v":""},4,"2018-06-01","_4_43252_2"]
[{"$f":"'1.Портфель кредитів'!H126","v":0},{"$f":"'1.Портфель кредитів'!D126","v":""},{"$f":"'1.Портфель кредитів'!#REF!","v":{"$error":"#REF!"}},{"$f":"'1.Портфель кредитів'!#REF!","v":{"$error":"#REF!"}},{"$f":"'1.Портфель кредитів'!#REF!","v":{"$error":"#REF!"}},{"$f":"'1.Портфель кредитів'!I126","v":0},{"$f":"'1.Портфель кредитів'!W126","v":0},{"$f":"'1.Портфель кредитів'!Y126","v":""},4,"2018-06-01","_4_43252_2"]
[{"$f":"'1.Портфель кредитів'!H127","v":0},{"$f":"'1.Портфель кредитів'!D127","v":""},{"$f":"'1.Портфель кредитів'!#REF!","v":{"$error":"#REF!"}},{"$f":"'1.Портфель кредитів'!#REF!","v":{"$error":"#REF!"}},{"$f":"'1.Портфель кредитів'!#REF!","v":{"$error":"#REF!"}},{"$f":"'1.Портфель кредитів'!I127","v":0},{"$f":"'1.Портфель кредитів'!W127","v":0},{"$f":"'1.Портфель кредитів'!Y127","v":""},4,"2018-06-01","_4_43252_2"]
[{"$f":"'1.Портфель кредитів'!H128","v":0},{"$f":"'1.Портфель кредитів'!D128","v":""},{"$f":"'1.Портфель кредитів'!#REF!","v":{"$error":"#REF!"}},{"$f":"'1.Портфель кредитів'!#REF!","v":{"$error":"#REF!"}},{"$f":"'1.Портфель кредитів'!#REF!","v":{"$error":"#REF!"}},{"$f":"'1.Портфель кредитів'!I128","v":0},{"$f":"'1.Портфель кредитів'!W128","v":0},{"$f":"'1.Портфель кредитів'!Y128","v":""},4,"2018-06-01","_4_43252_2"]
[{"$f":"'1.Портфель кредитів'!H129","v":0},{"$f":"'1.Портфель кредитів'!D129","v":""},{"$f":"'1.Портфель кредитів'!#REF!","v":{"$error":"#REF!"}},{"$f":"'1.Портфель кредитів'!#REF!","v":{"$error":"#REF!"}},{"$f":"'1.Портфель кредитів'!#REF!","v":{"$error":"#REF!"}},{"$f":"'1.Портфель кредитів'!I129","v":0},{"$f":"'1.Портфель кредитів'!W129","v":0},{"$f":"'1.Портфель кредитів'!Y129","v":""},4,"2018-06-01","_4_43252_2"]
[{"$f":"'1.Портфель кредитів'!H130","v":0},{"$f":"'1.Портфель кредитів'!D130","v":""},{"$f":"'1.Портфель кредитів'!#REF!","v":{"$error":"#REF!"}},{"$f":"'1.Портфель кредитів'!#REF!","v":{"$error":"#REF!"}},{"$f":"'1.Портфель кредитів'!#REF!","v":{"$error":"#REF!"}},{"$f":"'1.Портфель кредитів'!I130","v":0},{"$f":"'1.Портфель кредитів'!W130","v":0},{"$f":"'1.Портфель кредитів'!Y130","v":""},4,"2018-06-01","_4_43252_2"]
[{"$f":"'1.Портфель кредитів'!H131","v":0},{"$f":"'1.Портфель кредитів'!D131","v":""},{"$f":"'1.Портфель кредитів'!#REF!","v":{"$error":"#REF!"}},{"$f":"'1.Портфель кредитів'!#REF!","v":{"$error":"#REF!"}},{"$f":"'1.Портфель кредитів'!#REF!","v":{"$error":"#REF!"}},{"$f":"'1.Портфель кредитів'!I131","v":0},{"$f":"'1.Портфель кредитів'!W131","v":0},{"$f":"'1.Портфель кредитів'!Y131","v":""},4,"2018-06-01","_4_43252_2"]
[{"$f":"'1.Портфель кредитів'!H132","v":0},{"$f":"'1.Портфель кредитів'!D132","v":""},{"$f":"'1.Портфель кредитів'!#REF!","v":{"$error":"#REF!"}},{"$f":"'1.Портфель кредитів'!#REF!","v":{"$error":"#REF!"}},{"$f":"'1.Портфель кредитів'!#REF!","v":{"$error":"#REF!"}},{"$f":"'1.Портфель кредитів'!I132","v":0},{"$f":"'1.Портфель кредитів'!W132","v":0},{"$f":"'1.Портфель кредитів'!Y132","v":""},4,"2018-06-01","_4_43252_2"]
[{"$f":"'1.Портфель кредитів'!H133","v":0},{"$f":"'1.Портфель кредитів'!D133","v":""},{"$f":"'1.Портфель кредитів'!#REF!","v":{"$error":"#REF!"}},{"$f":"'1.Портфель кредитів'!#REF!","v":{"$error":"#REF!"}},{"$f":"'1.Портфель кредитів'!#REF!","v":{"$error":"#REF!"}},{"$f":"'1.Портфель кредитів'!I133","v":0},{"$f":"'1.Портфель кредитів'!W133","v":0},{"$f":"'1.Портфель кредитів'!Y133","v":""},4,"2018-06-01","_4_43252_2"]
[{"$f":"'1.Портфель кредитів'!H134","v":0},{"$f":"'1.Портфель кредитів'!D134","v":""},{"$f":"'1.Портфель кредитів'!#REF!","v":{"$error":"#REF!"}},{"$f":"'1.Портфель кредитів'!#REF!","v":{"$error":"#REF!"}},{"$f":"'1.Портфель кредитів'!#REF!","v":{"$error":"#REF!"}},{"$f":"'1.Портфель кредитів'!I134","v":0},{"$f":"'1.Портфель кредитів'!W134","v":0},{"$f":"'1.Портфель кредитів'!Y134","v":""},4,"2018-06-01","_4_43252_2"]
[{"$f":"'1.Портфель кредитів'!H135","v":0},{"$f":"'1.Портфель кредитів'!D135","v":""},{"$f":"'1.Портфель кредитів'!#REF!","v":{"$error":"#REF!"}},{"$f":"'1.Портфель кредитів'!#REF!","v":{"$error":"#REF!"}},{"$f":"'1.Портфель кредитів'!#REF!","v":{"$error":"#REF!"}},{"$f":"'1.Портфель кредитів'!I135","v":0},{"$f":"'1.Портфель кредитів'!W135","v":0},{"$f":"'1.Портфель кредитів'!Y135","v":""},4,"2018-06-01","_4_43252_2"]
[{"$f":"'1.Портфель кредитів'!H136","v":0},{"$f":"'1.Портфель кредитів'!D136","v":""},{"$f":"'1.Портфель кредитів'!#REF!","v":{"$error":"#REF!"}},{"$f":"'1.Портфель кредитів'!#REF!","v":{"$error":"#REF!"}},{"$f":"'1.Портфель кредитів'!#REF!","v":{"$error":"#REF!"}},{"$f":"'1.Портфель кредитів'!I136","v":0},{"$f":"'1.Портфель кредитів'!W136","v":0},{"$f":"'1.Портфель кредитів'!Y136","v":""},4,"2018-06-01","_4_43252_2"]
[{"$f":"'1.Портфель кредитів'!H137","v":0},{"$f":"'1.Портфель кредитів'!D137","v":""},{"$f":"'1.Портфель кредитів'!#REF!","v":{"$error":"#REF!"}},{"$f":"'1.Портфель кредитів'!#REF!","v":{"$error":"#REF!"}},{"$f":"'1.Портфель кредитів'!#REF!","v":{"$error":"#REF!"}},{"$f":"'1.Портфель кредитів'!I137","v":0},{"$f":"'1.Портфель кредитів'!W137","v":0},{"$f":"'1.Портфель кредитів'!Y137","v":""},4,"2018-06-01","_4_43252_2"]
[{"$f":"'1.Портфель кредитів'!H138","v":0},{"$f":"'1.Портфель кредитів'!D138","v":""},{"$f":"'1.Портфель кредитів'!#REF!","v":{"$error":"#REF!"}},{"$f":"'1.Портфель кредитів'!#REF!","v":{"$error":"#REF!"}},{"$f":"'1.Портфель кредитів'!#REF!","v":{"$error":"#REF!"}},{"$f":"'1.Портфель кредитів'!I138","v":0},{"$f":"'1.Портфель кредитів'!W138","v":0},{"$f":"'1.Портфель кредитів'!Y138","v":""},4,"2018-06-01","_4_43252_2"]
[{"$f":"'1.Портфель кредитів'!H139","v":0},{"$f":"'1.Портфель кредитів'!D139","v":""},{"$f":"'1.Портфель кредитів'!#REF!","v":{"$error":"#REF!"}},{"$f":"'1.Портфель кредитів'!#REF!","v":{"$error":"#REF!"}},{"$f":"'1.Портфель кредитів'!#REF!","v":{"$error":"#REF!"}},{"$f":"'1.Портфель кредитів'!I139","v":0},{"$f":"'1.Портфель кредитів'!W139","v":0},{"$f":"'1.Портфель кредитів'!Y139","v":""},4,"2018-06-01","_4_43252_2"]
[{"$f":"'1.Портфель кредитів'!H140","v":0},{"$f":"'1.Портфель кредитів'!D140","v":""},{"$f":"'1.Портфель кредитів'!#REF!","v":{"$error":"#REF!"}},{"$f":"'1.Портфель кредитів'!#REF!","v":{"$error":"#REF!"}},{"$f":"'1.Портфель кредитів'!#REF!","v":{"$error":"#REF!"}},{"$f":"'1.Портфель кредитів'!I140","v":0},{"$f":"'1.Портфель кредитів'!W140","v":0},{"$f":"'1.Портфель кредитів'!Y140","v":""},4,"2018-06-01","_4_43252_2"]
[{"$f":"'1.Портфель кредитів'!H141","v":0},{"$f":"'1.Портфель кредитів'!D141","v":""},{"$f":"'1.Портфель кредитів'!#REF!","v":{"$error":"#REF!"}},{"$f":"'1.Портфель кредитів'!#REF!","v":{"$error":"#REF!"}},{"$f":"'1.Портфель кредитів'!#REF!","v":{"$error":"#REF!"}},{"$f":"'1.Портфель кредитів'!I141","v":0},{"$f":"'1.Портфель кредитів'!W141","v":0},{"$f":"'1.Портфель кредитів'!Y141","v":""},4,"2018-06-01","_4_43252_2"]
[{"$f":"'1.Портфель кредитів'!H142","v":0},{"$f":"'1.Портфель кредитів'!D142","v":""},{"$f":"'1.Портфель кредитів'!#REF!","v":{"$error":"#REF!"}},{"$f":"'1.Портфель кредитів'!#REF!","v":{"$error":"#REF!"}},{"$f":"'1.Портфель кредитів'!#REF!","v":{"$error":"#REF!"}},{"$f":"'1.Портфель кредитів'!I142","v":0},{"$f":"'1.Портфель кредитів'!W142","v":0},{"$f":"'1.Портфель кредитів'!Y142","v":""},4,"2018-06-01","_4_43252_2"]
[{"$f":"'1.Портфель кредитів'!H143","v":0},{"$f":"'1.Портфель кредитів'!D143","v":""},{"$f":"'1.Портфель кредитів'!#REF!","v":{"$error":"#REF!"}},{"$f":"'1.Портфель кредитів'!#REF!","v":{"$error":"#REF!"}},{"$f":"'1.Портфель кредитів'!#REF!","v":{"$error":"#REF!"}},{"$f":"'1.Портфель кредитів'!I143","v":0},{"$f":"'1.Портфель кредитів'!W143","v":0},{"$f":"'1.Портфель кредитів'!Y143","v":""},4,"2018-06-01","_4_43252_2"]
[{"$f":"'1.Портфель кредитів'!H144","v":0},{"$f":"'1.Портфель кредитів'!D144","v":""},{"$f":"'1.Портфель кредитів'!#REF!","v":{"$error":"#REF!"}},{"$f":"'1.Портфель кредитів'!#REF!","v":{"$error":"#REF!"}},{"$f":"'1.Портфель кредитів'!#REF!","v":{"$error":"#REF!"}},{"$f":"'1.Портфель кредитів'!I144","v":0},{"$f":"'1.Портфель кредитів'!W144","v":0},{"$f":"'1.Портфель кредитів'!Y144","v":""},{"$f":"$E$1","v":4},{"$f":"$E$2","v":"2018-06-01"},{"$f":"B198&\"_\"&I198&\"_\"&J198&\"_\"&$E$3","v":"_4_43252_2"}]
[{"$f":"'1.Портфель кредитів'!H145","v":0},{"$f":"'1.Портфель кредитів'!D145","v":""},{"$f":"'1.Портфель кредитів'!#REF!","v":{"$error":"#REF!"}},{"$f":"'1.Портфель кредитів'!#REF!","v":{"$error":"#REF!"}},{"$f":"'1.Портфель кредитів'!#REF!","v":{"$error":"#REF!"}},{"$f":"'1.Портфель кредитів'!I145","v":0},{"$f":"'1.Портфель кредитів'!W145","v":0},{"$f":"'1.Портфель кредитів'!Y145","v":""},4,"2018-06-01","_4_43252_2"]
[{"$f":"'1.Портфель кредитів'!H146","v":0},{"$f":"'1.Портфель кредитів'!D146","v":""},{"$f":"'1.Портфель кредитів'!#REF!","v":{"$error":"#REF!"}},{"$f":"'1.Портфель кредитів'!#REF!","v":{"$error":"#REF!"}},{"$f":"'1.Портфель кредитів'!#REF!","v":{"$error":"#REF!"}},{"$f":"'1.Портфель кредитів'!I146","v":0},{"$f":"'1.Портфель кредитів'!W146","v":0},{"$f":"'1.Портфель кредитів'!Y146","v":""},4,"2018-06-01","_4_43252_2"]
[{"$f":"'1.Портфель кредитів'!H147","v":0},{"$f":"'1.Портфель кредитів'!D147","v":""},{"$f":"'1.Портфель кредитів'!#REF!","v":{"$error":"#REF!"}},{"$f":"'1.Портфель кредитів'!#REF!","v":{"$error":"#REF!"}},{"$f":"'1.Портфель кредитів'!#REF!","v":{"$error":"#REF!"}},{"$f":"'1.Портфель кредитів'!I147","v":0},{"$f":"'1.Портфель кредитів'!W147","v":0},{"$f":"'1.Портфель кредитів'!Y147","v":""},4,"2018-06-01","_4_43252_2"]
[{"$f":"'1.Портфель кредитів'!H148","v":0},{"$f":"'1.Портфель кредитів'!D148","v":""},{"$f":"'1.Портфель кредитів'!#REF!","v":{"$error":"#REF!"}},{"$f":"'1.Портфель кредитів'!#REF!","v":{"$error":"#REF!"}},{"$f":"'1.Портфель кредитів'!#REF!","v":{"$error":"#REF!"}},{"$f":"'1.Портфель кредитів'!I148","v":0},{"$f":"'1.Портфель кредитів'!W148","v":0},{"$f":"'1.Портфель кредитів'!Y148","v":""},4,"2018-06-01","_4_43252_2"]
[{"$f":"'1.Портфель кредитів'!H149","v":0},{"$f":"'1.Портфель кредитів'!D149","v":""},{"$f":"'1.Портфель кредитів'!#REF!","v":{"$error":"#REF!"}},{"$f":"'1.Портфель кредитів'!#REF!","v":{"$error":"#REF!"}},{"$f":"'1.Портфель кредитів'!#REF!","v":{"$error":"#REF!"}},{"$f":"'1.Портфель кредитів'!I149","v":0},{"$f":"'1.Портфель кредитів'!W149","v":0},{"$f":"'1.Портфель кредитів'!Y149","v":""},4,"2018-06-01","_4_43252_2"]
[{"$f":"'1.Портфель кредитів'!H150","v":0},{"$f":"'1.Портфель кредитів'!D150","v":""},{"$f":"'1.Портфель кредитів'!#REF!","v":{"$error":"#REF!"}},{"$f":"'1.Портфель кредитів'!#REF!","v":{"$error":"#REF!"}},{"$f":"'1.Портфель кредитів'!#REF!","v":{"$error":"#REF!"}},{"$f":"'1.Портфель кредитів'!I150","v":0},{"$f":"'1.Портфель кредитів'!W150","v":0},{"$f":"'1.Портфель кредитів'!Y150","v":""},4,"2018-06-01","_4_43252_2"]
[{"$f":"'1.Портфель кредитів'!H151","v":0},{"$f":"'1.Портфель кредитів'!D151","v":""},{"$f":"'1.Портфель кредитів'!#REF!","v":{"$error":"#REF!"}},{"$f":"'1.Портфель кредитів'!#REF!","v":{"$error":"#REF!"}},{"$f":"'1.Портфель кредитів'!#REF!","v":{"$error":"#REF!"}},{"$f":"'1.Портфель кредитів'!I151","v":0},{"$f":"'1.Портфель кредитів'!W151","v":0},{"$f":"'1.Портфель кредитів'!Y151","v":""},4,"2018-06-01","_4_43252_2"]
[{"$f":"'1.Портфель кредитів'!H152","v":0},{"$f":"'1.Портфель кредитів'!D152","v":""},{"$f":"'1.Портфель кредитів'!#REF!","v":{"$error":"#REF!"}},{"$f":"'1.Портфель кредитів'!#REF!","v":{"$error":"#REF!"}},{"$f":"'1.Портфель кредитів'!#REF!","v":{"$error":"#REF!"}},{"$f":"'1.Портфель кредитів'!I152","v":0},{"$f":"'1.Портфель кредитів'!W152","v":0},{"$f":"'1.Портфель кредитів'!Y152","v":""},4,"2018-06-01","_4_43252_2"]
[{"$f":"'1.Портфель кредитів'!H153","v":0},{"$f":"'1.Портфель кредитів'!D153","v":""},{"$f":"'1.Портфель кредитів'!#REF!","v":{"$error":"#REF!"}},{"$f":"'1.Портфель кредитів'!#REF!","v":{"$error":"#REF!"}},{"$f":"'1.Портфель кредитів'!#REF!","v":{"$error":"#REF!"}},{"$f":"'1.Портфель кредитів'!I153","v":0},{"$f":"'1.Портфель кредитів'!W153","v":0},{"$f":"'1.Портфель кредитів'!Y153","v":""},4,"2018-06-01","_4_43252_2"]
[{"$f":"'1.Портфель кредитів'!H154","v":0},{"$f":"'1.Портфель кредитів'!D154","v":""},{"$f":"'1.Портфель кредитів'!#REF!","v":{"$error":"#REF!"}},{"$f":"'1.Портфель кредитів'!#REF!","v":{"$error":"#REF!"}},{"$f":"'1.Портфель кредитів'!#REF!","v":{"$error":"#REF!"}},{"$f":"'1.Портфель кредитів'!I154","v":0},{"$f":"'1.Портфель кредитів'!W154","v":0},{"$f":"'1.Портфель кредитів'!Y154","v":""},4,"2018-06-01","_4_43252_2"]
[{"$f":"'1.Портфель кредитів'!H155","v":0},{"$f":"'1.Портфель кредитів'!D155","v":""},{"$f":"'1.Портфель кредитів'!#REF!","v":{"$error":"#REF!"}},{"$f":"'1.Портфель кредитів'!#REF!","v":{"$error":"#REF!"}},{"$f":"'1.Портфель кредитів'!#REF!","v":{"$error":"#REF!"}},{"$f":"'1.Портфель кредитів'!I155","v":0},{"$f":"'1.Портфель кредитів'!W155","v":0},{"$f":"'1.Портфель кредитів'!Y155","v":""},4,"2018-06-01","_4_43252_2"]
[{"$f":"'1.Портфель кредитів'!H156","v":0},{"$f":"'1.Портфель кредитів'!D156","v":""},{"$f":"'1.Портфель кредитів'!#REF!","v":{"$error":"#REF!"}},{"$f":"'1.Портфель кредитів'!#REF!","v":{"$error":"#REF!"}},{"$f":"'1.Портфель кредитів'!#REF!","v":{"$error":"#REF!"}},{"$f":"'1.Портфель кредитів'!I156","v":0},{"$f":"'1.Портфель кредитів'!W156","v":0},{"$f":"'1.Портфель кредитів'!Y156","v":""},4,"2018-06-01","_4_43252_2"]
[{"$f":"'1.Портфель кредитів'!H157","v":0},{"$f":"'1.Портфель кредитів'!D157","v":""},{"$f":"'1.Портфель кредитів'!#REF!","v":{"$error":"#REF!"}},{"$f":"'1.Портфель кредитів'!#REF!","v":{"$error":"#REF!"}},{"$f":"'1.Портфель кредитів'!#REF!","v":{"$error":"#REF!"}},{"$f":"'1.Портфель кредитів'!I157","v":0},{"$f":"'1.Портфель кредитів'!W157","v":0},{"$f":"'1.Портфель кредитів'!Y157","v":""},4,"2018-06-01","_4_43252_2"]
[{"$f":"'1.Портфель кредитів'!H158","v":0},{"$f":"'1.Портфель кредитів'!D158","v":""},{"$f":"'1.Портфель кредитів'!#REF!","v":{"$error":"#REF!"}},{"$f":"'1.Портфель кредитів'!#REF!","v":{"$error":"#REF!"}},{"$f":"'1.Портфель кредитів'!#REF!","v":{"$error":"#REF!"}},{"$f":"'1.Портфель кредитів'!I158","v":0},{"$f":"'1.Портфель кредитів'!W158","v":0},{"$f":"'1.Портфель кредитів'!Y158","v":""},4,"2018-06-01","_4_43252_2"]
[{"$f":"'1.Портфель кредитів'!H159","v":0},{"$f":"'1.Портфель кредитів'!D159","v":""},{"$f":"'1.Портфель кредитів'!#REF!","v":{"$error":"#REF!"}},{"$f":"'1.Портфель кредитів'!#REF!","v":{"$error":"#REF!"}},{"$f":"'1.Портфель кредитів'!#REF!","v":{"$error":"#REF!"}},{"$f":"'1.Портфель кредитів'!I159","v":0},{"$f":"'1.Портфель кредитів'!W159","v":0},{"$f":"'1.Портфель кредитів'!Y159","v":""},4,"2018-06-01","_4_43252_2"]
[{"$f":"'1.Портфель кредитів'!H160","v":0},{"$f":"'1.Портфель кредитів'!D160","v":""},{"$f":"'1.Портфель кредитів'!#REF!","v":{"$error":"#REF!"}},{"$f":"'1.Портфель кредитів'!#REF!","v":{"$error":"#REF!"}},{"$f":"'1.Портфель кредитів'!#REF!","v":{"$error":"#REF!"}},{"$f":"'1.Портфель кредитів'!I160","v":0},{"$f":"'1.Портфель кредитів'!W160","v":0},{"$f":"'1.Портфель кредитів'!Y160","v":""},4,"2018-06-01","_4_43252_2"]
[{"$f":"'1.Портфель кредитів'!H161","v":0},{"$f":"'1.Портфель кредитів'!D161","v":""},{"$f":"'1.Портфель кредитів'!#REF!","v":{"$error":"#REF!"}},{"$f":"'1.Портфель кредитів'!#REF!","v":{"$error":"#REF!"}},{"$f":"'1.Портфель кредитів'!#REF!","v":{"$error":"#REF!"}},{"$f":"'1.Портфель кредитів'!I161","v":0},{"$f":"'1.Портфель кредитів'!W161","v":0},{"$f":"'1.Портфель кредитів'!Y161","v":""},4,"2018-06-01","_4_43252_2"]
[{"$f":"'1.Портфель кредитів'!H162","v":0},{"$f":"'1.Портфель кредитів'!D162","v":""},{"$f":"'1.Портфель кредитів'!#REF!","v":{"$error":"#REF!"}},{"$f":"'1.Портфель кредитів'!#REF!","v":{"$error":"#REF!"}},{"$f":"'1.Портфель кредитів'!#REF!","v":{"$error":"#REF!"}},{"$f":"'1.Портфель кредитів'!I162","v":0},{"$f":"'1.Портфель кредитів'!W162","v":0},{"$f":"'1.Портфель кредитів'!Y162","v":""},4,"2018-06-01","_4_43252_2"]
[{"$f":"'1.Портфель кредитів'!H163","v":0},{"$f":"'1.Портфель кредитів'!D163","v":""},{"$f":"'1.Портфель кредитів'!#REF!","v":{"$error":"#REF!"}},{"$f":"'1.Портфель кредитів'!#REF!","v":{"$error":"#REF!"}},{"$f":"'1.Портфель кредитів'!#REF!","v":{"$error":"#REF!"}},{"$f":"'1.Портфель кредитів'!I163","v":0},{"$f":"'1.Портфель кредитів'!W163","v":0},{"$f":"'1.Портфель кредитів'!Y163","v":""},4,"2018-06-01","_4_43252_2"]
[{"$f":"'1.Портфель кредитів'!H164","v":0},{"$f":"'1.Портфель кредитів'!D164","v":""},{"$f":"'1.Портфель кредитів'!#REF!","v":{"$error":"#REF!"}},{"$f":"'1.Портфель кредитів'!#REF!","v":{"$error":"#REF!"}},{"$f":"'1.Портфель кредитів'!#REF!","v":{"$error":"#REF!"}},{"$f":"'1.Портфель кредитів'!I164","v":0},{"$f":"'1.Портфель кредитів'!W164","v":0},{"$f":"'1.Портфель кредитів'!Y164","v":""},4,"2018-06-01","_4_43252_2"]
[{"$f":"'1.Портфель кредитів'!H165","v":0},{"$f":"'1.Портфель кредитів'!D165","v":""},{"$f":"'1.Портфель кредитів'!#REF!","v":{"$error":"#REF!"}},{"$f":"'1.Портфель кредитів'!#REF!","v":{"$error":"#REF!"}},{"$f":"'1.Портфель кредитів'!#REF!","v":{"$error":"#REF!"}},{"$f":"'1.Портфель кредитів'!I165","v":0},{"$f":"'1.Портфель кредитів'!W165","v":0},{"$f":"'1.Портфель кредитів'!Y165","v":""},4,"2018-06-01","_4_43252_2"]
[{"$f":"'1.Портфель кредитів'!H166","v":0},{"$f":"'1.Портфель кредитів'!D166","v":""},{"$f":"'1.Портфель кредитів'!#REF!","v":{"$error":"#REF!"}},{"$f":"'1.Портфель кредитів'!#REF!","v":{"$error":"#REF!"}},{"$f":"'1.Портфель кредитів'!#REF!","v":{"$error":"#REF!"}},{"$f":"'1.Портфель кредитів'!I166","v":0},{"$f":"'1.Портфель кредитів'!W166","v":0},{"$f":"'1.Портфель кредитів'!Y166","v":""},4,"2018-06-01","_4_43252_2"]
[{"$f":"'1.Портфель кредитів'!H167","v":0},{"$f":"'1.Портфель кредитів'!D167","v":""},{"$f":"'1.Портфель кредитів'!#REF!","v":{"$error":"#REF!"}},{"$f":"'1.Портфель кредитів'!#REF!","v":{"$error":"#REF!"}},{"$f":"'1.Портфель кредитів'!#REF!","v":{"$error":"#REF!"}},{"$f":"'1.Портфель кредитів'!I167","v":0},{"$f":"'1.Портфель кредитів'!W167","v":0},{"$f":"'1.Портфель кредитів'!Y167","v":""},4,"2018-06-01","_4_43252_2"]
[{"$f":"'1.Портфель кредитів'!H168","v":0},{"$f":"'1.Портфель кредитів'!D168","v":""},{"$f":"'1.Портфель кредитів'!#REF!","v":{"$error":"#REF!"}},{"$f":"'1.Портфель кредитів'!#REF!","v":{"$error":"#REF!"}},{"$f":"'1.Портфель кредитів'!#REF!","v":{"$error":"#REF!"}},{"$f":"'1.Портфель кредитів'!I168","v":0},{"$f":"'1.Портфель кредитів'!W168","v":0},{"$f":"'1.Портфель кредитів'!Y168","v":""},4,"2018-06-01","_4_43252_2"]
[{"$f":"'1.Портфель кредитів'!H169","v":0},{"$f":"'1.Портфель кредитів'!D169","v":""},{"$f":"'1.Портфель кредитів'!#REF!","v":{"$error":"#REF!"}},{"$f":"'1.Портфель кредитів'!#REF!","v":{"$error":"#REF!"}},{"$f":"'1.Портфель кредитів'!#REF!","v":{"$error":"#REF!"}},{"$f":"'1.Портфель кредитів'!I169","v":0},{"$f":"'1.Портфель кредитів'!W169","v":0},{"$f":"'1.Портфель кредитів'!Y169","v":""},4,"2018-06-01","_4_43252_2"]
[{"$f":"'1.Портфель кредитів'!H170","v":0},{"$f":"'1.Портфель кредитів'!D170","v":""},{"$f":"'1.Портфель кредитів'!#REF!","v":{"$error":"#REF!"}},{"$f":"'1.Портфель кредитів'!#REF!","v":{"$error":"#REF!"}},{"$f":"'1.Портфель кредитів'!#REF!","v":{"$error":"#REF!"}},{"$f":"'1.Портфель кредитів'!I170","v":0},{"$f":"'1.Портфель кредитів'!W170","v":0},{"$f":"'1.Портфель кредитів'!Y170","v":""},4,"2018-06-01","_4_43252_2"]
[{"$f":"'1.Портфель кредитів'!H171","v":0},{"$f":"'1.Портфель кредитів'!D171","v":""},{"$f":"'1.Портфель кредитів'!#REF!","v":{"$error":"#REF!"}},{"$f":"'1.Портфель кредитів'!#REF!","v":{"$error":"#REF!"}},{"$f":"'1.Портфель кредитів'!#REF!","v":{"$error":"#REF!"}},{"$f":"'1.Портфель кредитів'!I171","v":0},{"$f":"'1.Портфель кредитів'!W171","v":0},{"$f":"'1.Портфель кредитів'!Y171","v":""},4,"2018-06-01","_4_43252_2"]
[{"$f":"'1.Портфель кредитів'!H172","v":0},{"$f":"'1.Портфель кредитів'!D172","v":""},{"$f":"'1.Портфель кредитів'!#REF!","v":{"$error":"#REF!"}},{"$f":"'1.Портфель кредитів'!#REF!","v":{"$error":"#REF!"}},{"$f":"'1.Портфель кредитів'!#REF!","v":{"$error":"#REF!"}},{"$f":"'1.Портфель кредитів'!I172","v":0},{"$f":"'1.Портфель кредитів'!W172","v":0},{"$f":"'1.Портфель кредитів'!Y172","v":""},4,"2018-06-01","_4_43252_2"]
[{"$f":"'1.Портфель кредитів'!H173","v":0},{"$f":"'1.Портфель кредитів'!D173","v":""},{"$f":"'1.Портфель кредитів'!#REF!","v":{"$error":"#REF!"}},{"$f":"'1.Портфель кредитів'!#REF!","v":{"$error":"#REF!"}},{"$f":"'1.Портфель кредитів'!#REF!","v":{"$error":"#REF!"}},{"$f":"'1.Портфель кредитів'!I173","v":0},{"$f":"'1.Портфель кредитів'!W173","v":0},{"$f":"'1.Портфель кредитів'!Y173","v":""},4,"2018-06-01","_4_43252_2"]
[{"$f":"'1.Портфель кредитів'!H174","v":0},{"$f":"'1.Портфель кредитів'!D174","v":""},{"$f":"'1.Портфель кредитів'!#REF!","v":{"$error":"#REF!"}},{"$f":"'1.Портфель кредитів'!#REF!","v":{"$error":"#REF!"}},{"$f":"'1.Портфель кредитів'!#REF!","v":{"$error":"#REF!"}},{"$f":"'1.Портфель кредитів'!I174","v":0},{"$f":"'1.Портфель кредитів'!W174","v":0},{"$f":"'1.Портфель кредитів'!Y174","v":""},4,"2018-06-01","_4_43252_2"]
[{"$f":"'1.Портфель кредитів'!H175","v":0},{"$f":"'1.Портфель кредитів'!D175","v":""},{"$f":"'1.Портфель кредитів'!#REF!","v":{"$error":"#REF!"}},{"$f":"'1.Портфель кредитів'!#REF!","v":{"$error":"#REF!"}},{"$f":"'1.Портфель кредитів'!#REF!","v":{"$error":"#REF!"}},{"$f":"'1.Портфель кредитів'!I175","v":0},{"$f":"'1.Портфель кредитів'!W175","v":0},{"$f":"'1.Портфель кредитів'!Y175","v":""},4,"2018-06-01","_4_43252_2"]
[{"$f":"'1.Портфель кредитів'!H176","v":0},{"$f":"'1.Портфель кредитів'!D176","v":""},{"$f":"'1.Портфель кредитів'!#REF!","v":{"$error":"#REF!"}},{"$f":"'1.Портфель кредитів'!#REF!","v":{"$error":"#REF!"}},{"$f":"'1.Портфель кредитів'!#REF!","v":{"$error":"#REF!"}},{"$f":"'1.Портфель кредитів'!I176","v":0},{"$f":"'1.Портфель кредитів'!W176","v":0},{"$f":"'1.Портфель кредитів'!Y176","v":""},4,"2018-06-01","_4_43252_2"]
[{"$f":"'1.Портфель кредитів'!H177","v":0},{"$f":"'1.Портфель кредитів'!D177","v":""},{"$f":"'1.Портфель кредитів'!#REF!","v":{"$error":"#REF!"}},{"$f":"'1.Портфель кредитів'!#REF!","v":{"$error":"#REF!"}},{"$f":"'1.Портфель кредитів'!#REF!","v":{"$error":"#REF!"}},{"$f":"'1.Портфель кредитів'!I177","v":0},{"$f":"'1.Портфель кредитів'!W177","v":0},{"$f":"'1.Портфель кредитів'!Y177","v":""},4,"2018-06-01","_4_43252_2"]
[{"$f":"'1.Портфель кредитів'!H178","v":0},{"$f":"'1.Портфель кредитів'!D178","v":""},{"$f":"'1.Портфель кредитів'!#REF!","v":{"$error":"#REF!"}},{"$f":"'1.Портфель кредитів'!#REF!","v":{"$error":"#REF!"}},{"$f":"'1.Портфель кредитів'!#REF!","v":{"$error":"#REF!"}},{"$f":"'1.Портфель кредитів'!I178","v":0},{"$f":"'1.Портфель кредитів'!W178","v":0},{"$f":"'1.Портфель кредитів'!Y178","v":""},4,"2018-06-01","_4_43252_2"]
[{"$f":"'1.Портфель кредитів'!H179","v":0},{"$f":"'1.Портфель кредитів'!D179","v":""},{"$f":"'1.Портфель кредитів'!#REF!","v":{"$error":"#REF!"}},{"$f":"'1.Портфель кредитів'!#REF!","v":{"$error":"#REF!"}},{"$f":"'1.Портфель кредитів'!#REF!","v":{"$error":"#REF!"}},{"$f":"'1.Портфель кредитів'!I179","v":0},{"$f":"'1.Портфель кредитів'!W179","v":0},{"$f":"'1.Портфель кредитів'!Y179","v":""},4,"2018-06-01","_4_43252_2"]
[{"$f":"'1.Портфель кредитів'!H180","v":0},{"$f":"'1.Портфель кредитів'!D180","v":""},{"$f":"'1.Портфель кредитів'!#REF!","v":{"$error":"#REF!"}},{"$f":"'1.Портфель кредитів'!#REF!","v":{"$error":"#REF!"}},{"$f":"'1.Портфель кредитів'!#REF!","v":{"$error":"#REF!"}},{"$f":"'1.Портфель кредитів'!I180","v":0},{"$f":"'1.Портфель кредитів'!W180","v":0},{"$f":"'1.Портфель кредитів'!Y180","v":""},4,"2018-06-01","_4_43252_2"]
[{"$f":"'1.Портфель кредитів'!H181","v":0},{"$f":"'1.Портфель кредитів'!D181","v":""},{"$f":"'1.Портфель кредитів'!#REF!","v":{"$error":"#REF!"}},{"$f":"'1.Портфель кредитів'!#REF!","v":{"$error":"#REF!"}},{"$f":"'1.Портфель кредитів'!#REF!","v":{"$error":"#REF!"}},{"$f":"'1.Портфель кредитів'!I181","v":0},{"$f":"'1.Портфель кредитів'!W181","v":0},{"$f":"'1.Портфель кредитів'!Y181","v":""},4,"2018-06-01","_4_43252_2"]
[{"$f":"'1.Портфель кредитів'!H182","v":0},{"$f":"'1.Портфель кредитів'!D182","v":""},{"$f":"'1.Портфель кредитів'!#REF!","v":{"$error":"#REF!"}},{"$f":"'1.Портфель кредитів'!#REF!","v":{"$error":"#REF!"}},{"$f":"'1.Портфель кредитів'!#REF!","v":{"$error":"#REF!"}},{"$f":"'1.Портфель кредитів'!I182","v":0},{"$f":"'1.Портфель кредитів'!W182","v":0},{"$f":"'1.Портфель кредитів'!Y182","v":""},4,"2018-06-01","_4_43252_2"]
[{"$f":"'1.Портфель кредитів'!H183","v":0},{"$f":"'1.Портфель кредитів'!D183","v":""},{"$f":"'1.Портфель кредитів'!#REF!","v":{"$error":"#REF!"}},{"$f":"'1.Портфель кредитів'!#REF!","v":{"$error":"#REF!"}},{"$f":"'1.Портфель кредитів'!#REF!","v":{"$error":"#REF!"}},{"$f":"'1.Портфель кредитів'!I183","v":0},{"$f":"'1.Портфель кредитів'!W183","v":0},{"$f":"'1.Портфель кредитів'!Y183","v":""},4,"2018-06-01","_4_43252_2"]
[{"$f":"'1.Портфель кредитів'!H184","v":0},{"$f":"'1.Портфель кредитів'!D184","v":""},{"$f":"'1.Портфель кредитів'!#REF!","v":{"$error":"#REF!"}},{"$f":"'1.Портфель кредитів'!#REF!","v":{"$error":"#REF!"}},{"$f":"'1.Портфель кредитів'!#REF!","v":{"$error":"#REF!"}},{"$f":"'1.Портфель кредитів'!I184","v":0},{"$f":"'1.Портфель кредитів'!W184","v":0},{"$f":"'1.Портфель кредитів'!Y184","v":""},4,"2018-06-01","_4_43252_2"]
[{"$f":"'1.Портфель кредитів'!H185","v":0},{"$f":"'1.Портфель кредитів'!D185","v":""},{"$f":"'1.Портфель кредитів'!#REF!","v":{"$error":"#REF!"}},{"$f":"'1.Портфель кредитів'!#REF!","v":{"$error":"#REF!"}},{"$f":"'1.Портфель кредитів'!#REF!","v":{"$error":"#REF!"}},{"$f":"'1.Портфель кредитів'!I185","v":0},{"$f":"'1.Портфель кредитів'!W185","v":0},{"$f":"'1.Портфель кредитів'!Y185","v":""},4,"2018-06-01","_4_43252_2"]
[{"$f":"'1.Портфель кредитів'!H186","v":0},{"$f":"'1.Портфель кредитів'!D186","v":""},{"$f":"'1.Портфель кредитів'!#REF!","v":{"$error":"#REF!"}},{"$f":"'1.Портфель кредитів'!#REF!","v":{"$error":"#REF!"}},{"$f":"'1.Портфель кредитів'!#REF!","v":{"$error":"#REF!"}},{"$f":"'1.Портфель кредитів'!I186","v":0},{"$f":"'1.Портфель кредитів'!W186","v":0},{"$f":"'1.Портфель кредитів'!Y186","v":""},4,"2018-06-01","_4_43252_2"]
[{"$f":"'1.Портфель кредитів'!H187","v":0},{"$f":"'1.Портфель кредитів'!D187","v":""},{"$f":"'1.Портфель кредитів'!#REF!","v":{"$error":"#REF!"}},{"$f":"'1.Портфель кредитів'!#REF!","v":{"$error":"#REF!"}},{"$f":"'1.Портфель кредитів'!#REF!","v":{"$error":"#REF!"}},{"$f":"'1.Портфель кредитів'!I187","v":0},{"$f":"'1.Портфель кредитів'!W187","v":0},{"$f":"'1.Портфель кредитів'!Y187","v":""},4,"2018-06-01","_4_43252_2"]
[{"$f":"'1.Портфель кредитів'!H188","v":0},{"$f":"'1.Портфель кредитів'!D188","v":""},{"$f":"'1.Портфель кредитів'!#REF!","v":{"$error":"#REF!"}},{"$f":"'1.Портфель кредитів'!#REF!","v":{"$error":"#REF!"}},{"$f":"'1.Портфель кредитів'!#REF!","v":{"$error":"#REF!"}},{"$f":"'1.Портфель кредитів'!I188","v":0},{"$f":"'1.Портфель кредитів'!W188","v":0},{"$f":"'1.Портфель кредитів'!Y188","v":""},4,"2018-06-01","_4_43252_2"]
[{"$f":"'1.Портфель кредитів'!H189","v":0},{"$f":"'1.Портфель кредитів'!D189","v":""},{"$f":"'1.Портфель кредитів'!#REF!","v":{"$error":"#REF!"}},{"$f":"'1.Портфель кредитів'!#REF!","v":{"$error":"#REF!"}},{"$f":"'1.Портфель кредитів'!#REF!","v":{"$error":"#REF!"}},{"$f":"'1.Портфель кредитів'!I189","v":0},{"$f":"'1.Портфель кредитів'!W189","v":0},{"$f":"'1.Портфель кредитів'!Y189","v":""},4,"2018-06-01","_4_43252_2"]
[{"$f":"'1.Портфель кредитів'!H190","v":0},{"$f":"'1.Портфель кредитів'!D190","v":""},{"$f":"'1.Портфель кредитів'!#REF!","v":{"$error":"#REF!"}},{"$f":"'1.Портфель кредитів'!#REF!","v":{"$error":"#REF!"}},{"$f":"'1.Портфель кредитів'!#REF!","v":{"$error":"#REF!"}},{"$f":"'1.Портфель кредитів'!I190","v":0},{"$f":"'1.Портфель кредитів'!W190","v":0},{"$f":"'1.Портфель кредитів'!Y190","v":""},4,"2018-06-01","_4_43252_2"]
[{"$f":"'1.Портфель кредитів'!H191","v":0},{"$f":"'1.Портфель кредитів'!D191","v":""},{"$f":"'1.Портфель кредитів'!#REF!","v":{"$error":"#REF!"}},{"$f":"'1.Портфель кредитів'!#REF!","v":{"$error":"#REF!"}},{"$f":"'1.Портфель кредитів'!#REF!","v":{"$error":"#REF!"}},{"$f":"'1.Портфель кредитів'!I191","v":0},{"$f":"'1.Портфель кредитів'!W191","v":0},{"$f":"'1.Портфель кредитів'!Y191","v":""},4,"2018-06-01","_4_43252_2"]
[{"$f":"'1.Портфель кредитів'!H192","v":0},{"$f":"'1.Портфель кредитів'!D192","v":""},{"$f":"'1.Портфель кредитів'!#REF!","v":{"$error":"#REF!"}},{"$f":"'1.Портфель кредитів'!#REF!","v":{"$error":"#REF!"}},{"$f":"'1.Портфель кредитів'!#REF!","v":{"$error":"#REF!"}},{"$f":"'1.Портфель кредитів'!I192","v":0},{"$f":"'1.Портфель кредитів'!W192","v":0},{"$f":"'1.Портфель кредитів'!Y192","v":""},4,"2018-06-01","_4_43252_2"]
[{"$f":"'1.Портфель кредитів'!H193","v":0},{"$f":"'1.Портфель кредитів'!D193","v":""},{"$f":"'1.Портфель кредитів'!#REF!","v":{"$error":"#REF!"}},{"$f":"'1.Портфель кредитів'!#REF!","v":{"$error":"#REF!"}},{"$f":"'1.Портфель кредитів'!#REF!","v":{"$error":"#REF!"}},{"$f":"'1.Портфель кредитів'!I193","v":0},{"$f":"'1.Портфель кредитів'!W193","v":0},{"$f":"'1.Портфель кредитів'!Y193","v":""},4,"2018-06-01","_4_43252_2"]
[{"$f":"'1.Портфель кредитів'!H194","v":0},{"$f":"'1.Портфель кредитів'!D194","v":""},{"$f":"'1.Портфель кредитів'!#REF!","v":{"$error":"#REF!"}},{"$f":"'1.Портфель кредитів'!#REF!","v":{"$error":"#REF!"}},{"$f":"'1.Портфель кредитів'!#REF!","v":{"$error":"#REF!"}},{"$f":"'1.Портфель кредитів'!I194","v":0},{"$f":"'1.Портфель кредитів'!W194","v":0},{"$f":"'1.Портфель кредитів'!Y194","v":""},4,"2018-06-01","_4_43252_2"]
[{"$f":"'1.Портфель кредитів'!H195","v":0},{"$f":"'1.Портфель кредитів'!D195","v":""},{"$f":"'1.Портфель кредитів'!#REF!","v":{"$error":"#REF!"}},{"$f":"'1.Портфель кредитів'!#REF!","v":{"$error":"#REF!"}},{"$f":"'1.Портфель кредитів'!#REF!","v":{"$error":"#REF!"}},{"$f":"'1.Портфель кредитів'!I195","v":0},{"$f":"'1.Портфель кредитів'!W195","v":0},{"$f":"'1.Портфель кредитів'!Y195","v":""},4,"2018-06-01","_4_43252_2"]
[{"$f":"'1.Портфель кредитів'!H196","v":0},{"$f":"'1.Портфель кредитів'!D196","v":""},{"$f":"'1.Портфель кредитів'!#REF!","v":{"$error":"#REF!"}},{"$f":"'1.Портфель кредитів'!#REF!","v":{"$error":"#REF!"}},{"$f":"'1.Портфель кредитів'!#REF!","v":{"$error":"#REF!"}},{"$f":"'1.Портфель кредитів'!I196","v":0},{"$f":"'1.Портфель кредитів'!W196","v":0},{"$f":"'1.Портфель кредитів'!Y196","v":""},4,"2018-06-01","_4_43252_2"]
[{"$f":"'1.Портфель кредитів'!H197","v":0},{"$f":"'1.Портфель кредитів'!D197","v":""},{"$f":"'1.Портфель кредитів'!#REF!","v":{"$error":"#REF!"}},{"$f":"'1.Портфель кредитів'!#REF!","v":{"$error":"#REF!"}},{"$f":"'1.Портфель кредитів'!#REF!","v":{"$error":"#REF!"}},{"$f":"'1.Портфель кредитів'!I197","v":0},{"$f":"'1.Портфель кредитів'!W197","v":0},{"$f":"'1.Портфель кредитів'!Y197","v":""},4,"2018-06-01","_4_43252_2"]
[{"$f":"'1.Портфель кредитів'!H198","v":0},{"$f":"'1.Портфель кредитів'!D198","v":""},{"$f":"'1.Портфель кредитів'!#REF!","v":{"$error":"#REF!"}},{"$f":"'1.Портфель кредитів'!#REF!","v":{"$error":"#REF!"}},{"$f":"'1.Портфель кредитів'!#REF!","v":{"$error":"#REF!"}},{"$f":"'1.Портфель кредитів'!I198","v":0},{"$f":"'1.Портфель кредитів'!W198","v":0},{"$f":"'1.Портфель кредитів'!Y198","v":""},4,"2018-06-01","_4_43252_2"]
[{"$f":"'1.Портфель кредитів'!H199","v":0},{"$f":"'1.Портфель кредитів'!D199","v":""},{"$f":"'1.Портфель кредитів'!#REF!","v":{"$error":"#REF!"}},{"$f":"'1.Портфель кредитів'!#REF!","v":{"$error":"#REF!"}},{"$f":"'1.Портфель кредитів'!#REF!","v":{"$error":"#REF!"}},{"$f":"'1.Портфель кредитів'!I199","v":0},{"$f":"'1.Портфель кредитів'!W199","v":0},{"$f":"'1.Портфель кредитів'!Y199","v":""},4,"2018-06-01","_4_43252_2"]
[{"$f":"'1.Портфель кредитів'!H200","v":0},{"$f":"'1.Портфель кредитів'!D200","v":""},{"$f":"'1.Портфель кредитів'!#REF!","v":{"$error":"#REF!"}},{"$f":"'1.Портфель кредитів'!#REF!","v":{"$error":"#REF!"}},{"$f":"'1.Портфель кредитів'!#REF!","v":{"$error":"#REF!"}},{"$f":"'1.Портфель кредитів'!I200","v":0},{"$f":"'1.Портфель кредитів'!W200","v":0},{"$f":"'1.Портфель кредитів'!Y200","v":""},4,"2018-06-01","_4_43252_2"]
[{"$f":"'1.Портфель кредитів'!H201","v":0},{"$f":"'1.Портфель кредитів'!D201","v":""},{"$f":"'1.Портфель кредитів'!#REF!","v":{"$error":"#REF!"}},{"$f":"'1.Портфель кредитів'!#REF!","v":{"$error":"#REF!"}},{"$f":"'1.Портфель кредитів'!#REF!","v":{"$error":"#REF!"}},{"$f":"'1.Портфель кредитів'!I201","v":0},{"$f":"'1.Портфель кредитів'!W201","v":0},{"$f":"'1.Портфель кредитів'!Y201","v":""},4,"2018-06-01","_4_43252_2"]
[{"$f":"'1.Портфель кредитів'!H202","v":0},{"$f":"'1.Портфель кредитів'!D202","v":""},{"$f":"'1.Портфель кредитів'!#REF!","v":{"$error":"#REF!"}},{"$f":"'1.Портфель кредитів'!#REF!","v":{"$error":"#REF!"}},{"$f":"'1.Портфель кредитів'!#REF!","v":{"$error":"#REF!"}},{"$f":"'1.Портфель кредитів'!I202","v":0},{"$f":"'1.Портфель кредитів'!W202","v":0},{"$f":"'1.Портфель кредитів'!Y202","v":""},4,"2018-06-01","_4_43252_2"]
[{"$f":"'1.Портфель кредитів'!H203","v":0},{"$f":"'1.Портфель кредитів'!D203","v":""},{"$f":"'1.Портфель кредитів'!#REF!","v":{"$error":"#REF!"}},{"$f":"'1.Портфель кредитів'!#REF!","v":{"$error":"#REF!"}},{"$f":"'1.Портфель кредитів'!#REF!","v":{"$error":"#REF!"}},{"$f":"'1.Портфель кредитів'!I203","v":0},{"$f":"'1.Портфель кредитів'!W203","v":0},{"$f":"'1.Портфель кредитів'!Y203","v":""},4,"2018-06-01","_4_43252_2"]
[{"$f":"'1.Портфель кредитів'!H204","v":0},{"$f":"'1.Портфель кредитів'!D204","v":""},{"$f":"'1.Портфель кредитів'!#REF!","v":{"$error":"#REF!"}},{"$f":"'1.Портфель кредитів'!#REF!","v":{"$error":"#REF!"}},{"$f":"'1.Портфель кредитів'!#REF!","v":{"$error":"#REF!"}},{"$f":"'1.Портфель кредитів'!I204","v":0},{"$f":"'1.Портфель кредитів'!W204","v":0},{"$f":"'1.Портфель кредитів'!Y204","v":""},4,"2018-06-01","_4_43252_2"]
[{"$f":"'1.Портфель кредитів'!H205","v":0},{"$f":"'1.Портфель кредитів'!D205","v":""},{"$f":"'1.Портфель кредитів'!#REF!","v":{"$error":"#REF!"}},{"$f":"'1.Портфель кредитів'!#REF!","v":{"$error":"#REF!"}},{"$f":"'1.Портфель кредитів'!#REF!","v":{"$error":"#REF!"}},{"$f":"'1.Портфель кредитів'!I205","v":0},{"$f":"'1.Портфель кредитів'!W205","v":0},{"$f":"'1.Портфель кредитів'!Y205","v":""},4,"2018-06-01","_4_43252_2"]
[{"$f":"'1.Портфель кредитів'!H206","v":0},{"$f":"'1.Портфель кредитів'!D206","v":""},{"$f":"'1.Портфель кредитів'!#REF!","v":{"$error":"#REF!"}},{"$f":"'1.Портфель кредитів'!#REF!","v":{"$error":"#REF!"}},{"$f":"'1.Портфель кредитів'!#REF!","v":{"$error":"#REF!"}},{"$f":"'1.Портфель кредитів'!I206","v":0},{"$f":"'1.Портфель кредитів'!W206","v":0},{"$f":"'1.Портфель кредитів'!Y206","v":""},4,"2018-06-01","_4_43252_2"]
[{"$f":"'1.Портфель кредитів'!H207","v":0},{"$f":"'1.Портфель кредитів'!D207","v":""},{"$f":"'1.Портфель кредитів'!#REF!","v":{"$error":"#REF!"}},{"$f":"'1.Портфель кредитів'!#REF!","v":{"$error":"#REF!"}},{"$f":"'1.Портфель кредитів'!#REF!","v":{"$error":"#REF!"}},{"$f":"'1.Портфель кредитів'!I207","v":0},{"$f":"'1.Портфель кредитів'!W207","v":0},{"$f":"'1.Портфель кредитів'!Y207","v":""},4,"2018-06-01","_4_43252_2"]
[{"$f":"'1.Портфель кредитів'!H208","v":0},{"$f":"'1.Портфель кредитів'!D208","v":""},{"$f":"'1.Портфель кредитів'!#REF!","v":{"$error":"#REF!"}},{"$f":"'1.Портфель кредитів'!#REF!","v":{"$error":"#REF!"}},{"$f":"'1.Портфель кредитів'!#REF!","v":{"$error":"#REF!"}},{"$f":"'1.Портфель кредитів'!I208","v":0},{"$f":"'1.Портфель кредитів'!W208","v":0},{"$f":"'1.Портфель кредитів'!Y208","v":""},{"$f":"$E$1","v":4},{"$f":"$E$2","v":"2018-06-01"},{"$f":"B262&\"_\"&I262&\"_\"&J262&\"_\"&$E$3","v":"_4_43252_2"}]
[{"$f":"'1.Портфель кредитів'!H209","v":0},{"$f":"'1.Портфель кредитів'!D209","v":""},{"$f":"'1.Портфель кредитів'!#REF!","v":{"$error":"#REF!"}},{"$f":"'1.Портфель кредитів'!#REF!","v":{"$error":"#REF!"}},{"$f":"'1.Портфель кредитів'!#REF!","v":{"$error":"#REF!"}},{"$f":"'1.Портфель кредитів'!I209","v":0},{"$f":"'1.Портфель кредитів'!W209","v":0},{"$f":"'1.Портфель кредитів'!Y209","v":""},4,"2018-06-01","_4_43252_2"]
[{"$f":"'1.Портфель кредитів'!H210","v":0},{"$f":"'1.Портфель кредитів'!D210","v":""},{"$f":"'1.Портфель кредитів'!#REF!","v":{"$error":"#REF!"}},{"$f":"'1.Портфель кредитів'!#REF!","v":{"$error":"#REF!"}},{"$f":"'1.Портфель кредитів'!#REF!","v":{"$error":"#REF!"}},{"$f":"'1.Портфель кредитів'!I210","v":0},{"$f":"'1.Портфель кредитів'!W210","v":0},{"$f":"'1.Портфель кредитів'!Y210","v":""},4,"2018-06-01","_4_43252_2"]
[{"$f":"'1.Портфель кредитів'!H211","v":0},{"$f":"'1.Портфель кредитів'!D211","v":""},{"$f":"'1.Портфель кредитів'!#REF!","v":{"$error":"#REF!"}},{"$f":"'1.Портфель кредитів'!#REF!","v":{"$error":"#REF!"}},{"$f":"'1.Портфель кредитів'!#REF!","v":{"$error":"#REF!"}},{"$f":"'1.Портфель кредитів'!I211","v":0},{"$f":"'1.Портфель кредитів'!W211","v":0},{"$f":"'1.Портфель кредитів'!Y211","v":""},4,"2018-06-01","_4_43252_2"]
[{"$f":"'1.Портфель кредитів'!H212","v":0},{"$f":"'1.Портфель кредитів'!D212","v":""},{"$f":"'1.Портфель кредитів'!#REF!","v":{"$error":"#REF!"}},{"$f":"'1.Портфель кредитів'!#REF!","v":{"$error":"#REF!"}},{"$f":"'1.Портфель кредитів'!#REF!","v":{"$error":"#REF!"}},{"$f":"'1.Портфель кредитів'!I212","v":0},{"$f":"'1.Портфель кредитів'!W212","v":0},{"$f":"'1.Портфель кредитів'!Y212","v":""},4,"2018-06-01","_4_43252_2"]
[{"$f":"'1.Портфель кредитів'!H213","v":0},{"$f":"'1.Портфель кредитів'!D213","v":""},{"$f":"'1.Портфель кредитів'!#REF!","v":{"$error":"#REF!"}},{"$f":"'1.Портфель кредитів'!#REF!","v":{"$error":"#REF!"}},{"$f":"'1.Портфель кредитів'!#REF!","v":{"$error":"#REF!"}},{"$f":"'1.Портфель кредитів'!I213","v":0},{"$f":"'1.Портфель кредитів'!W213","v":0},{"$f":"'1.Портфель кредитів'!Y213","v":""},4,"2018-06-01","_4_43252_2"]
[{"$f":"'1.Портфель кредитів'!H214","v":0},{"$f":"'1.Портфель кредитів'!D214","v":""},{"$f":"'1.Портфель кредитів'!#REF!","v":{"$error":"#REF!"}},{"$f":"'1.Портфель кредитів'!#REF!","v":{"$error":"#REF!"}},{"$f":"'1.Портфель кредитів'!#REF!","v":{"$error":"#REF!"}},{"$f":"'1.Портфель кредитів'!I214","v":0},{"$f":"'1.Портфель кредитів'!W214","v":0},{"$f":"'1.Портфель кредитів'!Y214","v":""},4,"2018-06-01","_4_43252_2"]
[{"$f":"'1.Портфель кредитів'!H215","v":0},{"$f":"'1.Портфель кредитів'!D215","v":""},{"$f":"'1.Портфель кредитів'!#REF!","v":{"$error":"#REF!"}},{"$f":"'1.Портфель кредитів'!#REF!","v":{"$error":"#REF!"}},{"$f":"'1.Портфель кредитів'!#REF!","v":{"$error":"#REF!"}},{"$f":"'1.Портфель кредитів'!I215","v":0},{"$f":"'1.Портфель кредитів'!W215","v":0},{"$f":"'1.Портфель кредитів'!Y215","v":""},4,"2018-06-01","_4_43252_2"]
[{"$f":"'1.Портфель кредитів'!H216","v":0},{"$f":"'1.Портфель кредитів'!D216","v":""},{"$f":"'1.Портфель кредитів'!#REF!","v":{"$error":"#REF!"}},{"$f":"'1.Портфель кредитів'!#REF!","v":{"$error":"#REF!"}},{"$f":"'1.Портфель кредитів'!#REF!","v":{"$error":"#REF!"}},{"$f":"'1.Портфель кредитів'!I216","v":0},{"$f":"'1.Портфель кредитів'!W216","v":0},{"$f":"'1.Портфель кредитів'!Y216","v":""},4,"2018-06-01","_4_43252_2"]
[{"$f":"'1.Портфель кредитів'!H217","v":0},{"$f":"'1.Портфель кредитів'!D217","v":""},{"$f":"'1.Портфель кредитів'!#REF!","v":{"$error":"#REF!"}},{"$f":"'1.Портфель кредитів'!#REF!","v":{"$error":"#REF!"}},{"$f":"'1.Портфель кредитів'!#REF!","v":{"$error":"#REF!"}},{"$f":"'1.Портфель кредитів'!I217","v":0},{"$f":"'1.Портфель кредитів'!W217","v":0},{"$f":"'1.Портфель кредитів'!Y217","v":""},4,"2018-06-01","_4_43252_2"]
[{"$f":"'1.Портфель кредитів'!H218","v":0},{"$f":"'1.Портфель кредитів'!D218","v":""},{"$f":"'1.Портфель кредитів'!#REF!","v":{"$error":"#REF!"}},{"$f":"'1.Портфель кредитів'!#REF!","v":{"$error":"#REF!"}},{"$f":"'1.Портфель кредитів'!#REF!","v":{"$error":"#REF!"}},{"$f":"'1.Портфель кредитів'!I218","v":0},{"$f":"'1.Портфель кредитів'!W218","v":0},{"$f":"'1.Портфель кредитів'!Y218","v":""},4,"2018-06-01","_4_43252_2"]
[{"$f":"'1.Портфель кредитів'!H219","v":0},{"$f":"'1.Портфель кредитів'!D219","v":""},{"$f":"'1.Портфель кредитів'!#REF!","v":{"$error":"#REF!"}},{"$f":"'1.Портфель кредитів'!#REF!","v":{"$error":"#REF!"}},{"$f":"'1.Портфель кредитів'!#REF!","v":{"$error":"#REF!"}},{"$f":"'1.Портфель кредитів'!I219","v":0},{"$f":"'1.Портфель кредитів'!W219","v":0},{"$f":"'1.Портфель кредитів'!Y219","v":""},4,"2018-06-01","_4_43252_2"]
[{"$f":"'1.Портфель кредитів'!H220","v":0},{"$f":"'1.Портфель кредитів'!D220","v":""},{"$f":"'1.Портфель кредитів'!#REF!","v":{"$error":"#REF!"}},{"$f":"'1.Портфель кредитів'!#REF!","v":{"$error":"#REF!"}},{"$f":"'1.Портфель кредитів'!#REF!","v":{"$error":"#REF!"}},{"$f":"'1.Портфель кредитів'!I220","v":0},{"$f":"'1.Портфель кредитів'!W220","v":0},{"$f":"'1.Портфель кредитів'!Y220","v":""},4,"2018-06-01","_4_43252_2"]
[{"$f":"'1.Портфель кредитів'!H221","v":0},{"$f":"'1.Портфель кредитів'!D221","v":""},{"$f":"'1.Портфель кредитів'!#REF!","v":{"$error":"#REF!"}},{"$f":"'1.Портфель кредитів'!#REF!","v":{"$error":"#REF!"}},{"$f":"'1.Портфель кредитів'!#REF!","v":{"$error":"#REF!"}},{"$f":"'1.Портфель кредитів'!I221","v":0},{"$f":"'1.Портфель кредитів'!W221","v":0},{"$f":"'1.Портфель кредитів'!Y221","v":""},4,"2018-06-01","_4_43252_2"]
[{"$f":"'1.Портфель кредитів'!H222","v":0},{"$f":"'1.Портфель кредитів'!D222","v":""},{"$f":"'1.Портфель кредитів'!#REF!","v":{"$error":"#REF!"}},{"$f":"'1.Портфель кредитів'!#REF!","v":{"$error":"#REF!"}},{"$f":"'1.Портфель кредитів'!#REF!","v":{"$error":"#REF!"}},{"$f":"'1.Портфель кредитів'!I222","v":0},{"$f":"'1.Портфель кредитів'!W222","v":0},{"$f":"'1.Портфель кредитів'!Y222","v":""},4,"2018-06-01","_4_43252_2"]
[{"$f":"'1.Портфель кредитів'!H223","v":0},{"$f":"'1.Портфель кредитів'!D223","v":""},{"$f":"'1.Портфель кредитів'!#REF!","v":{"$error":"#REF!"}},{"$f":"'1.Портфель кредитів'!#REF!","v":{"$error":"#REF!"}},{"$f":"'1.Портфель кредитів'!#REF!","v":{"$error":"#REF!"}},{"$f":"'1.Портфель кредитів'!I223","v":0},{"$f":"'1.Портфель кредитів'!W223","v":0},{"$f":"'1.Портфель кредитів'!Y223","v":""},4,"2018-06-01","_4_43252_2"]
[{"$f":"'1.Портфель кредитів'!H224","v":0},{"$f":"'1.Портфель кредитів'!D224","v":""},{"$f":"'1.Портфель кредитів'!#REF!","v":{"$error":"#REF!"}},{"$f":"'1.Портфель кредитів'!#REF!","v":{"$error":"#REF!"}},{"$f":"'1.Портфель кредитів'!#REF!","v":{"$error":"#REF!"}},{"$f":"'1.Портфель кредитів'!I224","v":0},{"$f":"'1.Портфель кредитів'!W224","v":0},{"$f":"'1.Портфель кредитів'!Y224","v":""},4,"2018-06-01","_4_43252_2"]
[{"$f":"'1.Портфель кредитів'!H225","v":0},{"$f":"'1.Портфель кредитів'!D225","v":""},{"$f":"'1.Портфель кредитів'!#REF!","v":{"$error":"#REF!"}},{"$f":"'1.Портфель кредитів'!#REF!","v":{"$error":"#REF!"}},{"$f":"'1.Портфель кредитів'!#REF!","v":{"$error":"#REF!"}},{"$f":"'1.Портфель кредитів'!I225","v":0},{"$f":"'1.Портфель кредитів'!W225","v":0},{"$f":"'1.Портфель кредитів'!Y225","v":""},4,"2018-06-01","_4_43252_2"]
[{"$f":"'1.Портфель кредитів'!H226","v":0},{"$f":"'1.Портфель кредитів'!D226","v":""},{"$f":"'1.Портфель кредитів'!#REF!","v":{"$error":"#REF!"}},{"$f":"'1.Портфель кредитів'!#REF!","v":{"$error":"#REF!"}},{"$f":"'1.Портфель кредитів'!#REF!","v":{"$error":"#REF!"}},{"$f":"'1.Портфель кредитів'!I226","v":0},{"$f":"'1.Портфель кредитів'!W226","v":0},{"$f":"'1.Портфель кредитів'!Y226","v":""},4,"2018-06-01","_4_43252_2"]
[{"$f":"'1.Портфель кредитів'!H227","v":0},{"$f":"'1.Портфель кредитів'!D227","v":""},{"$f":"'1.Портфель кредитів'!#REF!","v":{"$error":"#REF!"}},{"$f":"'1.Портфель кредитів'!#REF!","v":{"$error":"#REF!"}},{"$f":"'1.Портфель кредитів'!#REF!","v":{"$error":"#REF!"}},{"$f":"'1.Портфель кредитів'!I227","v":0},{"$f":"'1.Портфель кредитів'!W227","v":0},{"$f":"'1.Портфель кредитів'!Y227","v":""},4,"2018-06-01","_4_43252_2"]
[{"$f":"'1.Портфель кредитів'!H228","v":0},{"$f":"'1.Портфель кредитів'!D228","v":""},{"$f":"'1.Портфель кредитів'!#REF!","v":{"$error":"#REF!"}},{"$f":"'1.Портфель кредитів'!#REF!","v":{"$error":"#REF!"}},{"$f":"'1.Портфель кредитів'!#REF!","v":{"$error":"#REF!"}},{"$f":"'1.Портфель кредитів'!I228","v":0},{"$f":"'1.Портфель кредитів'!W228","v":0},{"$f":"'1.Портфель кредитів'!Y228","v":""},4,"2018-06-01","_4_43252_2"]
[{"$f":"'1.Портфель кредитів'!H229","v":0},{"$f":"'1.Портфель кредитів'!D229","v":""},{"$f":"'1.Портфель кредитів'!#REF!","v":{"$error":"#REF!"}},{"$f":"'1.Портфель кредитів'!#REF!","v":{"$error":"#REF!"}},{"$f":"'1.Портфель кредитів'!#REF!","v":{"$error":"#REF!"}},{"$f":"'1.Портфель кредитів'!I229","v":0},{"$f":"'1.Портфель кредитів'!W229","v":0},{"$f":"'1.Портфель кредитів'!Y229","v":""},4,"2018-06-01","_4_43252_2"]
[{"$f":"'1.Портфель кредитів'!H230","v":0},{"$f":"'1.Портфель кредитів'!D230","v":""},{"$f":"'1.Портфель кредитів'!#REF!","v":{"$error":"#REF!"}},{"$f":"'1.Портфель кредитів'!#REF!","v":{"$error":"#REF!"}},{"$f":"'1.Портфель кредитів'!#REF!","v":{"$error":"#REF!"}},{"$f":"'1.Портфель кредитів'!I230","v":0},{"$f":"'1.Портфель кредитів'!W230","v":0},{"$f":"'1.Портфель кредитів'!Y230","v":""},4,"2018-06-01","_4_43252_2"]
[{"$f":"'1.Портфель кредитів'!H231","v":0},{"$f":"'1.Портфель кредитів'!D231","v":""},{"$f":"'1.Портфель кредитів'!#REF!","v":{"$error":"#REF!"}},{"$f":"'1.Портфель кредитів'!#REF!","v":{"$error":"#REF!"}},{"$f":"'1.Портфель кредитів'!#REF!","v":{"$error":"#REF!"}},{"$f":"'1.Портфель кредитів'!I231","v":0},{"$f":"'1.Портфель кредитів'!W231","v":0},{"$f":"'1.Портфель кредитів'!Y231","v":""},4,"2018-06-01","_4_43252_2"]
[{"$f":"'1.Портфель кредитів'!H232","v":0},{"$f":"'1.Портфель кредитів'!D232","v":""},{"$f":"'1.Портфель кредитів'!#REF!","v":{"$error":"#REF!"}},{"$f":"'1.Портфель кредитів'!#REF!","v":{"$error":"#REF!"}},{"$f":"'1.Портфель кредитів'!#REF!","v":{"$error":"#REF!"}},{"$f":"'1.Портфель кредитів'!I232","v":0},{"$f":"'1.Портфель кредитів'!W232","v":0},{"$f":"'1.Портфель кредитів'!Y232","v":""},4,"2018-06-01","_4_43252_2"]
[{"$f":"'1.Портфель кредитів'!H233","v":0},{"$f":"'1.Портфель кредитів'!D233","v":""},{"$f":"'1.Портфель кредитів'!#REF!","v":{"$error":"#REF!"}},{"$f":"'1.Портфель кредитів'!#REF!","v":{"$error":"#REF!"}},{"$f":"'1.Портфель кредитів'!#REF!","v":{"$error":"#REF!"}},{"$f":"'1.Портфель кредитів'!I233","v":0},{"$f":"'1.Портфель кредитів'!W233","v":0},{"$f":"'1.Портфель кредитів'!Y233","v":""},4,"2018-06-01","_4_43252_2"]
[{"$f":"'1.Портфель кредитів'!H234","v":0},{"$f":"'1.Портфель кредитів'!D234","v":""},{"$f":"'1.Портфель кредитів'!#REF!","v":{"$error":"#REF!"}},{"$f":"'1.Портфель кредитів'!#REF!","v":{"$error":"#REF!"}},{"$f":"'1.Портфель кредитів'!#REF!","v":{"$error":"#REF!"}},{"$f":"'1.Портфель кредитів'!I234","v":0},{"$f":"'1.Портфель кредитів'!W234","v":0},{"$f":"'1.Портфель кредитів'!Y234","v":""},4,"2018-06-01","_4_43252_2"]
[{"$f":"'1.Портфель кредитів'!H235","v":0},{"$f":"'1.Портфель кредитів'!D235","v":""},{"$f":"'1.Портфель кредитів'!#REF!","v":{"$error":"#REF!"}},{"$f":"'1.Портфель кредитів'!#REF!","v":{"$error":"#REF!"}},{"$f":"'1.Портфель кредитів'!#REF!","v":{"$error":"#REF!"}},{"$f":"'1.Портфель кредитів'!I235","v":0},{"$f":"'1.Портфель кредитів'!W235","v":0},{"$f":"'1.Портфель кредитів'!Y235","v":""},4,"2018-06-01","_4_43252_2"]
[{"$f":"'1.Портфель кредитів'!H236","v":0},{"$f":"'1.Портфель кредитів'!D236","v":""},{"$f":"'1.Портфель кредитів'!#REF!","v":{"$error":"#REF!"}},{"$f":"'1.Портфель кредитів'!#REF!","v":{"$error":"#REF!"}},{"$f":"'1.Портфель кредитів'!#REF!","v":{"$error":"#REF!"}},{"$f":"'1.Портфель кредитів'!I236","v":0},{"$f":"'1.Портфель кредитів'!W236","v":0},{"$f":"'1.Портфель кредитів'!Y236","v":""},4,"2018-06-01","_4_43252_2"]
[{"$f":"'1.Портфель кредитів'!H237","v":0},{"$f":"'1.Портфель кредитів'!D237","v":""},{"$f":"'1.Портфель кредитів'!#REF!","v":{"$error":"#REF!"}},{"$f":"'1.Портфель кредитів'!#REF!","v":{"$error":"#REF!"}},{"$f":"'1.Портфель кредитів'!#REF!","v":{"$error":"#REF!"}},{"$f":"'1.Портфель кредитів'!I237","v":0},{"$f":"'1.Портфель кредитів'!W237","v":0},{"$f":"'1.Портфель кредитів'!Y237","v":""},4,"2018-06-01","_4_43252_2"]
[{"$f":"'1.Портфель кредитів'!H238","v":0},{"$f":"'1.Портфель кредитів'!D238","v":""},{"$f":"'1.Портфель кредитів'!#REF!","v":{"$error":"#REF!"}},{"$f":"'1.Портфель кредитів'!#REF!","v":{"$error":"#REF!"}},{"$f":"'1.Портфель кредитів'!#REF!","v":{"$error":"#REF!"}},{"$f":"'1.Портфель кредитів'!I238","v":0},{"$f":"'1.Портфель кредитів'!W238","v":0},{"$f":"'1.Портфель кредитів'!Y238","v":""},4,"2018-06-01","_4_43252_2"]
[{"$f":"'1.Портфель кредитів'!H239","v":0},{"$f":"'1.Портфель кредитів'!D239","v":""},{"$f":"'1.Портфель кредитів'!#REF!","v":{"$error":"#REF!"}},{"$f":"'1.Портфель кредитів'!#REF!","v":{"$error":"#REF!"}},{"$f":"'1.Портфель кредитів'!#REF!","v":{"$error":"#REF!"}},{"$f":"'1.Портфель кредитів'!I239","v":0},{"$f":"'1.Портфель кредитів'!W239","v":0},{"$f":"'1.Портфель кредитів'!Y239","v":""},4,"2018-06-01","_4_43252_2"]
[{"$f":"'1.Портфель кредитів'!H240","v":0},{"$f":"'1.Портфель кредитів'!D240","v":""},{"$f":"'1.Портфель кредитів'!#REF!","v":{"$error":"#REF!"}},{"$f":"'1.Портфель кредитів'!#REF!","v":{"$error":"#REF!"}},{"$f":"'1.Портфель кредитів'!#REF!","v":{"$error":"#REF!"}},{"$f":"'1.Портфель кредитів'!I240","v":0},{"$f":"'1.Портфель кредитів'!W240","v":0},{"$f":"'1.Портфель кредитів'!Y240","v":""},4,"2018-06-01","_4_43252_2"]
[{"$f":"'1.Портфель кредитів'!H241","v":0},{"$f":"'1.Портфель кредитів'!D241","v":""},{"$f":"'1.Портфель кредитів'!#REF!","v":{"$error":"#REF!"}},{"$f":"'1.Портфель кредитів'!#REF!","v":{"$error":"#REF!"}},{"$f":"'1.Портфель кредитів'!#REF!","v":{"$error":"#REF!"}},{"$f":"'1.Портфель кредитів'!I241","v":0},{"$f":"'1.Портфель кредитів'!W241","v":0},{"$f":"'1.Портфель кредитів'!Y241","v":""},4,"2018-06-01","_4_43252_2"]
[{"$f":"'1.Портфель кредитів'!H242","v":0},{"$f":"'1.Портфель кредитів'!D242","v":""},{"$f":"'1.Портфель кредитів'!#REF!","v":{"$error":"#REF!"}},{"$f":"'1.Портфель кредитів'!#REF!","v":{"$error":"#REF!"}},{"$f":"'1.Портфель кредитів'!#REF!","v":{"$error":"#REF!"}},{"$f":"'1.Портфель кредитів'!I242","v":0},{"$f":"'1.Портфель кредитів'!W242","v":0},{"$f":"'1.Портфель кредитів'!Y242","v":""},4,"2018-06-01","_4_43252_2"]
[{"$f":"'1.Портфель кредитів'!H243","v":0},{"$f":"'1.Портфель кредитів'!D243","v":""},{"$f":"'1.Портфель кредитів'!#REF!","v":{"$error":"#REF!"}},{"$f":"'1.Портфель кредитів'!#REF!","v":{"$error":"#REF!"}},{"$f":"'1.Портфель кредитів'!#REF!","v":{"$error":"#REF!"}},{"$f":"'1.Портфель кредитів'!I243","v":0},{"$f":"'1.Портфель кредитів'!W243","v":0},{"$f":"'1.Портфель кредитів'!Y243","v":""},4,"2018-06-01","_4_43252_2"]
[{"$f":"'1.Портфель кредитів'!H244","v":0},{"$f":"'1.Портфель кредитів'!D244","v":""},{"$f":"'1.Портфель кредитів'!#REF!","v":{"$error":"#REF!"}},{"$f":"'1.Портфель кредитів'!#REF!","v":{"$error":"#REF!"}},{"$f":"'1.Портфель кредитів'!#REF!","v":{"$error":"#REF!"}},{"$f":"'1.Портфель кредитів'!I244","v":0},{"$f":"'1.Портфель кредитів'!W244","v":0},{"$f":"'1.Портфель кредитів'!Y244","v":""},4,"2018-06-01","_4_43252_2"]
[{"$f":"'1.Портфель кредитів'!H245","v":0},{"$f":"'1.Портфель кредитів'!D245","v":""},{"$f":"'1.Портфель кредитів'!#REF!","v":{"$error":"#REF!"}},{"$f":"'1.Портфель кредитів'!#REF!","v":{"$error":"#REF!"}},{"$f":"'1.Портфель кредитів'!#REF!","v":{"$error":"#REF!"}},{"$f":"'1.Портфель кредитів'!I245","v":0},{"$f":"'1.Портфель кредитів'!W245","v":0},{"$f":"'1.Портфель кредитів'!Y245","v":""},4,"2018-06-01","_4_43252_2"]
[{"$f":"'1.Портфель кредитів'!H246","v":0},{"$f":"'1.Портфель кредитів'!D246","v":""},{"$f":"'1.Портфель кредитів'!#REF!","v":{"$error":"#REF!"}},{"$f":"'1.Портфель кредитів'!#REF!","v":{"$error":"#REF!"}},{"$f":"'1.Портфель кредитів'!#REF!","v":{"$error":"#REF!"}},{"$f":"'1.Портфель кредитів'!I246","v":0},{"$f":"'1.Портфель кредитів'!W246","v":0},{"$f":"'1.Портфель кредитів'!Y246","v":""},4,"2018-06-01","_4_43252_2"]
[{"$f":"'1.Портфель кредитів'!H247","v":0},{"$f":"'1.Портфель кредитів'!D247","v":""},{"$f":"'1.Портфель кредитів'!#REF!","v":{"$error":"#REF!"}},{"$f":"'1.Портфель кредитів'!#REF!","v":{"$error":"#REF!"}},{"$f":"'1.Портфель кредитів'!#REF!","v":{"$error":"#REF!"}},{"$f":"'1.Портфель кредитів'!I247","v":0},{"$f":"'1.Портфель кредитів'!W247","v":0},{"$f":"'1.Портфель кредитів'!Y247","v":""},4,"2018-06-01","_4_43252_2"]
[{"$f":"'1.Портфель кредитів'!H248","v":0},{"$f":"'1.Портфель кредитів'!D248","v":""},{"$f":"'1.Портфель кредитів'!#REF!","v":{"$error":"#REF!"}},{"$f":"'1.Портфель кредитів'!#REF!","v":{"$error":"#REF!"}},{"$f":"'1.Портфель кредитів'!#REF!","v":{"$error":"#REF!"}},{"$f":"'1.Портфель кредитів'!I248","v":0},{"$f":"'1.Портфель кредитів'!W248","v":0},{"$f":"'1.Портфель кредитів'!Y248","v":""},4,"2018-06-01","_4_43252_2"]
[{"$f":"'1.Портфель кредитів'!H249","v":0},{"$f":"'1.Портфель кредитів'!D249","v":""},{"$f":"'1.Портфель кредитів'!#REF!","v":{"$error":"#REF!"}},{"$f":"'1.Портфель кредитів'!#REF!","v":{"$error":"#REF!"}},{"$f":"'1.Портфель кредитів'!#REF!","v":{"$error":"#REF!"}},{"$f":"'1.Портфель кредитів'!I249","v":0},{"$f":"'1.Портфель кредитів'!W249","v":0},{"$f":"'1.Портфель кредитів'!Y249","v":""},4,"2018-06-01","_4_43252_2"]
[{"$f":"'1.Портфель кредитів'!H250","v":0},{"$f":"'1.Портфель кредитів'!D250","v":""},{"$f":"'1.Портфель кредитів'!#REF!","v":{"$error":"#REF!"}},{"$f":"'1.Портфель кредитів'!#REF!","v":{"$error":"#REF!"}},{"$f":"'1.Портфель кредитів'!#REF!","v":{"$error":"#REF!"}},{"$f":"'1.Портфель кредитів'!I250","v":0},{"$f":"'1.Портфель кредитів'!W250","v":0},{"$f":"'1.Портфель кредитів'!Y250","v":""},4,"2018-06-01","_4_43252_2"]
[{"$f":"'1.Портфель кредитів'!H251","v":0},{"$f":"'1.Портфель кредитів'!D251","v":""},{"$f":"'1.Портфель кредитів'!#REF!","v":{"$error":"#REF!"}},{"$f":"'1.Портфель кредитів'!#REF!","v":{"$error":"#REF!"}},{"$f":"'1.Портфель кредитів'!#REF!","v":{"$error":"#REF!"}},{"$f":"'1.Портфель кредитів'!I251","v":0},{"$f":"'1.Портфель кредитів'!W251","v":0},{"$f":"'1.Портфель кредитів'!Y251","v":""},4,"2018-06-01","_4_43252_2"]
[{"$f":"'1.Портфель кредитів'!H252","v":0},{"$f":"'1.Портфель кредитів'!D252","v":""},{"$f":"'1.Портфель кредитів'!#REF!","v":{"$error":"#REF!"}},{"$f":"'1.Портфель кредитів'!#REF!","v":{"$error":"#REF!"}},{"$f":"'1.Портфель кредитів'!#REF!","v":{"$error":"#REF!"}},{"$f":"'1.Портфель кредитів'!I252","v":0},{"$f":"'1.Портфель кредитів'!W252","v":0},{"$f":"'1.Портфель кредитів'!Y252","v":""},4,"2018-06-01","_4_43252_2"]
[{"$f":"'1.Портфель кредитів'!H253","v":0},{"$f":"'1.Портфель кредитів'!D253","v":""},{"$f":"'1.Портфель кредитів'!#REF!","v":{"$error":"#REF!"}},{"$f":"'1.Портфель кредитів'!#REF!","v":{"$error":"#REF!"}},{"$f":"'1.Портфель кредитів'!#REF!","v":{"$error":"#REF!"}},{"$f":"'1.Портфель кредитів'!I253","v":0},{"$f":"'1.Портфель кредитів'!W253","v":0},{"$f":"'1.Портфель кредитів'!Y253","v":""},4,"2018-06-01","_4_43252_2"]
[{"$f":"'1.Портфель кредитів'!H254","v":0},{"$f":"'1.Портфель кредитів'!D254","v":""},{"$f":"'1.Портфель кредитів'!#REF!","v":{"$error":"#REF!"}},{"$f":"'1.Портфель кредитів'!#REF!","v":{"$error":"#REF!"}},{"$f":"'1.Портфель кредитів'!#REF!","v":{"$error":"#REF!"}},{"$f":"'1.Портфель кредитів'!I254","v":0},{"$f":"'1.Портфель кредитів'!W254","v":0},{"$f":"'1.Портфель кредитів'!Y254","v":""},4,"2018-06-01","_4_43252_2"]
[{"$f":"'1.Портфель кредитів'!H255","v":0},{"$f":"'1.Портфель кредитів'!D255","v":""},{"$f":"'1.Портфель кредитів'!#REF!","v":{"$error":"#REF!"}},{"$f":"'1.Портфель кредитів'!#REF!","v":{"$error":"#REF!"}},{"$f":"'1.Портфель кредитів'!#REF!","v":{"$error":"#REF!"}},{"$f":"'1.Портфель кредитів'!I255","v":0},{"$f":"'1.Портфель кредитів'!W255","v":0},{"$f":"'1.Портфель кредитів'!Y255","v":""},4,"2018-06-01","_4_43252_2"]
[{"$f":"'1.Портфель кредитів'!H256","v":0},{"$f":"'1.Портфель кредитів'!D256","v":""},{"$f":"'1.Портфель кредитів'!#REF!","v":{"$error":"#REF!"}},{"$f":"'1.Портфель кредитів'!#REF!","v":{"$error":"#REF!"}},{"$f":"'1.Портфель кредитів'!#REF!","v":{"$error":"#REF!"}},{"$f":"'1.Портфель кредитів'!I256","v":0},{"$f":"'1.Портфель кредитів'!W256","v":0},{"$f":"'1.Портфель кредитів'!Y256","v":""},4,"2018-06-01","_4_43252_2"]
[{"$f":"'1.Портфель кредитів'!H257","v":0},{"$f":"'1.Портфель кредитів'!D257","v":""},{"$f":"'1.Портфель кредитів'!#REF!","v":{"$error":"#REF!"}},{"$f":"'1.Портфель кредитів'!#REF!","v":{"$error":"#REF!"}},{"$f":"'1.Портфель кредитів'!#REF!","v":{"$error":"#REF!"}},{"$f":"'1.Портфель кредитів'!I257","v":0},{"$f":"'1.Портфель кредитів'!W257","v":0},{"$f":"'1.Портфель кредитів'!Y257","v":""},4,"2018-06-01","_4_43252_2"]
[{"$f":"'1.Портфель кредитів'!H258","v":0},{"$f":"'1.Портфель кредитів'!D258","v":""},{"$f":"'1.Портфель кредитів'!#REF!","v":{"$error":"#REF!"}},{"$f":"'1.Портфель кредитів'!#REF!","v":{"$error":"#REF!"}},{"$f":"'1.Портфель кредитів'!#REF!","v":{"$error":"#REF!"}},{"$f":"'1.Портфель кредитів'!I258","v":0},{"$f":"'1.Портфель кредитів'!W258","v":0},{"$f":"'1.Портфель кредитів'!Y258","v":""},4,"2018-06-01","_4_43252_2"]
[{"$f":"'1.Портфель кредитів'!H259","v":0},{"$f":"'1.Портфель кредитів'!D259","v":""},{"$f":"'1.Портфель кредитів'!#REF!","v":{"$error":"#REF!"}},{"$f":"'1.Портфель кредитів'!#REF!","v":{"$error":"#REF!"}},{"$f":"'1.Портфель кредитів'!#REF!","v":{"$error":"#REF!"}},{"$f":"'1.Портфель кредитів'!I259","v":0},{"$f":"'1.Портфель кредитів'!W259","v":0},{"$f":"'1.Портфель кредитів'!Y259","v":""},4,"2018-06-01","_4_43252_2"]
[{"$f":"'1.Портфель кредитів'!H260","v":0},{"$f":"'1.Портфель кредитів'!D260","v":""},{"$f":"'1.Портфель кредитів'!#REF!","v":{"$error":"#REF!"}},{"$f":"'1.Портфель кредитів'!#REF!","v":{"$error":"#REF!"}},{"$f":"'1.Портфель кредитів'!#REF!","v":{"$error":"#REF!"}},{"$f":"'1.Портфель кредитів'!I260","v":0},{"$f":"'1.Портфель кредитів'!W260","v":0},{"$f":"'1.Портфель кредитів'!Y260","v":""},4,"2018-06-01","_4_43252_2"]
[{"$f":"'1.Портфель кредитів'!H261","v":0},{"$f":"'1.Портфель кредитів'!D261","v":""},{"$f":"'1.Портфель кредитів'!#REF!","v":{"$error":"#REF!"}},{"$f":"'1.Портфель кредитів'!#REF!","v":{"$error":"#REF!"}},{"$f":"'1.Портфель кредитів'!#REF!","v":{"$error":"#REF!"}},{"$f":"'1.Портфель кредитів'!I261","v":0},{"$f":"'1.Портфель кредитів'!W261","v":0},{"$f":"'1.Портфель кредитів'!Y261","v":""},4,"2018-06-01","_4_43252_2"]
[{"$f":"'1.Портфель кредитів'!H262","v":0},{"$f":"'1.Портфель кредитів'!D262","v":""},{"$f":"'1.Портфель кредитів'!#REF!","v":{"$error":"#REF!"}},{"$f":"'1.Портфель кредитів'!#REF!","v":{"$error":"#REF!"}},{"$f":"'1.Портфель кредитів'!#REF!","v":{"$error":"#REF!"}},{"$f":"'1.Портфель кредитів'!I262","v":0},{"$f":"'1.Портфель кредитів'!W262","v":0},{"$f":"'1.Портфель кредитів'!Y262","v":""},4,"2018-06-01","_4_43252_2"]
[{"$f":"'1.Портфель кредитів'!H263","v":0},{"$f":"'1.Портфель кредитів'!D263","v":""},{"$f":"'1.Портфель кредитів'!#REF!","v":{"$error":"#REF!"}},{"$f":"'1.Портфель кредитів'!#REF!","v":{"$error":"#REF!"}},{"$f":"'1.Портфель кредитів'!#REF!","v":{"$error":"#REF!"}},{"$f":"'1.Портфель кредитів'!I263","v":0},{"$f":"'1.Портфель кредитів'!W263","v":0},{"$f":"'1.Портфель кредитів'!Y263","v":""},4,"2018-06-01","_4_43252_2"]
[{"$f":"'1.Портфель кредитів'!H264","v":0},{"$f":"'1.Портфель кредитів'!D264","v":""},{"$f":"'1.Портфель кредитів'!#REF!","v":{"$error":"#REF!"}},{"$f":"'1.Портфель кредитів'!#REF!","v":{"$error":"#REF!"}},{"$f":"'1.Портфель кредитів'!#REF!","v":{"$error":"#REF!"}},{"$f":"'1.Портфель кредитів'!I264","v":0},{"$f":"'1.Портфель кредитів'!W264","v":0},{"$f":"'1.Портфель кредитів'!Y264","v":""},4,"2018-06-01","_4_43252_2"]
[{"$f":"'1.Портфель кредитів'!H265","v":0},{"$f":"'1.Портфель кредитів'!D265","v":""},{"$f":"'1.Портфель кредитів'!#REF!","v":{"$error":"#REF!"}},{"$f":"'1.Портфель кредитів'!#REF!","v":{"$error":"#REF!"}},{"$f":"'1.Портфель кредитів'!#REF!","v":{"$error":"#REF!"}},{"$f":"'1.Портфель кредитів'!I265","v":0},{"$f":"'1.Портфель кредитів'!W265","v":0},{"$f":"'1.Портфель кредитів'!Y265","v":""},4,"2018-06-01","_4_43252_2"]
[{"$f":"'1.Портфель кредитів'!H266","v":0},{"$f":"'1.Портфель кредитів'!D266","v":""},{"$f":"'1.Портфель кредитів'!#REF!","v":{"$error":"#REF!"}},{"$f":"'1.Портфель кредитів'!#REF!","v":{"$error":"#REF!"}},{"$f":"'1.Портфель кредитів'!#REF!","v":{"$error":"#REF!"}},{"$f":"'1.Портфель кредитів'!I266","v":0},{"$f":"'1.Портфель кредитів'!W266","v":0},{"$f":"'1.Портфель кредитів'!Y266","v":""},4,"2018-06-01","_4_43252_2"]
[{"$f":"'1.Портфель кредитів'!H267","v":0},{"$f":"'1.Портфель кредитів'!D267","v":""},{"$f":"'1.Портфель кредитів'!#REF!","v":{"$error":"#REF!"}},{"$f":"'1.Портфель кредитів'!#REF!","v":{"$error":"#REF!"}},{"$f":"'1.Портфель кредитів'!#REF!","v":{"$error":"#REF!"}},{"$f":"'1.Портфель кредитів'!I267","v":0},{"$f":"'1.Портфель кредитів'!W267","v":0},{"$f":"'1.Портфель кредитів'!Y267","v":""},4,"2018-06-01","_4_43252_2"]
[{"$f":"'1.Портфель кредитів'!H268","v":0},{"$f":"'1.Портфель кредитів'!D268","v":""},{"$f":"'1.Портфель кредитів'!#REF!","v":{"$error":"#REF!"}},{"$f":"'1.Портфель кредитів'!#REF!","v":{"$error":"#REF!"}},{"$f":"'1.Портфель кредитів'!#REF!","v":{"$error":"#REF!"}},{"$f":"'1.Портфель кредитів'!I268","v":0},{"$f":"'1.Портфель кредитів'!W268","v":0},{"$f":"'1.Портфель кредитів'!Y268","v":""},4,"2018-06-01","_4_43252_2"]
[{"$f":"'1.Портфель кредитів'!H269","v":0},{"$f":"'1.Портфель кредитів'!D269","v":""},{"$f":"'1.Портфель кредитів'!#REF!","v":{"$error":"#REF!"}},{"$f":"'1.Портфель кредитів'!#REF!","v":{"$error":"#REF!"}},{"$f":"'1.Портфель кредитів'!#REF!","v":{"$error":"#REF!"}},{"$f":"'1.Портфель кредитів'!I269","v":0},{"$f":"'1.Портфель кредитів'!W269","v":0},{"$f":"'1.Портфель кредитів'!Y269","v":""},4,"2018-06-01","_4_43252_2"]
[{"$f":"'1.Портфель кредитів'!H270","v":0},{"$f":"'1.Портфель кредитів'!D270","v":""},{"$f":"'1.Портфель кредитів'!#REF!","v":{"$error":"#REF!"}},{"$f":"'1.Портфель кредитів'!#REF!","v":{"$error":"#REF!"}},{"$f":"'1.Портфель кредитів'!#REF!","v":{"$error":"#REF!"}},{"$f":"'1.Портфель кредитів'!I270","v":0},{"$f":"'1.Портфель кредитів'!W270","v":0},{"$f":"'1.Портфель кредитів'!Y270","v":""},4,"2018-06-01","_4_43252_2"]
[{"$f":"'1.Портфель кредитів'!H271","v":0},{"$f":"'1.Портфель кредитів'!D271","v":""},{"$f":"'1.Портфель кредитів'!#REF!","v":{"$error":"#REF!"}},{"$f":"'1.Портфель кредитів'!#REF!","v":{"$error":"#REF!"}},{"$f":"'1.Портфель кредитів'!#REF!","v":{"$error":"#REF!"}},{"$f":"'1.Портфель кредитів'!I271","v":0},{"$f":"'1.Портфель кредитів'!W271","v":0},{"$f":"'1.Портфель кредитів'!Y271","v":""},4,"2018-06-01","_4_43252_2"]
[{"$f":"'1.Портфель кредитів'!H272","v":0},{"$f":"'1.Портфель кредитів'!D272","v":""},{"$f":"'1.Портфель кредитів'!#REF!","v":{"$error":"#REF!"}},{"$f":"'1.Портфель кредитів'!#REF!","v":{"$error":"#REF!"}},{"$f":"'1.Портфель кредитів'!#REF!","v":{"$error":"#REF!"}},{"$f":"'1.Портфель кредитів'!I272","v":0},{"$f":"'1.Портфель кредитів'!W272","v":0},{"$f":"'1.Портфель кредитів'!Y272","v":""},{"$f":"$E$1","v":4},{"$f":"$E$2","v":"2018-06-01"},{"$f":"B326&\"_\"&I326&\"_\"&J326&\"_\"&$E$3","v":"_4_43252_2"}]
[{"$f":"'1.Портфель кредитів'!H273","v":0},{"$f":"'1.Портфель кредитів'!D273","v":""},{"$f":"'1.Портфель кредитів'!#REF!","v":{"$error":"#REF!"}},{"$f":"'1.Портфель кредитів'!#REF!","v":{"$error":"#REF!"}},{"$f":"'1.Портфель кредитів'!#REF!","v":{"$error":"#REF!"}},{"$f":"'1.Портфель кредитів'!I273","v":0},{"$f":"'1.Портфель кредитів'!W273","v":0},{"$f":"'1.Портфель кредитів'!Y273","v":""},4,"2018-06-01","_4_43252_2"]
[{"$f":"'1.Портфель кредитів'!H274","v":0},{"$f":"'1.Портфель кредитів'!D274","v":""},{"$f":"'1.Портфель кредитів'!#REF!","v":{"$error":"#REF!"}},{"$f":"'1.Портфель кредитів'!#REF!","v":{"$error":"#REF!"}},{"$f":"'1.Портфель кредитів'!#REF!","v":{"$error":"#REF!"}},{"$f":"'1.Портфель кредитів'!I274","v":0},{"$f":"'1.Портфель кредитів'!W274","v":0},{"$f":"'1.Портфель кредитів'!Y274","v":""},4,"2018-06-01","_4_43252_2"]
[{"$f":"'1.Портфель кредитів'!H275","v":0},{"$f":"'1.Портфель кредитів'!D275","v":""},{"$f":"'1.Портфель кредитів'!#REF!","v":{"$error":"#REF!"}},{"$f":"'1.Портфель кредитів'!#REF!","v":{"$error":"#REF!"}},{"$f":"'1.Портфель кредитів'!#REF!","v":{"$error":"#REF!"}},{"$f":"'1.Портфель кредитів'!I275","v":0},{"$f":"'1.Портфель кредитів'!W275","v":0},{"$f":"'1.Портфель кредитів'!Y275","v":""},4,"2018-06-01","_4_43252_2"]
[{"$f":"'1.Портфель кредитів'!H276","v":0},{"$f":"'1.Портфель кредитів'!D276","v":""},{"$f":"'1.Портфель кредитів'!#REF!","v":{"$error":"#REF!"}},{"$f":"'1.Портфель кредитів'!#REF!","v":{"$error":"#REF!"}},{"$f":"'1.Портфель кредитів'!#REF!","v":{"$error":"#REF!"}},{"$f":"'1.Портфель кредитів'!I276","v":0},{"$f":"'1.Портфель кредитів'!W276","v":0},{"$f":"'1.Портфель кредитів'!Y276","v":""},4,"2018-06-01","_4_43252_2"]
[{"$f":"'1.Портфель кредитів'!H277","v":0},{"$f":"'1.Портфель кредитів'!D277","v":""},{"$f":"'1.Портфель кредитів'!#REF!","v":{"$error":"#REF!"}},{"$f":"'1.Портфель кредитів'!#REF!","v":{"$error":"#REF!"}},{"$f":"'1.Портфель кредитів'!#REF!","v":{"$error":"#REF!"}},{"$f":"'1.Портфель кредитів'!I277","v":0},{"$f":"'1.Портфель кредитів'!W277","v":0},{"$f":"'1.Портфель кредитів'!Y277","v":""},4,"2018-06-01","_4_43252_2"]
[{"$f":"'1.Портфель кредитів'!H278","v":0},{"$f":"'1.Портфель кредитів'!D278","v":""},{"$f":"'1.Портфель кредитів'!#REF!","v":{"$error":"#REF!"}},{"$f":"'1.Портфель кредитів'!#REF!","v":{"$error":"#REF!"}},{"$f":"'1.Портфель кредитів'!#REF!","v":{"$error":"#REF!"}},{"$f":"'1.Портфель кредитів'!I278","v":0},{"$f":"'1.Портфель кредитів'!W278","v":0},{"$f":"'1.Портфель кредитів'!Y278","v":""},4,"2018-06-01","_4_43252_2"]
[{"$f":"'1.Портфель кредитів'!H279","v":0},{"$f":"'1.Портфель кредитів'!D279","v":""},{"$f":"'1.Портфель кредитів'!#REF!","v":{"$error":"#REF!"}},{"$f":"'1.Портфель кредитів'!#REF!","v":{"$error":"#REF!"}},{"$f":"'1.Портфель кредитів'!#REF!","v":{"$error":"#REF!"}},{"$f":"'1.Портфель кредитів'!I279","v":0},{"$f":"'1.Портфель кредитів'!W279","v":0},{"$f":"'1.Портфель кредитів'!Y279","v":""},4,"2018-06-01","_4_43252_2"]
[{"$f":"'1.Портфель кредитів'!H280","v":0},{"$f":"'1.Портфель кредитів'!D280","v":""},{"$f":"'1.Портфель кредитів'!#REF!","v":{"$error":"#REF!"}},{"$f":"'1.Портфель кредитів'!#REF!","v":{"$error":"#REF!"}},{"$f":"'1.Портфель кредитів'!#REF!","v":{"$error":"#REF!"}},{"$f":"'1.Портфель кредитів'!I280","v":0},{"$f":"'1.Портфель кредитів'!W280","v":0},{"$f":"'1.Портфель кредитів'!Y280","v":""},4,"2018-06-01","_4_43252_2"]
[{"$f":"'1.Портфель кредитів'!H281","v":0},{"$f":"'1.Портфель кредитів'!D281","v":""},{"$f":"'1.Портфель кредитів'!#REF!","v":{"$error":"#REF!"}},{"$f":"'1.Портфель кредитів'!#REF!","v":{"$error":"#REF!"}},{"$f":"'1.Портфель кредитів'!#REF!","v":{"$error":"#REF!"}},{"$f":"'1.Портфель кредитів'!I281","v":0},{"$f":"'1.Портфель кредитів'!W281","v":0},{"$f":"'1.Портфель кредитів'!Y281","v":""},4,"2018-06-01","_4_43252_2"]
[{"$f":"'1.Портфель кредитів'!H282","v":0},{"$f":"'1.Портфель кредитів'!D282","v":""},{"$f":"'1.Портфель кредитів'!#REF!","v":{"$error":"#REF!"}},{"$f":"'1.Портфель кредитів'!#REF!","v":{"$error":"#REF!"}},{"$f":"'1.Портфель кредитів'!#REF!","v":{"$error":"#REF!"}},{"$f":"'1.Портфель кредитів'!I282","v":0},{"$f":"'1.Портфель кредитів'!W282","v":0},{"$f":"'1.Портфель кредитів'!Y282","v":""},4,"2018-06-01","_4_43252_2"]
[{"$f":"'1.Портфель кредитів'!H283","v":0},{"$f":"'1.Портфель кредитів'!D283","v":""},{"$f":"'1.Портфель кредитів'!#REF!","v":{"$error":"#REF!"}},{"$f":"'1.Портфель кредитів'!#REF!","v":{"$error":"#REF!"}},{"$f":"'1.Портфель кредитів'!#REF!","v":{"$error":"#REF!"}},{"$f":"'1.Портфель кредитів'!I283","v":0},{"$f":"'1.Портфель кредитів'!W283","v":0},{"$f":"'1.Портфель кредитів'!Y283","v":""},4,"2018-06-01","_4_43252_2"]
[{"$f":"'1.Портфель кредитів'!H284","v":0},{"$f":"'1.Портфель кредитів'!D284","v":""},{"$f":"'1.Портфель кредитів'!#REF!","v":{"$error":"#REF!"}},{"$f":"'1.Портфель кредитів'!#REF!","v":{"$error":"#REF!"}},{"$f":"'1.Портфель кредитів'!#REF!","v":{"$error":"#REF!"}},{"$f":"'1.Портфель кредитів'!I284","v":0},{"$f":"'1.Портфель кредитів'!W284","v":0},{"$f":"'1.Портфель кредитів'!Y284","v":""},4,"2018-06-01","_4_43252_2"]
[{"$f":"'1.Портфель кредитів'!H285","v":0},{"$f":"'1.Портфель кредитів'!D285","v":""},{"$f":"'1.Портфель кредитів'!#REF!","v":{"$error":"#REF!"}},{"$f":"'1.Портфель кредитів'!#REF!","v":{"$error":"#REF!"}},{"$f":"'1.Портфель кредитів'!#REF!","v":{"$error":"#REF!"}},{"$f":"'1.Портфель кредитів'!I285","v":0},{"$f":"'1.Портфель кредитів'!W285","v":0},{"$f":"'1.Портфель кредитів'!Y285","v":""},4,"2018-06-01","_4_43252_2"]
[{"$f":"'1.Портфель кредитів'!H286","v":0},{"$f":"'1.Портфель кредитів'!D286","v":""},{"$f":"'1.Портфель кредитів'!#REF!","v":{"$error":"#REF!"}},{"$f":"'1.Портфель кредитів'!#REF!","v":{"$error":"#REF!"}},{"$f":"'1.Портфель кредитів'!#REF!","v":{"$error":"#REF!"}},{"$f":"'1.Портфель кредитів'!I286","v":0},{"$f":"'1.Портфель кредитів'!W286","v":0},{"$f":"'1.Портфель кредитів'!Y286","v":""},4,"2018-06-01","_4_43252_2"]
[{"$f":"'1.Портфель кредитів'!H287","v":0},{"$f":"'1.Портфель кредитів'!D287","v":""},{"$f":"'1.Портфель кредитів'!#REF!","v":{"$error":"#REF!"}},{"$f":"'1.Портфель кредитів'!#REF!","v":{"$error":"#REF!"}},{"$f":"'1.Портфель кредитів'!#REF!","v":{"$error":"#REF!"}},{"$f":"'1.Портфель кредитів'!I287","v":0},{"$f":"'1.Портфель кредитів'!W287","v":0},{"$f":"'1.Портфель кредитів'!Y287","v":""},4,"2018-06-01","_4_43252_2"]
[{"$f":"'1.Портфель кредитів'!H288","v":0},{"$f":"'1.Портфель кредитів'!D288","v":""},{"$f":"'1.Портфель кредитів'!#REF!","v":{"$error":"#REF!"}},{"$f":"'1.Портфель кредитів'!#REF!","v":{"$error":"#REF!"}},{"$f":"'1.Портфель кредитів'!#REF!","v":{"$error":"#REF!"}},{"$f":"'1.Портфель кредитів'!I288","v":0},{"$f":"'1.Портфель кредитів'!W288","v":0},{"$f":"'1.Портфель кредитів'!Y288","v":""},4,"2018-06-01","_4_43252_2"]
[{"$f":"'1.Портфель кредитів'!H289","v":0},{"$f":"'1.Портфель кредитів'!D289","v":""},{"$f":"'1.Портфель кредитів'!#REF!","v":{"$error":"#REF!"}},{"$f":"'1.Портфель кредитів'!#REF!","v":{"$error":"#REF!"}},{"$f":"'1.Портфель кредитів'!#REF!","v":{"$error":"#REF!"}},{"$f":"'1.Портфель кредитів'!I289","v":0},{"$f":"'1.Портфель кредитів'!W289","v":0},{"$f":"'1.Портфель кредитів'!Y289","v":""},4,"2018-06-01","_4_43252_2"]
[{"$f":"'1.Портфель кредитів'!H290","v":0},{"$f":"'1.Портфель кредитів'!D290","v":""},{"$f":"'1.Портфель кредитів'!#REF!","v":{"$error":"#REF!"}},{"$f":"'1.Портфель кредитів'!#REF!","v":{"$error":"#REF!"}},{"$f":"'1.Портфель кредитів'!#REF!","v":{"$error":"#REF!"}},{"$f":"'1.Портфель кредитів'!I290","v":0},{"$f":"'1.Портфель кредитів'!W290","v":0},{"$f":"'1.Портфель кредитів'!Y290","v":""},4,"2018-06-01","_4_43252_2"]
[{"$f":"'1.Портфель кредитів'!H291","v":0},{"$f":"'1.Портфель кредитів'!D291","v":""},{"$f":"'1.Портфель кредитів'!#REF!","v":{"$error":"#REF!"}},{"$f":"'1.Портфель кредитів'!#REF!","v":{"$error":"#REF!"}},{"$f":"'1.Портфель кредитів'!#REF!","v":{"$error":"#REF!"}},{"$f":"'1.Портфель кредитів'!I291","v":0},{"$f":"'1.Портфель кредитів'!W291","v":0},{"$f":"'1.Портфель кредитів'!Y291","v":""},4,"2018-06-01","_4_43252_2"]
[{"$f":"'1.Портфель кредитів'!H292","v":0},{"$f":"'1.Портфель кредитів'!D292","v":""},{"$f":"'1.Портфель кредитів'!#REF!","v":{"$error":"#REF!"}},{"$f":"'1.Портфель кредитів'!#REF!","v":{"$error":"#REF!"}},{"$f":"'1.Портфель кредитів'!#REF!","v":{"$error":"#REF!"}},{"$f":"'1.Портфель кредитів'!I292","v":0},{"$f":"'1.Портфель кредитів'!W292","v":0},{"$f":"'1.Портфель кредитів'!Y292","v":""},4,"2018-06-01","_4_43252_2"]
[{"$f":"'1.Портфель кредитів'!H293","v":0},{"$f":"'1.Портфель кредитів'!D293","v":""},{"$f":"'1.Портфель кредитів'!#REF!","v":{"$error":"#REF!"}},{"$f":"'1.Портфель кредитів'!#REF!","v":{"$error":"#REF!"}},{"$f":"'1.Портфель кредитів'!#REF!","v":{"$error":"#REF!"}},{"$f":"'1.Портфель кредитів'!I293","v":0},{"$f":"'1.Портфель кредитів'!W293","v":0},{"$f":"'1.Портфель кредитів'!Y293","v":""},4,"2018-06-01","_4_43252_2"]
[{"$f":"'1.Портфель кредитів'!H294","v":0},{"$f":"'1.Портфель кредитів'!D294","v":""},{"$f":"'1.Портфель кредитів'!#REF!","v":{"$error":"#REF!"}},{"$f":"'1.Портфель кредитів'!#REF!","v":{"$error":"#REF!"}},{"$f":"'1.Портфель кредитів'!#REF!","v":{"$error":"#REF!"}},{"$f":"'1.Портфель кредитів'!I294","v":0},{"$f":"'1.Портфель кредитів'!W294","v":0},{"$f":"'1.Портфель кредитів'!Y294","v":""},4,"2018-06-01","_4_43252_2"]
[{"$f":"'1.Портфель кредитів'!H295","v":0},{"$f":"'1.Портфель кредитів'!D295","v":""},{"$f":"'1.Портфель кредитів'!#REF!","v":{"$error":"#REF!"}},{"$f":"'1.Портфель кредитів'!#REF!","v":{"$error":"#REF!"}},{"$f":"'1.Портфель кредитів'!#REF!","v":{"$error":"#REF!"}},{"$f":"'1.Портфель кредитів'!I295","v":0},{"$f":"'1.Портфель кредитів'!W295","v":0},{"$f":"'1.Портфель кредитів'!Y295","v":""},4,"2018-06-01","_4_43252_2"]
[{"$f":"'1.Портфель кредитів'!H296","v":0},{"$f":"'1.Портфель кредитів'!D296","v":""},{"$f":"'1.Портфель кредитів'!#REF!","v":{"$error":"#REF!"}},{"$f":"'1.Портфель кредитів'!#REF!","v":{"$error":"#REF!"}},{"$f":"'1.Портфель кредитів'!#REF!","v":{"$error":"#REF!"}},{"$f":"'1.Портфель кредитів'!I296","v":0},{"$f":"'1.Портфель кредитів'!W296","v":0},{"$f":"'1.Портфель кредитів'!Y296","v":""},4,"2018-06-01","_4_43252_2"]
[{"$f":"'1.Портфель кредитів'!H297","v":0},{"$f":"'1.Портфель кредитів'!D297","v":""},{"$f":"'1.Портфель кредитів'!#REF!","v":{"$error":"#REF!"}},{"$f":"'1.Портфель кредитів'!#REF!","v":{"$error":"#REF!"}},{"$f":"'1.Портфель кредитів'!#REF!","v":{"$error":"#REF!"}},{"$f":"'1.Портфель кредитів'!I297","v":0},{"$f":"'1.Портфель кредитів'!W297","v":0},{"$f":"'1.Портфель кредитів'!Y297","v":""},4,"2018-06-01","_4_43252_2"]
[{"$f":"'1.Портфель кредитів'!H298","v":0},{"$f":"'1.Портфель кредитів'!D298","v":""},{"$f":"'1.Портфель кредитів'!#REF!","v":{"$error":"#REF!"}},{"$f":"'1.Портфель кредитів'!#REF!","v":{"$error":"#REF!"}},{"$f":"'1.Портфель кредитів'!#REF!","v":{"$error":"#REF!"}},{"$f":"'1.Портфель кредитів'!I298","v":0},{"$f":"'1.Портфель кредитів'!W298","v":0},{"$f":"'1.Портфель кредитів'!Y298","v":""},4,"2018-06-01","_4_43252_2"]
[{"$f":"'1.Портфель кредитів'!H299","v":0},{"$f":"'1.Портфель кредитів'!D299","v":""},{"$f":"'1.Портфель кредитів'!#REF!","v":{"$error":"#REF!"}},{"$f":"'1.Портфель кредитів'!#REF!","v":{"$error":"#REF!"}},{"$f":"'1.Портфель кредитів'!#REF!","v":{"$error":"#REF!"}},{"$f":"'1.Портфель кредитів'!I299","v":0},{"$f":"'1.Портфель кредитів'!W299","v":0},{"$f":"'1.Портфель кредитів'!Y299","v":""},4,"2018-06-01","_4_43252_2"]
[{"$f":"'1.Портфель кредитів'!H300","v":0},{"$f":"'1.Портфель кредитів'!D300","v":""},{"$f":"'1.Портфель кредитів'!#REF!","v":{"$error":"#REF!"}},{"$f":"'1.Портфель кредитів'!#REF!","v":{"$error":"#REF!"}},{"$f":"'1.Портфель кредитів'!#REF!","v":{"$error":"#REF!"}},{"$f":"'1.Портфель кредитів'!I300","v":0},{"$f":"'1.Портфель кредитів'!W300","v":0},{"$f":"'1.Портфель кредитів'!Y300","v":""},4,"2018-06-01","_4_43252_2"]
[{"$f":"'1.Портфель кредитів'!H301","v":0},{"$f":"'1.Портфель кредитів'!D301","v":""},{"$f":"'1.Портфель кредитів'!#REF!","v":{"$error":"#REF!"}},{"$f":"'1.Портфель кредитів'!#REF!","v":{"$error":"#REF!"}},{"$f":"'1.Портфель кредитів'!#REF!","v":{"$error":"#REF!"}},{"$f":"'1.Портфель кредитів'!I301","v":0},{"$f":"'1.Портфель кредитів'!W301","v":0},{"$f":"'1.Портфель кредитів'!Y301","v":""},4,"2018-06-01","_4_43252_2"]
[{"$f":"'1.Портфель кредитів'!H302","v":0},{"$f":"'1.Портфель кредитів'!D302","v":""},{"$f":"'1.Портфель кредитів'!#REF!","v":{"$error":"#REF!"}},{"$f":"'1.Портфель кредитів'!#REF!","v":{"$error":"#REF!"}},{"$f":"'1.Портфель кредитів'!#REF!","v":{"$error":"#REF!"}},{"$f":"'1.Портфель кредитів'!I302","v":0},{"$f":"'1.Портфель кредитів'!W302","v":0},{"$f":"'1.Портфель кредитів'!Y302","v":""},4,"2018-06-01","_4_43252_2"]
[{"$f":"'1.Портфель кредитів'!H303","v":0},{"$f":"'1.Портфель кредитів'!D303","v":""},{"$f":"'1.Портфель кредитів'!#REF!","v":{"$error":"#REF!"}},{"$f":"'1.Портфель кредитів'!#REF!","v":{"$error":"#REF!"}},{"$f":"'1.Портфель кредитів'!#REF!","v":{"$error":"#REF!"}},{"$f":"'1.Портфель кредитів'!I303","v":0},{"$f":"'1.Портфель кредитів'!W303","v":0},{"$f":"'1.Портфель кредитів'!Y303","v":""},4,"2018-06-01","_4_43252_2"]
[{"$f":"'1.Портфель кредитів'!H304","v":0},{"$f":"'1.Портфель кредитів'!D304","v":""},{"$f":"'1.Портфель кредитів'!#REF!","v":{"$error":"#REF!"}},{"$f":"'1.Портфель кредитів'!#REF!","v":{"$error":"#REF!"}},{"$f":"'1.Портфель кредитів'!#REF!","v":{"$error":"#REF!"}},{"$f":"'1.Портфель кредитів'!I304","v":0},{"$f":"'1.Портфель кредитів'!W304","v":0},{"$f":"'1.Портфель кредитів'!Y304","v":""},4,"2018-06-01","_4_43252_2"]
[{"$f":"'1.Портфель кредитів'!H305","v":0},{"$f":"'1.Портфель кредитів'!D305","v":""},{"$f":"'1.Портфель кредитів'!#REF!","v":{"$error":"#REF!"}},{"$f":"'1.Портфель кредитів'!#REF!","v":{"$error":"#REF!"}},{"$f":"'1.Портфель кредитів'!#REF!","v":{"$error":"#REF!"}},{"$f":"'1.Портфель кредитів'!I305","v":0},{"$f":"'1.Портфель кредитів'!W305","v":0},{"$f":"'1.Портфель кредитів'!Y305","v":""},4,"2018-06-01","_4_43252_2"]
[{"$f":"'1.Портфель кредитів'!H306","v":0},{"$f":"'1.Портфель кредитів'!D306","v":""},{"$f":"'1.Портфель кредитів'!#REF!","v":{"$error":"#REF!"}},{"$f":"'1.Портфель кредитів'!#REF!","v":{"$error":"#REF!"}},{"$f":"'1.Портфель кредитів'!#REF!","v":{"$error":"#REF!"}},{"$f":"'1.Портфель кредитів'!I306","v":0},{"$f":"'1.Портфель кредитів'!W306","v":0},{"$f":"'1.Портфель кредитів'!Y306","v":""},4,"2018-06-01","_4_43252_2"]
[{"$f":"'1.Портфель кредитів'!H307","v":0},{"$f":"'1.Портфель кредитів'!D307","v":""},{"$f":"'1.Портфель кредитів'!#REF!","v":{"$error":"#REF!"}},{"$f":"'1.Портфель кредитів'!#REF!","v":{"$error":"#REF!"}},{"$f":"'1.Портфель кредитів'!#REF!","v":{"$error":"#REF!"}},{"$f":"'1.Портфель кредитів'!I307","v":0},{"$f":"'1.Портфель кредитів'!W307","v":0},{"$f":"'1.Портфель кредитів'!Y307","v":""},4,"2018-06-01","_4_43252_2"]
[{"$f":"'1.Портфель кредитів'!H308","v":0},{"$f":"'1.Портфель кредитів'!D308","v":""},{"$f":"'1.Портфель кредитів'!#REF!","v":{"$error":"#REF!"}},{"$f":"'1.Портфель кредитів'!#REF!","v":{"$error":"#REF!"}},{"$f":"'1.Портфель кредитів'!#REF!","v":{"$error":"#REF!"}},{"$f":"'1.Портфель кредитів'!I308","v":0},{"$f":"'1.Портфель кредитів'!W308","v":0},{"$f":"'1.Портфель кредитів'!Y308","v":""},4,"2018-06-01","_4_43252_2"]
[{"$f":"'1.Портфель кредитів'!H309","v":0},{"$f":"'1.Портфель кредитів'!D309","v":""},{"$f":"'1.Портфель кредитів'!#REF!","v":{"$error":"#REF!"}},{"$f":"'1.Портфель кредитів'!#REF!","v":{"$error":"#REF!"}},{"$f":"'1.Портфель кредитів'!#REF!","v":{"$error":"#REF!"}},{"$f":"'1.Портфель кредитів'!I309","v":0},{"$f":"'1.Портфель кредитів'!W309","v":0},{"$f":"'1.Портфель кредитів'!Y309","v":""},4,"2018-06-01","_4_43252_2"]
[{"$f":"'1.Портфель кредитів'!H310","v":0},{"$f":"'1.Портфель кредитів'!D310","v":""},{"$f":"'1.Портфель кредитів'!#REF!","v":{"$error":"#REF!"}},{"$f":"'1.Портфель кредитів'!#REF!","v":{"$error":"#REF!"}},{"$f":"'1.Портфель кредитів'!#REF!","v":{"$error":"#REF!"}},{"$f":"'1.Портфель кредитів'!I310","v":0},{"$f":"'1.Портфель кредитів'!W310","v":0},{"$f":"'1.Портфель кредитів'!Y310","v":""},4,"2018-06-01","_4_43252_2"]
[{"$f":"'1.Портфель кредитів'!H311","v":0},{"$f":"'1.Портфель кредитів'!D311","v":""},{"$f":"'1.Портфель кредитів'!#REF!","v":{"$error":"#REF!"}},{"$f":"'1.Портфель кредитів'!#REF!","v":{"$error":"#REF!"}},{"$f":"'1.Портфель кредитів'!#REF!","v":{"$error":"#REF!"}},{"$f":"'1.Портфель кредитів'!I311","v":0},{"$f":"'1.Портфель кредитів'!W311","v":0},{"$f":"'1.Портфель кредитів'!Y311","v":""},4,"2018-06-01","_4_43252_2"]
[{"$f":"'1.Портфель кредитів'!H312","v":0},{"$f":"'1.Портфель кредитів'!D312","v":""},{"$f":"'1.Портфель кредитів'!#REF!","v":{"$error":"#REF!"}},{"$f":"'1.Портфель кредитів'!#REF!","v":{"$error":"#REF!"}},{"$f":"'1.Портфель кредитів'!#REF!","v":{"$error":"#REF!"}},{"$f":"'1.Портфель кредитів'!I312","v":0},{"$f":"'1.Портфель кредитів'!W312","v":0},{"$f":"'1.Портфель кредитів'!Y312","v":""},4,"2018-06-01","_4_43252_2"]
[{"$f":"'1.Портфель кредитів'!H313","v":0},{"$f":"'1.Портфель кредитів'!D313","v":""},{"$f":"'1.Портфель кредитів'!#REF!","v":{"$error":"#REF!"}},{"$f":"'1.Портфель кредитів'!#REF!","v":{"$error":"#REF!"}},{"$f":"'1.Портфель кредитів'!#REF!","v":{"$error":"#REF!"}},{"$f":"'1.Портфель кредитів'!I313","v":0},{"$f":"'1.Портфель кредитів'!W313","v":0},{"$f":"'1.Портфель кредитів'!Y313","v":""},4,"2018-06-01","_4_43252_2"]
[{"$f":"'1.Портфель кредитів'!H314","v":0},{"$f":"'1.Портфель кредитів'!D314","v":""},{"$f":"'1.Портфель кредитів'!#REF!","v":{"$error":"#REF!"}},{"$f":"'1.Портфель кредитів'!#REF!","v":{"$error":"#REF!"}},{"$f":"'1.Портфель кредитів'!#REF!","v":{"$error":"#REF!"}},{"$f":"'1.Портфель кредитів'!I314","v":0},{"$f":"'1.Портфель кредитів'!W314","v":0},{"$f":"'1.Портфель кредитів'!Y314","v":""},4,"2018-06-01","_4_43252_2"]
[{"$f":"'1.Портфель кредитів'!H315","v":0},{"$f":"'1.Портфель кредитів'!D315","v":""},{"$f":"'1.Портфель кредитів'!#REF!","v":{"$error":"#REF!"}},{"$f":"'1.Портфель кредитів'!#REF!","v":{"$error":"#REF!"}},{"$f":"'1.Портфель кредитів'!#REF!","v":{"$error":"#REF!"}},{"$f":"'1.Портфель кредитів'!I315","v":0},{"$f":"'1.Портфель кредитів'!W315","v":0},{"$f":"'1.Портфель кредитів'!Y315","v":""},4,"2018-06-01","_4_43252_2"]
[{"$f":"'1.Портфель кредитів'!H316","v":0},{"$f":"'1.Портфель кредитів'!D316","v":""},{"$f":"'1.Портфель кредитів'!#REF!","v":{"$error":"#REF!"}},{"$f":"'1.Портфель кредитів'!#REF!","v":{"$error":"#REF!"}},{"$f":"'1.Портфель кредитів'!#REF!","v":{"$error":"#REF!"}},{"$f":"'1.Портфель кредитів'!I316","v":0},{"$f":"'1.Портфель кредитів'!W316","v":0},{"$f":"'1.Портфель кредитів'!Y316","v":""},4,"2018-06-01","_4_43252_2"]
[{"$f":"'1.Портфель кредитів'!H317","v":0},{"$f":"'1.Портфель кредитів'!D317","v":""},{"$f":"'1.Портфель кредитів'!#REF!","v":{"$error":"#REF!"}},{"$f":"'1.Портфель кредитів'!#REF!","v":{"$error":"#REF!"}},{"$f":"'1.Портфель кредитів'!#REF!","v":{"$error":"#REF!"}},{"$f":"'1.Портфель кредитів'!I317","v":0},{"$f":"'1.Портфель кредитів'!W317","v":0},{"$f":"'1.Портфель кредитів'!Y317","v":""},4,"2018-06-01","_4_43252_2"]
[{"$f":"'1.Портфель кредитів'!H318","v":0},{"$f":"'1.Портфель кредитів'!D318","v":""},{"$f":"'1.Портфель кредитів'!#REF!","v":{"$error":"#REF!"}},{"$f":"'1.Портфель кредитів'!#REF!","v":{"$error":"#REF!"}},{"$f":"'1.Портфель кредитів'!#REF!","v":{"$error":"#REF!"}},{"$f":"'1.Портфель кредитів'!I318","v":0},{"$f":"'1.Портфель кредитів'!W318","v":0},{"$f":"'1.Портфель кредитів'!Y318","v":""},4,"2018-06-01","_4_43252_2"]
[{"$f":"'1.Портфель кредитів'!H319","v":0},{"$f":"'1.Портфель кредитів'!D319","v":""},{"$f":"'1.Портфель кредитів'!#REF!","v":{"$error":"#REF!"}},{"$f":"'1.Портфель кредитів'!#REF!","v":{"$error":"#REF!"}},{"$f":"'1.Портфель кредитів'!#REF!","v":{"$error":"#REF!"}},{"$f":"'1.Портфель кредитів'!I319","v":0},{"$f":"'1.Портфель кредитів'!W319","v":0},{"$f":"'1.Портфель кредитів'!Y319","v":""},4,"2018-06-01","_4_43252_2"]
[{"$f":"'1.Портфель кредитів'!H320","v":0},{"$f":"'1.Портфель кредитів'!D320","v":""},{"$f":"'1.Портфель кредитів'!#REF!","v":{"$error":"#REF!"}},{"$f":"'1.Портфель кредитів'!#REF!","v":{"$error":"#REF!"}},{"$f":"'1.Портфель кредитів'!#REF!","v":{"$error":"#REF!"}},{"$f":"'1.Портфель кредитів'!I320","v":0},{"$f":"'1.Портфель кредитів'!W320","v":0},{"$f":"'1.Портфель кредитів'!Y320","v":""},4,"2018-06-01","_4_43252_2"]
[{"$f":"'1.Портфель кредитів'!H321","v":0},{"$f":"'1.Портфель кредитів'!D321","v":""},{"$f":"'1.Портфель кредитів'!#REF!","v":{"$error":"#REF!"}},{"$f":"'1.Портфель кредитів'!#REF!","v":{"$error":"#REF!"}},{"$f":"'1.Портфель кредитів'!#REF!","v":{"$error":"#REF!"}},{"$f":"'1.Портфель кредитів'!I321","v":0},{"$f":"'1.Портфель кредитів'!W321","v":0},{"$f":"'1.Портфель кредитів'!Y321","v":""},4,"2018-06-01","_4_43252_2"]
[{"$f":"'1.Портфель кредитів'!H322","v":0},{"$f":"'1.Портфель кредитів'!D322","v":""},{"$f":"'1.Портфель кредитів'!#REF!","v":{"$error":"#REF!"}},{"$f":"'1.Портфель кредитів'!#REF!","v":{"$error":"#REF!"}},{"$f":"'1.Портфель кредитів'!#REF!","v":{"$error":"#REF!"}},{"$f":"'1.Портфель кредитів'!I322","v":0},{"$f":"'1.Портфель кредитів'!W322","v":0},{"$f":"'1.Портфель кредитів'!Y322","v":""},4,"2018-06-01","_4_43252_2"]
[{"$f":"'1.Портфель кредитів'!H323","v":0},{"$f":"'1.Портфель кредитів'!D323","v":""},{"$f":"'1.Портфель кредитів'!#REF!","v":{"$error":"#REF!"}},{"$f":"'1.Портфель кредитів'!#REF!","v":{"$error":"#REF!"}},{"$f":"'1.Портфель кредитів'!#REF!","v":{"$error":"#REF!"}},{"$f":"'1.Портфель кредитів'!I323","v":0},{"$f":"'1.Портфель кредитів'!W323","v":0},{"$f":"'1.Портфель кредитів'!Y323","v":""},4,"2018-06-01","_4_43252_2"]
[{"$f":"'1.Портфель кредитів'!H324","v":0},{"$f":"'1.Портфель кредитів'!D324","v":""},{"$f":"'1.Портфель кредитів'!#REF!","v":{"$error":"#REF!"}},{"$f":"'1.Портфель кредитів'!#REF!","v":{"$error":"#REF!"}},{"$f":"'1.Портфель кредитів'!#REF!","v":{"$error":"#REF!"}},{"$f":"'1.Портфель кредитів'!I324","v":0},{"$f":"'1.Портфель кредитів'!W324","v":0},{"$f":"'1.Портфель кредитів'!Y324","v":""},4,"2018-06-01","_4_43252_2"]
[{"$f":"'1.Портфель кредитів'!H325","v":0},{"$f":"'1.Портфель кредитів'!D325","v":""},{"$f":"'1.Портфель кредитів'!#REF!","v":{"$error":"#REF!"}},{"$f":"'1.Портфель кредитів'!#REF!","v":{"$error":"#REF!"}},{"$f":"'1.Портфель кредитів'!#REF!","v":{"$error":"#REF!"}},{"$f":"'1.Портфель кредитів'!I325","v":0},{"$f":"'1.Портфель кредитів'!W325","v":0},{"$f":"'1.Портфель кредитів'!Y325","v":""},4,"2018-06-01","_4_43252_2"]
[{"$f":"'1.Портфель кредитів'!H326","v":0},{"$f":"'1.Портфель кредитів'!D326","v":""},{"$f":"'1.Портфель кредитів'!#REF!","v":{"$error":"#REF!"}},{"$f":"'1.Портфель кредитів'!#REF!","v":{"$error":"#REF!"}},{"$f":"'1.Портфель кредитів'!#REF!","v":{"$error":"#REF!"}},{"$f":"'1.Портфель кредитів'!I326","v":0},{"$f":"'1.Портфель кредитів'!W326","v":0},{"$f":"'1.Портфель кредитів'!Y326","v":""},4,"2018-06-01","_4_43252_2"]
[{"$f":"'1.Портфель кредитів'!H327","v":0},{"$f":"'1.Портфель кредитів'!D327","v":""},{"$f":"'1.Портфель кредитів'!#REF!","v":{"$error":"#REF!"}},{"$f":"'1.Портфель кредитів'!#REF!","v":{"$error":"#REF!"}},{"$f":"'1.Портфель кредитів'!#REF!","v":{"$error":"#REF!"}},{"$f":"'1.Портфель кредитів'!I327","v":0},{"$f":"'1.Портфель кредитів'!W327","v":0},{"$f":"'1.Портфель кредитів'!Y327","v":""},4,"2018-06-01","_4_43252_2"]
[{"$f":"'1.Портфель кредитів'!H328","v":0},{"$f":"'1.Портфель кредитів'!D328","v":""},{"$f":"'1.Портфель кредитів'!#REF!","v":{"$error":"#REF!"}},{"$f":"'1.Портфель кредитів'!#REF!","v":{"$error":"#REF!"}},{"$f":"'1.Портфель кредитів'!#REF!","v":{"$error":"#REF!"}},{"$f":"'1.Портфель кредитів'!I328","v":0},{"$f":"'1.Портфель кредитів'!W328","v":0},{"$f":"'1.Портфель кредитів'!Y328","v":""},4,"2018-06-01","_4_43252_2"]
[{"$f":"'1.Портфель кредитів'!H329","v":0},{"$f":"'1.Портфель кредитів'!D329","v":""},{"$f":"'1.Портфель кредитів'!#REF!","v":{"$error":"#REF!"}},{"$f":"'1.Портфель кредитів'!#REF!","v":{"$error":"#REF!"}},{"$f":"'1.Портфель кредитів'!#REF!","v":{"$error":"#REF!"}},{"$f":"'1.Портфель кредитів'!I329","v":0},{"$f":"'1.Портфель кредитів'!W329","v":0},{"$f":"'1.Портфель кредитів'!Y329","v":""},4,"2018-06-01","_4_43252_2"]
[{"$f":"'1.Портфель кредитів'!H330","v":0},{"$f":"'1.Портфель кредитів'!D330","v":""},{"$f":"'1.Портфель кредитів'!#REF!","v":{"$error":"#REF!"}},{"$f":"'1.Портфель кредитів'!#REF!","v":{"$error":"#REF!"}},{"$f":"'1.Портфель кредитів'!#REF!","v":{"$error":"#REF!"}},{"$f":"'1.Портфель кредитів'!I330","v":0},{"$f":"'1.Портфель кредитів'!W330","v":0},{"$f":"'1.Портфель кредитів'!Y330","v":""},4,"2018-06-01","_4_43252_2"]
[{"$f":"'1.Портфель кредитів'!H331","v":0},{"$f":"'1.Портфель кредитів'!D331","v":""},{"$f":"'1.Портфель кредитів'!#REF!","v":{"$error":"#REF!"}},{"$f":"'1.Портфель кредитів'!#REF!","v":{"$error":"#REF!"}},{"$f":"'1.Портфель кредитів'!#REF!","v":{"$error":"#REF!"}},{"$f":"'1.Портфель кредитів'!I331","v":0},{"$f":"'1.Портфель кредитів'!W331","v":0},{"$f":"'1.Портфель кредитів'!Y331","v":""},4,"2018-06-01","_4_43252_2"]
[{"$f":"'1.Портфель кредитів'!H332","v":0},{"$f":"'1.Портфель кредитів'!D332","v":""},{"$f":"'1.Портфель кредитів'!#REF!","v":{"$error":"#REF!"}},{"$f":"'1.Портфель кредитів'!#REF!","v":{"$error":"#REF!"}},{"$f":"'1.Портфель кредитів'!#REF!","v":{"$error":"#REF!"}},{"$f":"'1.Портфель кредитів'!I332","v":0},{"$f":"'1.Портфель кредитів'!W332","v":0},{"$f":"'1.Портфель кредитів'!Y332","v":""},4,"2018-06-01","_4_43252_2"]
[{"$f":"'1.Портфель кредитів'!H333","v":0},{"$f":"'1.Портфель кредитів'!D333","v":""},{"$f":"'1.Портфель кредитів'!#REF!","v":{"$error":"#REF!"}},{"$f":"'1.Портфель кредитів'!#REF!","v":{"$error":"#REF!"}},{"$f":"'1.Портфель кредитів'!#REF!","v":{"$error":"#REF!"}},{"$f":"'1.Портфель кредитів'!I333","v":0},{"$f":"'1.Портфель кредитів'!W333","v":0},{"$f":"'1.Портфель кредитів'!Y333","v":""},4,"2018-06-01","_4_43252_2"]
[{"$f":"'1.Портфель кредитів'!H334","v":0},{"$f":"'1.Портфель кредитів'!D334","v":""},{"$f":"'1.Портфель кредитів'!#REF!","v":{"$error":"#REF!"}},{"$f":"'1.Портфель кредитів'!#REF!","v":{"$error":"#REF!"}},{"$f":"'1.Портфель кредитів'!#REF!","v":{"$error":"#REF!"}},{"$f":"'1.Портфель кредитів'!I334","v":0},{"$f":"'1.Портфель кредитів'!W334","v":0},{"$f":"'1.Портфель кредитів'!Y334","v":""},4,"2018-06-01","_4_43252_2"]
[{"$f":"'1.Портфель кредитів'!H335","v":0},{"$f":"'1.Портфель кредитів'!D335","v":""},{"$f":"'1.Портфель кредитів'!#REF!","v":{"$error":"#REF!"}},{"$f":"'1.Портфель кредитів'!#REF!","v":{"$error":"#REF!"}},{"$f":"'1.Портфель кредитів'!#REF!","v":{"$error":"#REF!"}},{"$f":"'1.Портфель кредитів'!I335","v":0},{"$f":"'1.Портфель кредитів'!W335","v":0},{"$f":"'1.Портфель кредитів'!Y335","v":""},4,"2018-06-01","_4_43252_2"]
[{"$f":"'1.Портфель кредитів'!H336","v":0},{"$f":"'1.Портфель кредитів'!D336","v":""},{"$f":"'1.Портфель кредитів'!#REF!","v":{"$error":"#REF!"}},{"$f":"'1.Портфель кредитів'!#REF!","v":{"$error":"#REF!"}},{"$f":"'1.Портфель кредитів'!#REF!","v":{"$error":"#REF!"}},{"$f":"'1.Портфель кредитів'!I336","v":0},{"$f":"'1.Портфель кредитів'!W336","v":0},{"$f":"'1.Портфель кредитів'!Y336","v":""},{"$f":"$E$1","v":4},{"$f":"$E$2","v":"2018-06-01"},{"$f":"B390&\"_\"&I390&\"_\"&J390&\"_\"&$E$3","v":"_4_43252_2"}]
[{"$f":"'1.Портфель кредитів'!H337","v":0},{"$f":"'1.Портфель кредитів'!D337","v":""},{"$f":"'1.Портфель кредитів'!#REF!","v":{"$error":"#REF!"}},{"$f":"'1.Портфель кредитів'!#REF!","v":{"$error":"#REF!"}},{"$f":"'1.Портфель кредитів'!#REF!","v":{"$error":"#REF!"}},{"$f":"'1.Портфель кредитів'!I337","v":0},{"$f":"'1.Портфель кредитів'!W337","v":0},{"$f":"'1.Портфель кредитів'!Y337","v":""},4,"2018-06-01","_4_43252_2"]
[{"$f":"'1.Портфель кредитів'!H338","v":0},{"$f":"'1.Портфель кредитів'!D338","v":""},{"$f":"'1.Портфель кредитів'!#REF!","v":{"$error":"#REF!"}},{"$f":"'1.Портфель кредитів'!#REF!","v":{"$error":"#REF!"}},{"$f":"'1.Портфель кредитів'!#REF!","v":{"$error":"#REF!"}},{"$f":"'1.Портфель кредитів'!I338","v":0},{"$f":"'1.Портфель кредитів'!W338","v":0},{"$f":"'1.Портфель кредитів'!Y338","v":""},4,"2018-06-01","_4_43252_2"]
[{"$f":"'1.Портфель кредитів'!H339","v":0},{"$f":"'1.Портфель кредитів'!D339","v":""},{"$f":"'1.Портфель кредитів'!#REF!","v":{"$error":"#REF!"}},{"$f":"'1.Портфель кредитів'!#REF!","v":{"$error":"#REF!"}},{"$f":"'1.Портфель кредитів'!#REF!","v":{"$error":"#REF!"}},{"$f":"'1.Портфель кредитів'!I339","v":0},{"$f":"'1.Портфель кредитів'!W339","v":0},{"$f":"'1.Портфель кредитів'!Y339","v":""},4,"2018-06-01","_4_43252_2"]
[{"$f":"'1.Портфель кредитів'!H340","v":0},{"$f":"'1.Портфель кредитів'!D340","v":""},{"$f":"'1.Портфель кредитів'!#REF!","v":{"$error":"#REF!"}},{"$f":"'1.Портфель кредитів'!#REF!","v":{"$error":"#REF!"}},{"$f":"'1.Портфель кредитів'!#REF!","v":{"$error":"#REF!"}},{"$f":"'1.Портфель кредитів'!I340","v":0},{"$f":"'1.Портфель кредитів'!W340","v":0},{"$f":"'1.Портфель кредитів'!Y340","v":""},4,"2018-06-01","_4_43252_2"]
[{"$f":"'1.Портфель кредитів'!H341","v":0},{"$f":"'1.Портфель кредитів'!D341","v":""},{"$f":"'1.Портфель кредитів'!#REF!","v":{"$error":"#REF!"}},{"$f":"'1.Портфель кредитів'!#REF!","v":{"$error":"#REF!"}},{"$f":"'1.Портфель кредитів'!#REF!","v":{"$error":"#REF!"}},{"$f":"'1.Портфель кредитів'!I341","v":0},{"$f":"'1.Портфель кредитів'!W341","v":0},{"$f":"'1.Портфель кредитів'!Y341","v":""},4,"2018-06-01","_4_43252_2"]
[{"$f":"'1.Портфель кредитів'!H342","v":0},{"$f":"'1.Портфель кредитів'!D342","v":""},{"$f":"'1.Портфель кредитів'!#REF!","v":{"$error":"#REF!"}},{"$f":"'1.Портфель кредитів'!#REF!","v":{"$error":"#REF!"}},{"$f":"'1.Портфель кредитів'!#REF!","v":{"$error":"#REF!"}},{"$f":"'1.Портфель кредитів'!I342","v":0},{"$f":"'1.Портфель кредитів'!W342","v":0},{"$f":"'1.Портфель кредитів'!Y342","v":""},4,"2018-06-01","_4_43252_2"]
[{"$f":"'1.Портфель кредитів'!H343","v":0},{"$f":"'1.Портфель кредитів'!D343","v":""},{"$f":"'1.Портфель кредитів'!#REF!","v":{"$error":"#REF!"}},{"$f":"'1.Портфель кредитів'!#REF!","v":{"$error":"#REF!"}},{"$f":"'1.Портфель кредитів'!#REF!","v":{"$error":"#REF!"}},{"$f":"'1.Портфель кредитів'!I343","v":0},{"$f":"'1.Портфель кредитів'!W343","v":0},{"$f":"'1.Портфель кредитів'!Y343","v":""},4,"2018-06-01","_4_43252_2"]
[{"$f":"'1.Портфель кредитів'!H344","v":0},{"$f":"'1.Портфель кредитів'!D344","v":""},{"$f":"'1.Портфель кредитів'!#REF!","v":{"$error":"#REF!"}},{"$f":"'1.Портфель кредитів'!#REF!","v":{"$error":"#REF!"}},{"$f":"'1.Портфель кредитів'!#REF!","v":{"$error":"#REF!"}},{"$f":"'1.Портфель кредитів'!I344","v":0},{"$f":"'1.Портфель кредитів'!W344","v":0},{"$f":"'1.Портфель кредитів'!Y344","v":""},4,"2018-06-01","_4_43252_2"]
[{"$f":"'1.Портфель кредитів'!H345","v":0},{"$f":"'1.Портфель кредитів'!D345","v":""},{"$f":"'1.Портфель кредитів'!#REF!","v":{"$error":"#REF!"}},{"$f":"'1.Портфель кредитів'!#REF!","v":{"$error":"#REF!"}},{"$f":"'1.Портфель кредитів'!#REF!","v":{"$error":"#REF!"}},{"$f":"'1.Портфель кредитів'!I345","v":0},{"$f":"'1.Портфель кредитів'!W345","v":0},{"$f":"'1.Портфель кредитів'!Y345","v":""},4,"2018-06-01","_4_43252_2"]
[{"$f":"'1.Портфель кредитів'!H346","v":0},{"$f":"'1.Портфель кредитів'!D346","v":""},{"$f":"'1.Портфель кредитів'!#REF!","v":{"$error":"#REF!"}},{"$f":"'1.Портфель кредитів'!#REF!","v":{"$error":"#REF!"}},{"$f":"'1.Портфель кредитів'!#REF!","v":{"$error":"#REF!"}},{"$f":"'1.Портфель кредитів'!I346","v":0},{"$f":"'1.Портфель кредитів'!W346","v":0},{"$f":"'1.Портфель кредитів'!Y346","v":""},4,"2018-06-01","_4_43252_2"]
[{"$f":"'1.Портфель кредитів'!H347","v":0},{"$f":"'1.Портфель кредитів'!D347","v":""},{"$f":"'1.Портфель кредитів'!#REF!","v":{"$error":"#REF!"}},{"$f":"'1.Портфель кредитів'!#REF!","v":{"$error":"#REF!"}},{"$f":"'1.Портфель кредитів'!#REF!","v":{"$error":"#REF!"}},{"$f":"'1.Портфель кредитів'!I347","v":0},{"$f":"'1.Портфель кредитів'!W347","v":0},{"$f":"'1.Портфель кредитів'!Y347","v":""},4,"2018-06-01","_4_43252_2"]
[{"$f":"'1.Портфель кредитів'!H348","v":0},{"$f":"'1.Портфель кредитів'!D348","v":""},{"$f":"'1.Портфель кредитів'!#REF!","v":{"$error":"#REF!"}},{"$f":"'1.Портфель кредитів'!#REF!","v":{"$error":"#REF!"}},{"$f":"'1.Портфель кредитів'!#REF!","v":{"$error":"#REF!"}},{"$f":"'1.Портфель кредитів'!I348","v":0},{"$f":"'1.Портфель кредитів'!W348","v":0},{"$f":"'1.Портфель кредитів'!Y348","v":""},4,"2018-06-01","_4_43252_2"]
[{"$f":"'1.Портфель кредитів'!H349","v":0},{"$f":"'1.Портфель кредитів'!D349","v":""},{"$f":"'1.Портфель кредитів'!#REF!","v":{"$error":"#REF!"}},{"$f":"'1.Портфель кредитів'!#REF!","v":{"$error":"#REF!"}},{"$f":"'1.Портфель кредитів'!#REF!","v":{"$error":"#REF!"}},{"$f":"'1.Портфель кредитів'!I349","v":0},{"$f":"'1.Портфель кредитів'!W349","v":0},{"$f":"'1.Портфель кредитів'!Y349","v":""},4,"2018-06-01","_4_43252_2"]
[{"$f":"'1.Портфель кредитів'!H350","v":0},{"$f":"'1.Портфель кредитів'!D350","v":""},{"$f":"'1.Портфель кредитів'!#REF!","v":{"$error":"#REF!"}},{"$f":"'1.Портфель кредитів'!#REF!","v":{"$error":"#REF!"}},{"$f":"'1.Портфель кредитів'!#REF!","v":{"$error":"#REF!"}},{"$f":"'1.Портфель кредитів'!I350","v":0},{"$f":"'1.Портфель кредитів'!W350","v":0},{"$f":"'1.Портфель кредитів'!Y350","v":""},4,"2018-06-01","_4_43252_2"]
[{"$f":"'1.Портфель кредитів'!H351","v":0},{"$f":"'1.Портфель кредитів'!D351","v":""},{"$f":"'1.Портфель кредитів'!#REF!","v":{"$error":"#REF!"}},{"$f":"'1.Портфель кредитів'!#REF!","v":{"$error":"#REF!"}},{"$f":"'1.Портфель кредитів'!#REF!","v":{"$error":"#REF!"}},{"$f":"'1.Портфель кредитів'!I351","v":0},{"$f":"'1.Портфель кредитів'!W351","v":0},{"$f":"'1.Портфель кредитів'!Y351","v":""},4,"2018-06-01","_4_43252_2"]
[{"$f":"'1.Портфель кредитів'!H352","v":0},{"$f":"'1.Портфель кредитів'!D352","v":""},{"$f":"'1.Портфель кредитів'!#REF!","v":{"$error":"#REF!"}},{"$f":"'1.Портфель кредитів'!#REF!","v":{"$error":"#REF!"}},{"$f":"'1.Портфель кредитів'!#REF!","v":{"$error":"#REF!"}},{"$f":"'1.Портфель кредитів'!I352","v":0},{"$f":"'1.Портфель кредитів'!W352","v":0},{"$f":"'1.Портфель кредитів'!Y352","v":""},4,"2018-06-01","_4_43252_2"]
[{"$f":"'1.Портфель кредитів'!H353","v":0},{"$f":"'1.Портфель кредитів'!D353","v":""},{"$f":"'1.Портфель кредитів'!#REF!","v":{"$error":"#REF!"}},{"$f":"'1.Портфель кредитів'!#REF!","v":{"$error":"#REF!"}},{"$f":"'1.Портфель кредитів'!#REF!","v":{"$error":"#REF!"}},{"$f":"'1.Портфель кредитів'!I353","v":0},{"$f":"'1.Портфель кредитів'!W353","v":0},{"$f":"'1.Портфель кредитів'!Y353","v":""},4,"2018-06-01","_4_43252_2"]
[{"$f":"'1.Портфель кредитів'!H354","v":0},{"$f":"'1.Портфель кредитів'!D354","v":""},{"$f":"'1.Портфель кредитів'!#REF!","v":{"$error":"#REF!"}},{"$f":"'1.Портфель кредитів'!#REF!","v":{"$error":"#REF!"}},{"$f":"'1.Портфель кредитів'!#REF!","v":{"$error":"#REF!"}},{"$f":"'1.Портфель кредитів'!I354","v":0},{"$f":"'1.Портфель кредитів'!W354","v":0},{"$f":"'1.Портфель кредитів'!Y354","v":""},4,"2018-06-01","_4_43252_2"]
[{"$f":"'1.Портфель кредитів'!H355","v":0},{"$f":"'1.Портфель кредитів'!D355","v":""},{"$f":"'1.Портфель кредитів'!#REF!","v":{"$error":"#REF!"}},{"$f":"'1.Портфель кредитів'!#REF!","v":{"$error":"#REF!"}},{"$f":"'1.Портфель кредитів'!#REF!","v":{"$error":"#REF!"}},{"$f":"'1.Портфель кредитів'!I355","v":0},{"$f":"'1.Портфель кредитів'!W355","v":0},{"$f":"'1.Портфель кредитів'!Y355","v":""},4,"2018-06-01","_4_43252_2"]
[{"$f":"'1.Портфель кредитів'!H356","v":0},{"$f":"'1.Портфель кредитів'!D356","v":""},{"$f":"'1.Портфель кредитів'!#REF!","v":{"$error":"#REF!"}},{"$f":"'1.Портфель кредитів'!#REF!","v":{"$error":"#REF!"}},{"$f":"'1.Портфель кредитів'!#REF!","v":{"$error":"#REF!"}},{"$f":"'1.Портфель кредитів'!I356","v":0},{"$f":"'1.Портфель кредитів'!W356","v":0},{"$f":"'1.Портфель кредитів'!Y356","v":""},4,"2018-06-01","_4_43252_2"]
[{"$f":"'1.Портфель кредитів'!H357","v":0},{"$f":"'1.Портфель кредитів'!D357","v":""},{"$f":"'1.Портфель кредитів'!#REF!","v":{"$error":"#REF!"}},{"$f":"'1.Портфель кредитів'!#REF!","v":{"$error":"#REF!"}},{"$f":"'1.Портфель кредитів'!#REF!","v":{"$error":"#REF!"}},{"$f":"'1.Портфель кредитів'!I357","v":0},{"$f":"'1.Портфель кредитів'!W357","v":0},{"$f":"'1.Портфель кредитів'!Y357","v":""},4,"2018-06-01","_4_43252_2"]
[{"$f":"'1.Портфель кредитів'!H358","v":0},{"$f":"'1.Портфель кредитів'!D358","v":""},{"$f":"'1.Портфель кредитів'!#REF!","v":{"$error":"#REF!"}},{"$f":"'1.Портфель кредитів'!#REF!","v":{"$error":"#REF!"}},{"$f":"'1.Портфель кредитів'!#REF!","v":{"$error":"#REF!"}},{"$f":"'1.Портфель кредитів'!I358","v":0},{"$f":"'1.Портфель кредитів'!W358","v":0},{"$f":"'1.Портфель кредитів'!Y358","v":""},4,"2018-06-01","_4_43252_2"]
[{"$f":"'1.Портфель кредитів'!H359","v":0},{"$f":"'1.Портфель кредитів'!D359","v":""},{"$f":"'1.Портфель кредитів'!#REF!","v":{"$error":"#REF!"}},{"$f":"'1.Портфель кредитів'!#REF!","v":{"$error":"#REF!"}},{"$f":"'1.Портфель кредитів'!#REF!","v":{"$error":"#REF!"}},{"$f":"'1.Портфель кредитів'!I359","v":0},{"$f":"'1.Портфель кредитів'!W359","v":0},{"$f":"'1.Портфель кредитів'!Y359","v":""},4,"2018-06-01","_4_43252_2"]
[{"$f":"'1.Портфель кредитів'!H360","v":0},{"$f":"'1.Портфель кредитів'!D360","v":""},{"$f":"'1.Портфель кредитів'!#REF!","v":{"$error":"#REF!"}},{"$f":"'1.Портфель кредитів'!#REF!","v":{"$error":"#REF!"}},{"$f":"'1.Портфель кредитів'!#REF!","v":{"$error":"#REF!"}},{"$f":"'1.Портфель кредитів'!I360","v":0},{"$f":"'1.Портфель кредитів'!W360","v":0},{"$f":"'1.Портфель кредитів'!Y360","v":""},4,"2018-06-01","_4_43252_2"]
[{"$f":"'1.Портфель кредитів'!H361","v":0},{"$f":"'1.Портфель кредитів'!D361","v":""},{"$f":"'1.Портфель кредитів'!#REF!","v":{"$error":"#REF!"}},{"$f":"'1.Портфель кредитів'!#REF!","v":{"$error":"#REF!"}},{"$f":"'1.Портфель кредитів'!#REF!","v":{"$error":"#REF!"}},{"$f":"'1.Портфель кредитів'!I361","v":0},{"$f":"'1.Портфель кредитів'!W361","v":0},{"$f":"'1.Портфель кредитів'!Y361","v":""},4,"2018-06-01","_4_43252_2"]
[{"$f":"'1.Портфель кредитів'!H362","v":0},{"$f":"'1.Портфель кредитів'!D362","v":""},{"$f":"'1.Портфель кредитів'!#REF!","v":{"$error":"#REF!"}},{"$f":"'1.Портфель кредитів'!#REF!","v":{"$error":"#REF!"}},{"$f":"'1.Портфель кредитів'!#REF!","v":{"$error":"#REF!"}},{"$f":"'1.Портфель кредитів'!I362","v":0},{"$f":"'1.Портфель кредитів'!W362","v":0},{"$f":"'1.Портфель кредитів'!Y362","v":""},4,"2018-06-01","_4_43252_2"]
[{"$f":"'1.Портфель кредитів'!H363","v":0},{"$f":"'1.Портфель кредитів'!D363","v":""},{"$f":"'1.Портфель кредитів'!#REF!","v":{"$error":"#REF!"}},{"$f":"'1.Портфель кредитів'!#REF!","v":{"$error":"#REF!"}},{"$f":"'1.Портфель кредитів'!#REF!","v":{"$error":"#REF!"}},{"$f":"'1.Портфель кредитів'!I363","v":0},{"$f":"'1.Портфель кредитів'!W363","v":0},{"$f":"'1.Портфель кредитів'!Y363","v":""},4,"2018-06-01","_4_43252_2"]
[{"$f":"'1.Портфель кредитів'!H364","v":0},{"$f":"'1.Портфель кредитів'!D364","v":""},{"$f":"'1.Портфель кредитів'!#REF!","v":{"$error":"#REF!"}},{"$f":"'1.Портфель кредитів'!#REF!","v":{"$error":"#REF!"}},{"$f":"'1.Портфель кредитів'!#REF!","v":{"$error":"#REF!"}},{"$f":"'1.Портфель кредитів'!I364","v":0},{"$f":"'1.Портфель кредитів'!W364","v":0},{"$f":"'1.Портфель кредитів'!Y364","v":""},4,"2018-06-01","_4_43252_2"]
[{"$f":"'1.Портфель кредитів'!H365","v":0},{"$f":"'1.Портфель кредитів'!D365","v":""},{"$f":"'1.Портфель кредитів'!#REF!","v":{"$error":"#REF!"}},{"$f":"'1.Портфель кредитів'!#REF!","v":{"$error":"#REF!"}},{"$f":"'1.Портфель кредитів'!#REF!","v":{"$error":"#REF!"}},{"$f":"'1.Портфель кредитів'!I365","v":0},{"$f":"'1.Портфель кредитів'!W365","v":0},{"$f":"'1.Портфель кредитів'!Y365","v":""},4,"2018-06-01","_4_43252_2"]
[{"$f":"'1.Портфель кредитів'!H366","v":0},{"$f":"'1.Портфель кредитів'!D366","v":""},{"$f":"'1.Портфель кредитів'!#REF!","v":{"$error":"#REF!"}},{"$f":"'1.Портфель кредитів'!#REF!","v":{"$error":"#REF!"}},{"$f":"'1.Портфель кредитів'!#REF!","v":{"$error":"#REF!"}},{"$f":"'1.Портфель кредитів'!I366","v":0},{"$f":"'1.Портфель кредитів'!W366","v":0},{"$f":"'1.Портфель кредитів'!Y366","v":""},4,"2018-06-01","_4_43252_2"]
[{"$f":"'1.Портфель кредитів'!H367","v":0},{"$f":"'1.Портфель кредитів'!D367","v":""},{"$f":"'1.Портфель кредитів'!#REF!","v":{"$error":"#REF!"}},{"$f":"'1.Портфель кредитів'!#REF!","v":{"$error":"#REF!"}},{"$f":"'1.Портфель кредитів'!#REF!","v":{"$error":"#REF!"}},{"$f":"'1.Портфель кредитів'!I367","v":0},{"$f":"'1.Портфель кредитів'!W367","v":0},{"$f":"'1.Портфель кредитів'!Y367","v":""},4,"2018-06-01","_4_43252_2"]
[{"$f":"'1.Портфель кредитів'!H368","v":0},{"$f":"'1.Портфель кредитів'!D368","v":""},{"$f":"'1.Портфель кредитів'!#REF!","v":{"$error":"#REF!"}},{"$f":"'1.Портфель кредитів'!#REF!","v":{"$error":"#REF!"}},{"$f":"'1.Портфель кредитів'!#REF!","v":{"$error":"#REF!"}},{"$f":"'1.Портфель кредитів'!I368","v":0},{"$f":"'1.Портфель кредитів'!W368","v":0},{"$f":"'1.Портфель кредитів'!Y368","v":""},4,"2018-06-01","_4_43252_2"]
[{"$f":"'1.Портфель кредитів'!H369","v":0},{"$f":"'1.Портфель кредитів'!D369","v":""},{"$f":"'1.Портфель кредитів'!#REF!","v":{"$error":"#REF!"}},{"$f":"'1.Портфель кредитів'!#REF!","v":{"$error":"#REF!"}},{"$f":"'1.Портфель кредитів'!#REF!","v":{"$error":"#REF!"}},{"$f":"'1.Портфель кредитів'!I369","v":0},{"$f":"'1.Портфель кредитів'!W369","v":0},{"$f":"'1.Портфель кредитів'!Y369","v":""},4,"2018-06-01","_4_43252_2"]
[{"$f":"'1.Портфель кредитів'!H370","v":0},{"$f":"'1.Портфель кредитів'!D370","v":""},{"$f":"'1.Портфель кредитів'!#REF!","v":{"$error":"#REF!"}},{"$f":"'1.Портфель кредитів'!#REF!","v":{"$error":"#REF!"}},{"$f":"'1.Портфель кредитів'!#REF!","v":{"$error":"#REF!"}},{"$f":"'1.Портфель кредитів'!I370","v":0},{"$f":"'1.Портфель кредитів'!W370","v":0},{"$f":"'1.Портфель кредитів'!Y370","v":""},4,"2018-06-01","_4_43252_2"]
[{"$f":"'1.Портфель кредитів'!H371","v":0},{"$f":"'1.Портфель кредитів'!D371","v":""},{"$f":"'1.Портфель кредитів'!#REF!","v":{"$error":"#REF!"}},{"$f":"'1.Портфель кредитів'!#REF!","v":{"$error":"#REF!"}},{"$f":"'1.Портфель кредитів'!#REF!","v":{"$error":"#REF!"}},{"$f":"'1.Портфель кредитів'!I371","v":0},{"$f":"'1.Портфель кредитів'!W371","v":0},{"$f":"'1.Портфель кредитів'!Y371","v":""},4,"2018-06-01","_4_43252_2"]
[{"$f":"'1.Портфель кредитів'!H372","v":0},{"$f":"'1.Портфель кредитів'!D372","v":""},{"$f":"'1.Портфель кредитів'!#REF!","v":{"$error":"#REF!"}},{"$f":"'1.Портфель кредитів'!#REF!","v":{"$error":"#REF!"}},{"$f":"'1.Портфель кредитів'!#REF!","v":{"$error":"#REF!"}},{"$f":"'1.Портфель кредитів'!I372","v":0},{"$f":"'1.Портфель кредитів'!W372","v":0},{"$f":"'1.Портфель кредитів'!Y372","v":""},4,"2018-06-01","_4_43252_2"]
[{"$f":"'1.Портфель кредитів'!H373","v":0},{"$f":"'1.Портфель кредитів'!D373","v":""},{"$f":"'1.Портфель кредитів'!#REF!","v":{"$error":"#REF!"}},{"$f":"'1.Портфель кредитів'!#REF!","v":{"$error":"#REF!"}},{"$f":"'1.Портфель кредитів'!#REF!","v":{"$error":"#REF!"}},{"$f":"'1.Портфель кредитів'!I373","v":0},{"$f":"'1.Портфель кредитів'!W373","v":0},{"$f":"'1.Портфель кредитів'!Y373","v":""},4,"2018-06-01","_4_43252_2"]
[{"$f":"'1.Портфель кредитів'!H374","v":0},{"$f":"'1.Портфель кредитів'!D374","v":""},{"$f":"'1.Портфель кредитів'!#REF!","v":{"$error":"#REF!"}},{"$f":"'1.Портфель кредитів'!#REF!","v":{"$error":"#REF!"}},{"$f":"'1.Портфель кредитів'!#REF!","v":{"$error":"#REF!"}},{"$f":"'1.Портфель кредитів'!I374","v":0},{"$f":"'1.Портфель кредитів'!W374","v":0},{"$f":"'1.Портфель кредитів'!Y374","v":""},4,"2018-06-01","_4_43252_2"]
[{"$f":"'1.Портфель кредитів'!H375","v":0},{"$f":"'1.Портфель кредитів'!D375","v":""},{"$f":"'1.Портфель кредитів'!#REF!","v":{"$error":"#REF!"}},{"$f":"'1.Портфель кредитів'!#REF!","v":{"$error":"#REF!"}},{"$f":"'1.Портфель кредитів'!#REF!","v":{"$error":"#REF!"}},{"$f":"'1.Портфель кредитів'!I375","v":0},{"$f":"'1.Портфель кредитів'!W375","v":0},{"$f":"'1.Портфель кредитів'!Y375","v":""},4,"2018-06-01","_4_43252_2"]
[{"$f":"'1.Портфель кредитів'!H376","v":0},{"$f":"'1.Портфель кредитів'!D376","v":""},{"$f":"'1.Портфель кредитів'!#REF!","v":{"$error":"#REF!"}},{"$f":"'1.Портфель кредитів'!#REF!","v":{"$error":"#REF!"}},{"$f":"'1.Портфель кредитів'!#REF!","v":{"$error":"#REF!"}},{"$f":"'1.Портфель кредитів'!I376","v":0},{"$f":"'1.Портфель кредитів'!W376","v":0},{"$f":"'1.Портфель кредитів'!Y376","v":""},4,"2018-06-01","_4_43252_2"]
[{"$f":"'1.Портфель кредитів'!H377","v":0},{"$f":"'1.Портфель кредитів'!D377","v":""},{"$f":"'1.Портфель кредитів'!#REF!","v":{"$error":"#REF!"}},{"$f":"'1.Портфель кредитів'!#REF!","v":{"$error":"#REF!"}},{"$f":"'1.Портфель кредитів'!#REF!","v":{"$error":"#REF!"}},{"$f":"'1.Портфель кредитів'!I377","v":0},{"$f":"'1.Портфель кредитів'!W377","v":0},{"$f":"'1.Портфель кредитів'!Y377","v":""},4,"2018-06-01","_4_43252_2"]
[{"$f":"'1.Портфель кредитів'!H378","v":0},{"$f":"'1.Портфель кредитів'!D378","v":""},{"$f":"'1.Портфель кредитів'!#REF!","v":{"$error":"#REF!"}},{"$f":"'1.Портфель кредитів'!#REF!","v":{"$error":"#REF!"}},{"$f":"'1.Портфель кредитів'!#REF!","v":{"$error":"#REF!"}},{"$f":"'1.Портфель кредитів'!I378","v":0},{"$f":"'1.Портфель кредитів'!W378","v":0},{"$f":"'1.Портфель кредитів'!Y378","v":""},4,"2018-06-01","_4_43252_2"]
[{"$f":"'1.Портфель кредитів'!H379","v":0},{"$f":"'1.Портфель кредитів'!D379","v":""},{"$f":"'1.Портфель кредитів'!#REF!","v":{"$error":"#REF!"}},{"$f":"'1.Портфель кредитів'!#REF!","v":{"$error":"#REF!"}},{"$f":"'1.Портфель кредитів'!#REF!","v":{"$error":"#REF!"}},{"$f":"'1.Портфель кредитів'!I379","v":0},{"$f":"'1.Портфель кредитів'!W379","v":0},{"$f":"'1.Портфель кредитів'!Y379","v":""},4,"2018-06-01","_4_43252_2"]
[{"$f":"'1.Портфель кредитів'!H380","v":0},{"$f":"'1.Портфель кредитів'!D380","v":""},{"$f":"'1.Портфель кредитів'!#REF!","v":{"$error":"#REF!"}},{"$f":"'1.Портфель кредитів'!#REF!","v":{"$error":"#REF!"}},{"$f":"'1.Портфель кредитів'!#REF!","v":{"$error":"#REF!"}},{"$f":"'1.Портфель кредитів'!I380","v":0},{"$f":"'1.Портфель кредитів'!W380","v":0},{"$f":"'1.Портфель кредитів'!Y380","v":""},4,"2018-06-01","_4_43252_2"]
[{"$f":"'1.Портфель кредитів'!H381","v":0},{"$f":"'1.Портфель кредитів'!D381","v":""},{"$f":"'1.Портфель кредитів'!#REF!","v":{"$error":"#REF!"}},{"$f":"'1.Портфель кредитів'!#REF!","v":{"$error":"#REF!"}},{"$f":"'1.Портфель кредитів'!#REF!","v":{"$error":"#REF!"}},{"$f":"'1.Портфель кредитів'!I381","v":0},{"$f":"'1.Портфель кредитів'!W381","v":0},{"$f":"'1.Портфель кредитів'!Y381","v":""},4,"2018-06-01","_4_43252_2"]
[{"$f":"'1.Портфель кредитів'!H382","v":0},{"$f":"'1.Портфель кредитів'!D382","v":""},{"$f":"'1.Портфель кредитів'!#REF!","v":{"$error":"#REF!"}},{"$f":"'1.Портфель кредитів'!#REF!","v":{"$error":"#REF!"}},{"$f":"'1.Портфель кредитів'!#REF!","v":{"$error":"#REF!"}},{"$f":"'1.Портфель кредитів'!I382","v":0},{"$f":"'1.Портфель кредитів'!W382","v":0},{"$f":"'1.Портфель кредитів'!Y382","v":""},4,"2018-06-01","_4_43252_2"]
[{"$f":"'1.Портфель кредитів'!H383","v":0},{"$f":"'1.Портфель кредитів'!D383","v":""},{"$f":"'1.Портфель кредитів'!#REF!","v":{"$error":"#REF!"}},{"$f":"'1.Портфель кредитів'!#REF!","v":{"$error":"#REF!"}},{"$f":"'1.Портфель кредитів'!#REF!","v":{"$error":"#REF!"}},{"$f":"'1.Портфель кредитів'!I383","v":0},{"$f":"'1.Портфель кредитів'!W383","v":0},{"$f":"'1.Портфель кредитів'!Y383","v":""},4,"2018-06-01","_4_43252_2"]
[{"$f":"'1.Портфель кредитів'!H384","v":0},{"$f":"'1.Портфель кредитів'!D384","v":""},{"$f":"'1.Портфель кредитів'!#REF!","v":{"$error":"#REF!"}},{"$f":"'1.Портфель кредитів'!#REF!","v":{"$error":"#REF!"}},{"$f":"'1.Портфель кредитів'!#REF!","v":{"$error":"#REF!"}},{"$f":"'1.Портфель кредитів'!I384","v":0},{"$f":"'1.Портфель кредитів'!W384","v":0},{"$f":"'1.Портфель кредитів'!Y384","v":""},4,"2018-06-01","_4_43252_2"]
[{"$f":"'1.Портфель кредитів'!H385","v":0},{"$f":"'1.Портфель кредитів'!D385","v":""},{"$f":"'1.Портфель кредитів'!#REF!","v":{"$error":"#REF!"}},{"$f":"'1.Портфель кредитів'!#REF!","v":{"$error":"#REF!"}},{"$f":"'1.Портфель кредитів'!#REF!","v":{"$error":"#REF!"}},{"$f":"'1.Портфель кредитів'!I385","v":0},{"$f":"'1.Портфель кредитів'!W385","v":0},{"$f":"'1.Портфель кредитів'!Y385","v":""},4,"2018-06-01","_4_43252_2"]
[{"$f":"'1.Портфель кредитів'!H386","v":0},{"$f":"'1.Портфель кредитів'!D386","v":""},{"$f":"'1.Портфель кредитів'!#REF!","v":{"$error":"#REF!"}},{"$f":"'1.Портфель кредитів'!#REF!","v":{"$error":"#REF!"}},{"$f":"'1.Портфель кредитів'!#REF!","v":{"$error":"#REF!"}},{"$f":"'1.Портфель кредитів'!I386","v":0},{"$f":"'1.Портфель кредитів'!W386","v":0},{"$f":"'1.Портфель кредитів'!Y386","v":""},4,"2018-06-01","_4_43252_2"]
[{"$f":"'1.Портфель кредитів'!H387","v":0},{"$f":"'1.Портфель кредитів'!D387","v":""},{"$f":"'1.Портфель кредитів'!#REF!","v":{"$error":"#REF!"}},{"$f":"'1.Портфель кредитів'!#REF!","v":{"$error":"#REF!"}},{"$f":"'1.Портфель кредитів'!#REF!","v":{"$error":"#REF!"}},{"$f":"'1.Портфель кредитів'!I387","v":0},{"$f":"'1.Портфель кредитів'!W387","v":0},{"$f":"'1.Портфель кредитів'!Y387","v":""},4,"2018-06-01","_4_43252_2"]
[{"$f":"'1.Портфель кредитів'!H388","v":0},{"$f":"'1.Портфель кредитів'!D388","v":""},{"$f":"'1.Портфель кредитів'!#REF!","v":{"$error":"#REF!"}},{"$f":"'1.Портфель кредитів'!#REF!","v":{"$error":"#REF!"}},{"$f":"'1.Портфель кредитів'!#REF!","v":{"$error":"#REF!"}},{"$f":"'1.Портфель кредитів'!I388","v":0},{"$f":"'1.Портфель кредитів'!W388","v":0},{"$f":"'1.Портфель кредитів'!Y388","v":""},4,"2018-06-01","_4_43252_2"]
[{"$f":"'1.Портфель кредитів'!H389","v":0},{"$f":"'1.Портфель кредитів'!D389","v":""},{"$f":"'1.Портфель кредитів'!#REF!","v":{"$error":"#REF!"}},{"$f":"'1.Портфель кредитів'!#REF!","v":{"$error":"#REF!"}},{"$f":"'1.Портфель кредитів'!#REF!","v":{"$error":"#REF!"}},{"$f":"'1.Портфель кредитів'!I389","v":0},{"$f":"'1.Портфель кредитів'!W389","v":0},{"$f":"'1.Портфель кредитів'!Y389","v":""},4,"2018-06-01","_4_43252_2"]
[{"$f":"'1.Портфель кредитів'!H390","v":0},{"$f":"'1.Портфель кредитів'!D390","v":""},{"$f":"'1.Портфель кредитів'!#REF!","v":{"$error":"#REF!"}},{"$f":"'1.Портфель кредитів'!#REF!","v":{"$error":"#REF!"}},{"$f":"'1.Портфель кредитів'!#REF!","v":{"$error":"#REF!"}},{"$f":"'1.Портфель кредитів'!I390","v":0},{"$f":"'1.Портфель кредитів'!W390","v":0},{"$f":"'1.Портфель кредитів'!Y390","v":""},4,"2018-06-01","_4_43252_2"]
[{"$f":"'1.Портфель кредитів'!H391","v":0},{"$f":"'1.Портфель кредитів'!D391","v":""},{"$f":"'1.Портфель кредитів'!#REF!","v":{"$error":"#REF!"}},{"$f":"'1.Портфель кредитів'!#REF!","v":{"$error":"#REF!"}},{"$f":"'1.Портфель кредитів'!#REF!","v":{"$error":"#REF!"}},{"$f":"'1.Портфель кредитів'!I391","v":0},{"$f":"'1.Портфель кредитів'!W391","v":0},{"$f":"'1.Портфель кредитів'!Y391","v":""},4,"2018-06-01","_4_43252_2"]
[{"$f":"'1.Портфель кредитів'!H392","v":0},{"$f":"'1.Портфель кредитів'!D392","v":""},{"$f":"'1.Портфель кредитів'!#REF!","v":{"$error":"#REF!"}},{"$f":"'1.Портфель кредитів'!#REF!","v":{"$error":"#REF!"}},{"$f":"'1.Портфель кредитів'!#REF!","v":{"$error":"#REF!"}},{"$f":"'1.Портфель кредитів'!I392","v":0},{"$f":"'1.Портфель кредитів'!W392","v":0},{"$f":"'1.Портфель кредитів'!Y392","v":""},4,"2018-06-01","_4_43252_2"]
[{"$f":"'1.Портфель кредитів'!H393","v":0},{"$f":"'1.Портфель кредитів'!D393","v":""},{"$f":"'1.Портфель кредитів'!#REF!","v":{"$error":"#REF!"}},{"$f":"'1.Портфель кредитів'!#REF!","v":{"$error":"#REF!"}},{"$f":"'1.Портфель кредитів'!#REF!","v":{"$error":"#REF!"}},{"$f":"'1.Портфель кредитів'!I393","v":0},{"$f":"'1.Портфель кредитів'!W393","v":0},{"$f":"'1.Портфель кредитів'!Y393","v":""},4,"2018-06-01","_4_43252_2"]
[{"$f":"'1.Портфель кредитів'!H394","v":0},{"$f":"'1.Портфель кредитів'!D394","v":""},{"$f":"'1.Портфель кредитів'!#REF!","v":{"$error":"#REF!"}},{"$f":"'1.Портфель кредитів'!#REF!","v":{"$error":"#REF!"}},{"$f":"'1.Портфель кредитів'!#REF!","v":{"$error":"#REF!"}},{"$f":"'1.Портфель кредитів'!I394","v":0},{"$f":"'1.Портфель кредитів'!W394","v":0},{"$f":"'1.Портфель кредитів'!Y394","v":""},4,"2018-06-01","_4_43252_2"]
[{"$f":"'1.Портфель кредитів'!H395","v":0},{"$f":"'1.Портфель кредитів'!D395","v":""},{"$f":"'1.Портфель кредитів'!#REF!","v":{"$error":"#REF!"}},{"$f":"'1.Портфель кредитів'!#REF!","v":{"$error":"#REF!"}},{"$f":"'1.Портфель кредитів'!#REF!","v":{"$error":"#REF!"}},{"$f":"'1.Портфель кредитів'!I395","v":0},{"$f":"'1.Портфель кредитів'!W395","v":0},{"$f":"'1.Портфель кредитів'!Y395","v":""},4,"2018-06-01","_4_43252_2"]
[{"$f":"'1.Портфель кредитів'!H396","v":0},{"$f":"'1.Портфель кредитів'!D396","v":""},{"$f":"'1.Портфель кредитів'!#REF!","v":{"$error":"#REF!"}},{"$f":"'1.Портфель кредитів'!#REF!","v":{"$error":"#REF!"}},{"$f":"'1.Портфель кредитів'!#REF!","v":{"$error":"#REF!"}},{"$f":"'1.Портфель кредитів'!I396","v":0},{"$f":"'1.Портфель кредитів'!W396","v":0},{"$f":"'1.Портфель кредитів'!Y396","v":""},4,"2018-06-01","_4_43252_2"]
[{"$f":"'1.Портфель кредитів'!H397","v":0},{"$f":"'1.Портфель кредитів'!D397","v":""},{"$f":"'1.Портфель кредитів'!#REF!","v":{"$error":"#REF!"}},{"$f":"'1.Портфель кредитів'!#REF!","v":{"$error":"#REF!"}},{"$f":"'1.Портфель кредитів'!#REF!","v":{"$error":"#REF!"}},{"$f":"'1.Портфель кредитів'!I397","v":0},{"$f":"'1.Портфель кредитів'!W397","v":0},{"$f":"'1.Портфель кредитів'!Y397","v":""},4,"2018-06-01","_4_43252_2"]
[{"$f":"'1.Портфель кредитів'!H398","v":0},{"$f":"'1.Портфель кредитів'!D398","v":""},{"$f":"'1.Портфель кредитів'!#REF!","v":{"$error":"#REF!"}},{"$f":"'1.Портфель кредитів'!#REF!","v":{"$error":"#REF!"}},{"$f":"'1.Портфель кредитів'!#REF!","v":{"$error":"#REF!"}},{"$f":"'1.Портфель кредитів'!I398","v":0},{"$f":"'1.Портфель кредитів'!W398","v":0},{"$f":"'1.Портфель кредитів'!Y398","v":""},4,"2018-06-01","_4_43252_2"]
[{"$f":"'1.Портфель кредитів'!H399","v":0},{"$f":"'1.Портфель кредитів'!D399","v":""},{"$f":"'1.Портфель кредитів'!#REF!","v":{"$error":"#REF!"}},{"$f":"'1.Портфель кредитів'!#REF!","v":{"$error":"#REF!"}},{"$f":"'1.Портфель кредитів'!#REF!","v":{"$error":"#REF!"}},{"$f":"'1.Портфель кредитів'!I399","v":0},{"$f":"'1.Портфель кредитів'!W399","v":0},{"$f":"'1.Портфель кредитів'!Y399","v":""},4,"2018-06-01","_4_43252_2"]
[{"$f":"'1.Портфель кредитів'!H400","v":0},{"$f":"'1.Портфель кредитів'!D400","v":""},{"$f":"'1.Портфель кредитів'!#REF!","v":{"$error":"#REF!"}},{"$f":"'1.Портфель кредитів'!#REF!","v":{"$error":"#REF!"}},{"$f":"'1.Портфель кредитів'!#REF!","v":{"$error":"#REF!"}},{"$f":"'1.Портфель кредитів'!I400","v":0},{"$f":"'1.Портфель кредитів'!W400","v":0},{"$f":"'1.Портфель кредитів'!Y400","v":""},{"$f":"$E$1","v":4},{"$f":"$E$2","v":"2018-06-01"},{"$f":"B454&\"_\"&I454&\"_\"&J454&\"_\"&$E$3","v":"_4_43252_2"}]
[{"$f":"'1.Портфель кредитів'!H401","v":0},{"$f":"'1.Портфель кредитів'!D401","v":""},{"$f":"'1.Портфель кредитів'!#REF!","v":{"$error":"#REF!"}},{"$f":"'1.Портфель кредитів'!#REF!","v":{"$error":"#REF!"}},{"$f":"'1.Портфель кредитів'!#REF!","v":{"$error":"#REF!"}},{"$f":"'1.Портфель кредитів'!I401","v":0},{"$f":"'1.Портфель кредитів'!W401","v":0},{"$f":"'1.Портфель кредитів'!Y401","v":""},4,"2018-06-01","_4_43252_2"]
[{"$f":"'1.Портфель кредитів'!H402","v":0},{"$f":"'1.Портфель кредитів'!D402","v":""},{"$f":"'1.Портфель кредитів'!#REF!","v":{"$error":"#REF!"}},{"$f":"'1.Портфель кредитів'!#REF!","v":{"$error":"#REF!"}},{"$f":"'1.Портфель кредитів'!#REF!","v":{"$error":"#REF!"}},{"$f":"'1.Портфель кредитів'!I402","v":0},{"$f":"'1.Портфель кредитів'!W402","v":0},{"$f":"'1.Портфель кредитів'!Y402","v":""},4,"2018-06-01","_4_43252_2"]
[{"$f":"'1.Портфель кредитів'!H403","v":0},{"$f":"'1.Портфель кредитів'!D403","v":""},{"$f":"'1.Портфель кредитів'!#REF!","v":{"$error":"#REF!"}},{"$f":"'1.Портфель кредитів'!#REF!","v":{"$error":"#REF!"}},{"$f":"'1.Портфель кредитів'!#REF!","v":{"$error":"#REF!"}},{"$f":"'1.Портфель кредитів'!I403","v":0},{"$f":"'1.Портфель кредитів'!W403","v":0},{"$f":"'1.Портфель кредитів'!Y403","v":""},4,"2018-06-01","_4_43252_2"]
[{"$f":"'1.Портфель кредитів'!H404","v":0},{"$f":"'1.Портфель кредитів'!D404","v":""},{"$f":"'1.Портфель кредитів'!#REF!","v":{"$error":"#REF!"}},{"$f":"'1.Портфель кредитів'!#REF!","v":{"$error":"#REF!"}},{"$f":"'1.Портфель кредитів'!#REF!","v":{"$error":"#REF!"}},{"$f":"'1.Портфель кредитів'!I404","v":0},{"$f":"'1.Портфель кредитів'!W404","v":0},{"$f":"'1.Портфель кредитів'!Y404","v":""},4,"2018-06-01","_4_43252_2"]
[{"$f":"'1.Портфель кредитів'!H405","v":0},{"$f":"'1.Портфель кредитів'!D405","v":""},{"$f":"'1.Портфель кредитів'!#REF!","v":{"$error":"#REF!"}},{"$f":"'1.Портфель кредитів'!#REF!","v":{"$error":"#REF!"}},{"$f":"'1.Портфель кредитів'!#REF!","v":{"$error":"#REF!"}},{"$f":"'1.Портфель кредитів'!I405","v":0},{"$f":"'1.Портфель кредитів'!W405","v":0},{"$f":"'1.Портфель кредитів'!Y405","v":""},4,"2018-06-01","_4_43252_2"]
[{"$f":"'1.Портфель кредитів'!H406","v":0},{"$f":"'1.Портфель кредитів'!D406","v":""},{"$f":"'1.Портфель кредитів'!#REF!","v":{"$error":"#REF!"}},{"$f":"'1.Портфель кредитів'!#REF!","v":{"$error":"#REF!"}},{"$f":"'1.Портфель кредитів'!#REF!","v":{"$error":"#REF!"}},{"$f":"'1.Портфель кредитів'!I406","v":0},{"$f":"'1.Портфель кредитів'!W406","v":0},{"$f":"'1.Портфель кредитів'!Y406","v":""},4,"2018-06-01","_4_43252_2"]
[{"$f":"'1.Портфель кредитів'!H407","v":0},{"$f":"'1.Портфель кредитів'!D407","v":""},{"$f":"'1.Портфель кредитів'!#REF!","v":{"$error":"#REF!"}},{"$f":"'1.Портфель кредитів'!#REF!","v":{"$error":"#REF!"}},{"$f":"'1.Портфель кредитів'!#REF!","v":{"$error":"#REF!"}},{"$f":"'1.Портфель кредитів'!I407","v":0},{"$f":"'1.Портфель кредитів'!W407","v":0},{"$f":"'1.Портфель кредитів'!Y407","v":""},4,"2018-06-01","_4_43252_2"]
[{"$f":"'1.Портфель кредитів'!H408","v":0},{"$f":"'1.Портфель кредитів'!D408","v":""},{"$f":"'1.Портфель кредитів'!#REF!","v":{"$error":"#REF!"}},{"$f":"'1.Портфель кредитів'!#REF!","v":{"$error":"#REF!"}},{"$f":"'1.Портфель кредитів'!#REF!","v":{"$error":"#REF!"}},{"$f":"'1.Портфель кредитів'!I408","v":0},{"$f":"'1.Портфель кредитів'!W408","v":0},{"$f":"'1.Портфель кредитів'!Y408","v":""},4,"2018-06-01","_4_43252_2"]
[{"$f":"'1.Портфель кредитів'!H409","v":0},{"$f":"'1.Портфель кредитів'!D409","v":""},{"$f":"'1.Портфель кредитів'!#REF!","v":{"$error":"#REF!"}},{"$f":"'1.Портфель кредитів'!#REF!","v":{"$error":"#REF!"}},{"$f":"'1.Портфель кредитів'!#REF!","v":{"$error":"#REF!"}},{"$f":"'1.Портфель кредитів'!I409","v":0},{"$f":"'1.Портфель кредитів'!W409","v":0},{"$f":"'1.Портфель кредитів'!Y409","v":""},4,"2018-06-01","_4_43252_2"]
[{"$f":"'1.Портфель кредитів'!H410","v":0},{"$f":"'1.Портфель кредитів'!D410","v":""},{"$f":"'1.Портфель кредитів'!#REF!","v":{"$error":"#REF!"}},{"$f":"'1.Портфель кредитів'!#REF!","v":{"$error":"#REF!"}},{"$f":"'1.Портфель кредитів'!#REF!","v":{"$error":"#REF!"}},{"$f":"'1.Портфель кредитів'!I410","v":0},{"$f":"'1.Портфель кредитів'!W410","v":0},{"$f":"'1.Портфель кредитів'!Y410","v":""},4,"2018-06-01","_4_43252_2"]
[{"$f":"'1.Портфель кредитів'!H411","v":0},{"$f":"'1.Портфель кредитів'!D411","v":""},{"$f":"'1.Портфель кредитів'!#REF!","v":{"$error":"#REF!"}},{"$f":"'1.Портфель кредитів'!#REF!","v":{"$error":"#REF!"}},{"$f":"'1.Портфель кредитів'!#REF!","v":{"$error":"#REF!"}},{"$f":"'1.Портфель кредитів'!I411","v":0},{"$f":"'1.Портфель кредитів'!W411","v":0},{"$f":"'1.Портфель кредитів'!Y411","v":""},4,"2018-06-01","_4_43252_2"]
[{"$f":"'1.Портфель кредитів'!H412","v":0},{"$f":"'1.Портфель кредитів'!D412","v":""},{"$f":"'1.Портфель кредитів'!#REF!","v":{"$error":"#REF!"}},{"$f":"'1.Портфель кредитів'!#REF!","v":{"$error":"#REF!"}},{"$f":"'1.Портфель кредитів'!#REF!","v":{"$error":"#REF!"}},{"$f":"'1.Портфель кредитів'!I412","v":0},{"$f":"'1.Портфель кредитів'!W412","v":0},{"$f":"'1.Портфель кредитів'!Y412","v":""},4,"2018-06-01","_4_43252_2"]
[{"$f":"'1.Портфель кредитів'!H413","v":0},{"$f":"'1.Портфель кредитів'!D413","v":""},{"$f":"'1.Портфель кредитів'!#REF!","v":{"$error":"#REF!"}},{"$f":"'1.Портфель кредитів'!#REF!","v":{"$error":"#REF!"}},{"$f":"'1.Портфель кредитів'!#REF!","v":{"$error":"#REF!"}},{"$f":"'1.Портфель кредитів'!I413","v":0},{"$f":"'1.Портфель кредитів'!W413","v":0},{"$f":"'1.Портфель кредитів'!Y413","v":""},4,"2018-06-01","_4_43252_2"]
[{"$f":"'1.Портфель кредитів'!H414","v":0},{"$f":"'1.Портфель кредитів'!D414","v":""},{"$f":"'1.Портфель кредитів'!#REF!","v":{"$error":"#REF!"}},{"$f":"'1.Портфель кредитів'!#REF!","v":{"$error":"#REF!"}},{"$f":"'1.Портфель кредитів'!#REF!","v":{"$error":"#REF!"}},{"$f":"'1.Портфель кредитів'!I414","v":0},{"$f":"'1.Портфель кредитів'!W414","v":0},{"$f":"'1.Портфель кредитів'!Y414","v":""},4,"2018-06-01","_4_43252_2"]
[{"$f":"'1.Портфель кредитів'!H415","v":0},{"$f":"'1.Портфель кредитів'!D415","v":""},{"$f":"'1.Портфель кредитів'!#REF!","v":{"$error":"#REF!"}},{"$f":"'1.Портфель кредитів'!#REF!","v":{"$error":"#REF!"}},{"$f":"'1.Портфель кредитів'!#REF!","v":{"$error":"#REF!"}},{"$f":"'1.Портфель кредитів'!I415","v":0},{"$f":"'1.Портфель кредитів'!W415","v":0},{"$f":"'1.Портфель кредитів'!Y415","v":""},4,"2018-06-01","_4_43252_2"]
[{"$f":"'1.Портфель кредитів'!H416","v":0},{"$f":"'1.Портфель кредитів'!D416","v":""},{"$f":"'1.Портфель кредитів'!#REF!","v":{"$error":"#REF!"}},{"$f":"'1.Портфель кредитів'!#REF!","v":{"$error":"#REF!"}},{"$f":"'1.Портфель кредитів'!#REF!","v":{"$error":"#REF!"}},{"$f":"'1.Портфель кредитів'!I416","v":0},{"$f":"'1.Портфель кредитів'!W416","v":0},{"$f":"'1.Портфель кредитів'!Y416","v":""},4,"2018-06-01","_4_43252_2"]
[{"$f":"'1.Портфель кредитів'!H417","v":0},{"$f":"'1.Портфель кредитів'!D417","v":""},{"$f":"'1.Портфель кредитів'!#REF!","v":{"$error":"#REF!"}},{"$f":"'1.Портфель кредитів'!#REF!","v":{"$error":"#REF!"}},{"$f":"'1.Портфель кредитів'!#REF!","v":{"$error":"#REF!"}},{"$f":"'1.Портфель кредитів'!I417","v":0},{"$f":"'1.Портфель кредитів'!W417","v":0},{"$f":"'1.Портфель кредитів'!Y417","v":""},4,"2018-06-01","_4_43252_2"]
[{"$f":"'1.Портфель кредитів'!H418","v":0},{"$f":"'1.Портфель кредитів'!D418","v":""},{"$f":"'1.Портфель кредитів'!#REF!","v":{"$error":"#REF!"}},{"$f":"'1.Портфель кредитів'!#REF!","v":{"$error":"#REF!"}},{"$f":"'1.Портфель кредитів'!#REF!","v":{"$error":"#REF!"}},{"$f":"'1.Портфель кредитів'!I418","v":0},{"$f":"'1.Портфель кредитів'!W418","v":0},{"$f":"'1.Портфель кредитів'!Y418","v":""},4,"2018-06-01","_4_43252_2"]
[{"$f":"'1.Портфель кредитів'!H419","v":0},{"$f":"'1.Портфель кредитів'!D419","v":""},{"$f":"'1.Портфель кредитів'!#REF!","v":{"$error":"#REF!"}},{"$f":"'1.Портфель кредитів'!#REF!","v":{"$error":"#REF!"}},{"$f":"'1.Портфель кредитів'!#REF!","v":{"$error":"#REF!"}},{"$f":"'1.Портфель кредитів'!I419","v":0},{"$f":"'1.Портфель кредитів'!W419","v":0},{"$f":"'1.Портфель кредитів'!Y419","v":""},4,"2018-06-01","_4_43252_2"]
[{"$f":"'1.Портфель кредитів'!H420","v":0},{"$f":"'1.Портфель кредитів'!D420","v":""},{"$f":"'1.Портфель кредитів'!#REF!","v":{"$error":"#REF!"}},{"$f":"'1.Портфель кредитів'!#REF!","v":{"$error":"#REF!"}},{"$f":"'1.Портфель кредитів'!#REF!","v":{"$error":"#REF!"}},{"$f":"'1.Портфель кредитів'!I420","v":0},{"$f":"'1.Портфель кредитів'!W420","v":0},{"$f":"'1.Портфель кредитів'!Y420","v":""},4,"2018-06-01","_4_43252_2"]
[{"$f":"'1.Портфель кредитів'!H421","v":0},{"$f":"'1.Портфель кредитів'!D421","v":""},{"$f":"'1.Портфель кредитів'!#REF!","v":{"$error":"#REF!"}},{"$f":"'1.Портфель кредитів'!#REF!","v":{"$error":"#REF!"}},{"$f":"'1.Портфель кредитів'!#REF!","v":{"$error":"#REF!"}},{"$f":"'1.Портфель кредитів'!I421","v":0},{"$f":"'1.Портфель кредитів'!W421","v":0},{"$f":"'1.Портфель кредитів'!Y421","v":""},4,"2018-06-01","_4_43252_2"]
[{"$f":"'1.Портфель кредитів'!H422","v":0},{"$f":"'1.Портфель кредитів'!D422","v":""},{"$f":"'1.Портфель кредитів'!#REF!","v":{"$error":"#REF!"}},{"$f":"'1.Портфель кредитів'!#REF!","v":{"$error":"#REF!"}},{"$f":"'1.Портфель кредитів'!#REF!","v":{"$error":"#REF!"}},{"$f":"'1.Портфель кредитів'!I422","v":0},{"$f":"'1.Портфель кредитів'!W422","v":0},{"$f":"'1.Портфель кредитів'!Y422","v":""},4,"2018-06-01","_4_43252_2"]
[{"$f":"'1.Портфель кредитів'!H423","v":0},{"$f":"'1.Портфель кредитів'!D423","v":""},{"$f":"'1.Портфель кредитів'!#REF!","v":{"$error":"#REF!"}},{"$f":"'1.Портфель кредитів'!#REF!","v":{"$error":"#REF!"}},{"$f":"'1.Портфель кредитів'!#REF!","v":{"$error":"#REF!"}},{"$f":"'1.Портфель кредитів'!I423","v":0},{"$f":"'1.Портфель кредитів'!W423","v":0},{"$f":"'1.Портфель кредитів'!Y423","v":""},4,"2018-06-01","_4_43252_2"]
[{"$f":"'1.Портфель кредитів'!H424","v":0},{"$f":"'1.Портфель кредитів'!D424","v":""},{"$f":"'1.Портфель кредитів'!#REF!","v":{"$error":"#REF!"}},{"$f":"'1.Портфель кредитів'!#REF!","v":{"$error":"#REF!"}},{"$f":"'1.Портфель кредитів'!#REF!","v":{"$error":"#REF!"}},{"$f":"'1.Портфель кредитів'!I424","v":0},{"$f":"'1.Портфель кредитів'!W424","v":0},{"$f":"'1.Портфель кредитів'!Y424","v":""},4,"2018-06-01","_4_43252_2"]
[{"$f":"'1.Портфель кредитів'!H425","v":0},{"$f":"'1.Портфель кредитів'!D425","v":""},{"$f":"'1.Портфель кредитів'!#REF!","v":{"$error":"#REF!"}},{"$f":"'1.Портфель кредитів'!#REF!","v":{"$error":"#REF!"}},{"$f":"'1.Портфель кредитів'!#REF!","v":{"$error":"#REF!"}},{"$f":"'1.Портфель кредитів'!I425","v":0},{"$f":"'1.Портфель кредитів'!W425","v":0},{"$f":"'1.Портфель кредитів'!Y425","v":""},4,"2018-06-01","_4_43252_2"]
[{"$f":"'1.Портфель кредитів'!H426","v":0},{"$f":"'1.Портфель кредитів'!D426","v":""},{"$f":"'1.Портфель кредитів'!#REF!","v":{"$error":"#REF!"}},{"$f":"'1.Портфель кредитів'!#REF!","v":{"$error":"#REF!"}},{"$f":"'1.Портфель кредитів'!#REF!","v":{"$error":"#REF!"}},{"$f":"'1.Портфель кредитів'!I426","v":0},{"$f":"'1.Портфель кредитів'!W426","v":0},{"$f":"'1.Портфель кредитів'!Y426","v":""},4,"2018-06-01","_4_43252_2"]
[{"$f":"'1.Портфель кредитів'!H427","v":0},{"$f":"'1.Портфель кредитів'!D427","v":""},{"$f":"'1.Портфель кредитів'!#REF!","v":{"$error":"#REF!"}},{"$f":"'1.Портфель кредитів'!#REF!","v":{"$error":"#REF!"}},{"$f":"'1.Портфель кредитів'!#REF!","v":{"$error":"#REF!"}},{"$f":"'1.Портфель кредитів'!I427","v":0},{"$f":"'1.Портфель кредитів'!W427","v":0},{"$f":"'1.Портфель кредитів'!Y427","v":""},4,"2018-06-01","_4_43252_2"]
[{"$f":"'1.Портфель кредитів'!H428","v":0},{"$f":"'1.Портфель кредитів'!D428","v":""},{"$f":"'1.Портфель кредитів'!#REF!","v":{"$error":"#REF!"}},{"$f":"'1.Портфель кредитів'!#REF!","v":{"$error":"#REF!"}},{"$f":"'1.Портфель кредитів'!#REF!","v":{"$error":"#REF!"}},{"$f":"'1.Портфель кредитів'!I428","v":0},{"$f":"'1.Портфель кредитів'!W428","v":0},{"$f":"'1.Портфель кредитів'!Y428","v":""},4,"2018-06-01","_4_43252_2"]
[{"$f":"'1.Портфель кредитів'!H429","v":0},{"$f":"'1.Портфель кредитів'!D429","v":""},{"$f":"'1.Портфель кредитів'!#REF!","v":{"$error":"#REF!"}},{"$f":"'1.Портфель кредитів'!#REF!","v":{"$error":"#REF!"}},{"$f":"'1.Портфель кредитів'!#REF!","v":{"$error":"#REF!"}},{"$f":"'1.Портфель кредитів'!I429","v":0},{"$f":"'1.Портфель кредитів'!W429","v":0},{"$f":"'1.Портфель кредитів'!Y429","v":""},4,"2018-06-01","_4_43252_2"]
[{"$f":"'1.Портфель кредитів'!H430","v":0},{"$f":"'1.Портфель кредитів'!D430","v":""},{"$f":"'1.Портфель кредитів'!#REF!","v":{"$error":"#REF!"}},{"$f":"'1.Портфель кредитів'!#REF!","v":{"$error":"#REF!"}},{"$f":"'1.Портфель кредитів'!#REF!","v":{"$error":"#REF!"}},{"$f":"'1.Портфель кредитів'!I430","v":0},{"$f":"'1.Портфель кредитів'!W430","v":0},{"$f":"'1.Портфель кредитів'!Y430","v":""},4,"2018-06-01","_4_43252_2"]
[{"$f":"'1.Портфель кредитів'!H431","v":0},{"$f":"'1.Портфель кредитів'!D431","v":""},{"$f":"'1.Портфель кредитів'!#REF!","v":{"$error":"#REF!"}},{"$f":"'1.Портфель кредитів'!#REF!","v":{"$error":"#REF!"}},{"$f":"'1.Портфель кредитів'!#REF!","v":{"$error":"#REF!"}},{"$f":"'1.Портфель кредитів'!I431","v":0},{"$f":"'1.Портфель кредитів'!W431","v":0},{"$f":"'1.Портфель кредитів'!Y431","v":""},4,"2018-06-01","_4_43252_2"]
[{"$f":"'1.Портфель кредитів'!H432","v":0},{"$f":"'1.Портфель кредитів'!D432","v":""},{"$f":"'1.Портфель кредитів'!#REF!","v":{"$error":"#REF!"}},{"$f":"'1.Портфель кредитів'!#REF!","v":{"$error":"#REF!"}},{"$f":"'1.Портфель кредитів'!#REF!","v":{"$error":"#REF!"}},{"$f":"'1.Портфель кредитів'!I432","v":0},{"$f":"'1.Портфель кредитів'!W432","v":0},{"$f":"'1.Портфель кредитів'!Y432","v":""},4,"2018-06-01","_4_43252_2"]
[{"$f":"'1.Портфель кредитів'!H433","v":0},{"$f":"'1.Портфель кредитів'!D433","v":""},{"$f":"'1.Портфель кредитів'!#REF!","v":{"$error":"#REF!"}},{"$f":"'1.Портфель кредитів'!#REF!","v":{"$error":"#REF!"}},{"$f":"'1.Портфель кредитів'!#REF!","v":{"$error":"#REF!"}},{"$f":"'1.Портфель кредитів'!I433","v":0},{"$f":"'1.Портфель кредитів'!W433","v":0},{"$f":"'1.Портфель кредитів'!Y433","v":""},4,"2018-06-01","_4_43252_2"]
[{"$f":"'1.Портфель кредитів'!H434","v":0},{"$f":"'1.Портфель кредитів'!D434","v":""},{"$f":"'1.Портфель кредитів'!#REF!","v":{"$error":"#REF!"}},{"$f":"'1.Портфель кредитів'!#REF!","v":{"$error":"#REF!"}},{"$f":"'1.Портфель кредитів'!#REF!","v":{"$error":"#REF!"}},{"$f":"'1.Портфель кредитів'!I434","v":0},{"$f":"'1.Портфель кредитів'!W434","v":0},{"$f":"'1.Портфель кредитів'!Y434","v":""},4,"2018-06-01","_4_43252_2"]
[{"$f":"'1.Портфель кредитів'!H435","v":0},{"$f":"'1.Портфель кредитів'!D435","v":""},{"$f":"'1.Портфель кредитів'!#REF!","v":{"$error":"#REF!"}},{"$f":"'1.Портфель кредитів'!#REF!","v":{"$error":"#REF!"}},{"$f":"'1.Портфель кредитів'!#REF!","v":{"$error":"#REF!"}},{"$f":"'1.Портфель кредитів'!I435","v":0},{"$f":"'1.Портфель кредитів'!W435","v":0},{"$f":"'1.Портфель кредитів'!Y435","v":""},4,"2018-06-01","_4_43252_2"]
[{"$f":"'1.Портфель кредитів'!H436","v":0},{"$f":"'1.Портфель кредитів'!D436","v":""},{"$f":"'1.Портфель кредитів'!#REF!","v":{"$error":"#REF!"}},{"$f":"'1.Портфель кредитів'!#REF!","v":{"$error":"#REF!"}},{"$f":"'1.Портфель кредитів'!#REF!","v":{"$error":"#REF!"}},{"$f":"'1.Портфель кредитів'!I436","v":0},{"$f":"'1.Портфель кредитів'!W436","v":0},{"$f":"'1.Портфель кредитів'!Y436","v":""},4,"2018-06-01","_4_43252_2"]
[{"$f":"'1.Портфель кредитів'!H437","v":0},{"$f":"'1.Портфель кредитів'!D437","v":""},{"$f":"'1.Портфель кредитів'!#REF!","v":{"$error":"#REF!"}},{"$f":"'1.Портфель кредитів'!#REF!","v":{"$error":"#REF!"}},{"$f":"'1.Портфель кредитів'!#REF!","v":{"$error":"#REF!"}},{"$f":"'1.Портфель кредитів'!I437","v":0},{"$f":"'1.Портфель кредитів'!W437","v":0},{"$f":"'1.Портфель кредитів'!Y437","v":""},4,"2018-06-01","_4_43252_2"]
[{"$f":"'1.Портфель кредитів'!H438","v":0},{"$f":"'1.Портфель кредитів'!D438","v":""},{"$f":"'1.Портфель кредитів'!#REF!","v":{"$error":"#REF!"}},{"$f":"'1.Портфель кредитів'!#REF!","v":{"$error":"#REF!"}},{"$f":"'1.Портфель кредитів'!#REF!","v":{"$error":"#REF!"}},{"$f":"'1.Портфель кредитів'!I438","v":0},{"$f":"'1.Портфель кредитів'!W438","v":0},{"$f":"'1.Портфель кредитів'!Y438","v":""},4,"2018-06-01","_4_43252_2"]
[{"$f":"'1.Портфель кредитів'!H439","v":0},{"$f":"'1.Портфель кредитів'!D439","v":""},{"$f":"'1.Портфель кредитів'!#REF!","v":{"$error":"#REF!"}},{"$f":"'1.Портфель кредитів'!#REF!","v":{"$error":"#REF!"}},{"$f":"'1.Портфель кредитів'!#REF!","v":{"$error":"#REF!"}},{"$f":"'1.Портфель кредитів'!I439","v":0},{"$f":"'1.Портфель кредитів'!W439","v":0},{"$f":"'1.Портфель кредитів'!Y439","v":""},4,"2018-06-01","_4_43252_2"]
[{"$f":"'1.Портфель кредитів'!H440","v":0},{"$f":"'1.Портфель кредитів'!D440","v":""},{"$f":"'1.Портфель кредитів'!#REF!","v":{"$error":"#REF!"}},{"$f":"'1.Портфель кредитів'!#REF!","v":{"$error":"#REF!"}},{"$f":"'1.Портфель кредитів'!#REF!","v":{"$error":"#REF!"}},{"$f":"'1.Портфель кредитів'!I440","v":0},{"$f":"'1.Портфель кредитів'!W440","v":0},{"$f":"'1.Портфель кредитів'!Y440","v":""},4,"2018-06-01","_4_43252_2"]
[{"$f":"'1.Портфель кредитів'!H441","v":0},{"$f":"'1.Портфель кредитів'!D441","v":""},{"$f":"'1.Портфель кредитів'!#REF!","v":{"$error":"#REF!"}},{"$f":"'1.Портфель кредитів'!#REF!","v":{"$error":"#REF!"}},{"$f":"'1.Портфель кредитів'!#REF!","v":{"$error":"#REF!"}},{"$f":"'1.Портфель кредитів'!I441","v":0},{"$f":"'1.Портфель кредитів'!W441","v":0},{"$f":"'1.Портфель кредитів'!Y441","v":""},4,"2018-06-01","_4_43252_2"]
[{"$f":"'1.Портфель кредитів'!H442","v":0},{"$f":"'1.Портфель кредитів'!D442","v":""},{"$f":"'1.Портфель кредитів'!#REF!","v":{"$error":"#REF!"}},{"$f":"'1.Портфель кредитів'!#REF!","v":{"$error":"#REF!"}},{"$f":"'1.Портфель кредитів'!#REF!","v":{"$error":"#REF!"}},{"$f":"'1.Портфель кредитів'!I442","v":0},{"$f":"'1.Портфель кредитів'!W442","v":0},{"$f":"'1.Портфель кредитів'!Y442","v":""},4,"2018-06-01","_4_43252_2"]
[{"$f":"'1.Портфель кредитів'!H443","v":0},{"$f":"'1.Портфель кредитів'!D443","v":""},{"$f":"'1.Портфель кредитів'!#REF!","v":{"$error":"#REF!"}},{"$f":"'1.Портфель кредитів'!#REF!","v":{"$error":"#REF!"}},{"$f":"'1.Портфель кредитів'!#REF!","v":{"$error":"#REF!"}},{"$f":"'1.Портфель кредитів'!I443","v":0},{"$f":"'1.Портфель кредитів'!W443","v":0},{"$f":"'1.Портфель кредитів'!Y443","v":""},4,"2018-06-01","_4_43252_2"]
[{"$f":"'1.Портфель кредитів'!H444","v":0},{"$f":"'1.Портфель кредитів'!D444","v":""},{"$f":"'1.Портфель кредитів'!#REF!","v":{"$error":"#REF!"}},{"$f":"'1.Портфель кредитів'!#REF!","v":{"$error":"#REF!"}},{"$f":"'1.Портфель кредитів'!#REF!","v":{"$error":"#REF!"}},{"$f":"'1.Портфель кредитів'!I444","v":0},{"$f":"'1.Портфель кредитів'!W444","v":0},{"$f":"'1.Портфель кредитів'!Y444","v":""},4,"2018-06-01","_4_43252_2"]
[{"$f":"'1.Портфель кредитів'!H445","v":0},{"$f":"'1.Портфель кредитів'!D445","v":""},{"$f":"'1.Портфель кредитів'!#REF!","v":{"$error":"#REF!"}},{"$f":"'1.Портфель кредитів'!#REF!","v":{"$error":"#REF!"}},{"$f":"'1.Портфель кредитів'!#REF!","v":{"$error":"#REF!"}},{"$f":"'1.Портфель кредитів'!I445","v":0},{"$f":"'1.Портфель кредитів'!W445","v":0},{"$f":"'1.Портфель кредитів'!Y445","v":""},4,"2018-06-01","_4_43252_2"]
[{"$f":"'1.Портфель кредитів'!H446","v":0},{"$f":"'1.Портфель кредитів'!D446","v":""},{"$f":"'1.Портфель кредитів'!#REF!","v":{"$error":"#REF!"}},{"$f":"'1.Портфель кредитів'!#REF!","v":{"$error":"#REF!"}},{"$f":"'1.Портфель кредитів'!#REF!","v":{"$error":"#REF!"}},{"$f":"'1.Портфель кредитів'!I446","v":0},{"$f":"'1.Портфель кредитів'!W446","v":0},{"$f":"'1.Портфель кредитів'!Y446","v":""},4,"2018-06-01","_4_43252_2"]
[{"$f":"'1.Портфель кредитів'!H447","v":0},{"$f":"'1.Портфель кредитів'!D447","v":""},{"$f":"'1.Портфель кредитів'!#REF!","v":{"$error":"#REF!"}},{"$f":"'1.Портфель кредитів'!#REF!","v":{"$error":"#REF!"}},{"$f":"'1.Портфель кредитів'!#REF!","v":{"$error":"#REF!"}},{"$f":"'1.Портфель кредитів'!I447","v":0},{"$f":"'1.Портфель кредитів'!W447","v":0},{"$f":"'1.Портфель кредитів'!Y447","v":""},4,"2018-06-01","_4_43252_2"]
[{"$f":"'1.Портфель кредитів'!H448","v":0},{"$f":"'1.Портфель кредитів'!D448","v":""},{"$f":"'1.Портфель кредитів'!#REF!","v":{"$error":"#REF!"}},{"$f":"'1.Портфель кредитів'!#REF!","v":{"$error":"#REF!"}},{"$f":"'1.Портфель кредитів'!#REF!","v":{"$error":"#REF!"}},{"$f":"'1.Портфель кредитів'!I448","v":0},{"$f":"'1.Портфель кредитів'!W448","v":0},{"$f":"'1.Портфель кредитів'!Y448","v":""},4,"2018-06-01","_4_43252_2"]
[{"$f":"'1.Портфель кредитів'!H449","v":0},{"$f":"'1.Портфель кредитів'!D449","v":""},{"$f":"'1.Портфель кредитів'!#REF!","v":{"$error":"#REF!"}},{"$f":"'1.Портфель кредитів'!#REF!","v":{"$error":"#REF!"}},{"$f":"'1.Портфель кредитів'!#REF!","v":{"$error":"#REF!"}},{"$f":"'1.Портфель кредитів'!I449","v":0},{"$f":"'1.Портфель кредитів'!W449","v":0},{"$f":"'1.Портфель кредитів'!Y449","v":""},4,"2018-06-01","_4_43252_2"]
[{"$f":"'1.Портфель кредитів'!H450","v":0},{"$f":"'1.Портфель кредитів'!D450","v":""},{"$f":"'1.Портфель кредитів'!#REF!","v":{"$error":"#REF!"}},{"$f":"'1.Портфель кредитів'!#REF!","v":{"$error":"#REF!"}},{"$f":"'1.Портфель кредитів'!#REF!","v":{"$error":"#REF!"}},{"$f":"'1.Портфель кредитів'!I450","v":0},{"$f":"'1.Портфель кредитів'!W450","v":0},{"$f":"'1.Портфель кредитів'!Y450","v":""},4,"2018-06-01","_4_43252_2"]
[{"$f":"'1.Портфель кредитів'!H451","v":0},{"$f":"'1.Портфель кредитів'!D451","v":""},{"$f":"'1.Портфель кредитів'!#REF!","v":{"$error":"#REF!"}},{"$f":"'1.Портфель кредитів'!#REF!","v":{"$error":"#REF!"}},{"$f":"'1.Портфель кредитів'!#REF!","v":{"$error":"#REF!"}},{"$f":"'1.Портфель кредитів'!I451","v":0},{"$f":"'1.Портфель кредитів'!W451","v":0},{"$f":"'1.Портфель кредитів'!Y451","v":""},4,"2018-06-01","_4_43252_2"]
[{"$f":"'1.Портфель кредитів'!H452","v":0},{"$f":"'1.Портфель кредитів'!D452","v":""},{"$f":"'1.Портфель кредитів'!#REF!","v":{"$error":"#REF!"}},{"$f":"'1.Портфель кредитів'!#REF!","v":{"$error":"#REF!"}},{"$f":"'1.Портфель кредитів'!#REF!","v":{"$error":"#REF!"}},{"$f":"'1.Портфель кредитів'!I452","v":0},{"$f":"'1.Портфель кредитів'!W452","v":0},{"$f":"'1.Портфель кредитів'!Y452","v":""},4,"2018-06-01","_4_43252_2"]
[{"$f":"'1.Портфель кредитів'!H453","v":0},{"$f":"'1.Портфель кредитів'!D453","v":""},{"$f":"'1.Портфель кредитів'!#REF!","v":{"$error":"#REF!"}},{"$f":"'1.Портфель кредитів'!#REF!","v":{"$error":"#REF!"}},{"$f":"'1.Портфель кредитів'!#REF!","v":{"$error":"#REF!"}},{"$f":"'1.Портфель кредитів'!I453","v":0},{"$f":"'1.Портфель кредитів'!W453","v":0},{"$f":"'1.Портфель кредитів'!Y453","v":""},4,"2018-06-01","_4_43252_2"]
[{"$f":"'1.Портфель кредитів'!H454","v":0},{"$f":"'1.Портфель кредитів'!D454","v":""},{"$f":"'1.Портфель кредитів'!#REF!","v":{"$error":"#REF!"}},{"$f":"'1.Портфель кредитів'!#REF!","v":{"$error":"#REF!"}},{"$f":"'1.Портфель кредитів'!#REF!","v":{"$error":"#REF!"}},{"$f":"'1.Портфель кредитів'!I454","v":0},{"$f":"'1.Портфель кредитів'!W454","v":0},{"$f":"'1.Портфель кредитів'!Y454","v":""},4,"2018-06-01","_4_43252_2"]
[{"$f":"'1.Портфель кредитів'!H455","v":0},{"$f":"'1.Портфель кредитів'!D455","v":""},{"$f":"'1.Портфель кредитів'!#REF!","v":{"$error":"#REF!"}},{"$f":"'1.Портфель кредитів'!#REF!","v":{"$error":"#REF!"}},{"$f":"'1.Портфель кредитів'!#REF!","v":{"$error":"#REF!"}},{"$f":"'1.Портфель кредитів'!I455","v":0},{"$f":"'1.Портфель кредитів'!W455","v":0},{"$f":"'1.Портфель кредитів'!Y455","v":""},4,"2018-06-01","_4_43252_2"]
[{"$f":"'1.Портфель кредитів'!H456","v":0},{"$f":"'1.Портфель кредитів'!D456","v":""},{"$f":"'1.Портфель кредитів'!#REF!","v":{"$error":"#REF!"}},{"$f":"'1.Портфель кредитів'!#REF!","v":{"$error":"#REF!"}},{"$f":"'1.Портфель кредитів'!#REF!","v":{"$error":"#REF!"}},{"$f":"'1.Портфель кредитів'!I456","v":0},{"$f":"'1.Портфель кредитів'!W456","v":0},{"$f":"'1.Портфель кредитів'!Y456","v":""},4,"2018-06-01","_4_43252_2"]
[{"$f":"'1.Портфель кредитів'!H457","v":0},{"$f":"'1.Портфель кредитів'!D457","v":""},{"$f":"'1.Портфель кредитів'!#REF!","v":{"$error":"#REF!"}},{"$f":"'1.Портфель кредитів'!#REF!","v":{"$error":"#REF!"}},{"$f":"'1.Портфель кредитів'!#REF!","v":{"$error":"#REF!"}},{"$f":"'1.Портфель кредитів'!I457","v":0},{"$f":"'1.Портфель кредитів'!W457","v":0},{"$f":"'1.Портфель кредитів'!Y457","v":""},4,"2018-06-01","_4_43252_2"]
[{"$f":"'1.Портфель кредитів'!H458","v":0},{"$f":"'1.Портфель кредитів'!D458","v":""},{"$f":"'1.Портфель кредитів'!#REF!","v":{"$error":"#REF!"}},{"$f":"'1.Портфель кредитів'!#REF!","v":{"$error":"#REF!"}},{"$f":"'1.Портфель кредитів'!#REF!","v":{"$error":"#REF!"}},{"$f":"'1.Портфель кредитів'!I458","v":0},{"$f":"'1.Портфель кредитів'!W458","v":0},{"$f":"'1.Портфель кредитів'!Y458","v":""},4,"2018-06-01","_4_43252_2"]
[{"$f":"'1.Портфель кредитів'!H459","v":0},{"$f":"'1.Портфель кредитів'!D459","v":""},{"$f":"'1.Портфель кредитів'!#REF!","v":{"$error":"#REF!"}},{"$f":"'1.Портфель кредитів'!#REF!","v":{"$error":"#REF!"}},{"$f":"'1.Портфель кредитів'!#REF!","v":{"$error":"#REF!"}},{"$f":"'1.Портфель кредитів'!I459","v":0},{"$f":"'1.Портфель кредитів'!W459","v":0},{"$f":"'1.Портфель кредитів'!Y459","v":""},4,"2018-06-01","_4_43252_2"]
[{"$f":"'1.Портфель кредитів'!H460","v":0},{"$f":"'1.Портфель кредитів'!D460","v":""},{"$f":"'1.Портфель кредитів'!#REF!","v":{"$error":"#REF!"}},{"$f":"'1.Портфель кредитів'!#REF!","v":{"$error":"#REF!"}},{"$f":"'1.Портфель кредитів'!#REF!","v":{"$error":"#REF!"}},{"$f":"'1.Портфель кредитів'!I460","v":0},{"$f":"'1.Портфель кредитів'!W460","v":0},{"$f":"'1.Портфель кредитів'!Y460","v":""},4,"2018-06-01","_4_43252_2"]
[{"$f":"'1.Портфель кредитів'!H461","v":0},{"$f":"'1.Портфель кредитів'!D461","v":""},{"$f":"'1.Портфель кредитів'!#REF!","v":{"$error":"#REF!"}},{"$f":"'1.Портфель кредитів'!#REF!","v":{"$error":"#REF!"}},{"$f":"'1.Портфель кредитів'!#REF!","v":{"$error":"#REF!"}},{"$f":"'1.Портфель кредитів'!I461","v":0},{"$f":"'1.Портфель кредитів'!W461","v":0},{"$f":"'1.Портфель кредитів'!Y461","v":""},4,"2018-06-01","_4_43252_2"]
[{"$f":"'1.Портфель кредитів'!H462","v":0},{"$f":"'1.Портфель кредитів'!D462","v":""},{"$f":"'1.Портфель кредитів'!#REF!","v":{"$error":"#REF!"}},{"$f":"'1.Портфель кредитів'!#REF!","v":{"$error":"#REF!"}},{"$f":"'1.Портфель кредитів'!#REF!","v":{"$error":"#REF!"}},{"$f":"'1.Портфель кредитів'!I462","v":0},{"$f":"'1.Портфель кредитів'!W462","v":0},{"$f":"'1.Портфель кредитів'!Y462","v":""},4,"2018-06-01","_4_43252_2"]
[{"$f":"'1.Портфель кредитів'!H463","v":0},{"$f":"'1.Портфель кредитів'!D463","v":""},{"$f":"'1.Портфель кредитів'!#REF!","v":{"$error":"#REF!"}},{"$f":"'1.Портфель кредитів'!#REF!","v":{"$error":"#REF!"}},{"$f":"'1.Портфель кредитів'!#REF!","v":{"$error":"#REF!"}},{"$f":"'1.Портфель кредитів'!I463","v":0},{"$f":"'1.Портфель кредитів'!W463","v":0},{"$f":"'1.Портфель кредитів'!Y463","v":""},4,"2018-06-01","_4_43252_2"]
[{"$f":"'1.Портфель кредитів'!H464","v":0},{"$f":"'1.Портфель кредитів'!D464","v":""},{"$f":"'1.Портфель кредитів'!#REF!","v":{"$error":"#REF!"}},{"$f":"'1.Портфель кредитів'!#REF!","v":{"$error":"#REF!"}},{"$f":"'1.Портфель кредитів'!#REF!","v":{"$error":"#REF!"}},{"$f":"'1.Портфель кредитів'!I464","v":0},{"$f":"'1.Портфель кредитів'!W464","v":0},{"$f":"'1.Портфель кредитів'!Y464","v":""},{"$f":"$E$1","v":4},{"$f":"$E$2","v":"2018-06-01"},{"$f":"B518&\"_\"&I518&\"_\"&J518&\"_\"&$E$3","v":"_4_43252_2"}]
[{"$f":"'1.Портфель кредитів'!H465","v":0},{"$f":"'1.Портфель кредитів'!D465","v":""},{"$f":"'1.Портфель кредитів'!#REF!","v":{"$error":"#REF!"}},{"$f":"'1.Портфель кредитів'!#REF!","v":{"$error":"#REF!"}},{"$f":"'1.Портфель кредитів'!#REF!","v":{"$error":"#REF!"}},{"$f":"'1.Портфель кредитів'!I465","v":0},{"$f":"'1.Портфель кредитів'!W465","v":0},{"$f":"'1.Портфель кредитів'!Y465","v":""},4,"2018-06-01","_4_43252_2"]
[{"$f":"'1.Портфель кредитів'!H466","v":0},{"$f":"'1.Портфель кредитів'!D466","v":""},{"$f":"'1.Портфель кредитів'!#REF!","v":{"$error":"#REF!"}},{"$f":"'1.Портфель кредитів'!#REF!","v":{"$error":"#REF!"}},{"$f":"'1.Портфель кредитів'!#REF!","v":{"$error":"#REF!"}},{"$f":"'1.Портфель кредитів'!I466","v":0},{"$f":"'1.Портфель кредитів'!W466","v":0},{"$f":"'1.Портфель кредитів'!Y466","v":""},4,"2018-06-01","_4_43252_2"]
[{"$f":"'1.Портфель кредитів'!H467","v":0},{"$f":"'1.Портфель кредитів'!D467","v":""},{"$f":"'1.Портфель кредитів'!#REF!","v":{"$error":"#REF!"}},{"$f":"'1.Портфель кредитів'!#REF!","v":{"$error":"#REF!"}},{"$f":"'1.Портфель кредитів'!#REF!","v":{"$error":"#REF!"}},{"$f":"'1.Портфель кредитів'!I467","v":0},{"$f":"'1.Портфель кредитів'!W467","v":0},{"$f":"'1.Портфель кредитів'!Y467","v":""},4,"2018-06-01","_4_43252_2"]
[{"$f":"'1.Портфель кредитів'!H468","v":0},{"$f":"'1.Портфель кредитів'!D468","v":""},{"$f":"'1.Портфель кредитів'!#REF!","v":{"$error":"#REF!"}},{"$f":"'1.Портфель кредитів'!#REF!","v":{"$error":"#REF!"}},{"$f":"'1.Портфель кредитів'!#REF!","v":{"$error":"#REF!"}},{"$f":"'1.Портфель кредитів'!I468","v":0},{"$f":"'1.Портфель кредитів'!W468","v":0},{"$f":"'1.Портфель кредитів'!Y468","v":""},4,"2018-06-01","_4_43252_2"]
[{"$f":"'1.Портфель кредитів'!H469","v":0},{"$f":"'1.Портфель кредитів'!D469","v":""},{"$f":"'1.Портфель кредитів'!#REF!","v":{"$error":"#REF!"}},{"$f":"'1.Портфель кредитів'!#REF!","v":{"$error":"#REF!"}},{"$f":"'1.Портфель кредитів'!#REF!","v":{"$error":"#REF!"}},{"$f":"'1.Портфель кредитів'!I469","v":0},{"$f":"'1.Портфель кредитів'!W469","v":0},{"$f":"'1.Портфель кредитів'!Y469","v":""},4,"2018-06-01","_4_43252_2"]
[{"$f":"'1.Портфель кредитів'!H470","v":0},{"$f":"'1.Портфель кредитів'!D470","v":""},{"$f":"'1.Портфель кредитів'!#REF!","v":{"$error":"#REF!"}},{"$f":"'1.Портфель кредитів'!#REF!","v":{"$error":"#REF!"}},{"$f":"'1.Портфель кредитів'!#REF!","v":{"$error":"#REF!"}},{"$f":"'1.Портфель кредитів'!I470","v":0},{"$f":"'1.Портфель кредитів'!W470","v":0},{"$f":"'1.Портфель кредитів'!Y470","v":""},4,"2018-06-01","_4_43252_2"]
[{"$f":"'1.Портфель кредитів'!H471","v":0},{"$f":"'1.Портфель кредитів'!D471","v":""},{"$f":"'1.Портфель кредитів'!#REF!","v":{"$error":"#REF!"}},{"$f":"'1.Портфель кредитів'!#REF!","v":{"$error":"#REF!"}},{"$f":"'1.Портфель кредитів'!#REF!","v":{"$error":"#REF!"}},{"$f":"'1.Портфель кредитів'!I471","v":0},{"$f":"'1.Портфель кредитів'!W471","v":0},{"$f":"'1.Портфель кредитів'!Y471","v":""},4,"2018-06-01","_4_43252_2"]
[{"$f":"'1.Портфель кредитів'!H472","v":0},{"$f":"'1.Портфель кредитів'!D472","v":""},{"$f":"'1.Портфель кредитів'!#REF!","v":{"$error":"#REF!"}},{"$f":"'1.Портфель кредитів'!#REF!","v":{"$error":"#REF!"}},{"$f":"'1.Портфель кредитів'!#REF!","v":{"$error":"#REF!"}},{"$f":"'1.Портфель кредитів'!I472","v":0},{"$f":"'1.Портфель кредитів'!W472","v":0},{"$f":"'1.Портфель кредитів'!Y472","v":""},4,"2018-06-01","_4_43252_2"]
[{"$f":"'1.Портфель кредитів'!H473","v":0},{"$f":"'1.Портфель кредитів'!D473","v":""},{"$f":"'1.Портфель кредитів'!#REF!","v":{"$error":"#REF!"}},{"$f":"'1.Портфель кредитів'!#REF!","v":{"$error":"#REF!"}},{"$f":"'1.Портфель кредитів'!#REF!","v":{"$error":"#REF!"}},{"$f":"'1.Портфель кредитів'!I473","v":0},{"$f":"'1.Портфель кредитів'!W473","v":0},{"$f":"'1.Портфель кредитів'!Y473","v":""},4,"2018-06-01","_4_43252_2"]
[{"$f":"'1.Портфель кредитів'!H474","v":0},{"$f":"'1.Портфель кредитів'!D474","v":""},{"$f":"'1.Портфель кредитів'!#REF!","v":{"$error":"#REF!"}},{"$f":"'1.Портфель кредитів'!#REF!","v":{"$error":"#REF!"}},{"$f":"'1.Портфель кредитів'!#REF!","v":{"$error":"#REF!"}},{"$f":"'1.Портфель кредитів'!I474","v":0},{"$f":"'1.Портфель кредитів'!W474","v":0},{"$f":"'1.Портфель кредитів'!Y474","v":""},4,"2018-06-01","_4_43252_2"]
[{"$f":"'1.Портфель кредитів'!H475","v":0},{"$f":"'1.Портфель кредитів'!D475","v":""},{"$f":"'1.Портфель кредитів'!#REF!","v":{"$error":"#REF!"}},{"$f":"'1.Портфель кредитів'!#REF!","v":{"$error":"#REF!"}},{"$f":"'1.Портфель кредитів'!#REF!","v":{"$error":"#REF!"}},{"$f":"'1.Портфель кредитів'!I475","v":0},{"$f":"'1.Портфель кредитів'!W475","v":0},{"$f":"'1.Портфель кредитів'!Y475","v":""},4,"2018-06-01","_4_43252_2"]
[{"$f":"'1.Портфель кредитів'!H476","v":0},{"$f":"'1.Портфель кредитів'!D476","v":""},{"$f":"'1.Портфель кредитів'!#REF!","v":{"$error":"#REF!"}},{"$f":"'1.Портфель кредитів'!#REF!","v":{"$error":"#REF!"}},{"$f":"'1.Портфель кредитів'!#REF!","v":{"$error":"#REF!"}},{"$f":"'1.Портфель кредитів'!I476","v":0},{"$f":"'1.Портфель кредитів'!W476","v":0},{"$f":"'1.Портфель кредитів'!Y476","v":""},4,"2018-06-01","_4_43252_2"]
[{"$f":"'1.Портфель кредитів'!H477","v":0},{"$f":"'1.Портфель кредитів'!D477","v":""},{"$f":"'1.Портфель кредитів'!#REF!","v":{"$error":"#REF!"}},{"$f":"'1.Портфель кредитів'!#REF!","v":{"$error":"#REF!"}},{"$f":"'1.Портфель кредитів'!#REF!","v":{"$error":"#REF!"}},{"$f":"'1.Портфель кредитів'!I477","v":0},{"$f":"'1.Портфель кредитів'!W477","v":0},{"$f":"'1.Портфель кредитів'!Y477","v":""},4,"2018-06-01","_4_43252_2"]
[{"$f":"'1.Портфель кредитів'!H478","v":0},{"$f":"'1.Портфель кредитів'!D478","v":""},{"$f":"'1.Портфель кредитів'!#REF!","v":{"$error":"#REF!"}},{"$f":"'1.Портфель кредитів'!#REF!","v":{"$error":"#REF!"}},{"$f":"'1.Портфель кредитів'!#REF!","v":{"$error":"#REF!"}},{"$f":"'1.Портфель кредитів'!I478","v":0},{"$f":"'1.Портфель кредитів'!W478","v":0},{"$f":"'1.Портфель кредитів'!Y478","v":""},4,"2018-06-01","_4_43252_2"]
[{"$f":"'1.Портфель кредитів'!H479","v":0},{"$f":"'1.Портфель кредитів'!D479","v":""},{"$f":"'1.Портфель кредитів'!#REF!","v":{"$error":"#REF!"}},{"$f":"'1.Портфель кредитів'!#REF!","v":{"$error":"#REF!"}},{"$f":"'1.Портфель кредитів'!#REF!","v":{"$error":"#REF!"}},{"$f":"'1.Портфель кредитів'!I479","v":0},{"$f":"'1.Портфель кредитів'!W479","v":0},{"$f":"'1.Портфель кредитів'!Y479","v":""},4,"2018-06-01","_4_43252_2"]
[{"$f":"'1.Портфель кредитів'!H480","v":0},{"$f":"'1.Портфель кредитів'!D480","v":""},{"$f":"'1.Портфель кредитів'!#REF!","v":{"$error":"#REF!"}},{"$f":"'1.Портфель кредитів'!#REF!","v":{"$error":"#REF!"}},{"$f":"'1.Портфель кредитів'!#REF!","v":{"$error":"#REF!"}},{"$f":"'1.Портфель кредитів'!I480","v":0},{"$f":"'1.Портфель кредитів'!W480","v":0},{"$f":"'1.Портфель кредитів'!Y480","v":""},4,"2018-06-01","_4_43252_2"]
[{"$f":"'1.Портфель кредитів'!H481","v":0},{"$f":"'1.Портфель кредитів'!D481","v":""},{"$f":"'1.Портфель кредитів'!#REF!","v":{"$error":"#REF!"}},{"$f":"'1.Портфель кредитів'!#REF!","v":{"$error":"#REF!"}},{"$f":"'1.Портфель кредитів'!#REF!","v":{"$error":"#REF!"}},{"$f":"'1.Портфель кредитів'!I481","v":0},{"$f":"'1.Портфель кредитів'!W481","v":0},{"$f":"'1.Портфель кредитів'!Y481","v":""},4,"2018-06-01","_4_43252_2"]
[{"$f":"'1.Портфель кредитів'!H482","v":0},{"$f":"'1.Портфель кредитів'!D482","v":""},{"$f":"'1.Портфель кредитів'!#REF!","v":{"$error":"#REF!"}},{"$f":"'1.Портфель кредитів'!#REF!","v":{"$error":"#REF!"}},{"$f":"'1.Портфель кредитів'!#REF!","v":{"$error":"#REF!"}},{"$f":"'1.Портфель кредитів'!I482","v":0},{"$f":"'1.Портфель кредитів'!W482","v":0},{"$f":"'1.Портфель кредитів'!Y482","v":""},4,"2018-06-01","_4_43252_2"]
[{"$f":"'1.Портфель кредитів'!H483","v":0},{"$f":"'1.Портфель кредитів'!D483","v":""},{"$f":"'1.Портфель кредитів'!#REF!","v":{"$error":"#REF!"}},{"$f":"'1.Портфель кредитів'!#REF!","v":{"$error":"#REF!"}},{"$f":"'1.Портфель кредитів'!#REF!","v":{"$error":"#REF!"}},{"$f":"'1.Портфель кредитів'!I483","v":0},{"$f":"'1.Портфель кредитів'!W483","v":0},{"$f":"'1.Портфель кредитів'!Y483","v":""},4,"2018-06-01","_4_43252_2"]
[{"$f":"'1.Портфель кредитів'!H484","v":0},{"$f":"'1.Портфель кредитів'!D484","v":""},{"$f":"'1.Портфель кредитів'!#REF!","v":{"$error":"#REF!"}},{"$f":"'1.Портфель кредитів'!#REF!","v":{"$error":"#REF!"}},{"$f":"'1.Портфель кредитів'!#REF!","v":{"$error":"#REF!"}},{"$f":"'1.Портфель кредитів'!I484","v":0},{"$f":"'1.Портфель кредитів'!W484","v":0},{"$f":"'1.Портфель кредитів'!Y484","v":""},4,"2018-06-01","_4_43252_2"]
[{"$f":"'1.Портфель кредитів'!H485","v":0},{"$f":"'1.Портфель кредитів'!D485","v":""},{"$f":"'1.Портфель кредитів'!#REF!","v":{"$error":"#REF!"}},{"$f":"'1.Портфель кредитів'!#REF!","v":{"$error":"#REF!"}},{"$f":"'1.Портфель кредитів'!#REF!","v":{"$error":"#REF!"}},{"$f":"'1.Портфель кредитів'!I485","v":0},{"$f":"'1.Портфель кредитів'!W485","v":0},{"$f":"'1.Портфель кредитів'!Y485","v":""},4,"2018-06-01","_4_43252_2"]
[{"$f":"'1.Портфель кредитів'!H486","v":0},{"$f":"'1.Портфель кредитів'!D486","v":""},{"$f":"'1.Портфель кредитів'!#REF!","v":{"$error":"#REF!"}},{"$f":"'1.Портфель кредитів'!#REF!","v":{"$error":"#REF!"}},{"$f":"'1.Портфель кредитів'!#REF!","v":{"$error":"#REF!"}},{"$f":"'1.Портфель кредитів'!I486","v":0},{"$f":"'1.Портфель кредитів'!W486","v":0},{"$f":"'1.Портфель кредитів'!Y486","v":""},4,"2018-06-01","_4_43252_2"]
[{"$f":"'1.Портфель кредитів'!H487","v":0},{"$f":"'1.Портфель кредитів'!D487","v":""},{"$f":"'1.Портфель кредитів'!#REF!","v":{"$error":"#REF!"}},{"$f":"'1.Портфель кредитів'!#REF!","v":{"$error":"#REF!"}},{"$f":"'1.Портфель кредитів'!#REF!","v":{"$error":"#REF!"}},{"$f":"'1.Портфель кредитів'!I487","v":0},{"$f":"'1.Портфель кредитів'!W487","v":0},{"$f":"'1.Портфель кредитів'!Y487","v":""},4,"2018-06-01","_4_43252_2"]
[{"$f":"'1.Портфель кредитів'!H488","v":0},{"$f":"'1.Портфель кредитів'!D488","v":""},{"$f":"'1.Портфель кредитів'!#REF!","v":{"$error":"#REF!"}},{"$f":"'1.Портфель кредитів'!#REF!","v":{"$error":"#REF!"}},{"$f":"'1.Портфель кредитів'!#REF!","v":{"$error":"#REF!"}},{"$f":"'1.Портфель кредитів'!I488","v":0},{"$f":"'1.Портфель кредитів'!W488","v":0},{"$f":"'1.Портфель кредитів'!Y488","v":""},4,"2018-06-01","_4_43252_2"]
[{"$f":"'1.Портфель кредитів'!H489","v":0},{"$f":"'1.Портфель кредитів'!D489","v":""},{"$f":"'1.Портфель кредитів'!#REF!","v":{"$error":"#REF!"}},{"$f":"'1.Портфель кредитів'!#REF!","v":{"$error":"#REF!"}},{"$f":"'1.Портфель кредитів'!#REF!","v":{"$error":"#REF!"}},{"$f":"'1.Портфель кредитів'!I489","v":0},{"$f":"'1.Портфель кредитів'!W489","v":0},{"$f":"'1.Портфель кредитів'!Y489","v":""},4,"2018-06-01","_4_43252_2"]
[{"$f":"'1.Портфель кредитів'!H490","v":0},{"$f":"'1.Портфель кредитів'!D490","v":""},{"$f":"'1.Портфель кредитів'!#REF!","v":{"$error":"#REF!"}},{"$f":"'1.Портфель кредитів'!#REF!","v":{"$error":"#REF!"}},{"$f":"'1.Портфель кредитів'!#REF!","v":{"$error":"#REF!"}},{"$f":"'1.Портфель кредитів'!I490","v":0},{"$f":"'1.Портфель кредитів'!W490","v":0},{"$f":"'1.Портфель кредитів'!Y490","v":""},4,"2018-06-01","_4_43252_2"]
[{"$f":"'1.Портфель кредитів'!H491","v":0},{"$f":"'1.Портфель кредитів'!D491","v":""},{"$f":"'1.Портфель кредитів'!#REF!","v":{"$error":"#REF!"}},{"$f":"'1.Портфель кредитів'!#REF!","v":{"$error":"#REF!"}},{"$f":"'1.Портфель кредитів'!#REF!","v":{"$error":"#REF!"}},{"$f":"'1.Портфель кредитів'!I491","v":0},{"$f":"'1.Портфель кредитів'!W491","v":0},{"$f":"'1.Портфель кредитів'!Y491","v":""},4,"2018-06-01","_4_43252_2"]
[{"$f":"'1.Портфель кредитів'!H492","v":0},{"$f":"'1.Портфель кредитів'!D492","v":""},{"$f":"'1.Портфель кредитів'!#REF!","v":{"$error":"#REF!"}},{"$f":"'1.Портфель кредитів'!#REF!","v":{"$error":"#REF!"}},{"$f":"'1.Портфель кредитів'!#REF!","v":{"$error":"#REF!"}},{"$f":"'1.Портфель кредитів'!I492","v":0},{"$f":"'1.Портфель кредитів'!W492","v":0},{"$f":"'1.Портфель кредитів'!Y492","v":""},4,"2018-06-01","_4_43252_2"]
[{"$f":"'1.Портфель кредитів'!H493","v":0},{"$f":"'1.Портфель кредитів'!D493","v":""},{"$f":"'1.Портфель кредитів'!#REF!","v":{"$error":"#REF!"}},{"$f":"'1.Портфель кредитів'!#REF!","v":{"$error":"#REF!"}},{"$f":"'1.Портфель кредитів'!#REF!","v":{"$error":"#REF!"}},{"$f":"'1.Портфель кредитів'!I493","v":0},{"$f":"'1.Портфель кредитів'!W493","v":0},{"$f":"'1.Портфель кредитів'!Y493","v":""},4,"2018-06-01","_4_43252_2"]
[{"$f":"'1.Портфель кредитів'!H494","v":0},{"$f":"'1.Портфель кредитів'!D494","v":""},{"$f":"'1.Портфель кредитів'!#REF!","v":{"$error":"#REF!"}},{"$f":"'1.Портфель кредитів'!#REF!","v":{"$error":"#REF!"}},{"$f":"'1.Портфель кредитів'!#REF!","v":{"$error":"#REF!"}},{"$f":"'1.Портфель кредитів'!I494","v":0},{"$f":"'1.Портфель кредитів'!W494","v":0},{"$f":"'1.Портфель кредитів'!Y494","v":""},4,"2018-06-01","_4_43252_2"]
[{"$f":"'1.Портфель кредитів'!H495","v":0},{"$f":"'1.Портфель кредитів'!D495","v":""},{"$f":"'1.Портфель кредитів'!#REF!","v":{"$error":"#REF!"}},{"$f":"'1.Портфель кредитів'!#REF!","v":{"$error":"#REF!"}},{"$f":"'1.Портфель кредитів'!#REF!","v":{"$error":"#REF!"}},{"$f":"'1.Портфель кредитів'!I495","v":0},{"$f":"'1.Портфель кредитів'!W495","v":0},{"$f":"'1.Портфель кредитів'!Y495","v":""},4,"2018-06-01","_4_43252_2"]
[{"$f":"'1.Портфель кредитів'!H496","v":0},{"$f":"'1.Портфель кредитів'!D496","v":""},{"$f":"'1.Портфель кредитів'!#REF!","v":{"$error":"#REF!"}},{"$f":"'1.Портфель кредитів'!#REF!","v":{"$error":"#REF!"}},{"$f":"'1.Портфель кредитів'!#REF!","v":{"$error":"#REF!"}},{"$f":"'1.Портфель кредитів'!I496","v":0},{"$f":"'1.Портфель кредитів'!W496","v":0},{"$f":"'1.Портфель кредитів'!Y496","v":""},4,"2018-06-01","_4_43252_2"]
[{"$f":"'1.Портфель кредитів'!H497","v":0},{"$f":"'1.Портфель кредитів'!D497","v":""},{"$f":"'1.Портфель кредитів'!#REF!","v":{"$error":"#REF!"}},{"$f":"'1.Портфель кредитів'!#REF!","v":{"$error":"#REF!"}},{"$f":"'1.Портфель кредитів'!#REF!","v":{"$error":"#REF!"}},{"$f":"'1.Портфель кредитів'!I497","v":0},{"$f":"'1.Портфель кредитів'!W497","v":0},{"$f":"'1.Портфель кредитів'!Y497","v":""},4,"2018-06-01","_4_43252_2"]
[{"$f":"'1.Портфель кредитів'!H498","v":0},{"$f":"'1.Портфель кредитів'!D498","v":""},{"$f":"'1.Портфель кредитів'!#REF!","v":{"$error":"#REF!"}},{"$f":"'1.Портфель кредитів'!#REF!","v":{"$error":"#REF!"}},{"$f":"'1.Портфель кредитів'!#REF!","v":{"$error":"#REF!"}},{"$f":"'1.Портфель кредитів'!I498","v":0},{"$f":"'1.Портфель кредитів'!W498","v":0},{"$f":"'1.Портфель кредитів'!Y498","v":""},4,"2018-06-01","_4_43252_2"]
[{"$f":"'1.Портфель кредитів'!H499","v":0},{"$f":"'1.Портфель кредитів'!D499","v":""},{"$f":"'1.Портфель кредитів'!#REF!","v":{"$error":"#REF!"}},{"$f":"'1.Портфель кредитів'!#REF!","v":{"$error":"#REF!"}},{"$f":"'1.Портфель кредитів'!#REF!","v":{"$error":"#REF!"}},{"$f":"'1.Портфель кредитів'!I499","v":0},{"$f":"'1.Портфель кредитів'!W499","v":0},{"$f":"'1.Портфель кредитів'!Y499","v":""},4,"2018-06-01","_4_43252_2"]
[{"$f":"'1.Портфель кредитів'!H500","v":0},{"$f":"'1.Портфель кредитів'!D500","v":""},{"$f":"'1.Портфель кредитів'!#REF!","v":{"$error":"#REF!"}},{"$f":"'1.Портфель кредитів'!#REF!","v":{"$error":"#REF!"}},{"$f":"'1.Портфель кредитів'!#REF!","v":{"$error":"#REF!"}},{"$f":"'1.Портфель кредитів'!I500","v":0},{"$f":"'1.Портфель кредитів'!W500","v":0},{"$f":"'1.Портфель кредитів'!Y500","v":""},4,"2018-06-01","_4_43252_2"]
[{"$f":"'1.Портфель кредитів'!H501","v":0},{"$f":"'1.Портфель кредитів'!D501","v":""},{"$f":"'1.Портфель кредитів'!#REF!","v":{"$error":"#REF!"}},{"$f":"'1.Портфель кредитів'!#REF!","v":{"$error":"#REF!"}},{"$f":"'1.Портфель кредитів'!#REF!","v":{"$error":"#REF!"}},{"$f":"'1.Портфель кредитів'!I501","v":0},{"$f":"'1.Портфель кредитів'!W501","v":0},{"$f":"'1.Портфель кредитів'!Y501","v":""},4,"2018-06-01","_4_43252_2"]
[{"$f":"'1.Портфель кредитів'!H502","v":0},{"$f":"'1.Портфель кредитів'!D502","v":""},{"$f":"'1.Портфель кредитів'!#REF!","v":{"$error":"#REF!"}},{"$f":"'1.Портфель кредитів'!#REF!","v":{"$error":"#REF!"}},{"$f":"'1.Портфель кредитів'!#REF!","v":{"$error":"#REF!"}},{"$f":"'1.Портфель кредитів'!I502","v":0},{"$f":"'1.Портфель кредитів'!W502","v":0},{"$f":"'1.Портфель кредитів'!Y502","v":""},4,"2018-06-01","_4_43252_2"]
[{"$f":"'1.Портфель кредитів'!H503","v":0},{"$f":"'1.Портфель кредитів'!D503","v":""},{"$f":"'1.Портфель кредитів'!#REF!","v":{"$error":"#REF!"}},{"$f":"'1.Портфель кредитів'!#REF!","v":{"$error":"#REF!"}},{"$f":"'1.Портфель кредитів'!#REF!","v":{"$error":"#REF!"}},{"$f":"'1.Портфель кредитів'!I503","v":0},{"$f":"'1.Портфель кредитів'!W503","v":0},{"$f":"'1.Портфель кредитів'!Y503","v":""},4,"2018-06-01","_4_43252_2"]
[{"$f":"'1.Портфель кредитів'!H504","v":0},{"$f":"'1.Портфель кредитів'!D504","v":""},{"$f":"'1.Портфель кредитів'!#REF!","v":{"$error":"#REF!"}},{"$f":"'1.Портфель кредитів'!#REF!","v":{"$error":"#REF!"}},{"$f":"'1.Портфель кредитів'!#REF!","v":{"$error":"#REF!"}},{"$f":"'1.Портфель кредитів'!I504","v":0},{"$f":"'1.Портфель кредитів'!W504","v":0},{"$f":"'1.Портфель кредитів'!Y504","v":""},4,"2018-06-01","_4_43252_2"]
[{"$f":"'1.Портфель кредитів'!H505","v":0},{"$f":"'1.Портфель кредитів'!D505","v":""},{"$f":"'1.Портфель кредитів'!#REF!","v":{"$error":"#REF!"}},{"$f":"'1.Портфель кредитів'!#REF!","v":{"$error":"#REF!"}},{"$f":"'1.Портфель кредитів'!#REF!","v":{"$error":"#REF!"}},{"$f":"'1.Портфель кредитів'!I505","v":0},{"$f":"'1.Портфель кредитів'!W505","v":0},{"$f":"'1.Портфель кредитів'!Y505","v":""},4,"2018-06-01","_4_43252_2"]
[{"$f":"'1.Портфель кредитів'!H506","v":0},{"$f":"'1.Портфель кредитів'!D506","v":""},{"$f":"'1.Портфель кредитів'!#REF!","v":{"$error":"#REF!"}},{"$f":"'1.Портфель кредитів'!#REF!","v":{"$error":"#REF!"}},{"$f":"'1.Портфель кредитів'!#REF!","v":{"$error":"#REF!"}},{"$f":"'1.Портфель кредитів'!I506","v":0},{"$f":"'1.Портфель кредитів'!W506","v":0},{"$f":"'1.Портфель кредитів'!Y506","v":""},4,"2018-06-01","_4_43252_2"]
[{"$f":"'1.Портфель кредитів'!H507","v":0},{"$f":"'1.Портфель кредитів'!D507","v":""},{"$f":"'1.Портфель кредитів'!#REF!","v":{"$error":"#REF!"}},{"$f":"'1.Портфель кредитів'!#REF!","v":{"$error":"#REF!"}},{"$f":"'1.Портфель кредитів'!#REF!","v":{"$error":"#REF!"}},{"$f":"'1.Портфель кредитів'!I507","v":0},{"$f":"'1.Портфель кредитів'!W507","v":0},{"$f":"'1.Портфель кредитів'!Y507","v":""},4,"2018-06-01","_4_43252_2"]
[{"$f":"'1.Портфель кредитів'!H508","v":0},{"$f":"'1.Портфель кредитів'!D508","v":""},{"$f":"'1.Портфель кредитів'!#REF!","v":{"$error":"#REF!"}},{"$f":"'1.Портфель кредитів'!#REF!","v":{"$error":"#REF!"}},{"$f":"'1.Портфель кредитів'!#REF!","v":{"$error":"#REF!"}},{"$f":"'1.Портфель кредитів'!I508","v":0},{"$f":"'1.Портфель кредитів'!W508","v":0},{"$f":"'1.Портфель кредитів'!Y508","v":""},4,"2018-06-01","_4_43252_2"]
[{"$f":"'1.Портфель кредитів'!H509","v":0},{"$f":"'1.Портфель кредитів'!D509","v":""},{"$f":"'1.Портфель кредитів'!#REF!","v":{"$error":"#REF!"}},{"$f":"'1.Портфель кредитів'!#REF!","v":{"$error":"#REF!"}},{"$f":"'1.Портфель кредитів'!#REF!","v":{"$error":"#REF!"}},{"$f":"'1.Портфель кредитів'!I509","v":0},{"$f":"'1.Портфель кредитів'!W509","v":0},{"$f":"'1.Портфель кредитів'!Y509","v":""},4,"2018-06-01","_4_43252_2"]
[{"$f":"'1.Портфель кредитів'!H510","v":0},{"$f":"'1.Портфель кредитів'!D510","v":""},{"$f":"'1.Портфель кредитів'!#REF!","v":{"$error":"#REF!"}},{"$f":"'1.Портфель кредитів'!#REF!","v":{"$error":"#REF!"}},{"$f":"'1.Портфель кредитів'!#REF!","v":{"$error":"#REF!"}},{"$f":"'1.Портфель кредитів'!I510","v":0},{"$f":"'1.Портфель кредитів'!W510","v":0},{"$f":"'1.Портфель кредитів'!Y510","v":""},4,"2018-06-01","_4_43252_2"]
[{"$f":"'1.Портфель кредитів'!H511","v":0},{"$f":"'1.Портфель кредитів'!D511","v":""},{"$f":"'1.Портфель кредитів'!#REF!","v":{"$error":"#REF!"}},{"$f":"'1.Портфель кредитів'!#REF!","v":{"$error":"#REF!"}},{"$f":"'1.Портфель кредитів'!#REF!","v":{"$error":"#REF!"}},{"$f":"'1.Портфель кредитів'!I511","v":0},{"$f":"'1.Портфель кредитів'!W511","v":0},{"$f":"'1.Портфель кредитів'!Y511","v":""},4,"2018-06-01","_4_43252_2"]
[{"$f":"'1.Портфель кредитів'!H512","v":0},{"$f":"'1.Портфель кредитів'!D512","v":""},{"$f":"'1.Портфель кредитів'!#REF!","v":{"$error":"#REF!"}},{"$f":"'1.Портфель кредитів'!#REF!","v":{"$error":"#REF!"}},{"$f":"'1.Портфель кредитів'!#REF!","v":{"$error":"#REF!"}},{"$f":"'1.Портфель кредитів'!I512","v":0},{"$f":"'1.Портфель кредитів'!W512","v":0},{"$f":"'1.Портфель кредитів'!Y512","v":""},4,"2018-06-01","_4_43252_2"]
[{"$f":"'1.Портфель кредитів'!H513","v":0},{"$f":"'1.Портфель кредитів'!D513","v":""},{"$f":"'1.Портфель кредитів'!#REF!","v":{"$error":"#REF!"}},{"$f":"'1.Портфель кредитів'!#REF!","v":{"$error":"#REF!"}},{"$f":"'1.Портфель кредитів'!#REF!","v":{"$error":"#REF!"}},{"$f":"'1.Портфель кредитів'!I513","v":0},{"$f":"'1.Портфель кредитів'!W513","v":0},{"$f":"'1.Портфель кредитів'!Y513","v":""},4,"2018-06-01","_4_43252_2"]
[{"$f":"'1.Портфель кредитів'!H514","v":0},{"$f":"'1.Портфель кредитів'!D514","v":""},{"$f":"'1.Портфель кредитів'!#REF!","v":{"$error":"#REF!"}},{"$f":"'1.Портфель кредитів'!#REF!","v":{"$error":"#REF!"}},{"$f":"'1.Портфель кредитів'!#REF!","v":{"$error":"#REF!"}},{"$f":"'1.Портфель кредитів'!I514","v":0},{"$f":"'1.Портфель кредитів'!W514","v":0},{"$f":"'1.Портфель кредитів'!Y514","v":""},4,"2018-06-01","_4_43252_2"]
[{"$f":"'1.Портфель кредитів'!H515","v":0},{"$f":"'1.Портфель кредитів'!D515","v":""},{"$f":"'1.Портфель кредитів'!#REF!","v":{"$error":"#REF!"}},{"$f":"'1.Портфель кредитів'!#REF!","v":{"$error":"#REF!"}},{"$f":"'1.Портфель кредитів'!#REF!","v":{"$error":"#REF!"}},{"$f":"'1.Портфель кредитів'!I515","v":0},{"$f":"'1.Портфель кредитів'!W515","v":0},{"$f":"'1.Портфель кредитів'!Y515","v":""},4,"2018-06-01","_4_43252_2"]
[{"$f":"'1.Портфель кредитів'!H516","v":0},{"$f":"'1.Портфель кредитів'!D516","v":""},{"$f":"'1.Портфель кредитів'!#REF!","v":{"$error":"#REF!"}},{"$f":"'1.Портфель кредитів'!#REF!","v":{"$error":"#REF!"}},{"$f":"'1.Портфель кредитів'!#REF!","v":{"$error":"#REF!"}},{"$f":"'1.Портфель кредитів'!I516","v":0},{"$f":"'1.Портфель кредитів'!W516","v":0},{"$f":"'1.Портфель кредитів'!Y516","v":""},4,"2018-06-01","_4_43252_2"]
[{"$f":"'1.Портфель кредитів'!H517","v":0},{"$f":"'1.Портфель кредитів'!D517","v":""},{"$f":"'1.Портфель кредитів'!#REF!","v":{"$error":"#REF!"}},{"$f":"'1.Портфель кредитів'!#REF!","v":{"$error":"#REF!"}},{"$f":"'1.Портфель кредитів'!#REF!","v":{"$error":"#REF!"}},{"$f":"'1.Портфель кредитів'!I517","v":0},{"$f":"'1.Портфель кредитів'!W517","v":0},{"$f":"'1.Портфель кредитів'!Y517","v":""},4,"2018-06-01","_4_43252_2"]
[{"$f":"'1.Портфель кредитів'!H518","v":0},{"$f":"'1.Портфель кредитів'!D518","v":""},{"$f":"'1.Портфель кредитів'!#REF!","v":{"$error":"#REF!"}},{"$f":"'1.Портфель кредитів'!#REF!","v":{"$error":"#REF!"}},{"$f":"'1.Портфель кредитів'!#REF!","v":{"$error":"#REF!"}},{"$f":"'1.Портфель кредитів'!I518","v":0},{"$f":"'1.Портфель кредитів'!W518","v":0},{"$f":"'1.Портфель кредитів'!Y518","v":""},4,"2018-06-01","_4_43252_2"]
[{"$f":"'1.Портфель кредитів'!H519","v":0},{"$f":"'1.Портфель кредитів'!D519","v":""},{"$f":"'1.Портфель кредитів'!#REF!","v":{"$error":"#REF!"}},{"$f":"'1.Портфель кредитів'!#REF!","v":{"$error":"#REF!"}},{"$f":"'1.Портфель кредитів'!#REF!","v":{"$error":"#REF!"}},{"$f":"'1.Портфель кредитів'!I519","v":0},{"$f":"'1.Портфель кредитів'!W519","v":0},{"$f":"'1.Портфель кредитів'!Y519","v":""},4,"2018-06-01","_4_43252_2"]
[{"$f":"'1.Портфель кредитів'!H520","v":0},{"$f":"'1.Портфель кредитів'!D520","v":""},{"$f":"'1.Портфель кредитів'!#REF!","v":{"$error":"#REF!"}},{"$f":"'1.Портфель кредитів'!#REF!","v":{"$error":"#REF!"}},{"$f":"'1.Портфель кредитів'!#REF!","v":{"$error":"#REF!"}},{"$f":"'1.Портфель кредитів'!I520","v":0},{"$f":"'1.Портфель кредитів'!W520","v":0},{"$f":"'1.Портфель кредитів'!Y520","v":""},4,"2018-06-01","_4_43252_2"]
[{"$f":"'1.Портфель кредитів'!H521","v":0},{"$f":"'1.Портфель кредитів'!D521","v":""},{"$f":"'1.Портфель кредитів'!#REF!","v":{"$error":"#REF!"}},{"$f":"'1.Портфель кредитів'!#REF!","v":{"$error":"#REF!"}},{"$f":"'1.Портфель кредитів'!#REF!","v":{"$error":"#REF!"}},{"$f":"'1.Портфель кредитів'!I521","v":0},{"$f":"'1.Портфель кредитів'!W521","v":0},{"$f":"'1.Портфель кредитів'!Y521","v":""},4,"2018-06-01","_4_43252_2"]
[{"$f":"'1.Портфель кредитів'!H522","v":0},{"$f":"'1.Портфель кредитів'!D522","v":""},{"$f":"'1.Портфель кредитів'!#REF!","v":{"$error":"#REF!"}},{"$f":"'1.Портфель кредитів'!#REF!","v":{"$error":"#REF!"}},{"$f":"'1.Портфель кредитів'!#REF!","v":{"$error":"#REF!"}},{"$f":"'1.Портфель кредитів'!I522","v":0},{"$f":"'1.Портфель кредитів'!W522","v":0},{"$f":"'1.Портфель кредитів'!Y522","v":""},4,"2018-06-01","_4_43252_2"]
[{"$f":"'1.Портфель кредитів'!H523","v":0},{"$f":"'1.Портфель кредитів'!D523","v":""},{"$f":"'1.Портфель кредитів'!#REF!","v":{"$error":"#REF!"}},{"$f":"'1.Портфель кредитів'!#REF!","v":{"$error":"#REF!"}},{"$f":"'1.Портфель кредитів'!#REF!","v":{"$error":"#REF!"}},{"$f":"'1.Портфель кредитів'!I523","v":0},{"$f":"'1.Портфель кредитів'!W523","v":0},{"$f":"'1.Портфель кредитів'!Y523","v":""},4,"2018-06-01","_4_43252_2"]
[{"$f":"'1.Портфель кредитів'!H524","v":0},{"$f":"'1.Портфель кредитів'!D524","v":""},{"$f":"'1.Портфель кредитів'!#REF!","v":{"$error":"#REF!"}},{"$f":"'1.Портфель кредитів'!#REF!","v":{"$error":"#REF!"}},{"$f":"'1.Портфель кредитів'!#REF!","v":{"$error":"#REF!"}},{"$f":"'1.Портфель кредитів'!I524","v":0},{"$f":"'1.Портфель кредитів'!W524","v":0},{"$f":"'1.Портфель кредитів'!Y524","v":""},4,"2018-06-01","_4_43252_2"]
[{"$f":"'1.Портфель кредитів'!H525","v":0},{"$f":"'1.Портфель кредитів'!D525","v":""},{"$f":"'1.Портфель кредитів'!#REF!","v":{"$error":"#REF!"}},{"$f":"'1.Портфель кредитів'!#REF!","v":{"$error":"#REF!"}},{"$f":"'1.Портфель кредитів'!#REF!","v":{"$error":"#REF!"}},{"$f":"'1.Портфель кредитів'!I525","v":0},{"$f":"'1.Портфель кредитів'!W525","v":0},{"$f":"'1.Портфель кредитів'!Y525","v":""},4,"2018-06-01","_4_43252_2"]
[{"$f":"'1.Портфель кредитів'!H526","v":0},{"$f":"'1.Портфель кредитів'!D526","v":""},{"$f":"'1.Портфель кредитів'!#REF!","v":{"$error":"#REF!"}},{"$f":"'1.Портфель кредитів'!#REF!","v":{"$error":"#REF!"}},{"$f":"'1.Портфель кредитів'!#REF!","v":{"$error":"#REF!"}},{"$f":"'1.Портфель кредитів'!I526","v":0},{"$f":"'1.Портфель кредитів'!W526","v":0},{"$f":"'1.Портфель кредитів'!Y526","v":""},4,"2018-06-01","_4_43252_2"]
[{"$f":"'1.Портфель кредитів'!H527","v":0},{"$f":"'1.Портфель кредитів'!D527","v":""},{"$f":"'1.Портфель кредитів'!#REF!","v":{"$error":"#REF!"}},{"$f":"'1.Портфель кредитів'!#REF!","v":{"$error":"#REF!"}},{"$f":"'1.Портфель кредитів'!#REF!","v":{"$error":"#REF!"}},{"$f":"'1.Портфель кредитів'!I527","v":0},{"$f":"'1.Портфель кредитів'!W527","v":0},{"$f":"'1.Портфель кредитів'!Y527","v":""},4,"2018-06-01","_4_43252_2"]
[{"$f":"'1.Портфель кредитів'!H528","v":0},{"$f":"'1.Портфель кредитів'!D528","v":""},{"$f":"'1.Портфель кредитів'!#REF!","v":{"$error":"#REF!"}},{"$f":"'1.Портфель кредитів'!#REF!","v":{"$error":"#REF!"}},{"$f":"'1.Портфель кредитів'!#REF!","v":{"$error":"#REF!"}},{"$f":"'1.Портфель кредитів'!I528","v":0},{"$f":"'1.Портфель кредитів'!W528","v":0},{"$f":"'1.Портфель кредитів'!Y528","v":""},{"$f":"$E$1","v":4},{"$f":"$E$2","v":"2018-06-01"},{"$f":"B582&\"_\"&I582&\"_\"&J582&\"_\"&$E$3","v":"_4_43252_2"}]
[{"$f":"'1.Портфель кредитів'!H529","v":0},{"$f":"'1.Портфель кредитів'!D529","v":""},{"$f":"'1.Портфель кредитів'!#REF!","v":{"$error":"#REF!"}},{"$f":"'1.Портфель кредитів'!#REF!","v":{"$error":"#REF!"}},{"$f":"'1.Портфель кредитів'!#REF!","v":{"$error":"#REF!"}},{"$f":"'1.Портфель кредитів'!I529","v":0},{"$f":"'1.Портфель кредитів'!W529","v":0},{"$f":"'1.Портфель кредитів'!Y529","v":""},4,"2018-06-01","_4_43252_2"]
[{"$f":"'1.Портфель кредитів'!H530","v":0},{"$f":"'1.Портфель кредитів'!D530","v":""},{"$f":"'1.Портфель кредитів'!#REF!","v":{"$error":"#REF!"}},{"$f":"'1.Портфель кредитів'!#REF!","v":{"$error":"#REF!"}},{"$f":"'1.Портфель кредитів'!#REF!","v":{"$error":"#REF!"}},{"$f":"'1.Портфель кредитів'!I530","v":0},{"$f":"'1.Портфель кредитів'!W530","v":0},{"$f":"'1.Портфель кредитів'!Y530","v":""},4,"2018-06-01","_4_43252_2"]
[{"$f":"'1.Портфель кредитів'!H531","v":0},{"$f":"'1.Портфель кредитів'!D531","v":""},{"$f":"'1.Портфель кредитів'!#REF!","v":{"$error":"#REF!"}},{"$f":"'1.Портфель кредитів'!#REF!","v":{"$error":"#REF!"}},{"$f":"'1.Портфель кредитів'!#REF!","v":{"$error":"#REF!"}},{"$f":"'1.Портфель кредитів'!I531","v":0},{"$f":"'1.Портфель кредитів'!W531","v":0},{"$f":"'1.Портфель кредитів'!Y531","v":""},4,"2018-06-01","_4_43252_2"]
[{"$f":"'1.Портфель кредитів'!H532","v":0},{"$f":"'1.Портфель кредитів'!D532","v":""},{"$f":"'1.Портфель кредитів'!#REF!","v":{"$error":"#REF!"}},{"$f":"'1.Портфель кредитів'!#REF!","v":{"$error":"#REF!"}},{"$f":"'1.Портфель кредитів'!#REF!","v":{"$error":"#REF!"}},{"$f":"'1.Портфель кредитів'!I532","v":0},{"$f":"'1.Портфель кредитів'!W532","v":0},{"$f":"'1.Портфель кредитів'!Y532","v":""},4,"2018-06-01","_4_43252_2"]
[{"$f":"'1.Портфель кредитів'!H533","v":0},{"$f":"'1.Портфель кредитів'!D533","v":""},{"$f":"'1.Портфель кредитів'!#REF!","v":{"$error":"#REF!"}},{"$f":"'1.Портфель кредитів'!#REF!","v":{"$error":"#REF!"}},{"$f":"'1.Портфель кредитів'!#REF!","v":{"$error":"#REF!"}},{"$f":"'1.Портфель кредитів'!I533","v":0},{"$f":"'1.Портфель кредитів'!W533","v":0},{"$f":"'1.Портфель кредитів'!Y533","v":""},4,"2018-06-01","_4_43252_2"]
[{"$f":"'1.Портфель кредитів'!H534","v":0},{"$f":"'1.Портфель кредитів'!D534","v":""},{"$f":"'1.Портфель кредитів'!#REF!","v":{"$error":"#REF!"}},{"$f":"'1.Портфель кредитів'!#REF!","v":{"$error":"#REF!"}},{"$f":"'1.Портфель кредитів'!#REF!","v":{"$error":"#REF!"}},{"$f":"'1.Портфель кредитів'!I534","v":0},{"$f":"'1.Портфель кредитів'!W534","v":0},{"$f":"'1.Портфель кредитів'!Y534","v":""},4,"2018-06-01","_4_43252_2"]
[{"$f":"'1.Портфель кредитів'!H535","v":0},{"$f":"'1.Портфель кредитів'!D535","v":""},{"$f":"'1.Портфель кредитів'!#REF!","v":{"$error":"#REF!"}},{"$f":"'1.Портфель кредитів'!#REF!","v":{"$error":"#REF!"}},{"$f":"'1.Портфель кредитів'!#REF!","v":{"$error":"#REF!"}},{"$f":"'1.Портфель кредитів'!I535","v":0},{"$f":"'1.Портфель кредитів'!W535","v":0},{"$f":"'1.Портфель кредитів'!Y535","v":""},4,"2018-06-01","_4_43252_2"]
[{"$f":"'1.Портфель кредитів'!H536","v":0},{"$f":"'1.Портфель кредитів'!D536","v":""},{"$f":"'1.Портфель кредитів'!#REF!","v":{"$error":"#REF!"}},{"$f":"'1.Портфель кредитів'!#REF!","v":{"$error":"#REF!"}},{"$f":"'1.Портфель кредитів'!#REF!","v":{"$error":"#REF!"}},{"$f":"'1.Портфель кредитів'!I536","v":0},{"$f":"'1.Портфель кредитів'!W536","v":0},{"$f":"'1.Портфель кредитів'!Y536","v":""},4,"2018-06-01","_4_43252_2"]
[{"$f":"'1.Портфель кредитів'!H537","v":0},{"$f":"'1.Портфель кредитів'!D537","v":""},{"$f":"'1.Портфель кредитів'!#REF!","v":{"$error":"#REF!"}},{"$f":"'1.Портфель кредитів'!#REF!","v":{"$error":"#REF!"}},{"$f":"'1.Портфель кредитів'!#REF!","v":{"$error":"#REF!"}},{"$f":"'1.Портфель кредитів'!I537","v":0},{"$f":"'1.Портфель кредитів'!W537","v":0},{"$f":"'1.Портфель кредитів'!Y537","v":""},4,"2018-06-01","_4_43252_2"]
[{"$f":"'1.Портфель кредитів'!H538","v":0},{"$f":"'1.Портфель кредитів'!D538","v":""},{"$f":"'1.Портфель кредитів'!#REF!","v":{"$error":"#REF!"}},{"$f":"'1.Портфель кредитів'!#REF!","v":{"$error":"#REF!"}},{"$f":"'1.Портфель кредитів'!#REF!","v":{"$error":"#REF!"}},{"$f":"'1.Портфель кредитів'!I538","v":0},{"$f":"'1.Портфель кредитів'!W538","v":0},{"$f":"'1.Портфель кредитів'!Y538","v":""},4,"2018-06-01","_4_43252_2"]
[{"$f":"'1.Портфель кредитів'!H539","v":0},{"$f":"'1.Портфель кредитів'!D539","v":""},{"$f":"'1.Портфель кредитів'!#REF!","v":{"$error":"#REF!"}},{"$f":"'1.Портфель кредитів'!#REF!","v":{"$error":"#REF!"}},{"$f":"'1.Портфель кредитів'!#REF!","v":{"$error":"#REF!"}},{"$f":"'1.Портфель кредитів'!I539","v":0},{"$f":"'1.Портфель кредитів'!W539","v":0},{"$f":"'1.Портфель кредитів'!Y539","v":""},4,"2018-06-01","_4_43252_2"]
[{"$f":"'1.Портфель кредитів'!H540","v":0},{"$f":"'1.Портфель кредитів'!D540","v":""},{"$f":"'1.Портфель кредитів'!#REF!","v":{"$error":"#REF!"}},{"$f":"'1.Портфель кредитів'!#REF!","v":{"$error":"#REF!"}},{"$f":"'1.Портфель кредитів'!#REF!","v":{"$error":"#REF!"}},{"$f":"'1.Портфель кредитів'!I540","v":0},{"$f":"'1.Портфель кредитів'!W540","v":0},{"$f":"'1.Портфель кредитів'!Y540","v":""},4,"2018-06-01","_4_43252_2"]
[{"$f":"'1.Портфель кредитів'!H541","v":0},{"$f":"'1.Портфель кредитів'!D541","v":""},{"$f":"'1.Портфель кредитів'!#REF!","v":{"$error":"#REF!"}},{"$f":"'1.Портфель кредитів'!#REF!","v":{"$error":"#REF!"}},{"$f":"'1.Портфель кредитів'!#REF!","v":{"$error":"#REF!"}},{"$f":"'1.Портфель кредитів'!I541","v":0},{"$f":"'1.Портфель кредитів'!W541","v":0},{"$f":"'1.Портфель кредитів'!Y541","v":""},4,"2018-06-01","_4_43252_2"]
[{"$f":"'1.Портфель кредитів'!H542","v":0},{"$f":"'1.Портфель кредитів'!D542","v":""},{"$f":"'1.Портфель кредитів'!#REF!","v":{"$error":"#REF!"}},{"$f":"'1.Портфель кредитів'!#REF!","v":{"$error":"#REF!"}},{"$f":"'1.Портфель кредитів'!#REF!","v":{"$error":"#REF!"}},{"$f":"'1.Портфель кредитів'!I542","v":0},{"$f":"'1.Портфель кредитів'!W542","v":0},{"$f":"'1.Портфель кредитів'!Y542","v":""},4,"2018-06-01","_4_43252_2"]
[{"$f":"'1.Портфель кредитів'!H543","v":0},{"$f":"'1.Портфель кредитів'!D543","v":""},{"$f":"'1.Портфель кредитів'!#REF!","v":{"$error":"#REF!"}},{"$f":"'1.Портфель кредитів'!#REF!","v":{"$error":"#REF!"}},{"$f":"'1.Портфель кредитів'!#REF!","v":{"$error":"#REF!"}},{"$f":"'1.Портфель кредитів'!I543","v":0},{"$f":"'1.Портфель кредитів'!W543","v":0},{"$f":"'1.Портфель кредитів'!Y543","v":""},4,"2018-06-01","_4_43252_2"]
[{"$f":"'1.Портфель кредитів'!H544","v":0},{"$f":"'1.Портфель кредитів'!D544","v":""},{"$f":"'1.Портфель кредитів'!#REF!","v":{"$error":"#REF!"}},{"$f":"'1.Портфель кредитів'!#REF!","v":{"$error":"#REF!"}},{"$f":"'1.Портфель кредитів'!#REF!","v":{"$error":"#REF!"}},{"$f":"'1.Портфель кредитів'!I544","v":0},{"$f":"'1.Портфель кредитів'!W544","v":0},{"$f":"'1.Портфель кредитів'!Y544","v":""},4,"2018-06-01","_4_43252_2"]
[{"$f":"'1.Портфель кредитів'!H545","v":0},{"$f":"'1.Портфель кредитів'!D545","v":""},{"$f":"'1.Портфель кредитів'!#REF!","v":{"$error":"#REF!"}},{"$f":"'1.Портфель кредитів'!#REF!","v":{"$error":"#REF!"}},{"$f":"'1.Портфель кредитів'!#REF!","v":{"$error":"#REF!"}},{"$f":"'1.Портфель кредитів'!I545","v":0},{"$f":"'1.Портфель кредитів'!W545","v":0},{"$f":"'1.Портфель кредитів'!Y545","v":""},4,"2018-06-01","_4_43252_2"]
[{"$f":"'1.Портфель кредитів'!H546","v":0},{"$f":"'1.Портфель кредитів'!D546","v":""},{"$f":"'1.Портфель кредитів'!#REF!","v":{"$error":"#REF!"}},{"$f":"'1.Портфель кредитів'!#REF!","v":{"$error":"#REF!"}},{"$f":"'1.Портфель кредитів'!#REF!","v":{"$error":"#REF!"}},{"$f":"'1.Портфель кредитів'!I546","v":0},{"$f":"'1.Портфель кредитів'!W546","v":0},{"$f":"'1.Портфель кредитів'!Y546","v":""},4,"2018-06-01","_4_43252_2"]
[{"$f":"'1.Портфель кредитів'!H547","v":0},{"$f":"'1.Портфель кредитів'!D547","v":""},{"$f":"'1.Портфель кредитів'!#REF!","v":{"$error":"#REF!"}},{"$f":"'1.Портфель кредитів'!#REF!","v":{"$error":"#REF!"}},{"$f":"'1.Портфель кредитів'!#REF!","v":{"$error":"#REF!"}},{"$f":"'1.Портфель кредитів'!I547","v":0},{"$f":"'1.Портфель кредитів'!W547","v":0},{"$f":"'1.Портфель кредитів'!Y547","v":""},4,"2018-06-01","_4_43252_2"]
[{"$f":"'1.Портфель кредитів'!H548","v":0},{"$f":"'1.Портфель кредитів'!D548","v":""},{"$f":"'1.Портфель кредитів'!#REF!","v":{"$error":"#REF!"}},{"$f":"'1.Портфель кредитів'!#REF!","v":{"$error":"#REF!"}},{"$f":"'1.Портфель кредитів'!#REF!","v":{"$error":"#REF!"}},{"$f":"'1.Портфель кредитів'!I548","v":0},{"$f":"'1.Портфель кредитів'!W548","v":0},{"$f":"'1.Портфель кредитів'!Y548","v":""},4,"2018-06-01","_4_43252_2"]
[{"$f":"'1.Портфель кредитів'!H549","v":0},{"$f":"'1.Портфель кредитів'!D549","v":""},{"$f":"'1.Портфель кредитів'!#REF!","v":{"$error":"#REF!"}},{"$f":"'1.Портфель кредитів'!#REF!","v":{"$error":"#REF!"}},{"$f":"'1.Портфель кредитів'!#REF!","v":{"$error":"#REF!"}},{"$f":"'1.Портфель кредитів'!I549","v":0},{"$f":"'1.Портфель кредитів'!W549","v":0},{"$f":"'1.Портфель кредитів'!Y549","v":""},4,"2018-06-01","_4_43252_2"]
[{"$f":"'1.Портфель кредитів'!H550","v":0},{"$f":"'1.Портфель кредитів'!D550","v":""},{"$f":"'1.Портфель кредитів'!#REF!","v":{"$error":"#REF!"}},{"$f":"'1.Портфель кредитів'!#REF!","v":{"$error":"#REF!"}},{"$f":"'1.Портфель кредитів'!#REF!","v":{"$error":"#REF!"}},{"$f":"'1.Портфель кредитів'!I550","v":0},{"$f":"'1.Портфель кредитів'!W550","v":0},{"$f":"'1.Портфель кредитів'!Y550","v":""},4,"2018-06-01","_4_43252_2"]
[{"$f":"'1.Портфель кредитів'!H551","v":0},{"$f":"'1.Портфель кредитів'!D551","v":""},{"$f":"'1.Портфель кредитів'!#REF!","v":{"$error":"#REF!"}},{"$f":"'1.Портфель кредитів'!#REF!","v":{"$error":"#REF!"}},{"$f":"'1.Портфель кредитів'!#REF!","v":{"$error":"#REF!"}},{"$f":"'1.Портфель кредитів'!I551","v":0},{"$f":"'1.Портфель кредитів'!W551","v":0},{"$f":"'1.Портфель кредитів'!Y551","v":""},4,"2018-06-01","_4_43252_2"]
[{"$f":"'1.Портфель кредитів'!H552","v":0},{"$f":"'1.Портфель кредитів'!D552","v":""},{"$f":"'1.Портфель кредитів'!#REF!","v":{"$error":"#REF!"}},{"$f":"'1.Портфель кредитів'!#REF!","v":{"$error":"#REF!"}},{"$f":"'1.Портфель кредитів'!#REF!","v":{"$error":"#REF!"}},{"$f":"'1.Портфель кредитів'!I552","v":0},{"$f":"'1.Портфель кредитів'!W552","v":0},{"$f":"'1.Портфель кредитів'!Y552","v":""},4,"2018-06-01","_4_43252_2"]
[{"$f":"'1.Портфель кредитів'!H553","v":0},{"$f":"'1.Портфель кредитів'!D553","v":""},{"$f":"'1.Портфель кредитів'!#REF!","v":{"$error":"#REF!"}},{"$f":"'1.Портфель кредитів'!#REF!","v":{"$error":"#REF!"}},{"$f":"'1.Портфель кредитів'!#REF!","v":{"$error":"#REF!"}},{"$f":"'1.Портфель кредитів'!I553","v":0},{"$f":"'1.Портфель кредитів'!W553","v":0},{"$f":"'1.Портфель кредитів'!Y553","v":""},4,"2018-06-01","_4_43252_2"]
[{"$f":"'1.Портфель кредитів'!H554","v":0},{"$f":"'1.Портфель кредитів'!D554","v":""},{"$f":"'1.Портфель кредитів'!#REF!","v":{"$error":"#REF!"}},{"$f":"'1.Портфель кредитів'!#REF!","v":{"$error":"#REF!"}},{"$f":"'1.Портфель кредитів'!#REF!","v":{"$error":"#REF!"}},{"$f":"'1.Портфель кредитів'!I554","v":0},{"$f":"'1.Портфель кредитів'!W554","v":0},{"$f":"'1.Портфель кредитів'!Y554","v":""},4,"2018-06-01","_4_43252_2"]
[{"$f":"'1.Портфель кредитів'!H555","v":0},{"$f":"'1.Портфель кредитів'!D555","v":""},{"$f":"'1.Портфель кредитів'!#REF!","v":{"$error":"#REF!"}},{"$f":"'1.Портфель кредитів'!#REF!","v":{"$error":"#REF!"}},{"$f":"'1.Портфель кредитів'!#REF!","v":{"$error":"#REF!"}},{"$f":"'1.Портфель кредитів'!I555","v":0},{"$f":"'1.Портфель кредитів'!W555","v":0},{"$f":"'1.Портфель кредитів'!Y555","v":""},4,"2018-06-01","_4_43252_2"]
[{"$f":"'1.Портфель кредитів'!H556","v":0},{"$f":"'1.Портфель кредитів'!D556","v":""},{"$f":"'1.Портфель кредитів'!#REF!","v":{"$error":"#REF!"}},{"$f":"'1.Портфель кредитів'!#REF!","v":{"$error":"#REF!"}},{"$f":"'1.Портфель кредитів'!#REF!","v":{"$error":"#REF!"}},{"$f":"'1.Портфель кредитів'!I556","v":0},{"$f":"'1.Портфель кредитів'!W556","v":0},{"$f":"'1.Портфель кредитів'!Y556","v":""},4,"2018-06-01","_4_43252_2"]
[{"$f":"'1.Портфель кредитів'!H557","v":0},{"$f":"'1.Портфель кредитів'!D557","v":""},{"$f":"'1.Портфель кредитів'!#REF!","v":{"$error":"#REF!"}},{"$f":"'1.Портфель кредитів'!#REF!","v":{"$error":"#REF!"}},{"$f":"'1.Портфель кредитів'!#REF!","v":{"$error":"#REF!"}},{"$f":"'1.Портфель кредитів'!I557","v":0},{"$f":"'1.Портфель кредитів'!W557","v":0},{"$f":"'1.Портфель кредитів'!Y557","v":""},4,"2018-06-01","_4_43252_2"]
[{"$f":"'1.Портфель кредитів'!H558","v":0},{"$f":"'1.Портфель кредитів'!D558","v":""},{"$f":"'1.Портфель кредитів'!#REF!","v":{"$error":"#REF!"}},{"$f":"'1.Портфель кредитів'!#REF!","v":{"$error":"#REF!"}},{"$f":"'1.Портфель кредитів'!#REF!","v":{"$error":"#REF!"}},{"$f":"'1.Портфель кредитів'!I558","v":0},{"$f":"'1.Портфель кредитів'!W558","v":0},{"$f":"'1.Портфель кредитів'!Y558","v":""},4,"2018-06-01","_4_43252_2"]
[{"$f":"'1.Портфель кредитів'!H559","v":0},{"$f":"'1.Портфель кредитів'!D559","v":""},{"$f":"'1.Портфель кредитів'!#REF!","v":{"$error":"#REF!"}},{"$f":"'1.Портфель кредитів'!#REF!","v":{"$error":"#REF!"}},{"$f":"'1.Портфель кредитів'!#REF!","v":{"$error":"#REF!"}},{"$f":"'1.Портфель кредитів'!I559","v":0},{"$f":"'1.Портфель кредитів'!W559","v":0},{"$f":"'1.Портфель кредитів'!Y559","v":""},4,"2018-06-01","_4_43252_2"]
[{"$f":"'1.Портфель кредитів'!H560","v":0},{"$f":"'1.Портфель кредитів'!D560","v":""},{"$f":"'1.Портфель кредитів'!#REF!","v":{"$error":"#REF!"}},{"$f":"'1.Портфель кредитів'!#REF!","v":{"$error":"#REF!"}},{"$f":"'1.Портфель кредитів'!#REF!","v":{"$error":"#REF!"}},{"$f":"'1.Портфель кредитів'!I560","v":0},{"$f":"'1.Портфель кредитів'!W560","v":0},{"$f":"'1.Портфель кредитів'!Y560","v":""},4,"2018-06-01","_4_43252_2"]
[{"$f":"'1.Портфель кредитів'!H561","v":0},{"$f":"'1.Портфель кредитів'!D561","v":""},{"$f":"'1.Портфель кредитів'!#REF!","v":{"$error":"#REF!"}},{"$f":"'1.Портфель кредитів'!#REF!","v":{"$error":"#REF!"}},{"$f":"'1.Портфель кредитів'!#REF!","v":{"$error":"#REF!"}},{"$f":"'1.Портфель кредитів'!I561","v":0},{"$f":"'1.Портфель кредитів'!W561","v":0},{"$f":"'1.Портфель кредитів'!Y561","v":""},4,"2018-06-01","_4_43252_2"]
[{"$f":"'1.Портфель кредитів'!H562","v":0},{"$f":"'1.Портфель кредитів'!D562","v":""},{"$f":"'1.Портфель кредитів'!#REF!","v":{"$error":"#REF!"}},{"$f":"'1.Портфель кредитів'!#REF!","v":{"$error":"#REF!"}},{"$f":"'1.Портфель кредитів'!#REF!","v":{"$error":"#REF!"}},{"$f":"'1.Портфель кредитів'!I562","v":0},{"$f":"'1.Портфель кредитів'!W562","v":0},{"$f":"'1.Портфель кредитів'!Y562","v":""},4,"2018-06-01","_4_43252_2"]
[{"$f":"'1.Портфель кредитів'!H563","v":0},{"$f":"'1.Портфель кредитів'!D563","v":""},{"$f":"'1.Портфель кредитів'!#REF!","v":{"$error":"#REF!"}},{"$f":"'1.Портфель кредитів'!#REF!","v":{"$error":"#REF!"}},{"$f":"'1.Портфель кредитів'!#REF!","v":{"$error":"#REF!"}},{"$f":"'1.Портфель кредитів'!I563","v":0},{"$f":"'1.Портфель кредитів'!W563","v":0},{"$f":"'1.Портфель кредитів'!Y563","v":""},4,"2018-06-01","_4_43252_2"]
[{"$f":"'1.Портфель кредитів'!H564","v":0},{"$f":"'1.Портфель кредитів'!D564","v":""},{"$f":"'1.Портфель кредитів'!#REF!","v":{"$error":"#REF!"}},{"$f":"'1.Портфель кредитів'!#REF!","v":{"$error":"#REF!"}},{"$f":"'1.Портфель кредитів'!#REF!","v":{"$error":"#REF!"}},{"$f":"'1.Портфель кредитів'!I564","v":0},{"$f":"'1.Портфель кредитів'!W564","v":0},{"$f":"'1.Портфель кредитів'!Y564","v":""},4,"2018-06-01","_4_43252_2"]
[{"$f":"'1.Портфель кредитів'!H565","v":0},{"$f":"'1.Портфель кредитів'!D565","v":""},{"$f":"'1.Портфель кредитів'!#REF!","v":{"$error":"#REF!"}},{"$f":"'1.Портфель кредитів'!#REF!","v":{"$error":"#REF!"}},{"$f":"'1.Портфель кредитів'!#REF!","v":{"$error":"#REF!"}},{"$f":"'1.Портфель кредитів'!I565","v":0},{"$f":"'1.Портфель кредитів'!W565","v":0},{"$f":"'1.Портфель кредитів'!Y565","v":""},4,"2018-06-01","_4_43252_2"]
[{"$f":"'1.Портфель кредитів'!H566","v":0},{"$f":"'1.Портфель кредитів'!D566","v":""},{"$f":"'1.Портфель кредитів'!#REF!","v":{"$error":"#REF!"}},{"$f":"'1.Портфель кредитів'!#REF!","v":{"$error":"#REF!"}},{"$f":"'1.Портфель кредитів'!#REF!","v":{"$error":"#REF!"}},{"$f":"'1.Портфель кредитів'!I566","v":0},{"$f":"'1.Портфель кредитів'!W566","v":0},{"$f":"'1.Портфель кредитів'!Y566","v":""},4,"2018-06-01","_4_43252_2"]
[{"$f":"'1.Портфель кредитів'!H567","v":0},{"$f":"'1.Портфель кредитів'!D567","v":""},{"$f":"'1.Портфель кредитів'!#REF!","v":{"$error":"#REF!"}},{"$f":"'1.Портфель кредитів'!#REF!","v":{"$error":"#REF!"}},{"$f":"'1.Портфель кредитів'!#REF!","v":{"$error":"#REF!"}},{"$f":"'1.Портфель кредитів'!I567","v":0},{"$f":"'1.Портфель кредитів'!W567","v":0},{"$f":"'1.Портфель кредитів'!Y567","v":""},4,"2018-06-01","_4_43252_2"]
[{"$f":"'1.Портфель кредитів'!H568","v":0},{"$f":"'1.Портфель кредитів'!D568","v":""},{"$f":"'1.Портфель кредитів'!#REF!","v":{"$error":"#REF!"}},{"$f":"'1.Портфель кредитів'!#REF!","v":{"$error":"#REF!"}},{"$f":"'1.Портфель кредитів'!#REF!","v":{"$error":"#REF!"}},{"$f":"'1.Портфель кредитів'!I568","v":0},{"$f":"'1.Портфель кредитів'!W568","v":0},{"$f":"'1.Портфель кредитів'!Y568","v":""},4,"2018-06-01","_4_43252_2"]
[{"$f":"'1.Портфель кредитів'!H569","v":0},{"$f":"'1.Портфель кредитів'!D569","v":""},{"$f":"'1.Портфель кредитів'!#REF!","v":{"$error":"#REF!"}},{"$f":"'1.Портфель кредитів'!#REF!","v":{"$error":"#REF!"}},{"$f":"'1.Портфель кредитів'!#REF!","v":{"$error":"#REF!"}},{"$f":"'1.Портфель кредитів'!I569","v":0},{"$f":"'1.Портфель кредитів'!W569","v":0},{"$f":"'1.Портфель кредитів'!Y569","v":""},4,"2018-06-01","_4_43252_2"]
[{"$f":"'1.Портфель кредитів'!H570","v":0},{"$f":"'1.Портфель кредитів'!D570","v":""},{"$f":"'1.Портфель кредитів'!#REF!","v":{"$error":"#REF!"}},{"$f":"'1.Портфель кредитів'!#REF!","v":{"$error":"#REF!"}},{"$f":"'1.Портфель кредитів'!#REF!","v":{"$error":"#REF!"}},{"$f":"'1.Портфель кредитів'!I570","v":0},{"$f":"'1.Портфель кредитів'!W570","v":0},{"$f":"'1.Портфель кредитів'!Y570","v":""},4,"2018-06-01","_4_43252_2"]
[{"$f":"'1.Портфель кредитів'!H571","v":0},{"$f":"'1.Портфель кредитів'!D571","v":""},{"$f":"'1.Портфель кредитів'!#REF!","v":{"$error":"#REF!"}},{"$f":"'1.Портфель кредитів'!#REF!","v":{"$error":"#REF!"}},{"$f":"'1.Портфель кредитів'!#REF!","v":{"$error":"#REF!"}},{"$f":"'1.Портфель кредитів'!I571","v":0},{"$f":"'1.Портфель кредитів'!W571","v":0},{"$f":"'1.Портфель кредитів'!Y571","v":""},4,"2018-06-01","_4_43252_2"]
[{"$f":"'1.Портфель кредитів'!H572","v":0},{"$f":"'1.Портфель кредитів'!D572","v":""},{"$f":"'1.Портфель кредитів'!#REF!","v":{"$error":"#REF!"}},{"$f":"'1.Портфель кредитів'!#REF!","v":{"$error":"#REF!"}},{"$f":"'1.Портфель кредитів'!#REF!","v":{"$error":"#REF!"}},{"$f":"'1.Портфель кредитів'!I572","v":0},{"$f":"'1.Портфель кредитів'!W572","v":0},{"$f":"'1.Портфель кредитів'!Y572","v":""},4,"2018-06-01","_4_43252_2"]
[{"$f":"'1.Портфель кредитів'!H573","v":0},{"$f":"'1.Портфель кредитів'!D573","v":""},{"$f":"'1.Портфель кредитів'!#REF!","v":{"$error":"#REF!"}},{"$f":"'1.Портфель кредитів'!#REF!","v":{"$error":"#REF!"}},{"$f":"'1.Портфель кредитів'!#REF!","v":{"$error":"#REF!"}},{"$f":"'1.Портфель кредитів'!I573","v":0},{"$f":"'1.Портфель кредитів'!W573","v":0},{"$f":"'1.Портфель кредитів'!Y573","v":""},4,"2018-06-01","_4_43252_2"]
[{"$f":"'1.Портфель кредитів'!H574","v":0},{"$f":"'1.Портфель кредитів'!D574","v":""},{"$f":"'1.Портфель кредитів'!#REF!","v":{"$error":"#REF!"}},{"$f":"'1.Портфель кредитів'!#REF!","v":{"$error":"#REF!"}},{"$f":"'1.Портфель кредитів'!#REF!","v":{"$error":"#REF!"}},{"$f":"'1.Портфель кредитів'!I574","v":0},{"$f":"'1.Портфель кредитів'!W574","v":0},{"$f":"'1.Портфель кредитів'!Y574","v":""},4,"2018-06-01","_4_43252_2"]
[{"$f":"'1.Портфель кредитів'!H575","v":0},{"$f":"'1.Портфель кредитів'!D575","v":""},{"$f":"'1.Портфель кредитів'!#REF!","v":{"$error":"#REF!"}},{"$f":"'1.Портфель кредитів'!#REF!","v":{"$error":"#REF!"}},{"$f":"'1.Портфель кредитів'!#REF!","v":{"$error":"#REF!"}},{"$f":"'1.Портфель кредитів'!I575","v":0},{"$f":"'1.Портфель кредитів'!W575","v":0},{"$f":"'1.Портфель кредитів'!Y575","v":""},4,"2018-06-01","_4_43252_2"]
[{"$f":"'1.Портфель кредитів'!H576","v":0},{"$f":"'1.Портфель кредитів'!D576","v":""},{"$f":"'1.Портфель кредитів'!#REF!","v":{"$error":"#REF!"}},{"$f":"'1.Портфель кредитів'!#REF!","v":{"$error":"#REF!"}},{"$f":"'1.Портфель кредитів'!#REF!","v":{"$error":"#REF!"}},{"$f":"'1.Портфель кредитів'!I576","v":0},{"$f":"'1.Портфель кредитів'!W576","v":0},{"$f":"'1.Портфель кредитів'!Y576","v":""},4,"2018-06-01","_4_43252_2"]
[{"$f":"'1.Портфель кредитів'!H577","v":0},{"$f":"'1.Портфель кредитів'!D577","v":""},{"$f":"'1.Портфель кредитів'!#REF!","v":{"$error":"#REF!"}},{"$f":"'1.Портфель кредитів'!#REF!","v":{"$error":"#REF!"}},{"$f":"'1.Портфель кредитів'!#REF!","v":{"$error":"#REF!"}},{"$f":"'1.Портфель кредитів'!I577","v":0},{"$f":"'1.Портфель кредитів'!W577","v":0},{"$f":"'1.Портфель кредитів'!Y577","v":""},4,"2018-06-01","_4_43252_2"]
[{"$f":"'1.Портфель кредитів'!H578","v":0},{"$f":"'1.Портфель кредитів'!D578","v":""},{"$f":"'1.Портфель кредитів'!#REF!","v":{"$error":"#REF!"}},{"$f":"'1.Портфель кредитів'!#REF!","v":{"$error":"#REF!"}},{"$f":"'1.Портфель кредитів'!#REF!","v":{"$error":"#REF!"}},{"$f":"'1.Портфель кредитів'!I578","v":0},{"$f":"'1.Портфель кредитів'!W578","v":0},{"$f":"'1.Портфель кредитів'!Y578","v":""},4,"2018-06-01","_4_43252_2"]
[{"$f":"'1.Портфель кредитів'!H579","v":0},{"$f":"'1.Портфель кредитів'!D579","v":""},{"$f":"'1.Портфель кредитів'!#REF!","v":{"$error":"#REF!"}},{"$f":"'1.Портфель кредитів'!#REF!","v":{"$error":"#REF!"}},{"$f":"'1.Портфель кредитів'!#REF!","v":{"$error":"#REF!"}},{"$f":"'1.Портфель кредитів'!I579","v":0},{"$f":"'1.Портфель кредитів'!W579","v":0},{"$f":"'1.Портфель кредитів'!Y579","v":""},4,"2018-06-01","_4_43252_2"]
[{"$f":"'1.Портфель кредитів'!H580","v":0},{"$f":"'1.Портфель кредитів'!D580","v":""},{"$f":"'1.Портфель кредитів'!#REF!","v":{"$error":"#REF!"}},{"$f":"'1.Портфель кредитів'!#REF!","v":{"$error":"#REF!"}},{"$f":"'1.Портфель кредитів'!#REF!","v":{"$error":"#REF!"}},{"$f":"'1.Портфель кредитів'!I580","v":0},{"$f":"'1.Портфель кредитів'!W580","v":0},{"$f":"'1.Портфель кредитів'!Y580","v":""},4,"2018-06-01","_4_43252_2"]
[{"$f":"'1.Портфель кредитів'!H581","v":0},{"$f":"'1.Портфель кредитів'!D581","v":""},{"$f":"'1.Портфель кредитів'!#REF!","v":{"$error":"#REF!"}},{"$f":"'1.Портфель кредитів'!#REF!","v":{"$error":"#REF!"}},{"$f":"'1.Портфель кредитів'!#REF!","v":{"$error":"#REF!"}},{"$f":"'1.Портфель кредитів'!I581","v":0},{"$f":"'1.Портфель кредитів'!W581","v":0},{"$f":"'1.Портфель кредитів'!Y581","v":""},4,"2018-06-01","_4_43252_2"]
[{"$f":"'1.Портфель кредитів'!H582","v":0},{"$f":"'1.Портфель кредитів'!D582","v":""},{"$f":"'1.Портфель кредитів'!#REF!","v":{"$error":"#REF!"}},{"$f":"'1.Портфель кредитів'!#REF!","v":{"$error":"#REF!"}},{"$f":"'1.Портфель кредитів'!#REF!","v":{"$error":"#REF!"}},{"$f":"'1.Портфель кредитів'!I582","v":0},{"$f":"'1.Портфель кредитів'!W582","v":0},{"$f":"'1.Портфель кредитів'!Y582","v":""},4,"2018-06-01","_4_43252_2"]
[{"$f":"'1.Портфель кредитів'!H583","v":0},{"$f":"'1.Портфель кредитів'!D583","v":""},{"$f":"'1.Портфель кредитів'!#REF!","v":{"$error":"#REF!"}},{"$f":"'1.Портфель кредитів'!#REF!","v":{"$error":"#REF!"}},{"$f":"'1.Портфель кредитів'!#REF!","v":{"$error":"#REF!"}},{"$f":"'1.Портфель кредитів'!I583","v":0},{"$f":"'1.Портфель кредитів'!W583","v":0},{"$f":"'1.Портфель кредитів'!Y583","v":""},4,"2018-06-01","_4_43252_2"]
[{"$f":"'1.Портфель кредитів'!H584","v":0},{"$f":"'1.Портфель кредитів'!D584","v":""},{"$f":"'1.Портфель кредитів'!#REF!","v":{"$error":"#REF!"}},{"$f":"'1.Портфель кредитів'!#REF!","v":{"$error":"#REF!"}},{"$f":"'1.Портфель кредитів'!#REF!","v":{"$error":"#REF!"}},{"$f":"'1.Портфель кредитів'!I584","v":0},{"$f":"'1.Портфель кредитів'!W584","v":0},{"$f":"'1.Портфель кредитів'!Y584","v":""},4,"2018-06-01","_4_43252_2"]
[{"$f":"'1.Портфель кредитів'!H585","v":0},{"$f":"'1.Портфель кредитів'!D585","v":""},{"$f":"'1.Портфель кредитів'!#REF!","v":{"$error":"#REF!"}},{"$f":"'1.Портфель кредитів'!#REF!","v":{"$error":"#REF!"}},{"$f":"'1.Портфель кредитів'!#REF!","v":{"$error":"#REF!"}},{"$f":"'1.Портфель кредитів'!I585","v":0},{"$f":"'1.Портфель кредитів'!W585","v":0},{"$f":"'1.Портфель кредитів'!Y585","v":""},4,"2018-06-01","_4_43252_2"]
[{"$f":"'1.Портфель кредитів'!H586","v":0},{"$f":"'1.Портфель кредитів'!D586","v":""},{"$f":"'1.Портфель кредитів'!#REF!","v":{"$error":"#REF!"}},{"$f":"'1.Портфель кредитів'!#REF!","v":{"$error":"#REF!"}},{"$f":"'1.Портфель кредитів'!#REF!","v":{"$error":"#REF!"}},{"$f":"'1.Портфель кредитів'!I586","v":0},{"$f":"'1.Портфель кредитів'!W586","v":0},{"$f":"'1.Портфель кредитів'!Y586","v":""},4,"2018-06-01","_4_43252_2"]
[{"$f":"'1.Портфель кредитів'!H587","v":0},{"$f":"'1.Портфель кредитів'!D587","v":""},{"$f":"'1.Портфель кредитів'!#REF!","v":{"$error":"#REF!"}},{"$f":"'1.Портфель кредитів'!#REF!","v":{"$error":"#REF!"}},{"$f":"'1.Портфель кредитів'!#REF!","v":{"$error":"#REF!"}},{"$f":"'1.Портфель кредитів'!I587","v":0},{"$f":"'1.Портфель кредитів'!W587","v":0},{"$f":"'1.Портфель кредитів'!Y587","v":""},4,"2018-06-01","_4_43252_2"]
[{"$f":"'1.Портфель кредитів'!H588","v":0},{"$f":"'1.Портфель кредитів'!D588","v":""},{"$f":"'1.Портфель кредитів'!#REF!","v":{"$error":"#REF!"}},{"$f":"'1.Портфель кредитів'!#REF!","v":{"$error":"#REF!"}},{"$f":"'1.Портфель кредитів'!#REF!","v":{"$error":"#REF!"}},{"$f":"'1.Портфель кредитів'!I588","v":0},{"$f":"'1.Портфель кредитів'!W588","v":0},{"$f":"'1.Портфель кредитів'!Y588","v":""},4,"2018-06-01","_4_43252_2"]
[{"$f":"'1.Портфель кредитів'!H589","v":0},{"$f":"'1.Портфель кредитів'!D589","v":""},{"$f":"'1.Портфель кредитів'!#REF!","v":{"$error":"#REF!"}},{"$f":"'1.Портфель кредитів'!#REF!","v":{"$error":"#REF!"}},{"$f":"'1.Портфель кредитів'!#REF!","v":{"$error":"#REF!"}},{"$f":"'1.Портфель кредитів'!I589","v":0},{"$f":"'1.Портфель кредитів'!W589","v":0},{"$f":"'1.Портфель кредитів'!Y589","v":""},4,"2018-06-01","_4_43252_2"]
[{"$f":"'1.Портфель кредитів'!H590","v":0},{"$f":"'1.Портфель кредитів'!D590","v":""},{"$f":"'1.Портфель кредитів'!#REF!","v":{"$error":"#REF!"}},{"$f":"'1.Портфель кредитів'!#REF!","v":{"$error":"#REF!"}},{"$f":"'1.Портфель кредитів'!#REF!","v":{"$error":"#REF!"}},{"$f":"'1.Портфель кредитів'!I590","v":0},{"$f":"'1.Портфель кредитів'!W590","v":0},{"$f":"'1.Портфель кредитів'!Y590","v":""},4,"2018-06-01","_4_43252_2"]
[{"$f":"'1.Портфель кредитів'!H591","v":0},{"$f":"'1.Портфель кредитів'!D591","v":""},{"$f":"'1.Портфель кредитів'!#REF!","v":{"$error":"#REF!"}},{"$f":"'1.Портфель кредитів'!#REF!","v":{"$error":"#REF!"}},{"$f":"'1.Портфель кредитів'!#REF!","v":{"$error":"#REF!"}},{"$f":"'1.Портфель кредитів'!I591","v":0},{"$f":"'1.Портфель кредитів'!W591","v":0},{"$f":"'1.Портфель кредитів'!Y591","v":""},4,"2018-06-01","_4_43252_2"]
[{"$f":"'1.Портфель кредитів'!H592","v":0},{"$f":"'1.Портфель кредитів'!D592","v":""},{"$f":"'1.Портфель кредитів'!#REF!","v":{"$error":"#REF!"}},{"$f":"'1.Портфель кредитів'!#REF!","v":{"$error":"#REF!"}},{"$f":"'1.Портфель кредитів'!#REF!","v":{"$error":"#REF!"}},{"$f":"'1.Портфель кредитів'!I592","v":0},{"$f":"'1.Портфель кредитів'!W592","v":0},{"$f":"'1.Портфель кредитів'!Y592","v":""},{"$f":"$E$1","v":4},{"$f":"$E$2","v":"2018-06-01"},{"$f":"B646&\"_\"&I646&\"_\"&J646&\"_\"&$E$3","v":"_4_43252_2"}]
[{"$f":"'1.Портфель кредитів'!H593","v":0},{"$f":"'1.Портфель кредитів'!D593","v":""},{"$f":"'1.Портфель кредитів'!#REF!","v":{"$error":"#REF!"}},{"$f":"'1.Портфель кредитів'!#REF!","v":{"$error":"#REF!"}},{"$f":"'1.Портфель кредитів'!#REF!","v":{"$error":"#REF!"}},{"$f":"'1.Портфель кредитів'!I593","v":0},{"$f":"'1.Портфель кредитів'!W593","v":0},{"$f":"'1.Портфель кредитів'!Y593","v":""},4,"2018-06-01","_4_43252_2"]
[{"$f":"'1.Портфель кредитів'!H594","v":0},{"$f":"'1.Портфель кредитів'!D594","v":""},{"$f":"'1.Портфель кредитів'!#REF!","v":{"$error":"#REF!"}},{"$f":"'1.Портфель кредитів'!#REF!","v":{"$error":"#REF!"}},{"$f":"'1.Портфель кредитів'!#REF!","v":{"$error":"#REF!"}},{"$f":"'1.Портфель кредитів'!I594","v":0},{"$f":"'1.Портфель кредитів'!W594","v":0},{"$f":"'1.Портфель кредитів'!Y594","v":""},4,"2018-06-01","_4_43252_2"]
[{"$f":"'1.Портфель кредитів'!H595","v":0},{"$f":"'1.Портфель кредитів'!D595","v":""},{"$f":"'1.Портфель кредитів'!#REF!","v":{"$error":"#REF!"}},{"$f":"'1.Портфель кредитів'!#REF!","v":{"$error":"#REF!"}},{"$f":"'1.Портфель кредитів'!#REF!","v":{"$error":"#REF!"}},{"$f":"'1.Портфель кредитів'!I595","v":0},{"$f":"'1.Портфель кредитів'!W595","v":0},{"$f":"'1.Портфель кредитів'!Y595","v":""},4,"2018-06-01","_4_43252_2"]
[{"$f":"'1.Портфель кредитів'!H596","v":0},{"$f":"'1.Портфель кредитів'!D596","v":""},{"$f":"'1.Портфель кредитів'!#REF!","v":{"$error":"#REF!"}},{"$f":"'1.Портфель кредитів'!#REF!","v":{"$error":"#REF!"}},{"$f":"'1.Портфель кредитів'!#REF!","v":{"$error":"#REF!"}},{"$f":"'1.Портфель кредитів'!I596","v":0},{"$f":"'1.Портфель кредитів'!W596","v":0},{"$f":"'1.Портфель кредитів'!Y596","v":""},4,"2018-06-01","_4_43252_2"]
[{"$f":"'1.Портфель кредитів'!H597","v":0},{"$f":"'1.Портфель кредитів'!D597","v":""},{"$f":"'1.Портфель кредитів'!#REF!","v":{"$error":"#REF!"}},{"$f":"'1.Портфель кредитів'!#REF!","v":{"$error":"#REF!"}},{"$f":"'1.Портфель кредитів'!#REF!","v":{"$error":"#REF!"}},{"$f":"'1.Портфель кредитів'!I597","v":0},{"$f":"'1.Портфель кредитів'!W597","v":0},{"$f":"'1.Портфель кредитів'!Y597","v":""},4,"2018-06-01","_4_43252_2"]
[{"$f":"'1.Портфель кредитів'!H598","v":0},{"$f":"'1.Портфель кредитів'!D598","v":""},{"$f":"'1.Портфель кредитів'!#REF!","v":{"$error":"#REF!"}},{"$f":"'1.Портфель кредитів'!#REF!","v":{"$error":"#REF!"}},{"$f":"'1.Портфель кредитів'!#REF!","v":{"$error":"#REF!"}},{"$f":"'1.Портфель кредитів'!I598","v":0},{"$f":"'1.Портфель кредитів'!W598","v":0},{"$f":"'1.Портфель кредитів'!Y598","v":""},4,"2018-06-01","_4_43252_2"]
[{"$f":"'1.Портфель кредитів'!H599","v":0},{"$f":"'1.Портфель кредитів'!D599","v":""},{"$f":"'1.Портфель кредитів'!#REF!","v":{"$error":"#REF!"}},{"$f":"'1.Портфель кредитів'!#REF!","v":{"$error":"#REF!"}},{"$f":"'1.Портфель кредитів'!#REF!","v":{"$error":"#REF!"}},{"$f":"'1.Портфель кредитів'!I599","v":0},{"$f":"'1.Портфель кредитів'!W599","v":0},{"$f":"'1.Портфель кредитів'!Y599","v":""},4,"2018-06-01","_4_43252_2"]
[{"$f":"'1.Портфель кредитів'!H600","v":0},{"$f":"'1.Портфель кредитів'!D600","v":""},{"$f":"'1.Портфель кредитів'!#REF!","v":{"$error":"#REF!"}},{"$f":"'1.Портфель кредитів'!#REF!","v":{"$error":"#REF!"}},{"$f":"'1.Портфель кредитів'!#REF!","v":{"$error":"#REF!"}},{"$f":"'1.Портфель кредитів'!I600","v":0},{"$f":"'1.Портфель кредитів'!W600","v":0},{"$f":"'1.Портфель кредитів'!Y600","v":""},4,"2018-06-01","_4_43252_2"]
[{"$f":"'1.Портфель кредитів'!H601","v":0},{"$f":"'1.Портфель кредитів'!D601","v":""},{"$f":"'1.Портфель кредитів'!#REF!","v":{"$error":"#REF!"}},{"$f":"'1.Портфель кредитів'!#REF!","v":{"$error":"#REF!"}},{"$f":"'1.Портфель кредитів'!#REF!","v":{"$error":"#REF!"}},{"$f":"'1.Портфель кредитів'!I601","v":0},{"$f":"'1.Портфель кредитів'!W601","v":0},{"$f":"'1.Портфель кредитів'!Y601","v":""},4,"2018-06-01","_4_43252_2"]
[{"$f":"'1.Портфель кредитів'!H602","v":0},{"$f":"'1.Портфель кредитів'!D602","v":""},{"$f":"'1.Портфель кредитів'!#REF!","v":{"$error":"#REF!"}},{"$f":"'1.Портфель кредитів'!#REF!","v":{"$error":"#REF!"}},{"$f":"'1.Портфель кредитів'!#REF!","v":{"$error":"#REF!"}},{"$f":"'1.Портфель кредитів'!I602","v":0},{"$f":"'1.Портфель кредитів'!W602","v":0},{"$f":"'1.Портфель кредитів'!Y602","v":""},4,"2018-06-01","_4_43252_2"]
[{"$f":"'1.Портфель кредитів'!H603","v":0},{"$f":"'1.Портфель кредитів'!D603","v":""},{"$f":"'1.Портфель кредитів'!#REF!","v":{"$error":"#REF!"}},{"$f":"'1.Портфель кредитів'!#REF!","v":{"$error":"#REF!"}},{"$f":"'1.Портфель кредитів'!#REF!","v":{"$error":"#REF!"}},{"$f":"'1.Портфель кредитів'!I603","v":0},{"$f":"'1.Портфель кредитів'!W603","v":0},{"$f":"'1.Портфель кредитів'!Y603","v":""},4,"2018-06-01","_4_43252_2"]
[{"$f":"'1.Портфель кредитів'!H604","v":0},{"$f":"'1.Портфель кредитів'!D604","v":""},{"$f":"'1.Портфель кредитів'!#REF!","v":{"$error":"#REF!"}},{"$f":"'1.Портфель кредитів'!#REF!","v":{"$error":"#REF!"}},{"$f":"'1.Портфель кредитів'!#REF!","v":{"$error":"#REF!"}},{"$f":"'1.Портфель кредитів'!I604","v":0},{"$f":"'1.Портфель кредитів'!W604","v":0},{"$f":"'1.Портфель кредитів'!Y604","v":""},4,"2018-06-01","_4_43252_2"]
[{"$f":"'1.Портфель кредитів'!H605","v":0},{"$f":"'1.Портфель кредитів'!D605","v":""},{"$f":"'1.Портфель кредитів'!#REF!","v":{"$error":"#REF!"}},{"$f":"'1.Портфель кредитів'!#REF!","v":{"$error":"#REF!"}},{"$f":"'1.Портфель кредитів'!#REF!","v":{"$error":"#REF!"}},{"$f":"'1.Портфель кредитів'!I605","v":0},{"$f":"'1.Портфель кредитів'!W605","v":0},{"$f":"'1.Портфель кредитів'!Y605","v":""},4,"2018-06-01","_4_43252_2"]
[{"$f":"'1.Портфель кредитів'!H606","v":0},{"$f":"'1.Портфель кредитів'!D606","v":""},{"$f":"'1.Портфель кредитів'!#REF!","v":{"$error":"#REF!"}},{"$f":"'1.Портфель кредитів'!#REF!","v":{"$error":"#REF!"}},{"$f":"'1.Портфель кредитів'!#REF!","v":{"$error":"#REF!"}},{"$f":"'1.Портфель кредитів'!I606","v":0},{"$f":"'1.Портфель кредитів'!W606","v":0},{"$f":"'1.Портфель кредитів'!Y606","v":""},4,"2018-06-01","_4_43252_2"]
[{"$f":"'1.Портфель кредитів'!H607","v":0},{"$f":"'1.Портфель кредитів'!D607","v":""},{"$f":"'1.Портфель кредитів'!#REF!","v":{"$error":"#REF!"}},{"$f":"'1.Портфель кредитів'!#REF!","v":{"$error":"#REF!"}},{"$f":"'1.Портфель кредитів'!#REF!","v":{"$error":"#REF!"}},{"$f":"'1.Портфель кредитів'!I607","v":0},{"$f":"'1.Портфель кредитів'!W607","v":0},{"$f":"'1.Портфель кредитів'!Y607","v":""},4,"2018-06-01","_4_43252_2"]
[{"$f":"'1.Портфель кредитів'!H608","v":0},{"$f":"'1.Портфель кредитів'!D608","v":""},{"$f":"'1.Портфель кредитів'!#REF!","v":{"$error":"#REF!"}},{"$f":"'1.Портфель кредитів'!#REF!","v":{"$error":"#REF!"}},{"$f":"'1.Портфель кредитів'!#REF!","v":{"$error":"#REF!"}},{"$f":"'1.Портфель кредитів'!I608","v":0},{"$f":"'1.Портфель кредитів'!W608","v":0},{"$f":"'1.Портфель кредитів'!Y608","v":""},4,"2018-06-01","_4_43252_2"]
[{"$f":"'1.Портфель кредитів'!H609","v":0},{"$f":"'1.Портфель кредитів'!D609","v":""},{"$f":"'1.Портфель кредитів'!#REF!","v":{"$error":"#REF!"}},{"$f":"'1.Портфель кредитів'!#REF!","v":{"$error":"#REF!"}},{"$f":"'1.Портфель кредитів'!#REF!","v":{"$error":"#REF!"}},{"$f":"'1.Портфель кредитів'!I609","v":0},{"$f":"'1.Портфель кредитів'!W609","v":0},{"$f":"'1.Портфель кредитів'!Y609","v":""},4,"2018-06-01","_4_43252_2"]
[{"$f":"'1.Портфель кредитів'!H610","v":0},{"$f":"'1.Портфель кредитів'!D610","v":""},{"$f":"'1.Портфель кредитів'!#REF!","v":{"$error":"#REF!"}},{"$f":"'1.Портфель кредитів'!#REF!","v":{"$error":"#REF!"}},{"$f":"'1.Портфель кредитів'!#REF!","v":{"$error":"#REF!"}},{"$f":"'1.Портфель кредитів'!I610","v":0},{"$f":"'1.Портфель кредитів'!W610","v":0},{"$f":"'1.Портфель кредитів'!Y610","v":""},4,"2018-06-01","_4_43252_2"]
[{"$f":"'1.Портфель кредитів'!H611","v":0},{"$f":"'1.Портфель кредитів'!D611","v":""},{"$f":"'1.Портфель кредитів'!#REF!","v":{"$error":"#REF!"}},{"$f":"'1.Портфель кредитів'!#REF!","v":{"$error":"#REF!"}},{"$f":"'1.Портфель кредитів'!#REF!","v":{"$error":"#REF!"}},{"$f":"'1.Портфель кредитів'!I611","v":0},{"$f":"'1.Портфель кредитів'!W611","v":0},{"$f":"'1.Портфель кредитів'!Y611","v":""},4,"2018-06-01","_4_43252_2"]
[{"$f":"'1.Портфель кредитів'!H612","v":0},{"$f":"'1.Портфель кредитів'!D612","v":""},{"$f":"'1.Портфель кредитів'!#REF!","v":{"$error":"#REF!"}},{"$f":"'1.Портфель кредитів'!#REF!","v":{"$error":"#REF!"}},{"$f":"'1.Портфель кредитів'!#REF!","v":{"$error":"#REF!"}},{"$f":"'1.Портфель кредитів'!I612","v":0},{"$f":"'1.Портфель кредитів'!W612","v":0},{"$f":"'1.Портфель кредитів'!Y612","v":""},4,"2018-06-01","_4_43252_2"]
[{"$f":"'1.Портфель кредитів'!H613","v":0},{"$f":"'1.Портфель кредитів'!D613","v":""},{"$f":"'1.Портфель кредитів'!#REF!","v":{"$error":"#REF!"}},{"$f":"'1.Портфель кредитів'!#REF!","v":{"$error":"#REF!"}},{"$f":"'1.Портфель кредитів'!#REF!","v":{"$error":"#REF!"}},{"$f":"'1.Портфель кредитів'!I613","v":0},{"$f":"'1.Портфель кредитів'!W613","v":0},{"$f":"'1.Портфель кредитів'!Y613","v":""},4,"2018-06-01","_4_43252_2"]
[{"$f":"'1.Портфель кредитів'!H614","v":0},{"$f":"'1.Портфель кредитів'!D614","v":""},{"$f":"'1.Портфель кредитів'!#REF!","v":{"$error":"#REF!"}},{"$f":"'1.Портфель кредитів'!#REF!","v":{"$error":"#REF!"}},{"$f":"'1.Портфель кредитів'!#REF!","v":{"$error":"#REF!"}},{"$f":"'1.Портфель кредитів'!I614","v":0},{"$f":"'1.Портфель кредитів'!W614","v":0},{"$f":"'1.Портфель кредитів'!Y614","v":""},4,"2018-06-01","_4_43252_2"]
[{"$f":"'1.Портфель кредитів'!H615","v":0},{"$f":"'1.Портфель кредитів'!D615","v":""},{"$f":"'1.Портфель кредитів'!#REF!","v":{"$error":"#REF!"}},{"$f":"'1.Портфель кредитів'!#REF!","v":{"$error":"#REF!"}},{"$f":"'1.Портфель кредитів'!#REF!","v":{"$error":"#REF!"}},{"$f":"'1.Портфель кредитів'!I615","v":0},{"$f":"'1.Портфель кредитів'!W615","v":0},{"$f":"'1.Портфель кредитів'!Y615","v":""},4,"2018-06-01","_4_43252_2"]
[{"$f":"'1.Портфель кредитів'!H616","v":0},{"$f":"'1.Портфель кредитів'!D616","v":""},{"$f":"'1.Портфель кредитів'!#REF!","v":{"$error":"#REF!"}},{"$f":"'1.Портфель кредитів'!#REF!","v":{"$error":"#REF!"}},{"$f":"'1.Портфель кредитів'!#REF!","v":{"$error":"#REF!"}},{"$f":"'1.Портфель кредитів'!I616","v":0},{"$f":"'1.Портфель кредитів'!W616","v":0},{"$f":"'1.Портфель кредитів'!Y616","v":""},4,"2018-06-01","_4_43252_2"]
[{"$f":"'1.Портфель кредитів'!H617","v":0},{"$f":"'1.Портфель кредитів'!D617","v":""},{"$f":"'1.Портфель кредитів'!#REF!","v":{"$error":"#REF!"}},{"$f":"'1.Портфель кредитів'!#REF!","v":{"$error":"#REF!"}},{"$f":"'1.Портфель кредитів'!#REF!","v":{"$error":"#REF!"}},{"$f":"'1.Портфель кредитів'!I617","v":0},{"$f":"'1.Портфель кредитів'!W617","v":0},{"$f":"'1.Портфель кредитів'!Y617","v":""},4,"2018-06-01","_4_43252_2"]
[{"$f":"'1.Портфель кредитів'!H618","v":0},{"$f":"'1.Портфель кредитів'!D618","v":""},{"$f":"'1.Портфель кредитів'!#REF!","v":{"$error":"#REF!"}},{"$f":"'1.Портфель кредитів'!#REF!","v":{"$error":"#REF!"}},{"$f":"'1.Портфель кредитів'!#REF!","v":{"$error":"#REF!"}},{"$f":"'1.Портфель кредитів'!I618","v":0},{"$f":"'1.Портфель кредитів'!W618","v":0},{"$f":"'1.Портфель кредитів'!Y618","v":""},4,"2018-06-01","_4_43252_2"]
[{"$f":"'1.Портфель кредитів'!H619","v":0},{"$f":"'1.Портфель кредитів'!D619","v":""},{"$f":"'1.Портфель кредитів'!#REF!","v":{"$error":"#REF!"}},{"$f":"'1.Портфель кредитів'!#REF!","v":{"$error":"#REF!"}},{"$f":"'1.Портфель кредитів'!#REF!","v":{"$error":"#REF!"}},{"$f":"'1.Портфель кредитів'!I619","v":0},{"$f":"'1.Портфель кредитів'!W619","v":0},{"$f":"'1.Портфель кредитів'!Y619","v":""},4,"2018-06-01","_4_43252_2"]
[{"$f":"'1.Портфель кредитів'!H620","v":0},{"$f":"'1.Портфель кредитів'!D620","v":""},{"$f":"'1.Портфель кредитів'!#REF!","v":{"$error":"#REF!"}},{"$f":"'1.Портфель кредитів'!#REF!","v":{"$error":"#REF!"}},{"$f":"'1.Портфель кредитів'!#REF!","v":{"$error":"#REF!"}},{"$f":"'1.Портфель кредитів'!I620","v":0},{"$f":"'1.Портфель кредитів'!W620","v":0},{"$f":"'1.Портфель кредитів'!Y620","v":""},4,"2018-06-01","_4_43252_2"]
[{"$f":"'1.Портфель кредитів'!H621","v":0},{"$f":"'1.Портфель кредитів'!D621","v":""},{"$f":"'1.Портфель кредитів'!#REF!","v":{"$error":"#REF!"}},{"$f":"'1.Портфель кредитів'!#REF!","v":{"$error":"#REF!"}},{"$f":"'1.Портфель кредитів'!#REF!","v":{"$error":"#REF!"}},{"$f":"'1.Портфель кредитів'!I621","v":0},{"$f":"'1.Портфель кредитів'!W621","v":0},{"$f":"'1.Портфель кредитів'!Y621","v":""},4,"2018-06-01","_4_43252_2"]
[{"$f":"'1.Портфель кредитів'!H622","v":0},{"$f":"'1.Портфель кредитів'!D622","v":""},{"$f":"'1.Портфель кредитів'!#REF!","v":{"$error":"#REF!"}},{"$f":"'1.Портфель кредитів'!#REF!","v":{"$error":"#REF!"}},{"$f":"'1.Портфель кредитів'!#REF!","v":{"$error":"#REF!"}},{"$f":"'1.Портфель кредитів'!I622","v":0},{"$f":"'1.Портфель кредитів'!W622","v":0},{"$f":"'1.Портфель кредитів'!Y622","v":""},4,"2018-06-01","_4_43252_2"]
[{"$f":"'1.Портфель кредитів'!H623","v":0},{"$f":"'1.Портфель кредитів'!D623","v":""},{"$f":"'1.Портфель кредитів'!#REF!","v":{"$error":"#REF!"}},{"$f":"'1.Портфель кредитів'!#REF!","v":{"$error":"#REF!"}},{"$f":"'1.Портфель кредитів'!#REF!","v":{"$error":"#REF!"}},{"$f":"'1.Портфель кредитів'!I623","v":0},{"$f":"'1.Портфель кредитів'!W623","v":0},{"$f":"'1.Портфель кредитів'!Y623","v":""},4,"2018-06-01","_4_43252_2"]
[{"$f":"'1.Портфель кредитів'!H624","v":0},{"$f":"'1.Портфель кредитів'!D624","v":""},{"$f":"'1.Портфель кредитів'!#REF!","v":{"$error":"#REF!"}},{"$f":"'1.Портфель кредитів'!#REF!","v":{"$error":"#REF!"}},{"$f":"'1.Портфель кредитів'!#REF!","v":{"$error":"#REF!"}},{"$f":"'1.Портфель кредитів'!I624","v":0},{"$f":"'1.Портфель кредитів'!W624","v":0},{"$f":"'1.Портфель кредитів'!Y624","v":""},4,"2018-06-01","_4_43252_2"]
[{"$f":"'1.Портфель кредитів'!H625","v":0},{"$f":"'1.Портфель кредитів'!D625","v":""},{"$f":"'1.Портфель кредитів'!#REF!","v":{"$error":"#REF!"}},{"$f":"'1.Портфель кредитів'!#REF!","v":{"$error":"#REF!"}},{"$f":"'1.Портфель кредитів'!#REF!","v":{"$error":"#REF!"}},{"$f":"'1.Портфель кредитів'!I625","v":0},{"$f":"'1.Портфель кредитів'!W625","v":0},{"$f":"'1.Портфель кредитів'!Y625","v":""},4,"2018-06-01","_4_43252_2"]
[{"$f":"'1.Портфель кредитів'!H626","v":0},{"$f":"'1.Портфель кредитів'!D626","v":""},{"$f":"'1.Портфель кредитів'!#REF!","v":{"$error":"#REF!"}},{"$f":"'1.Портфель кредитів'!#REF!","v":{"$error":"#REF!"}},{"$f":"'1.Портфель кредитів'!#REF!","v":{"$error":"#REF!"}},{"$f":"'1.Портфель кредитів'!I626","v":0},{"$f":"'1.Портфель кредитів'!W626","v":0},{"$f":"'1.Портфель кредитів'!Y626","v":""},4,"2018-06-01","_4_43252_2"]
[{"$f":"'1.Портфель кредитів'!H627","v":0},{"$f":"'1.Портфель кредитів'!D627","v":""},{"$f":"'1.Портфель кредитів'!#REF!","v":{"$error":"#REF!"}},{"$f":"'1.Портфель кредитів'!#REF!","v":{"$error":"#REF!"}},{"$f":"'1.Портфель кредитів'!#REF!","v":{"$error":"#REF!"}},{"$f":"'1.Портфель кредитів'!I627","v":0},{"$f":"'1.Портфель кредитів'!W627","v":0},{"$f":"'1.Портфель кредитів'!Y627","v":""},4,"2018-06-01","_4_43252_2"]
[{"$f":"'1.Портфель кредитів'!H628","v":0},{"$f":"'1.Портфель кредитів'!D628","v":""},{"$f":"'1.Портфель кредитів'!#REF!","v":{"$error":"#REF!"}},{"$f":"'1.Портфель кредитів'!#REF!","v":{"$error":"#REF!"}},{"$f":"'1.Портфель кредитів'!#REF!","v":{"$error":"#REF!"}},{"$f":"'1.Портфель кредитів'!I628","v":0},{"$f":"'1.Портфель кредитів'!W628","v":0},{"$f":"'1.Портфель кредитів'!Y628","v":""},4,"2018-06-01","_4_43252_2"]
[{"$f":"'1.Портфель кредитів'!H629","v":0},{"$f":"'1.Портфель кредитів'!D629","v":""},{"$f":"'1.Портфель кредитів'!#REF!","v":{"$error":"#REF!"}},{"$f":"'1.Портфель кредитів'!#REF!","v":{"$error":"#REF!"}},{"$f":"'1.Портфель кредитів'!#REF!","v":{"$error":"#REF!"}},{"$f":"'1.Портфель кредитів'!I629","v":0},{"$f":"'1.Портфель кредитів'!W629","v":0},{"$f":"'1.Портфель кредитів'!Y629","v":""},4,"2018-06-01","_4_43252_2"]
[{"$f":"'1.Портфель кредитів'!H630","v":0},{"$f":"'1.Портфель кредитів'!D630","v":""},{"$f":"'1.Портфель кредитів'!#REF!","v":{"$error":"#REF!"}},{"$f":"'1.Портфель кредитів'!#REF!","v":{"$error":"#REF!"}},{"$f":"'1.Портфель кредитів'!#REF!","v":{"$error":"#REF!"}},{"$f":"'1.Портфель кредитів'!I630","v":0},{"$f":"'1.Портфель кредитів'!W630","v":0},{"$f":"'1.Портфель кредитів'!Y630","v":""},4,"2018-06-01","_4_43252_2"]
[{"$f":"'1.Портфель кредитів'!H631","v":0},{"$f":"'1.Портфель кредитів'!D631","v":""},{"$f":"'1.Портфель кредитів'!#REF!","v":{"$error":"#REF!"}},{"$f":"'1.Портфель кредитів'!#REF!","v":{"$error":"#REF!"}},{"$f":"'1.Портфель кредитів'!#REF!","v":{"$error":"#REF!"}},{"$f":"'1.Портфель кредитів'!I631","v":0},{"$f":"'1.Портфель кредитів'!W631","v":0},{"$f":"'1.Портфель кредитів'!Y631","v":""},4,"2018-06-01","_4_43252_2"]
[{"$f":"'1.Портфель кредитів'!H632","v":0},{"$f":"'1.Портфель кредитів'!D632","v":""},{"$f":"'1.Портфель кредитів'!#REF!","v":{"$error":"#REF!"}},{"$f":"'1.Портфель кредитів'!#REF!","v":{"$error":"#REF!"}},{"$f":"'1.Портфель кредитів'!#REF!","v":{"$error":"#REF!"}},{"$f":"'1.Портфель кредитів'!I632","v":0},{"$f":"'1.Портфель кредитів'!W632","v":0},{"$f":"'1.Портфель кредитів'!Y632","v":""},4,"2018-06-01","_4_43252_2"]
[{"$f":"'1.Портфель кредитів'!H633","v":0},{"$f":"'1.Портфель кредитів'!D633","v":""},{"$f":"'1.Портфель кредитів'!#REF!","v":{"$error":"#REF!"}},{"$f":"'1.Портфель кредитів'!#REF!","v":{"$error":"#REF!"}},{"$f":"'1.Портфель кредитів'!#REF!","v":{"$error":"#REF!"}},{"$f":"'1.Портфель кредитів'!I633","v":0},{"$f":"'1.Портфель кредитів'!W633","v":0},{"$f":"'1.Портфель кредитів'!Y633","v":""},4,"2018-06-01","_4_43252_2"]
[{"$f":"'1.Портфель кредитів'!H634","v":0},{"$f":"'1.Портфель кредитів'!D634","v":""},{"$f":"'1.Портфель кредитів'!#REF!","v":{"$error":"#REF!"}},{"$f":"'1.Портфель кредитів'!#REF!","v":{"$error":"#REF!"}},{"$f":"'1.Портфель кредитів'!#REF!","v":{"$error":"#REF!"}},{"$f":"'1.Портфель кредитів'!I634","v":0},{"$f":"'1.Портфель кредитів'!W634","v":0},{"$f":"'1.Портфель кредитів'!Y634","v":""},4,"2018-06-01","_4_43252_2"]
[{"$f":"'1.Портфель кредитів'!H635","v":0},{"$f":"'1.Портфель кредитів'!D635","v":""},{"$f":"'1.Портфель кредитів'!#REF!","v":{"$error":"#REF!"}},{"$f":"'1.Портфель кредитів'!#REF!","v":{"$error":"#REF!"}},{"$f":"'1.Портфель кредитів'!#REF!","v":{"$error":"#REF!"}},{"$f":"'1.Портфель кредитів'!I635","v":0},{"$f":"'1.Портфель кредитів'!W635","v":0},{"$f":"'1.Портфель кредитів'!Y635","v":""},4,"2018-06-01","_4_43252_2"]
[{"$f":"'1.Портфель кредитів'!H636","v":0},{"$f":"'1.Портфель кредитів'!D636","v":""},{"$f":"'1.Портфель кредитів'!#REF!","v":{"$error":"#REF!"}},{"$f":"'1.Портфель кредитів'!#REF!","v":{"$error":"#REF!"}},{"$f":"'1.Портфель кредитів'!#REF!","v":{"$error":"#REF!"}},{"$f":"'1.Портфель кредитів'!I636","v":0},{"$f":"'1.Портфель кредитів'!W636","v":0},{"$f":"'1.Портфель кредитів'!Y636","v":""},4,"2018-06-01","_4_43252_2"]
[{"$f":"'1.Портфель кредитів'!H637","v":0},{"$f":"'1.Портфель кредитів'!D637","v":""},{"$f":"'1.Портфель кредитів'!#REF!","v":{"$error":"#REF!"}},{"$f":"'1.Портфель кредитів'!#REF!","v":{"$error":"#REF!"}},{"$f":"'1.Портфель кредитів'!#REF!","v":{"$error":"#REF!"}},{"$f":"'1.Портфель кредитів'!I637","v":0},{"$f":"'1.Портфель кредитів'!W637","v":0},{"$f":"'1.Портфель кредитів'!Y637","v":""},4,"2018-06-01","_4_43252_2"]
[{"$f":"'1.Портфель кредитів'!H638","v":0},{"$f":"'1.Портфель кредитів'!D638","v":""},{"$f":"'1.Портфель кредитів'!#REF!","v":{"$error":"#REF!"}},{"$f":"'1.Портфель кредитів'!#REF!","v":{"$error":"#REF!"}},{"$f":"'1.Портфель кредитів'!#REF!","v":{"$error":"#REF!"}},{"$f":"'1.Портфель кредитів'!I638","v":0},{"$f":"'1.Портфель кредитів'!W638","v":0},{"$f":"'1.Портфель кредитів'!Y638","v":""},4,"2018-06-01","_4_43252_2"]
[{"$f":"'1.Портфель кредитів'!H639","v":0},{"$f":"'1.Портфель кредитів'!D639","v":""},{"$f":"'1.Портфель кредитів'!#REF!","v":{"$error":"#REF!"}},{"$f":"'1.Портфель кредитів'!#REF!","v":{"$error":"#REF!"}},{"$f":"'1.Портфель кредитів'!#REF!","v":{"$error":"#REF!"}},{"$f":"'1.Портфель кредитів'!I639","v":0},{"$f":"'1.Портфель кредитів'!W639","v":0},{"$f":"'1.Портфель кредитів'!Y639","v":""},4,"2018-06-01","_4_43252_2"]
[{"$f":"'1.Портфель кредитів'!H640","v":0},{"$f":"'1.Портфель кредитів'!D640","v":""},{"$f":"'1.Портфель кредитів'!#REF!","v":{"$error":"#REF!"}},{"$f":"'1.Портфель кредитів'!#REF!","v":{"$error":"#REF!"}},{"$f":"'1.Портфель кредитів'!#REF!","v":{"$error":"#REF!"}},{"$f":"'1.Портфель кредитів'!I640","v":0},{"$f":"'1.Портфель кредитів'!W640","v":0},{"$f":"'1.Портфель кредитів'!Y640","v":""},4,"2018-06-01","_4_43252_2"]
[{"$f":"'1.Портфель кредитів'!H641","v":0},{"$f":"'1.Портфель кредитів'!D641","v":""},{"$f":"'1.Портфель кредитів'!#REF!","v":{"$error":"#REF!"}},{"$f":"'1.Портфель кредитів'!#REF!","v":{"$error":"#REF!"}},{"$f":"'1.Портфель кредитів'!#REF!","v":{"$error":"#REF!"}},{"$f":"'1.Портфель кредитів'!I641","v":0},{"$f":"'1.Портфель кредитів'!W641","v":0},{"$f":"'1.Портфель кредитів'!Y641","v":""},4,"2018-06-01","_4_43252_2"]
[{"$f":"'1.Портфель кредитів'!H642","v":0},{"$f":"'1.Портфель кредитів'!D642","v":""},{"$f":"'1.Портфель кредитів'!#REF!","v":{"$error":"#REF!"}},{"$f":"'1.Портфель кредитів'!#REF!","v":{"$error":"#REF!"}},{"$f":"'1.Портфель кредитів'!#REF!","v":{"$error":"#REF!"}},{"$f":"'1.Портфель кредитів'!I642","v":0},{"$f":"'1.Портфель кредитів'!W642","v":0},{"$f":"'1.Портфель кредитів'!Y642","v":""},4,"2018-06-01","_4_43252_2"]
[{"$f":"'1.Портфель кредитів'!H643","v":0},{"$f":"'1.Портфель кредитів'!D643","v":""},{"$f":"'1.Портфель кредитів'!#REF!","v":{"$error":"#REF!"}},{"$f":"'1.Портфель кредитів'!#REF!","v":{"$error":"#REF!"}},{"$f":"'1.Портфель кредитів'!#REF!","v":{"$error":"#REF!"}},{"$f":"'1.Портфель кредитів'!I643","v":0},{"$f":"'1.Портфель кредитів'!W643","v":0},{"$f":"'1.Портфель кредитів'!Y643","v":""},4,"2018-06-01","_4_43252_2"]
[{"$f":"'1.Портфель кредитів'!H644","v":0},{"$f":"'1.Портфель кредитів'!D644","v":""},{"$f":"'1.Портфель кредитів'!#REF!","v":{"$error":"#REF!"}},{"$f":"'1.Портфель кредитів'!#REF!","v":{"$error":"#REF!"}},{"$f":"'1.Портфель кредитів'!#REF!","v":{"$error":"#REF!"}},{"$f":"'1.Портфель кредитів'!I644","v":0},{"$f":"'1.Портфель кредитів'!W644","v":0},{"$f":"'1.Портфель кредитів'!Y644","v":""},4,"2018-06-01","_4_43252_2"]
[{"$f":"'1.Портфель кредитів'!H645","v":0},{"$f":"'1.Портфель кредитів'!D645","v":""},{"$f":"'1.Портфель кредитів'!#REF!","v":{"$error":"#REF!"}},{"$f":"'1.Портфель кредитів'!#REF!","v":{"$error":"#REF!"}},{"$f":"'1.Портфель кредитів'!#REF!","v":{"$error":"#REF!"}},{"$f":"'1.Портфель кредитів'!I645","v":0},{"$f":"'1.Портфель кредитів'!W645","v":0},{"$f":"'1.Портфель кредитів'!Y645","v":""},4,"2018-06-01","_4_43252_2"]
[{"$f":"'1.Портфель кредитів'!H646","v":0},{"$f":"'1.Портфель кредитів'!D646","v":""},{"$f":"'1.Портфель кредитів'!#REF!","v":{"$error":"#REF!"}},{"$f":"'1.Портфель кредитів'!#REF!","v":{"$error":"#REF!"}},{"$f":"'1.Портфель кредитів'!#REF!","v":{"$error":"#REF!"}},{"$f":"'1.Портфель кредитів'!I646","v":0},{"$f":"'1.Портфель кредитів'!W646","v":0},{"$f":"'1.Портфель кредитів'!Y646","v":""},4,"2018-06-01","_4_43252_2"]
[{"$f":"'1.Портфель кредитів'!H647","v":0},{"$f":"'1.Портфель кредитів'!D647","v":""},{"$f":"'1.Портфель кредитів'!#REF!","v":{"$error":"#REF!"}},{"$f":"'1.Портфель кредитів'!#REF!","v":{"$error":"#REF!"}},{"$f":"'1.Портфель кредитів'!#REF!","v":{"$error":"#REF!"}},{"$f":"'1.Портфель кредитів'!I647","v":0},{"$f":"'1.Портфель кредитів'!W647","v":0},{"$f":"'1.Портфель кредитів'!Y647","v":""},4,"2018-06-01","_4_43252_2"]
[{"$f":"'1.Портфель кредитів'!H648","v":0},{"$f":"'1.Портфель кредитів'!D648","v":""},{"$f":"'1.Портфель кредитів'!#REF!","v":{"$error":"#REF!"}},{"$f":"'1.Портфель кредитів'!#REF!","v":{"$error":"#REF!"}},{"$f":"'1.Портфель кредитів'!#REF!","v":{"$error":"#REF!"}},{"$f":"'1.Портфель кредитів'!I648","v":0},{"$f":"'1.Портфель кредитів'!W648","v":0},{"$f":"'1.Портфель кредитів'!Y648","v":""},4,"2018-06-01","_4_43252_2"]
[{"$f":"'1.Портфель кредитів'!H649","v":0},{"$f":"'1.Портфель кредитів'!D649","v":""},{"$f":"'1.Портфель кредитів'!#REF!","v":{"$error":"#REF!"}},{"$f":"'1.Портфель кредитів'!#REF!","v":{"$error":"#REF!"}},{"$f":"'1.Портфель кредитів'!#REF!","v":{"$error":"#REF!"}},{"$f":"'1.Портфель кредитів'!I649","v":0},{"$f":"'1.Портфель кредитів'!W649","v":0},{"$f":"'1.Портфель кредитів'!Y649","v":""},4,"2018-06-01","_4_43252_2"]
[{"$f":"'1.Портфель кредитів'!H650","v":0},{"$f":"'1.Портфель кредитів'!D650","v":""},{"$f":"'1.Портфель кредитів'!#REF!","v":{"$error":"#REF!"}},{"$f":"'1.Портфель кредитів'!#REF!","v":{"$error":"#REF!"}},{"$f":"'1.Портфель кредитів'!#REF!","v":{"$error":"#REF!"}},{"$f":"'1.Портфель кредитів'!I650","v":0},{"$f":"'1.Портфель кредитів'!W650","v":0},{"$f":"'1.Портфель кредитів'!Y650","v":""},4,"2018-06-01","_4_43252_2"]
[{"$f":"'1.Портфель кредитів'!H651","v":0},{"$f":"'1.Портфель кредитів'!D651","v":""},{"$f":"'1.Портфель кредитів'!#REF!","v":{"$error":"#REF!"}},{"$f":"'1.Портфель кредитів'!#REF!","v":{"$error":"#REF!"}},{"$f":"'1.Портфель кредитів'!#REF!","v":{"$error":"#REF!"}},{"$f":"'1.Портфель кредитів'!I651","v":0},{"$f":"'1.Портфель кредитів'!W651","v":0},{"$f":"'1.Портфель кредитів'!Y651","v":""},4,"2018-06-01","_4_43252_2"]
[{"$f":"'1.Портфель кредитів'!H652","v":0},{"$f":"'1.Портфель кредитів'!D652","v":""},{"$f":"'1.Портфель кредитів'!#REF!","v":{"$error":"#REF!"}},{"$f":"'1.Портфель кредитів'!#REF!","v":{"$error":"#REF!"}},{"$f":"'1.Портфель кредитів'!#REF!","v":{"$error":"#REF!"}},{"$f":"'1.Портфель кредитів'!I652","v":0},{"$f":"'1.Портфель кредитів'!W652","v":0},{"$f":"'1.Портфель кредитів'!Y652","v":""},4,"2018-06-01","_4_43252_2"]
[{"$f":"'1.Портфель кредитів'!H653","v":0},{"$f":"'1.Портфель кредитів'!D653","v":""},{"$f":"'1.Портфель кредитів'!#REF!","v":{"$error":"#REF!"}},{"$f":"'1.Портфель кредитів'!#REF!","v":{"$error":"#REF!"}},{"$f":"'1.Портфель кредитів'!#REF!","v":{"$error":"#REF!"}},{"$f":"'1.Портфель кредитів'!I653","v":0},{"$f":"'1.Портфель кредитів'!W653","v":0},{"$f":"'1.Портфель кредитів'!Y653","v":""},4,"2018-06-01","_4_43252_2"]
[{"$f":"'1.Портфель кредитів'!H654","v":0},{"$f":"'1.Портфель кредитів'!D654","v":""},{"$f":"'1.Портфель кредитів'!#REF!","v":{"$error":"#REF!"}},{"$f":"'1.Портфель кредитів'!#REF!","v":{"$error":"#REF!"}},{"$f":"'1.Портфель кредитів'!#REF!","v":{"$error":"#REF!"}},{"$f":"'1.Портфель кредитів'!I654","v":0},{"$f":"'1.Портфель кредитів'!W654","v":0},{"$f":"'1.Портфель кредитів'!Y654","v":""},4,"2018-06-01","_4_43252_2"]
[{"$f":"'1.Портфель кредитів'!H655","v":0},{"$f":"'1.Портфель кредитів'!D655","v":""},{"$f":"'1.Портфель кредитів'!#REF!","v":{"$error":"#REF!"}},{"$f":"'1.Портфель кредитів'!#REF!","v":{"$error":"#REF!"}},{"$f":"'1.Портфель кредитів'!#REF!","v":{"$error":"#REF!"}},{"$f":"'1.Портфель кредитів'!I655","v":0},{"$f":"'1.Портфель кредитів'!W655","v":0},{"$f":"'1.Портфель кредитів'!Y655","v":""},4,"2018-06-01","_4_43252_2"]
[{"$f":"'1.Портфель кредитів'!H656","v":0},{"$f":"'1.Портфель кредитів'!D656","v":""},{"$f":"'1.Портфель кредитів'!#REF!","v":{"$error":"#REF!"}},{"$f":"'1.Портфель кредитів'!#REF!","v":{"$error":"#REF!"}},{"$f":"'1.Портфель кредитів'!#REF!","v":{"$error":"#REF!"}},{"$f":"'1.Портфель кредитів'!I656","v":0},{"$f":"'1.Портфель кредитів'!W656","v":0},{"$f":"'1.Портфель кредитів'!Y656","v":""},{"$f":"$E$1","v":4},{"$f":"$E$2","v":"2018-06-01"},{"$f":"B710&\"_\"&I710&\"_\"&J710&\"_\"&$E$3","v":"_4_43252_2"}]
[{"$f":"'1.Портфель кредитів'!H657","v":0},{"$f":"'1.Портфель кредитів'!D657","v":""},{"$f":"'1.Портфель кредитів'!#REF!","v":{"$error":"#REF!"}},{"$f":"'1.Портфель кредитів'!#REF!","v":{"$error":"#REF!"}},{"$f":"'1.Портфель кредитів'!#REF!","v":{"$error":"#REF!"}},{"$f":"'1.Портфель кредитів'!I657","v":0},{"$f":"'1.Портфель кредитів'!W657","v":0},{"$f":"'1.Портфель кредитів'!Y657","v":""},4,"2018-06-01","_4_43252_2"]
[{"$f":"'1.Портфель кредитів'!H658","v":0},{"$f":"'1.Портфель кредитів'!D658","v":""},{"$f":"'1.Портфель кредитів'!#REF!","v":{"$error":"#REF!"}},{"$f":"'1.Портфель кредитів'!#REF!","v":{"$error":"#REF!"}},{"$f":"'1.Портфель кредитів'!#REF!","v":{"$error":"#REF!"}},{"$f":"'1.Портфель кредитів'!I658","v":0},{"$f":"'1.Портфель кредитів'!W658","v":0},{"$f":"'1.Портфель кредитів'!Y658","v":""},4,"2018-06-01","_4_43252_2"]
[{"$f":"'1.Портфель кредитів'!H659","v":0},{"$f":"'1.Портфель кредитів'!D659","v":""},{"$f":"'1.Портфель кредитів'!#REF!","v":{"$error":"#REF!"}},{"$f":"'1.Портфель кредитів'!#REF!","v":{"$error":"#REF!"}},{"$f":"'1.Портфель кредитів'!#REF!","v":{"$error":"#REF!"}},{"$f":"'1.Портфель кредитів'!I659","v":0},{"$f":"'1.Портфель кредитів'!W659","v":0},{"$f":"'1.Портфель кредитів'!Y659","v":""},4,"2018-06-01","_4_43252_2"]
[{"$f":"'1.Портфель кредитів'!H660","v":0},{"$f":"'1.Портфель кредитів'!D660","v":""},{"$f":"'1.Портфель кредитів'!#REF!","v":{"$error":"#REF!"}},{"$f":"'1.Портфель кредитів'!#REF!","v":{"$error":"#REF!"}},{"$f":"'1.Портфель кредитів'!#REF!","v":{"$error":"#REF!"}},{"$f":"'1.Портфель кредитів'!I660","v":0},{"$f":"'1.Портфель кредитів'!W660","v":0},{"$f":"'1.Портфель кредитів'!Y660","v":""},4,"2018-06-01","_4_43252_2"]
[{"$f":"'1.Портфель кредитів'!H661","v":0},{"$f":"'1.Портфель кредитів'!D661","v":""},{"$f":"'1.Портфель кредитів'!#REF!","v":{"$error":"#REF!"}},{"$f":"'1.Портфель кредитів'!#REF!","v":{"$error":"#REF!"}},{"$f":"'1.Портфель кредитів'!#REF!","v":{"$error":"#REF!"}},{"$f":"'1.Портфель кредитів'!I661","v":0},{"$f":"'1.Портфель кредитів'!W661","v":0},{"$f":"'1.Портфель кредитів'!Y661","v":""},4,"2018-06-01","_4_43252_2"]
[{"$f":"'1.Портфель кредитів'!H662","v":0},{"$f":"'1.Портфель кредитів'!D662","v":""},{"$f":"'1.Портфель кредитів'!#REF!","v":{"$error":"#REF!"}},{"$f":"'1.Портфель кредитів'!#REF!","v":{"$error":"#REF!"}},{"$f":"'1.Портфель кредитів'!#REF!","v":{"$error":"#REF!"}},{"$f":"'1.Портфель кредитів'!I662","v":0},{"$f":"'1.Портфель кредитів'!W662","v":0},{"$f":"'1.Портфель кредитів'!Y662","v":""},4,"2018-06-01","_4_43252_2"]
[{"$f":"'1.Портфель кредитів'!H663","v":0},{"$f":"'1.Портфель кредитів'!D663","v":""},{"$f":"'1.Портфель кредитів'!#REF!","v":{"$error":"#REF!"}},{"$f":"'1.Портфель кредитів'!#REF!","v":{"$error":"#REF!"}},{"$f":"'1.Портфель кредитів'!#REF!","v":{"$error":"#REF!"}},{"$f":"'1.Портфель кредитів'!I663","v":0},{"$f":"'1.Портфель кредитів'!W663","v":0},{"$f":"'1.Портфель кредитів'!Y663","v":""},4,"2018-06-01","_4_43252_2"]
[{"$f":"'1.Портфель кредитів'!H664","v":0},{"$f":"'1.Портфель кредитів'!D664","v":""},{"$f":"'1.Портфель кредитів'!#REF!","v":{"$error":"#REF!"}},{"$f":"'1.Портфель кредитів'!#REF!","v":{"$error":"#REF!"}},{"$f":"'1.Портфель кредитів'!#REF!","v":{"$error":"#REF!"}},{"$f":"'1.Портфель кредитів'!I664","v":0},{"$f":"'1.Портфель кредитів'!W664","v":0},{"$f":"'1.Портфель кредитів'!Y664","v":""},4,"2018-06-01","_4_43252_2"]
[{"$f":"'1.Портфель кредитів'!H665","v":0},{"$f":"'1.Портфель кредитів'!D665","v":""},{"$f":"'1.Портфель кредитів'!#REF!","v":{"$error":"#REF!"}},{"$f":"'1.Портфель кредитів'!#REF!","v":{"$error":"#REF!"}},{"$f":"'1.Портфель кредитів'!#REF!","v":{"$error":"#REF!"}},{"$f":"'1.Портфель кредитів'!I665","v":0},{"$f":"'1.Портфель кредитів'!W665","v":0},{"$f":"'1.Портфель кредитів'!Y665","v":""},4,"2018-06-01","_4_43252_2"]
[{"$f":"'1.Портфель кредитів'!H666","v":0},{"$f":"'1.Портфель кредитів'!D666","v":""},{"$f":"'1.Портфель кредитів'!#REF!","v":{"$error":"#REF!"}},{"$f":"'1.Портфель кредитів'!#REF!","v":{"$error":"#REF!"}},{"$f":"'1.Портфель кредитів'!#REF!","v":{"$error":"#REF!"}},{"$f":"'1.Портфель кредитів'!I666","v":0},{"$f":"'1.Портфель кредитів'!W666","v":0},{"$f":"'1.Портфель кредитів'!Y666","v":""},4,"2018-06-01","_4_43252_2"]
[{"$f":"'1.Портфель кредитів'!H667","v":0},{"$f":"'1.Портфель кредитів'!D667","v":""},{"$f":"'1.Портфель кредитів'!#REF!","v":{"$error":"#REF!"}},{"$f":"'1.Портфель кредитів'!#REF!","v":{"$error":"#REF!"}},{"$f":"'1.Портфель кредитів'!#REF!","v":{"$error":"#REF!"}},{"$f":"'1.Портфель кредитів'!I667","v":0},{"$f":"'1.Портфель кредитів'!W667","v":0},{"$f":"'1.Портфель кредитів'!Y667","v":""},4,"2018-06-01","_4_43252_2"]
[{"$f":"'1.Портфель кредитів'!H668","v":0},{"$f":"'1.Портфель кредитів'!D668","v":""},{"$f":"'1.Портфель кредитів'!#REF!","v":{"$error":"#REF!"}},{"$f":"'1.Портфель кредитів'!#REF!","v":{"$error":"#REF!"}},{"$f":"'1.Портфель кредитів'!#REF!","v":{"$error":"#REF!"}},{"$f":"'1.Портфель кредитів'!I668","v":0},{"$f":"'1.Портфель кредитів'!W668","v":0},{"$f":"'1.Портфель кредитів'!Y668","v":""},4,"2018-06-01","_4_43252_2"]
[{"$f":"'1.Портфель кредитів'!H669","v":0},{"$f":"'1.Портфель кредитів'!D669","v":""},{"$f":"'1.Портфель кредитів'!#REF!","v":{"$error":"#REF!"}},{"$f":"'1.Портфель кредитів'!#REF!","v":{"$error":"#REF!"}},{"$f":"'1.Портфель кредитів'!#REF!","v":{"$error":"#REF!"}},{"$f":"'1.Портфель кредитів'!I669","v":0},{"$f":"'1.Портфель кредитів'!W669","v":0},{"$f":"'1.Портфель кредитів'!Y669","v":""},4,"2018-06-01","_4_43252_2"]
[{"$f":"'1.Портфель кредитів'!H670","v":0},{"$f":"'1.Портфель кредитів'!D670","v":""},{"$f":"'1.Портфель кредитів'!#REF!","v":{"$error":"#REF!"}},{"$f":"'1.Портфель кредитів'!#REF!","v":{"$error":"#REF!"}},{"$f":"'1.Портфель кредитів'!#REF!","v":{"$error":"#REF!"}},{"$f":"'1.Портфель кредитів'!I670","v":0},{"$f":"'1.Портфель кредитів'!W670","v":0},{"$f":"'1.Портфель кредитів'!Y670","v":""},4,"2018-06-01","_4_43252_2"]
[{"$f":"'1.Портфель кредитів'!H671","v":0},{"$f":"'1.Портфель кредитів'!D671","v":""},{"$f":"'1.Портфель кредитів'!#REF!","v":{"$error":"#REF!"}},{"$f":"'1.Портфель кредитів'!#REF!","v":{"$error":"#REF!"}},{"$f":"'1.Портфель кредитів'!#REF!","v":{"$error":"#REF!"}},{"$f":"'1.Портфель кредитів'!I671","v":0},{"$f":"'1.Портфель кредитів'!W671","v":0},{"$f":"'1.Портфель кредитів'!Y671","v":""},4,"2018-06-01","_4_43252_2"]
[{"$f":"'1.Портфель кредитів'!H672","v":0},{"$f":"'1.Портфель кредитів'!D672","v":""},{"$f":"'1.Портфель кредитів'!#REF!","v":{"$error":"#REF!"}},{"$f":"'1.Портфель кредитів'!#REF!","v":{"$error":"#REF!"}},{"$f":"'1.Портфель кредитів'!#REF!","v":{"$error":"#REF!"}},{"$f":"'1.Портфель кредитів'!I672","v":0},{"$f":"'1.Портфель кредитів'!W672","v":0},{"$f":"'1.Портфель кредитів'!Y672","v":""},4,"2018-06-01","_4_43252_2"]
[{"$f":"'1.Портфель кредитів'!H673","v":0},{"$f":"'1.Портфель кредитів'!D673","v":""},{"$f":"'1.Портфель кредитів'!#REF!","v":{"$error":"#REF!"}},{"$f":"'1.Портфель кредитів'!#REF!","v":{"$error":"#REF!"}},{"$f":"'1.Портфель кредитів'!#REF!","v":{"$error":"#REF!"}},{"$f":"'1.Портфель кредитів'!I673","v":0},{"$f":"'1.Портфель кредитів'!W673","v":0},{"$f":"'1.Портфель кредитів'!Y673","v":""},4,"2018-06-01","_4_43252_2"]
[{"$f":"'1.Портфель кредитів'!H674","v":0},{"$f":"'1.Портфель кредитів'!D674","v":""},{"$f":"'1.Портфель кредитів'!#REF!","v":{"$error":"#REF!"}},{"$f":"'1.Портфель кредитів'!#REF!","v":{"$error":"#REF!"}},{"$f":"'1.Портфель кредитів'!#REF!","v":{"$error":"#REF!"}},{"$f":"'1.Портфель кредитів'!I674","v":0},{"$f":"'1.Портфель кредитів'!W674","v":0},{"$f":"'1.Портфель кредитів'!Y674","v":""},4,"2018-06-01","_4_43252_2"]
[{"$f":"'1.Портфель кредитів'!H675","v":0},{"$f":"'1.Портфель кредитів'!D675","v":""},{"$f":"'1.Портфель кредитів'!#REF!","v":{"$error":"#REF!"}},{"$f":"'1.Портфель кредитів'!#REF!","v":{"$error":"#REF!"}},{"$f":"'1.Портфель кредитів'!#REF!","v":{"$error":"#REF!"}},{"$f":"'1.Портфель кредитів'!I675","v":0},{"$f":"'1.Портфель кредитів'!W675","v":0},{"$f":"'1.Портфель кредитів'!Y675","v":""},4,"2018-06-01","_4_43252_2"]
[{"$f":"'1.Портфель кредитів'!H676","v":0},{"$f":"'1.Портфель кредитів'!D676","v":""},{"$f":"'1.Портфель кредитів'!#REF!","v":{"$error":"#REF!"}},{"$f":"'1.Портфель кредитів'!#REF!","v":{"$error":"#REF!"}},{"$f":"'1.Портфель кредитів'!#REF!","v":{"$error":"#REF!"}},{"$f":"'1.Портфель кредитів'!I676","v":0},{"$f":"'1.Портфель кредитів'!W676","v":0},{"$f":"'1.Портфель кредитів'!Y676","v":""},4,"2018-06-01","_4_43252_2"]
[{"$f":"'1.Портфель кредитів'!H677","v":0},{"$f":"'1.Портфель кредитів'!D677","v":""},{"$f":"'1.Портфель кредитів'!#REF!","v":{"$error":"#REF!"}},{"$f":"'1.Портфель кредитів'!#REF!","v":{"$error":"#REF!"}},{"$f":"'1.Портфель кредитів'!#REF!","v":{"$error":"#REF!"}},{"$f":"'1.Портфель кредитів'!I677","v":0},{"$f":"'1.Портфель кредитів'!W677","v":0},{"$f":"'1.Портфель кредитів'!Y677","v":""},4,"2018-06-01","_4_43252_2"]
[{"$f":"'1.Портфель кредитів'!H678","v":0},{"$f":"'1.Портфель кредитів'!D678","v":""},{"$f":"'1.Портфель кредитів'!#REF!","v":{"$error":"#REF!"}},{"$f":"'1.Портфель кредитів'!#REF!","v":{"$error":"#REF!"}},{"$f":"'1.Портфель кредитів'!#REF!","v":{"$error":"#REF!"}},{"$f":"'1.Портфель кредитів'!I678","v":0},{"$f":"'1.Портфель кредитів'!W678","v":0},{"$f":"'1.Портфель кредитів'!Y678","v":""},4,"2018-06-01","_4_43252_2"]
[{"$f":"'1.Портфель кредитів'!H679","v":0},{"$f":"'1.Портфель кредитів'!D679","v":""},{"$f":"'1.Портфель кредитів'!#REF!","v":{"$error":"#REF!"}},{"$f":"'1.Портфель кредитів'!#REF!","v":{"$error":"#REF!"}},{"$f":"'1.Портфель кредитів'!#REF!","v":{"$error":"#REF!"}},{"$f":"'1.Портфель кредитів'!I679","v":0},{"$f":"'1.Портфель кредитів'!W679","v":0},{"$f":"'1.Портфель кредитів'!Y679","v":""},4,"2018-06-01","_4_43252_2"]
[{"$f":"'1.Портфель кредитів'!H680","v":0},{"$f":"'1.Портфель кредитів'!D680","v":""},{"$f":"'1.Портфель кредитів'!#REF!","v":{"$error":"#REF!"}},{"$f":"'1.Портфель кредитів'!#REF!","v":{"$error":"#REF!"}},{"$f":"'1.Портфель кредитів'!#REF!","v":{"$error":"#REF!"}},{"$f":"'1.Портфель кредитів'!I680","v":0},{"$f":"'1.Портфель кредитів'!W680","v":0},{"$f":"'1.Портфель кредитів'!Y680","v":""},4,"2018-06-01","_4_43252_2"]
[{"$f":"'1.Портфель кредитів'!H681","v":0},{"$f":"'1.Портфель кредитів'!D681","v":""},{"$f":"'1.Портфель кредитів'!#REF!","v":{"$error":"#REF!"}},{"$f":"'1.Портфель кредитів'!#REF!","v":{"$error":"#REF!"}},{"$f":"'1.Портфель кредитів'!#REF!","v":{"$error":"#REF!"}},{"$f":"'1.Портфель кредитів'!I681","v":0},{"$f":"'1.Портфель кредитів'!W681","v":0},{"$f":"'1.Портфель кредитів'!Y681","v":""},4,"2018-06-01","_4_43252_2"]
[{"$f":"'1.Портфель кредитів'!H682","v":0},{"$f":"'1.Портфель кредитів'!D682","v":""},{"$f":"'1.Портфель кредитів'!#REF!","v":{"$error":"#REF!"}},{"$f":"'1.Портфель кредитів'!#REF!","v":{"$error":"#REF!"}},{"$f":"'1.Портфель кредитів'!#REF!","v":{"$error":"#REF!"}},{"$f":"'1.Портфель кредитів'!I682","v":0},{"$f":"'1.Портфель кредитів'!W682","v":0},{"$f":"'1.Портфель кредитів'!Y682","v":""},4,"2018-06-01","_4_43252_2"]
[{"$f":"'1.Портфель кредитів'!H683","v":0},{"$f":"'1.Портфель кредитів'!D683","v":""},{"$f":"'1.Портфель кредитів'!#REF!","v":{"$error":"#REF!"}},{"$f":"'1.Портфель кредитів'!#REF!","v":{"$error":"#REF!"}},{"$f":"'1.Портфель кредитів'!#REF!","v":{"$error":"#REF!"}},{"$f":"'1.Портфель кредитів'!I683","v":0},{"$f":"'1.Портфель кредитів'!W683","v":0},{"$f":"'1.Портфель кредитів'!Y683","v":""},4,"2018-06-01","_4_43252_2"]
[{"$f":"'1.Портфель кредитів'!H684","v":0},{"$f":"'1.Портфель кредитів'!D684","v":""},{"$f":"'1.Портфель кредитів'!#REF!","v":{"$error":"#REF!"}},{"$f":"'1.Портфель кредитів'!#REF!","v":{"$error":"#REF!"}},{"$f":"'1.Портфель кредитів'!#REF!","v":{"$error":"#REF!"}},{"$f":"'1.Портфель кредитів'!I684","v":0},{"$f":"'1.Портфель кредитів'!W684","v":0},{"$f":"'1.Портфель кредитів'!Y684","v":""},4,"2018-06-01","_4_43252_2"]
[{"$f":"'1.Портфель кредитів'!H685","v":0},{"$f":"'1.Портфель кредитів'!D685","v":""},{"$f":"'1.Портфель кредитів'!#REF!","v":{"$error":"#REF!"}},{"$f":"'1.Портфель кредитів'!#REF!","v":{"$error":"#REF!"}},{"$f":"'1.Портфель кредитів'!#REF!","v":{"$error":"#REF!"}},{"$f":"'1.Портфель кредитів'!I685","v":0},{"$f":"'1.Портфель кредитів'!W685","v":0},{"$f":"'1.Портфель кредитів'!Y685","v":""},4,"2018-06-01","_4_43252_2"]
[{"$f":"'1.Портфель кредитів'!H686","v":0},{"$f":"'1.Портфель кредитів'!D686","v":""},{"$f":"'1.Портфель кредитів'!#REF!","v":{"$error":"#REF!"}},{"$f":"'1.Портфель кредитів'!#REF!","v":{"$error":"#REF!"}},{"$f":"'1.Портфель кредитів'!#REF!","v":{"$error":"#REF!"}},{"$f":"'1.Портфель кредитів'!I686","v":0},{"$f":"'1.Портфель кредитів'!W686","v":0},{"$f":"'1.Портфель кредитів'!Y686","v":""},4,"2018-06-01","_4_43252_2"]
[{"$f":"'1.Портфель кредитів'!H687","v":0},{"$f":"'1.Портфель кредитів'!D687","v":""},{"$f":"'1.Портфель кредитів'!#REF!","v":{"$error":"#REF!"}},{"$f":"'1.Портфель кредитів'!#REF!","v":{"$error":"#REF!"}},{"$f":"'1.Портфель кредитів'!#REF!","v":{"$error":"#REF!"}},{"$f":"'1.Портфель кредитів'!I687","v":0},{"$f":"'1.Портфель кредитів'!W687","v":0},{"$f":"'1.Портфель кредитів'!Y687","v":""},4,"2018-06-01","_4_43252_2"]
[{"$f":"'1.Портфель кредитів'!H688","v":0},{"$f":"'1.Портфель кредитів'!D688","v":""},{"$f":"'1.Портфель кредитів'!#REF!","v":{"$error":"#REF!"}},{"$f":"'1.Портфель кредитів'!#REF!","v":{"$error":"#REF!"}},{"$f":"'1.Портфель кредитів'!#REF!","v":{"$error":"#REF!"}},{"$f":"'1.Портфель кредитів'!I688","v":0},{"$f":"'1.Портфель кредитів'!W688","v":0},{"$f":"'1.Портфель кредитів'!Y688","v":""},4,"2018-06-01","_4_43252_2"]
[{"$f":"'1.Портфель кредитів'!H689","v":0},{"$f":"'1.Портфель кредитів'!D689","v":""},{"$f":"'1.Портфель кредитів'!#REF!","v":{"$error":"#REF!"}},{"$f":"'1.Портфель кредитів'!#REF!","v":{"$error":"#REF!"}},{"$f":"'1.Портфель кредитів'!#REF!","v":{"$error":"#REF!"}},{"$f":"'1.Портфель кредитів'!I689","v":0},{"$f":"'1.Портфель кредитів'!W689","v":0},{"$f":"'1.Портфель кредитів'!Y689","v":""},4,"2018-06-01","_4_43252_2"]
[{"$f":"'1.Портфель кредитів'!H690","v":0},{"$f":"'1.Портфель кредитів'!D690","v":""},{"$f":"'1.Портфель кредитів'!#REF!","v":{"$error":"#REF!"}},{"$f":"'1.Портфель кредитів'!#REF!","v":{"$error":"#REF!"}},{"$f":"'1.Портфель кредитів'!#REF!","v":{"$error":"#REF!"}},{"$f":"'1.Портфель кредитів'!I690","v":0},{"$f":"'1.Портфель кредитів'!W690","v":0},{"$f":"'1.Портфель кредитів'!Y690","v":""},4,"2018-06-01","_4_43252_2"]
[{"$f":"'1.Портфель кредитів'!H691","v":0},{"$f":"'1.Портфель кредитів'!D691","v":""},{"$f":"'1.Портфель кредитів'!#REF!","v":{"$error":"#REF!"}},{"$f":"'1.Портфель кредитів'!#REF!","v":{"$error":"#REF!"}},{"$f":"'1.Портфель кредитів'!#REF!","v":{"$error":"#REF!"}},{"$f":"'1.Портфель кредитів'!I691","v":0},{"$f":"'1.Портфель кредитів'!W691","v":0},{"$f":"'1.Портфель кредитів'!Y691","v":""},4,"2018-06-01","_4_43252_2"]
[{"$f":"'1.Портфель кредитів'!H692","v":0},{"$f":"'1.Портфель кредитів'!D692","v":""},{"$f":"'1.Портфель кредитів'!#REF!","v":{"$error":"#REF!"}},{"$f":"'1.Портфель кредитів'!#REF!","v":{"$error":"#REF!"}},{"$f":"'1.Портфель кредитів'!#REF!","v":{"$error":"#REF!"}},{"$f":"'1.Портфель кредитів'!I692","v":0},{"$f":"'1.Портфель кредитів'!W692","v":0},{"$f":"'1.Портфель кредитів'!Y692","v":""},4,"2018-06-01","_4_43252_2"]
[{"$f":"'1.Портфель кредитів'!H693","v":0},{"$f":"'1.Портфель кредитів'!D693","v":""},{"$f":"'1.Портфель кредитів'!#REF!","v":{"$error":"#REF!"}},{"$f":"'1.Портфель кредитів'!#REF!","v":{"$error":"#REF!"}},{"$f":"'1.Портфель кредитів'!#REF!","v":{"$error":"#REF!"}},{"$f":"'1.Портфель кредитів'!I693","v":0},{"$f":"'1.Портфель кредитів'!W693","v":0},{"$f":"'1.Портфель кредитів'!Y693","v":""},4,"2018-06-01","_4_43252_2"]
[{"$f":"'1.Портфель кредитів'!H694","v":0},{"$f":"'1.Портфель кредитів'!D694","v":""},{"$f":"'1.Портфель кредитів'!#REF!","v":{"$error":"#REF!"}},{"$f":"'1.Портфель кредитів'!#REF!","v":{"$error":"#REF!"}},{"$f":"'1.Портфель кредитів'!#REF!","v":{"$error":"#REF!"}},{"$f":"'1.Портфель кредитів'!I694","v":0},{"$f":"'1.Портфель кредитів'!W694","v":0},{"$f":"'1.Портфель кредитів'!Y694","v":""},4,"2018-06-01","_4_43252_2"]
[{"$f":"'1.Портфель кредитів'!H695","v":0},{"$f":"'1.Портфель кредитів'!D695","v":""},{"$f":"'1.Портфель кредитів'!#REF!","v":{"$error":"#REF!"}},{"$f":"'1.Портфель кредитів'!#REF!","v":{"$error":"#REF!"}},{"$f":"'1.Портфель кредитів'!#REF!","v":{"$error":"#REF!"}},{"$f":"'1.Портфель кредитів'!I695","v":0},{"$f":"'1.Портфель кредитів'!W695","v":0},{"$f":"'1.Портфель кредитів'!Y695","v":""},4,"2018-06-01","_4_43252_2"]
[{"$f":"'1.Портфель кредитів'!H696","v":0},{"$f":"'1.Портфель кредитів'!D696","v":""},{"$f":"'1.Портфель кредитів'!#REF!","v":{"$error":"#REF!"}},{"$f":"'1.Портфель кредитів'!#REF!","v":{"$error":"#REF!"}},{"$f":"'1.Портфель кредитів'!#REF!","v":{"$error":"#REF!"}},{"$f":"'1.Портфель кредитів'!I696","v":0},{"$f":"'1.Портфель кредитів'!W696","v":0},{"$f":"'1.Портфель кредитів'!Y696","v":""},4,"2018-06-01","_4_43252_2"]
[{"$f":"'1.Портфель кредитів'!H697","v":0},{"$f":"'1.Портфель кредитів'!D697","v":""},{"$f":"'1.Портфель кредитів'!#REF!","v":{"$error":"#REF!"}},{"$f":"'1.Портфель кредитів'!#REF!","v":{"$error":"#REF!"}},{"$f":"'1.Портфель кредитів'!#REF!","v":{"$error":"#REF!"}},{"$f":"'1.Портфель кредитів'!I697","v":0},{"$f":"'1.Портфель кредитів'!W697","v":0},{"$f":"'1.Портфель кредитів'!Y697","v":""},4,"2018-06-01","_4_43252_2"]
[{"$f":"'1.Портфель кредитів'!H698","v":0},{"$f":"'1.Портфель кредитів'!D698","v":""},{"$f":"'1.Портфель кредитів'!#REF!","v":{"$error":"#REF!"}},{"$f":"'1.Портфель кредитів'!#REF!","v":{"$error":"#REF!"}},{"$f":"'1.Портфель кредитів'!#REF!","v":{"$error":"#REF!"}},{"$f":"'1.Портфель кредитів'!I698","v":0},{"$f":"'1.Портфель кредитів'!W698","v":0},{"$f":"'1.Портфель кредитів'!Y698","v":""},4,"2018-06-01","_4_43252_2"]
[{"$f":"'1.Портфель кредитів'!H699","v":0},{"$f":"'1.Портфель кредитів'!D699","v":""},{"$f":"'1.Портфель кредитів'!#REF!","v":{"$error":"#REF!"}},{"$f":"'1.Портфель кредитів'!#REF!","v":{"$error":"#REF!"}},{"$f":"'1.Портфель кредитів'!#REF!","v":{"$error":"#REF!"}},{"$f":"'1.Портфель кредитів'!I699","v":0},{"$f":"'1.Портфель кредитів'!W699","v":0},{"$f":"'1.Портфель кредитів'!Y699","v":""},4,"2018-06-01","_4_43252_2"]
[{"$f":"'1.Портфель кредитів'!H700","v":0},{"$f":"'1.Портфель кредитів'!D700","v":""},{"$f":"'1.Портфель кредитів'!#REF!","v":{"$error":"#REF!"}},{"$f":"'1.Портфель кредитів'!#REF!","v":{"$error":"#REF!"}},{"$f":"'1.Портфель кредитів'!#REF!","v":{"$error":"#REF!"}},{"$f":"'1.Портфель кредитів'!I700","v":0},{"$f":"'1.Портфель кредитів'!W700","v":0},{"$f":"'1.Портфель кредитів'!Y700","v":""},4,"2018-06-01","_4_43252_2"]
[{"$f":"'1.Портфель кредитів'!H701","v":0},{"$f":"'1.Портфель кредитів'!D701","v":""},{"$f":"'1.Портфель кредитів'!#REF!","v":{"$error":"#REF!"}},{"$f":"'1.Портфель кредитів'!#REF!","v":{"$error":"#REF!"}},{"$f":"'1.Портфель кредитів'!#REF!","v":{"$error":"#REF!"}},{"$f":"'1.Портфель кредитів'!I701","v":0},{"$f":"'1.Портфель кредитів'!W701","v":0},{"$f":"'1.Портфель кредитів'!Y701","v":""},4,"2018-06-01","_4_43252_2"]
[{"$f":"'1.Портфель кредитів'!H702","v":0},{"$f":"'1.Портфель кредитів'!D702","v":""},{"$f":"'1.Портфель кредитів'!#REF!","v":{"$error":"#REF!"}},{"$f":"'1.Портфель кредитів'!#REF!","v":{"$error":"#REF!"}},{"$f":"'1.Портфель кредитів'!#REF!","v":{"$error":"#REF!"}},{"$f":"'1.Портфель кредитів'!I702","v":0},{"$f":"'1.Портфель кредитів'!W702","v":0},{"$f":"'1.Портфель кредитів'!Y702","v":""},4,"2018-06-01","_4_43252_2"]
[{"$f":"'1.Портфель кредитів'!H703","v":0},{"$f":"'1.Портфель кредитів'!D703","v":""},{"$f":"'1.Портфель кредитів'!#REF!","v":{"$error":"#REF!"}},{"$f":"'1.Портфель кредитів'!#REF!","v":{"$error":"#REF!"}},{"$f":"'1.Портфель кредитів'!#REF!","v":{"$error":"#REF!"}},{"$f":"'1.Портфель кредитів'!I703","v":0},{"$f":"'1.Портфель кредитів'!W703","v":0},{"$f":"'1.Портфель кредитів'!Y703","v":""},4,"2018-06-01","_4_43252_2"]
[{"$f":"'1.Портфель кредитів'!H704","v":0},{"$f":"'1.Портфель кредитів'!D704","v":""},{"$f":"'1.Портфель кредитів'!#REF!","v":{"$error":"#REF!"}},{"$f":"'1.Портфель кредитів'!#REF!","v":{"$error":"#REF!"}},{"$f":"'1.Портфель кредитів'!#REF!","v":{"$error":"#REF!"}},{"$f":"'1.Портфель кредитів'!I704","v":0},{"$f":"'1.Портфель кредитів'!W704","v":0},{"$f":"'1.Портфель кредитів'!Y704","v":""},4,"2018-06-01","_4_43252_2"]
[{"$f":"'1.Портфель кредитів'!H705","v":0},{"$f":"'1.Портфель кредитів'!D705","v":""},{"$f":"'1.Портфель кредитів'!#REF!","v":{"$error":"#REF!"}},{"$f":"'1.Портфель кредитів'!#REF!","v":{"$error":"#REF!"}},{"$f":"'1.Портфель кредитів'!#REF!","v":{"$error":"#REF!"}},{"$f":"'1.Портфель кредитів'!I705","v":0},{"$f":"'1.Портфель кредитів'!W705","v":0},{"$f":"'1.Портфель кредитів'!Y705","v":""},4,"2018-06-01","_4_43252_2"]
[{"$f":"'1.Портфель кредитів'!H706","v":0},{"$f":"'1.Портфель кредитів'!D706","v":""},{"$f":"'1.Портфель кредитів'!#REF!","v":{"$error":"#REF!"}},{"$f":"'1.Портфель кредитів'!#REF!","v":{"$error":"#REF!"}},{"$f":"'1.Портфель кредитів'!#REF!","v":{"$error":"#REF!"}},{"$f":"'1.Портфель кредитів'!I706","v":0},{"$f":"'1.Портфель кредитів'!W706","v":0},{"$f":"'1.Портфель кредитів'!Y706","v":""},4,"2018-06-01","_4_43252_2"]
[{"$f":"'1.Портфель кредитів'!H707","v":0},{"$f":"'1.Портфель кредитів'!D707","v":""},{"$f":"'1.Портфель кредитів'!#REF!","v":{"$error":"#REF!"}},{"$f":"'1.Портфель кредитів'!#REF!","v":{"$error":"#REF!"}},{"$f":"'1.Портфель кредитів'!#REF!","v":{"$error":"#REF!"}},{"$f":"'1.Портфель кредитів'!I707","v":0},{"$f":"'1.Портфель кредитів'!W707","v":0},{"$f":"'1.Портфель кредитів'!Y707","v":""},4,"2018-06-01","_4_43252_2"]
[{"$f":"'1.Портфель кредитів'!H708","v":0},{"$f":"'1.Портфель кредитів'!D708","v":""},{"$f":"'1.Портфель кредитів'!#REF!","v":{"$error":"#REF!"}},{"$f":"'1.Портфель кредитів'!#REF!","v":{"$error":"#REF!"}},{"$f":"'1.Портфель кредитів'!#REF!","v":{"$error":"#REF!"}},{"$f":"'1.Портфель кредитів'!I708","v":0},{"$f":"'1.Портфель кредитів'!W708","v":0},{"$f":"'1.Портфель кредитів'!Y708","v":""},4,"2018-06-01","_4_43252_2"]
[{"$f":"'1.Портфель кредитів'!H709","v":0},{"$f":"'1.Портфель кредитів'!D709","v":""},{"$f":"'1.Портфель кредитів'!#REF!","v":{"$error":"#REF!"}},{"$f":"'1.Портфель кредитів'!#REF!","v":{"$error":"#REF!"}},{"$f":"'1.Портфель кредитів'!#REF!","v":{"$error":"#REF!"}},{"$f":"'1.Портфель кредитів'!I709","v":0},{"$f":"'1.Портфель кредитів'!W709","v":0},{"$f":"'1.Портфель кредитів'!Y709","v":""},4,"2018-06-01","_4_43252_2"]
[{"$f":"'1.Портфель кредитів'!H710","v":0},{"$f":"'1.Портфель кредитів'!D710","v":""},{"$f":"'1.Портфель кредитів'!#REF!","v":{"$error":"#REF!"}},{"$f":"'1.Портфель кредитів'!#REF!","v":{"$error":"#REF!"}},{"$f":"'1.Портфель кредитів'!#REF!","v":{"$error":"#REF!"}},{"$f":"'1.Портфель кредитів'!I710","v":0},{"$f":"'1.Портфель кредитів'!W710","v":0},{"$f":"'1.Портфель кредитів'!Y710","v":""},4,"2018-06-01","_4_43252_2"]
[{"$f":"'1.Портфель кредитів'!H711","v":0},{"$f":"'1.Портфель кредитів'!D711","v":""},{"$f":"'1.Портфель кредитів'!#REF!","v":{"$error":"#REF!"}},{"$f":"'1.Портфель кредитів'!#REF!","v":{"$error":"#REF!"}},{"$f":"'1.Портфель кредитів'!#REF!","v":{"$error":"#REF!"}},{"$f":"'1.Портфель кредитів'!I711","v":0},{"$f":"'1.Портфель кредитів'!W711","v":0},{"$f":"'1.Портфель кредитів'!Y711","v":""},4,"2018-06-01","_4_43252_2"]
[{"$f":"'1.Портфель кредитів'!H712","v":0},{"$f":"'1.Портфель кредитів'!D712","v":""},{"$f":"'1.Портфель кредитів'!#REF!","v":{"$error":"#REF!"}},{"$f":"'1.Портфель кредитів'!#REF!","v":{"$error":"#REF!"}},{"$f":"'1.Портфель кредитів'!#REF!","v":{"$error":"#REF!"}},{"$f":"'1.Портфель кредитів'!I712","v":0},{"$f":"'1.Портфель кредитів'!W712","v":0},{"$f":"'1.Портфель кредитів'!Y712","v":""},4,"2018-06-01","_4_43252_2"]
[{"$f":"'1.Портфель кредитів'!H713","v":0},{"$f":"'1.Портфель кредитів'!D713","v":""},{"$f":"'1.Портфель кредитів'!#REF!","v":{"$error":"#REF!"}},{"$f":"'1.Портфель кредитів'!#REF!","v":{"$error":"#REF!"}},{"$f":"'1.Портфель кредитів'!#REF!","v":{"$error":"#REF!"}},{"$f":"'1.Портфель кредитів'!I713","v":0},{"$f":"'1.Портфель кредитів'!W713","v":0},{"$f":"'1.Портфель кредитів'!Y713","v":""},4,"2018-06-01","_4_43252_2"]
[{"$f":"'1.Портфель кредитів'!H714","v":0},{"$f":"'1.Портфель кредитів'!D714","v":""},{"$f":"'1.Портфель кредитів'!#REF!","v":{"$error":"#REF!"}},{"$f":"'1.Портфель кредитів'!#REF!","v":{"$error":"#REF!"}},{"$f":"'1.Портфель кредитів'!#REF!","v":{"$error":"#REF!"}},{"$f":"'1.Портфель кредитів'!I714","v":0},{"$f":"'1.Портфель кредитів'!W714","v":0},{"$f":"'1.Портфель кредитів'!Y714","v":""},4,"2018-06-01","_4_43252_2"]
[{"$f":"'1.Портфель кредитів'!H715","v":0},{"$f":"'1.Портфель кредитів'!D715","v":""},{"$f":"'1.Портфель кредитів'!#REF!","v":{"$error":"#REF!"}},{"$f":"'1.Портфель кредитів'!#REF!","v":{"$error":"#REF!"}},{"$f":"'1.Портфель кредитів'!#REF!","v":{"$error":"#REF!"}},{"$f":"'1.Портфель кредитів'!I715","v":0},{"$f":"'1.Портфель кредитів'!W715","v":0},{"$f":"'1.Портфель кредитів'!Y715","v":""},4,"2018-06-01","_4_43252_2"]
[{"$f":"'1.Портфель кредитів'!H716","v":0},{"$f":"'1.Портфель кредитів'!D716","v":""},{"$f":"'1.Портфель кредитів'!#REF!","v":{"$error":"#REF!"}},{"$f":"'1.Портфель кредитів'!#REF!","v":{"$error":"#REF!"}},{"$f":"'1.Портфель кредитів'!#REF!","v":{"$error":"#REF!"}},{"$f":"'1.Портфель кредитів'!I716","v":0},{"$f":"'1.Портфель кредитів'!W716","v":0},{"$f":"'1.Портфель кредитів'!Y716","v":""},4,"2018-06-01","_4_43252_2"]
[{"$f":"'1.Портфель кредитів'!H717","v":0},{"$f":"'1.Портфель кредитів'!D717","v":""},{"$f":"'1.Портфель кредитів'!#REF!","v":{"$error":"#REF!"}},{"$f":"'1.Портфель кредитів'!#REF!","v":{"$error":"#REF!"}},{"$f":"'1.Портфель кредитів'!#REF!","v":{"$error":"#REF!"}},{"$f":"'1.Портфель кредитів'!I717","v":0},{"$f":"'1.Портфель кредитів'!W717","v":0},{"$f":"'1.Портфель кредитів'!Y717","v":""},4,"2018-06-01","_4_43252_2"]
[{"$f":"'1.Портфель кредитів'!H718","v":0},{"$f":"'1.Портфель кредитів'!D718","v":""},{"$f":"'1.Портфель кредитів'!#REF!","v":{"$error":"#REF!"}},{"$f":"'1.Портфель кредитів'!#REF!","v":{"$error":"#REF!"}},{"$f":"'1.Портфель кредитів'!#REF!","v":{"$error":"#REF!"}},{"$f":"'1.Портфель кредитів'!I718","v":0},{"$f":"'1.Портфель кредитів'!W718","v":0},{"$f":"'1.Портфель кредитів'!Y718","v":""},4,"2018-06-01","_4_43252_2"]
[{"$f":"'1.Портфель кредитів'!H719","v":0},{"$f":"'1.Портфель кредитів'!D719","v":""},{"$f":"'1.Портфель кредитів'!#REF!","v":{"$error":"#REF!"}},{"$f":"'1.Портфель кредитів'!#REF!","v":{"$error":"#REF!"}},{"$f":"'1.Портфель кредитів'!#REF!","v":{"$error":"#REF!"}},{"$f":"'1.Портфель кредитів'!I719","v":0},{"$f":"'1.Портфель кредитів'!W719","v":0},{"$f":"'1.Портфель кредитів'!Y719","v":""},4,"2018-06-01","_4_43252_2"]
[{"$f":"'1.Портфель кредитів'!H720","v":0},{"$f":"'1.Портфель кредитів'!D720","v":""},{"$f":"'1.Портфель кредитів'!#REF!","v":{"$error":"#REF!"}},{"$f":"'1.Портфель кредитів'!#REF!","v":{"$error":"#REF!"}},{"$f":"'1.Портфель кредитів'!#REF!","v":{"$error":"#REF!"}},{"$f":"'1.Портфель кредитів'!I720","v":0},{"$f":"'1.Портфель кредитів'!W720","v":0},{"$f":"'1.Портфель кредитів'!Y720","v":""},{"$f":"$E$1","v":4},{"$f":"$E$2","v":"2018-06-01"},{"$f":"B774&\"_\"&I774&\"_\"&J774&\"_\"&$E$3","v":"_4_43252_2"}]
[{"$f":"'1.Портфель кредитів'!H721","v":0},{"$f":"'1.Портфель кредитів'!D721","v":""},{"$f":"'1.Портфель кредитів'!#REF!","v":{"$error":"#REF!"}},{"$f":"'1.Портфель кредитів'!#REF!","v":{"$error":"#REF!"}},{"$f":"'1.Портфель кредитів'!#REF!","v":{"$error":"#REF!"}},{"$f":"'1.Портфель кредитів'!I721","v":0},{"$f":"'1.Портфель кредитів'!W721","v":0},{"$f":"'1.Портфель кредитів'!Y721","v":""},4,"2018-06-01","_4_43252_2"]
[{"$f":"'1.Портфель кредитів'!H722","v":0},{"$f":"'1.Портфель кредитів'!D722","v":""},{"$f":"'1.Портфель кредитів'!#REF!","v":{"$error":"#REF!"}},{"$f":"'1.Портфель кредитів'!#REF!","v":{"$error":"#REF!"}},{"$f":"'1.Портфель кредитів'!#REF!","v":{"$error":"#REF!"}},{"$f":"'1.Портфель кредитів'!I722","v":0},{"$f":"'1.Портфель кредитів'!W722","v":0},{"$f":"'1.Портфель кредитів'!Y722","v":""},4,"2018-06-01","_4_43252_2"]
[{"$f":"'1.Портфель кредитів'!H723","v":0},{"$f":"'1.Портфель кредитів'!D723","v":""},{"$f":"'1.Портфель кредитів'!#REF!","v":{"$error":"#REF!"}},{"$f":"'1.Портфель кредитів'!#REF!","v":{"$error":"#REF!"}},{"$f":"'1.Портфель кредитів'!#REF!","v":{"$error":"#REF!"}},{"$f":"'1.Портфель кредитів'!I723","v":0},{"$f":"'1.Портфель кредитів'!W723","v":0},{"$f":"'1.Портфель кредитів'!Y723","v":""},4,"2018-06-01","_4_43252_2"]
[{"$f":"'1.Портфель кредитів'!H724","v":0},{"$f":"'1.Портфель кредитів'!D724","v":""},{"$f":"'1.Портфель кредитів'!#REF!","v":{"$error":"#REF!"}},{"$f":"'1.Портфель кредитів'!#REF!","v":{"$error":"#REF!"}},{"$f":"'1.Портфель кредитів'!#REF!","v":{"$error":"#REF!"}},{"$f":"'1.Портфель кредитів'!I724","v":0},{"$f":"'1.Портфель кредитів'!W724","v":0},{"$f":"'1.Портфель кредитів'!Y724","v":""},4,"2018-06-01","_4_43252_2"]
[{"$f":"'1.Портфель кредитів'!H725","v":0},{"$f":"'1.Портфель кредитів'!D725","v":""},{"$f":"'1.Портфель кредитів'!#REF!","v":{"$error":"#REF!"}},{"$f":"'1.Портфель кредитів'!#REF!","v":{"$error":"#REF!"}},{"$f":"'1.Портфель кредитів'!#REF!","v":{"$error":"#REF!"}},{"$f":"'1.Портфель кредитів'!I725","v":0},{"$f":"'1.Портфель кредитів'!W725","v":0},{"$f":"'1.Портфель кредитів'!Y725","v":""},4,"2018-06-01","_4_43252_2"]
[{"$f":"'1.Портфель кредитів'!H726","v":0},{"$f":"'1.Портфель кредитів'!D726","v":""},{"$f":"'1.Портфель кредитів'!#REF!","v":{"$error":"#REF!"}},{"$f":"'1.Портфель кредитів'!#REF!","v":{"$error":"#REF!"}},{"$f":"'1.Портфель кредитів'!#REF!","v":{"$error":"#REF!"}},{"$f":"'1.Портфель кредитів'!I726","v":0},{"$f":"'1.Портфель кредитів'!W726","v":0},{"$f":"'1.Портфель кредитів'!Y726","v":""},4,"2018-06-01","_4_43252_2"]
[{"$f":"'1.Портфель кредитів'!H727","v":0},{"$f":"'1.Портфель кредитів'!D727","v":""},{"$f":"'1.Портфель кредитів'!#REF!","v":{"$error":"#REF!"}},{"$f":"'1.Портфель кредитів'!#REF!","v":{"$error":"#REF!"}},{"$f":"'1.Портфель кредитів'!#REF!","v":{"$error":"#REF!"}},{"$f":"'1.Портфель кредитів'!I727","v":0},{"$f":"'1.Портфель кредитів'!W727","v":0},{"$f":"'1.Портфель кредитів'!Y727","v":""},4,"2018-06-01","_4_43252_2"]
[{"$f":"'1.Портфель кредитів'!H728","v":0},{"$f":"'1.Портфель кредитів'!D728","v":""},{"$f":"'1.Портфель кредитів'!#REF!","v":{"$error":"#REF!"}},{"$f":"'1.Портфель кредитів'!#REF!","v":{"$error":"#REF!"}},{"$f":"'1.Портфель кредитів'!#REF!","v":{"$error":"#REF!"}},{"$f":"'1.Портфель кредитів'!I728","v":0},{"$f":"'1.Портфель кредитів'!W728","v":0},{"$f":"'1.Портфель кредитів'!Y728","v":""},4,"2018-06-01","_4_43252_2"]
[{"$f":"'1.Портфель кредитів'!H729","v":0},{"$f":"'1.Портфель кредитів'!D729","v":""},{"$f":"'1.Портфель кредитів'!#REF!","v":{"$error":"#REF!"}},{"$f":"'1.Портфель кредитів'!#REF!","v":{"$error":"#REF!"}},{"$f":"'1.Портфель кредитів'!#REF!","v":{"$error":"#REF!"}},{"$f":"'1.Портфель кредитів'!I729","v":0},{"$f":"'1.Портфель кредитів'!W729","v":0},{"$f":"'1.Портфель кредитів'!Y729","v":""},4,"2018-06-01","_4_43252_2"]
[{"$f":"'1.Портфель кредитів'!H730","v":0},{"$f":"'1.Портфель кредитів'!D730","v":""},{"$f":"'1.Портфель кредитів'!#REF!","v":{"$error":"#REF!"}},{"$f":"'1.Портфель кредитів'!#REF!","v":{"$error":"#REF!"}},{"$f":"'1.Портфель кредитів'!#REF!","v":{"$error":"#REF!"}},{"$f":"'1.Портфель кредитів'!I730","v":0},{"$f":"'1.Портфель кредитів'!W730","v":0},{"$f":"'1.Портфель кредитів'!Y730","v":""},4,"2018-06-01","_4_43252_2"]
[{"$f":"'1.Портфель кредитів'!H731","v":0},{"$f":"'1.Портфель кредитів'!D731","v":""},{"$f":"'1.Портфель кредитів'!#REF!","v":{"$error":"#REF!"}},{"$f":"'1.Портфель кредитів'!#REF!","v":{"$error":"#REF!"}},{"$f":"'1.Портфель кредитів'!#REF!","v":{"$error":"#REF!"}},{"$f":"'1.Портфель кредитів'!I731","v":0},{"$f":"'1.Портфель кредитів'!W731","v":0},{"$f":"'1.Портфель кредитів'!Y731","v":""},4,"2018-06-01","_4_43252_2"]
[{"$f":"'1.Портфель кредитів'!H732","v":0},{"$f":"'1.Портфель кредитів'!D732","v":""},{"$f":"'1.Портфель кредитів'!#REF!","v":{"$error":"#REF!"}},{"$f":"'1.Портфель кредитів'!#REF!","v":{"$error":"#REF!"}},{"$f":"'1.Портфель кредитів'!#REF!","v":{"$error":"#REF!"}},{"$f":"'1.Портфель кредитів'!I732","v":0},{"$f":"'1.Портфель кредитів'!W732","v":0},{"$f":"'1.Портфель кредитів'!Y732","v":""},4,"2018-06-01","_4_43252_2"]
[{"$f":"'1.Портфель кредитів'!H733","v":0},{"$f":"'1.Портфель кредитів'!D733","v":""},{"$f":"'1.Портфель кредитів'!#REF!","v":{"$error":"#REF!"}},{"$f":"'1.Портфель кредитів'!#REF!","v":{"$error":"#REF!"}},{"$f":"'1.Портфель кредитів'!#REF!","v":{"$error":"#REF!"}},{"$f":"'1.Портфель кредитів'!I733","v":0},{"$f":"'1.Портфель кредитів'!W733","v":0},{"$f":"'1.Портфель кредитів'!Y733","v":""},4,"2018-06-01","_4_43252_2"]
[{"$f":"'1.Портфель кредитів'!H734","v":0},{"$f":"'1.Портфель кредитів'!D734","v":""},{"$f":"'1.Портфель кредитів'!#REF!","v":{"$error":"#REF!"}},{"$f":"'1.Портфель кредитів'!#REF!","v":{"$error":"#REF!"}},{"$f":"'1.Портфель кредитів'!#REF!","v":{"$error":"#REF!"}},{"$f":"'1.Портфель кредитів'!I734","v":0},{"$f":"'1.Портфель кредитів'!W734","v":0},{"$f":"'1.Портфель кредитів'!Y734","v":""},4,"2018-06-01","_4_43252_2"]
[{"$f":"'1.Портфель кредитів'!H735","v":0},{"$f":"'1.Портфель кредитів'!D735","v":""},{"$f":"'1.Портфель кредитів'!#REF!","v":{"$error":"#REF!"}},{"$f":"'1.Портфель кредитів'!#REF!","v":{"$error":"#REF!"}},{"$f":"'1.Портфель кредитів'!#REF!","v":{"$error":"#REF!"}},{"$f":"'1.Портфель кредитів'!I735","v":0},{"$f":"'1.Портфель кредитів'!W735","v":0},{"$f":"'1.Портфель кредитів'!Y735","v":""},4,"2018-06-01","_4_43252_2"]
[{"$f":"'1.Портфель кредитів'!H736","v":0},{"$f":"'1.Портфель кредитів'!D736","v":""},{"$f":"'1.Портфель кредитів'!#REF!","v":{"$error":"#REF!"}},{"$f":"'1.Портфель кредитів'!#REF!","v":{"$error":"#REF!"}},{"$f":"'1.Портфель кредитів'!#REF!","v":{"$error":"#REF!"}},{"$f":"'1.Портфель кредитів'!I736","v":0},{"$f":"'1.Портфель кредитів'!W736","v":0},{"$f":"'1.Портфель кредитів'!Y736","v":""},4,"2018-06-01","_4_43252_2"]
[{"$f":"'1.Портфель кредитів'!H737","v":0},{"$f":"'1.Портфель кредитів'!D737","v":""},{"$f":"'1.Портфель кредитів'!#REF!","v":{"$error":"#REF!"}},{"$f":"'1.Портфель кредитів'!#REF!","v":{"$error":"#REF!"}},{"$f":"'1.Портфель кредитів'!#REF!","v":{"$error":"#REF!"}},{"$f":"'1.Портфель кредитів'!I737","v":0},{"$f":"'1.Портфель кредитів'!W737","v":0},{"$f":"'1.Портфель кредитів'!Y737","v":""},4,"2018-06-01","_4_43252_2"]
[{"$f":"'1.Портфель кредитів'!H738","v":0},{"$f":"'1.Портфель кредитів'!D738","v":""},{"$f":"'1.Портфель кредитів'!#REF!","v":{"$error":"#REF!"}},{"$f":"'1.Портфель кредитів'!#REF!","v":{"$error":"#REF!"}},{"$f":"'1.Портфель кредитів'!#REF!","v":{"$error":"#REF!"}},{"$f":"'1.Портфель кредитів'!I738","v":0},{"$f":"'1.Портфель кредитів'!W738","v":0},{"$f":"'1.Портфель кредитів'!Y738","v":""},4,"2018-06-01","_4_43252_2"]
[{"$f":"'1.Портфель кредитів'!H739","v":0},{"$f":"'1.Портфель кредитів'!D739","v":""},{"$f":"'1.Портфель кредитів'!#REF!","v":{"$error":"#REF!"}},{"$f":"'1.Портфель кредитів'!#REF!","v":{"$error":"#REF!"}},{"$f":"'1.Портфель кредитів'!#REF!","v":{"$error":"#REF!"}},{"$f":"'1.Портфель кредитів'!I739","v":0},{"$f":"'1.Портфель кредитів'!W739","v":0},{"$f":"'1.Портфель кредитів'!Y739","v":""},4,"2018-06-01","_4_43252_2"]
[{"$f":"'1.Портфель кредитів'!H740","v":0},{"$f":"'1.Портфель кредитів'!D740","v":""},{"$f":"'1.Портфель кредитів'!#REF!","v":{"$error":"#REF!"}},{"$f":"'1.Портфель кредитів'!#REF!","v":{"$error":"#REF!"}},{"$f":"'1.Портфель кредитів'!#REF!","v":{"$error":"#REF!"}},{"$f":"'1.Портфель кредитів'!I740","v":0},{"$f":"'1.Портфель кредитів'!W740","v":0},{"$f":"'1.Портфель кредитів'!Y740","v":""},4,"2018-06-01","_4_43252_2"]
[{"$f":"'1.Портфель кредитів'!H741","v":0},{"$f":"'1.Портфель кредитів'!D741","v":""},{"$f":"'1.Портфель кредитів'!#REF!","v":{"$error":"#REF!"}},{"$f":"'1.Портфель кредитів'!#REF!","v":{"$error":"#REF!"}},{"$f":"'1.Портфель кредитів'!#REF!","v":{"$error":"#REF!"}},{"$f":"'1.Портфель кредитів'!I741","v":0},{"$f":"'1.Портфель кредитів'!W741","v":0},{"$f":"'1.Портфель кредитів'!Y741","v":""},4,"2018-06-01","_4_43252_2"]
[{"$f":"'1.Портфель кредитів'!H742","v":0},{"$f":"'1.Портфель кредитів'!D742","v":""},{"$f":"'1.Портфель кредитів'!#REF!","v":{"$error":"#REF!"}},{"$f":"'1.Портфель кредитів'!#REF!","v":{"$error":"#REF!"}},{"$f":"'1.Портфель кредитів'!#REF!","v":{"$error":"#REF!"}},{"$f":"'1.Портфель кредитів'!I742","v":0},{"$f":"'1.Портфель кредитів'!W742","v":0},{"$f":"'1.Портфель кредитів'!Y742","v":""},4,"2018-06-01","_4_43252_2"]
[{"$f":"'1.Портфель кредитів'!H743","v":0},{"$f":"'1.Портфель кредитів'!D743","v":""},{"$f":"'1.Портфель кредитів'!#REF!","v":{"$error":"#REF!"}},{"$f":"'1.Портфель кредитів'!#REF!","v":{"$error":"#REF!"}},{"$f":"'1.Портфель кредитів'!#REF!","v":{"$error":"#REF!"}},{"$f":"'1.Портфель кредитів'!I743","v":0},{"$f":"'1.Портфель кредитів'!W743","v":0},{"$f":"'1.Портфель кредитів'!Y743","v":""},4,"2018-06-01","_4_43252_2"]
[{"$f":"'1.Портфель кредитів'!H744","v":0},{"$f":"'1.Портфель кредитів'!D744","v":""},{"$f":"'1.Портфель кредитів'!#REF!","v":{"$error":"#REF!"}},{"$f":"'1.Портфель кредитів'!#REF!","v":{"$error":"#REF!"}},{"$f":"'1.Портфель кредитів'!#REF!","v":{"$error":"#REF!"}},{"$f":"'1.Портфель кредитів'!I744","v":0},{"$f":"'1.Портфель кредитів'!W744","v":0},{"$f":"'1.Портфель кредитів'!Y744","v":""},4,"2018-06-01","_4_43252_2"]
[{"$f":"'1.Портфель кредитів'!H745","v":0},{"$f":"'1.Портфель кредитів'!D745","v":""},{"$f":"'1.Портфель кредитів'!#REF!","v":{"$error":"#REF!"}},{"$f":"'1.Портфель кредитів'!#REF!","v":{"$error":"#REF!"}},{"$f":"'1.Портфель кредитів'!#REF!","v":{"$error":"#REF!"}},{"$f":"'1.Портфель кредитів'!I745","v":0},{"$f":"'1.Портфель кредитів'!W745","v":0},{"$f":"'1.Портфель кредитів'!Y745","v":""},4,"2018-06-01","_4_43252_2"]
[{"$f":"'1.Портфель кредитів'!H746","v":0},{"$f":"'1.Портфель кредитів'!D746","v":""},{"$f":"'1.Портфель кредитів'!#REF!","v":{"$error":"#REF!"}},{"$f":"'1.Портфель кредитів'!#REF!","v":{"$error":"#REF!"}},{"$f":"'1.Портфель кредитів'!#REF!","v":{"$error":"#REF!"}},{"$f":"'1.Портфель кредитів'!I746","v":0},{"$f":"'1.Портфель кредитів'!W746","v":0},{"$f":"'1.Портфель кредитів'!Y746","v":""},4,"2018-06-01","_4_43252_2"]
[{"$f":"'1.Портфель кредитів'!H747","v":0},{"$f":"'1.Портфель кредитів'!D747","v":""},{"$f":"'1.Портфель кредитів'!#REF!","v":{"$error":"#REF!"}},{"$f":"'1.Портфель кредитів'!#REF!","v":{"$error":"#REF!"}},{"$f":"'1.Портфель кредитів'!#REF!","v":{"$error":"#REF!"}},{"$f":"'1.Портфель кредитів'!I747","v":0},{"$f":"'1.Портфель кредитів'!W747","v":0},{"$f":"'1.Портфель кредитів'!Y747","v":""},4,"2018-06-01","_4_43252_2"]
[{"$f":"'1.Портфель кредитів'!H748","v":0},{"$f":"'1.Портфель кредитів'!D748","v":""},{"$f":"'1.Портфель кредитів'!#REF!","v":{"$error":"#REF!"}},{"$f":"'1.Портфель кредитів'!#REF!","v":{"$error":"#REF!"}},{"$f":"'1.Портфель кредитів'!#REF!","v":{"$error":"#REF!"}},{"$f":"'1.Портфель кредитів'!I748","v":0},{"$f":"'1.Портфель кредитів'!W748","v":0},{"$f":"'1.Портфель кредитів'!Y748","v":""},4,"2018-06-01","_4_43252_2"]
[{"$f":"'1.Портфель кредитів'!H749","v":0},{"$f":"'1.Портфель кредитів'!D749","v":""},{"$f":"'1.Портфель кредитів'!#REF!","v":{"$error":"#REF!"}},{"$f":"'1.Портфель кредитів'!#REF!","v":{"$error":"#REF!"}},{"$f":"'1.Портфель кредитів'!#REF!","v":{"$error":"#REF!"}},{"$f":"'1.Портфель кредитів'!I749","v":0},{"$f":"'1.Портфель кредитів'!W749","v":0},{"$f":"'1.Портфель кредитів'!Y749","v":""},4,"2018-06-01","_4_43252_2"]
[{"$f":"'1.Портфель кредитів'!H750","v":0},{"$f":"'1.Портфель кредитів'!D750","v":""},{"$f":"'1.Портфель кредитів'!#REF!","v":{"$error":"#REF!"}},{"$f":"'1.Портфель кредитів'!#REF!","v":{"$error":"#REF!"}},{"$f":"'1.Портфель кредитів'!#REF!","v":{"$error":"#REF!"}},{"$f":"'1.Портфель кредитів'!I750","v":0},{"$f":"'1.Портфель кредитів'!W750","v":0},{"$f":"'1.Портфель кредитів'!Y750","v":""},4,"2018-06-01","_4_43252_2"]
[{"$f":"'1.Портфель кредитів'!H751","v":0},{"$f":"'1.Портфель кредитів'!D751","v":""},{"$f":"'1.Портфель кредитів'!#REF!","v":{"$error":"#REF!"}},{"$f":"'1.Портфель кредитів'!#REF!","v":{"$error":"#REF!"}},{"$f":"'1.Портфель кредитів'!#REF!","v":{"$error":"#REF!"}},{"$f":"'1.Портфель кредитів'!I751","v":0},{"$f":"'1.Портфель кредитів'!W751","v":0},{"$f":"'1.Портфель кредитів'!Y751","v":""},4,"2018-06-01","_4_43252_2"]
[{"$f":"'1.Портфель кредитів'!H752","v":0},{"$f":"'1.Портфель кредитів'!D752","v":""},{"$f":"'1.Портфель кредитів'!#REF!","v":{"$error":"#REF!"}},{"$f":"'1.Портфель кредитів'!#REF!","v":{"$error":"#REF!"}},{"$f":"'1.Портфель кредитів'!#REF!","v":{"$error":"#REF!"}},{"$f":"'1.Портфель кредитів'!I752","v":0},{"$f":"'1.Портфель кредитів'!W752","v":0},{"$f":"'1.Портфель кредитів'!Y752","v":""},4,"2018-06-01","_4_43252_2"]
[{"$f":"'1.Портфель кредитів'!H753","v":0},{"$f":"'1.Портфель кредитів'!D753","v":""},{"$f":"'1.Портфель кредитів'!#REF!","v":{"$error":"#REF!"}},{"$f":"'1.Портфель кредитів'!#REF!","v":{"$error":"#REF!"}},{"$f":"'1.Портфель кредитів'!#REF!","v":{"$error":"#REF!"}},{"$f":"'1.Портфель кредитів'!I753","v":0},{"$f":"'1.Портфель кредитів'!W753","v":0},{"$f":"'1.Портфель кредитів'!Y753","v":""},4,"2018-06-01","_4_43252_2"]
[{"$f":"'1.Портфель кредитів'!H754","v":0},{"$f":"'1.Портфель кредитів'!D754","v":""},{"$f":"'1.Портфель кредитів'!#REF!","v":{"$error":"#REF!"}},{"$f":"'1.Портфель кредитів'!#REF!","v":{"$error":"#REF!"}},{"$f":"'1.Портфель кредитів'!#REF!","v":{"$error":"#REF!"}},{"$f":"'1.Портфель кредитів'!I754","v":0},{"$f":"'1.Портфель кредитів'!W754","v":0},{"$f":"'1.Портфель кредитів'!Y754","v":""},4,"2018-06-01","_4_43252_2"]
[{"$f":"'1.Портфель кредитів'!H755","v":0},{"$f":"'1.Портфель кредитів'!D755","v":""},{"$f":"'1.Портфель кредитів'!#REF!","v":{"$error":"#REF!"}},{"$f":"'1.Портфель кредитів'!#REF!","v":{"$error":"#REF!"}},{"$f":"'1.Портфель кредитів'!#REF!","v":{"$error":"#REF!"}},{"$f":"'1.Портфель кредитів'!I755","v":0},{"$f":"'1.Портфель кредитів'!W755","v":0},{"$f":"'1.Портфель кредитів'!Y755","v":""},4,"2018-06-01","_4_43252_2"]
[{"$f":"'1.Портфель кредитів'!H756","v":0},{"$f":"'1.Портфель кредитів'!D756","v":""},{"$f":"'1.Портфель кредитів'!#REF!","v":{"$error":"#REF!"}},{"$f":"'1.Портфель кредитів'!#REF!","v":{"$error":"#REF!"}},{"$f":"'1.Портфель кредитів'!#REF!","v":{"$error":"#REF!"}},{"$f":"'1.Портфель кредитів'!I756","v":0},{"$f":"'1.Портфель кредитів'!W756","v":0},{"$f":"'1.Портфель кредитів'!Y756","v":""},4,"2018-06-01","_4_43252_2"]
[{"$f":"'1.Портфель кредитів'!H757","v":0},{"$f":"'1.Портфель кредитів'!D757","v":""},{"$f":"'1.Портфель кредитів'!#REF!","v":{"$error":"#REF!"}},{"$f":"'1.Портфель кредитів'!#REF!","v":{"$error":"#REF!"}},{"$f":"'1.Портфель кредитів'!#REF!","v":{"$error":"#REF!"}},{"$f":"'1.Портфель кредитів'!I757","v":0},{"$f":"'1.Портфель кредитів'!W757","v":0},{"$f":"'1.Портфель кредитів'!Y757","v":""},4,"2018-06-01","_4_43252_2"]
[{"$f":"'1.Портфель кредитів'!H758","v":0},{"$f":"'1.Портфель кредитів'!D758","v":""},{"$f":"'1.Портфель кредитів'!#REF!","v":{"$error":"#REF!"}},{"$f":"'1.Портфель кредитів'!#REF!","v":{"$error":"#REF!"}},{"$f":"'1.Портфель кредитів'!#REF!","v":{"$error":"#REF!"}},{"$f":"'1.Портфель кредитів'!I758","v":0},{"$f":"'1.Портфель кредитів'!W758","v":0},{"$f":"'1.Портфель кредитів'!Y758","v":""},4,"2018-06-01","_4_43252_2"]
[{"$f":"'1.Портфель кредитів'!H759","v":0},{"$f":"'1.Портфель кредитів'!D759","v":""},{"$f":"'1.Портфель кредитів'!#REF!","v":{"$error":"#REF!"}},{"$f":"'1.Портфель кредитів'!#REF!","v":{"$error":"#REF!"}},{"$f":"'1.Портфель кредитів'!#REF!","v":{"$error":"#REF!"}},{"$f":"'1.Портфель кредитів'!I759","v":0},{"$f":"'1.Портфель кредитів'!W759","v":0},{"$f":"'1.Портфель кредитів'!Y759","v":""},4,"2018-06-01","_4_43252_2"]
[{"$f":"'1.Портфель кредитів'!H760","v":0},{"$f":"'1.Портфель кредитів'!D760","v":""},{"$f":"'1.Портфель кредитів'!#REF!","v":{"$error":"#REF!"}},{"$f":"'1.Портфель кредитів'!#REF!","v":{"$error":"#REF!"}},{"$f":"'1.Портфель кредитів'!#REF!","v":{"$error":"#REF!"}},{"$f":"'1.Портфель кредитів'!I760","v":0},{"$f":"'1.Портфель кредитів'!W760","v":0},{"$f":"'1.Портфель кредитів'!Y760","v":""},4,"2018-06-01","_4_43252_2"]
[{"$f":"'1.Портфель кредитів'!H761","v":0},{"$f":"'1.Портфель кредитів'!D761","v":""},{"$f":"'1.Портфель кредитів'!#REF!","v":{"$error":"#REF!"}},{"$f":"'1.Портфель кредитів'!#REF!","v":{"$error":"#REF!"}},{"$f":"'1.Портфель кредитів'!#REF!","v":{"$error":"#REF!"}},{"$f":"'1.Портфель кредитів'!I761","v":0},{"$f":"'1.Портфель кредитів'!W761","v":0},{"$f":"'1.Портфель кредитів'!Y761","v":""},4,"2018-06-01","_4_43252_2"]
[{"$f":"'1.Портфель кредитів'!H762","v":0},{"$f":"'1.Портфель кредитів'!D762","v":""},{"$f":"'1.Портфель кредитів'!#REF!","v":{"$error":"#REF!"}},{"$f":"'1.Портфель кредитів'!#REF!","v":{"$error":"#REF!"}},{"$f":"'1.Портфель кредитів'!#REF!","v":{"$error":"#REF!"}},{"$f":"'1.Портфель кредитів'!I762","v":0},{"$f":"'1.Портфель кредитів'!W762","v":0},{"$f":"'1.Портфель кредитів'!Y762","v":""},4,"2018-06-01","_4_43252_2"]
[{"$f":"'1.Портфель кредитів'!H763","v":0},{"$f":"'1.Портфель кредитів'!D763","v":""},{"$f":"'1.Портфель кредитів'!#REF!","v":{"$error":"#REF!"}},{"$f":"'1.Портфель кредитів'!#REF!","v":{"$error":"#REF!"}},{"$f":"'1.Портфель кредитів'!#REF!","v":{"$error":"#REF!"}},{"$f":"'1.Портфель кредитів'!I763","v":0},{"$f":"'1.Портфель кредитів'!W763","v":0},{"$f":"'1.Портфель кредитів'!Y763","v":""},4,"2018-06-01","_4_43252_2"]
[{"$f":"'1.Портфель кредитів'!H764","v":0},{"$f":"'1.Портфель кредитів'!D764","v":""},{"$f":"'1.Портфель кредитів'!#REF!","v":{"$error":"#REF!"}},{"$f":"'1.Портфель кредитів'!#REF!","v":{"$error":"#REF!"}},{"$f":"'1.Портфель кредитів'!#REF!","v":{"$error":"#REF!"}},{"$f":"'1.Портфель кредитів'!I764","v":0},{"$f":"'1.Портфель кредитів'!W764","v":0},{"$f":"'1.Портфель кредитів'!Y764","v":""},4,"2018-06-01","_4_43252_2"]
[{"$f":"'1.Портфель кредитів'!H765","v":0},{"$f":"'1.Портфель кредитів'!D765","v":""},{"$f":"'1.Портфель кредитів'!#REF!","v":{"$error":"#REF!"}},{"$f":"'1.Портфель кредитів'!#REF!","v":{"$error":"#REF!"}},{"$f":"'1.Портфель кредитів'!#REF!","v":{"$error":"#REF!"}},{"$f":"'1.Портфель кредитів'!I765","v":0},{"$f":"'1.Портфель кредитів'!W765","v":0},{"$f":"'1.Портфель кредитів'!Y765","v":""},4,"2018-06-01","_4_43252_2"]
[{"$f":"'1.Портфель кредитів'!H766","v":0},{"$f":"'1.Портфель кредитів'!D766","v":""},{"$f":"'1.Портфель кредитів'!#REF!","v":{"$error":"#REF!"}},{"$f":"'1.Портфель кредитів'!#REF!","v":{"$error":"#REF!"}},{"$f":"'1.Портфель кредитів'!#REF!","v":{"$error":"#REF!"}},{"$f":"'1.Портфель кредитів'!I766","v":0},{"$f":"'1.Портфель кредитів'!W766","v":0},{"$f":"'1.Портфель кредитів'!Y766","v":""},4,"2018-06-01","_4_43252_2"]
[{"$f":"'1.Портфель кредитів'!H767","v":0},{"$f":"'1.Портфель кредитів'!D767","v":""},{"$f":"'1.Портфель кредитів'!#REF!","v":{"$error":"#REF!"}},{"$f":"'1.Портфель кредитів'!#REF!","v":{"$error":"#REF!"}},{"$f":"'1.Портфель кредитів'!#REF!","v":{"$error":"#REF!"}},{"$f":"'1.Портфель кредитів'!I767","v":0},{"$f":"'1.Портфель кредитів'!W767","v":0},{"$f":"'1.Портфель кредитів'!Y767","v":""},4,"2018-06-01","_4_43252_2"]
[{"$f":"'1.Портфель кредитів'!H768","v":0},{"$f":"'1.Портфель кредитів'!D768","v":""},{"$f":"'1.Портфель кредитів'!#REF!","v":{"$error":"#REF!"}},{"$f":"'1.Портфель кредитів'!#REF!","v":{"$error":"#REF!"}},{"$f":"'1.Портфель кредитів'!#REF!","v":{"$error":"#REF!"}},{"$f":"'1.Портфель кредитів'!I768","v":0},{"$f":"'1.Портфель кредитів'!W768","v":0},{"$f":"'1.Портфель кредитів'!Y768","v":""},4,"2018-06-01","_4_43252_2"]
[{"$f":"'1.Портфель кредитів'!H769","v":0},{"$f":"'1.Портфель кредитів'!D769","v":""},{"$f":"'1.Портфель кредитів'!#REF!","v":{"$error":"#REF!"}},{"$f":"'1.Портфель кредитів'!#REF!","v":{"$error":"#REF!"}},{"$f":"'1.Портфель кредитів'!#REF!","v":{"$error":"#REF!"}},{"$f":"'1.Портфель кредитів'!I769","v":0},{"$f":"'1.Портфель кредитів'!W769","v":0},{"$f":"'1.Портфель кредитів'!Y769","v":""},4,"2018-06-01","_4_43252_2"]
[{"$f":"'1.Портфель кредитів'!H770","v":0},{"$f":"'1.Портфель кредитів'!D770","v":""},{"$f":"'1.Портфель кредитів'!#REF!","v":{"$error":"#REF!"}},{"$f":"'1.Портфель кредитів'!#REF!","v":{"$error":"#REF!"}},{"$f":"'1.Портфель кредитів'!#REF!","v":{"$error":"#REF!"}},{"$f":"'1.Портфель кредитів'!I770","v":0},{"$f":"'1.Портфель кредитів'!W770","v":0},{"$f":"'1.Портфель кредитів'!Y770","v":""},4,"2018-06-01","_4_43252_2"]
[{"$f":"'1.Портфель кредитів'!H771","v":0},{"$f":"'1.Портфель кредитів'!D771","v":""},{"$f":"'1.Портфель кредитів'!#REF!","v":{"$error":"#REF!"}},{"$f":"'1.Портфель кредитів'!#REF!","v":{"$error":"#REF!"}},{"$f":"'1.Портфель кредитів'!#REF!","v":{"$error":"#REF!"}},{"$f":"'1.Портфель кредитів'!I771","v":0},{"$f":"'1.Портфель кредитів'!W771","v":0},{"$f":"'1.Портфель кредитів'!Y771","v":""},4,"2018-06-01","_4_43252_2"]
[{"$f":"'1.Портфель кредитів'!H772","v":0},{"$f":"'1.Портфель кредитів'!D772","v":""},{"$f":"'1.Портфель кредитів'!#REF!","v":{"$error":"#REF!"}},{"$f":"'1.Портфель кредитів'!#REF!","v":{"$error":"#REF!"}},{"$f":"'1.Портфель кредитів'!#REF!","v":{"$error":"#REF!"}},{"$f":"'1.Портфель кредитів'!I772","v":0},{"$f":"'1.Портфель кредитів'!W772","v":0},{"$f":"'1.Портфель кредитів'!Y772","v":""},4,"2018-06-01","_4_43252_2"]
[{"$f":"'1.Портфель кредитів'!H773","v":0},{"$f":"'1.Портфель кредитів'!D773","v":""},{"$f":"'1.Портфель кредитів'!#REF!","v":{"$error":"#REF!"}},{"$f":"'1.Портфель кредитів'!#REF!","v":{"$error":"#REF!"}},{"$f":"'1.Портфель кредитів'!#REF!","v":{"$error":"#REF!"}},{"$f":"'1.Портфель кредитів'!I773","v":0},{"$f":"'1.Портфель кредитів'!W773","v":0},{"$f":"'1.Портфель кредитів'!Y773","v":""},4,"2018-06-01","_4_43252_2"]
[{"$f":"'1.Портфель кредитів'!H774","v":0},{"$f":"'1.Портфель кредитів'!D774","v":""},{"$f":"'1.Портфель кредитів'!#REF!","v":{"$error":"#REF!"}},{"$f":"'1.Портфель кредитів'!#REF!","v":{"$error":"#REF!"}},{"$f":"'1.Портфель кредитів'!#REF!","v":{"$error":"#REF!"}},{"$f":"'1.Портфель кредитів'!I774","v":0},{"$f":"'1.Портфель кредитів'!W774","v":0},{"$f":"'1.Портфель кредитів'!Y774","v":""},4,"2018-06-01","_4_43252_2"]
[{"$f":"'1.Портфель кредитів'!H775","v":0},{"$f":"'1.Портфель кредитів'!D775","v":""},{"$f":"'1.Портфель кредитів'!#REF!","v":{"$error":"#REF!"}},{"$f":"'1.Портфель кредитів'!#REF!","v":{"$error":"#REF!"}},{"$f":"'1.Портфель кредитів'!#REF!","v":{"$error":"#REF!"}},{"$f":"'1.Портфель кредитів'!I775","v":0},{"$f":"'1.Портфель кредитів'!W775","v":0},{"$f":"'1.Портфель кредитів'!Y775","v":""},4,"2018-06-01","_4_43252_2"]
[{"$f":"'1.Портфель кредитів'!H776","v":0},{"$f":"'1.Портфель кредитів'!D776","v":""},{"$f":"'1.Портфель кредитів'!#REF!","v":{"$error":"#REF!"}},{"$f":"'1.Портфель кредитів'!#REF!","v":{"$error":"#REF!"}},{"$f":"'1.Портфель кредитів'!#REF!","v":{"$error":"#REF!"}},{"$f":"'1.Портфель кредитів'!I776","v":0},{"$f":"'1.Портфель кредитів'!W776","v":0},{"$f":"'1.Портфель кредитів'!Y776","v":""},4,"2018-06-01","_4_43252_2"]
[{"$f":"'1.Портфель кредитів'!H777","v":0},{"$f":"'1.Портфель кредитів'!D777","v":""},{"$f":"'1.Портфель кредитів'!#REF!","v":{"$error":"#REF!"}},{"$f":"'1.Портфель кредитів'!#REF!","v":{"$error":"#REF!"}},{"$f":"'1.Портфель кредитів'!#REF!","v":{"$error":"#REF!"}},{"$f":"'1.Портфель кредитів'!I777","v":0},{"$f":"'1.Портфель кредитів'!W777","v":0},{"$f":"'1.Портфель кредитів'!Y777","v":""},4,"2018-06-01","_4_43252_2"]
[{"$f":"'1.Портфель кредитів'!H778","v":0},{"$f":"'1.Портфель кредитів'!D778","v":""},{"$f":"'1.Портфель кредитів'!#REF!","v":{"$error":"#REF!"}},{"$f":"'1.Портфель кредитів'!#REF!","v":{"$error":"#REF!"}},{"$f":"'1.Портфель кредитів'!#REF!","v":{"$error":"#REF!"}},{"$f":"'1.Портфель кредитів'!I778","v":0},{"$f":"'1.Портфель кредитів'!W778","v":0},{"$f":"'1.Портфель кредитів'!Y778","v":""},4,"2018-06-01","_4_43252_2"]
[{"$f":"'1.Портфель кредитів'!H779","v":0},{"$f":"'1.Портфель кредитів'!D779","v":""},{"$f":"'1.Портфель кредитів'!#REF!","v":{"$error":"#REF!"}},{"$f":"'1.Портфель кредитів'!#REF!","v":{"$error":"#REF!"}},{"$f":"'1.Портфель кредитів'!#REF!","v":{"$error":"#REF!"}},{"$f":"'1.Портфель кредитів'!I779","v":0},{"$f":"'1.Портфель кредитів'!W779","v":0},{"$f":"'1.Портфель кредитів'!Y779","v":""},4,"2018-06-01","_4_43252_2"]
[{"$f":"'1.Портфель кредитів'!H780","v":0},{"$f":"'1.Портфель кредитів'!D780","v":""},{"$f":"'1.Портфель кредитів'!#REF!","v":{"$error":"#REF!"}},{"$f":"'1.Портфель кредитів'!#REF!","v":{"$error":"#REF!"}},{"$f":"'1.Портфель кредитів'!#REF!","v":{"$error":"#REF!"}},{"$f":"'1.Портфель кредитів'!I780","v":0},{"$f":"'1.Портфель кредитів'!W780","v":0},{"$f":"'1.Портфель кредитів'!Y780","v":""},4,"2018-06-01","_4_43252_2"]
[{"$f":"'1.Портфель кредитів'!H781","v":0},{"$f":"'1.Портфель кредитів'!D781","v":""},{"$f":"'1.Портфель кредитів'!#REF!","v":{"$error":"#REF!"}},{"$f":"'1.Портфель кредитів'!#REF!","v":{"$error":"#REF!"}},{"$f":"'1.Портфель кредитів'!#REF!","v":{"$error":"#REF!"}},{"$f":"'1.Портфель кредитів'!I781","v":0},{"$f":"'1.Портфель кредитів'!W781","v":0},{"$f":"'1.Портфель кредитів'!Y781","v":""},4,"2018-06-01","_4_43252_2"]
[{"$f":"'1.Портфель кредитів'!H782","v":0},{"$f":"'1.Портфель кредитів'!D782","v":""},{"$f":"'1.Портфель кредитів'!#REF!","v":{"$error":"#REF!"}},{"$f":"'1.Портфель кредитів'!#REF!","v":{"$error":"#REF!"}},{"$f":"'1.Портфель кредитів'!#REF!","v":{"$error":"#REF!"}},{"$f":"'1.Портфель кредитів'!I782","v":0},{"$f":"'1.Портфель кредитів'!W782","v":0},{"$f":"'1.Портфель кредитів'!Y782","v":""},4,"2018-06-01","_4_43252_2"]
[{"$f":"'1.Портфель кредитів'!H783","v":0},{"$f":"'1.Портфель кредитів'!D783","v":""},{"$f":"'1.Портфель кредитів'!#REF!","v":{"$error":"#REF!"}},{"$f":"'1.Портфель кредитів'!#REF!","v":{"$error":"#REF!"}},{"$f":"'1.Портфель кредитів'!#REF!","v":{"$error":"#REF!"}},{"$f":"'1.Портфель кредитів'!I783","v":0},{"$f":"'1.Портфель кредитів'!W783","v":0},{"$f":"'1.Портфель кредитів'!Y783","v":""},4,"2018-06-01","_4_43252_2"]
[{"$f":"'1.Портфель кредитів'!H784","v":0},{"$f":"'1.Портфель кредитів'!D784","v":""},{"$f":"'1.Портфель кредитів'!#REF!","v":{"$error":"#REF!"}},{"$f":"'1.Портфель кредитів'!#REF!","v":{"$error":"#REF!"}},{"$f":"'1.Портфель кредитів'!#REF!","v":{"$error":"#REF!"}},{"$f":"'1.Портфель кредитів'!I784","v":0},{"$f":"'1.Портфель кредитів'!W784","v":0},{"$f":"'1.Портфель кредитів'!Y784","v":""},{"$f":"$E$1","v":4},{"$f":"$E$2","v":"2018-06-01"},{"$f":"B838&\"_\"&I838&\"_\"&J838&\"_\"&$E$3","v":"_4_43252_2"}]
[{"$f":"'1.Портфель кредитів'!H785","v":0},{"$f":"'1.Портфель кредитів'!D785","v":""},{"$f":"'1.Портфель кредитів'!#REF!","v":{"$error":"#REF!"}},{"$f":"'1.Портфель кредитів'!#REF!","v":{"$error":"#REF!"}},{"$f":"'1.Портфель кредитів'!#REF!","v":{"$error":"#REF!"}},{"$f":"'1.Портфель кредитів'!I785","v":0},{"$f":"'1.Портфель кредитів'!W785","v":0},{"$f":"'1.Портфель кредитів'!Y785","v":""},4,"2018-06-01","_4_43252_2"]
[{"$f":"'1.Портфель кредитів'!H786","v":0},{"$f":"'1.Портфель кредитів'!D786","v":""},{"$f":"'1.Портфель кредитів'!#REF!","v":{"$error":"#REF!"}},{"$f":"'1.Портфель кредитів'!#REF!","v":{"$error":"#REF!"}},{"$f":"'1.Портфель кредитів'!#REF!","v":{"$error":"#REF!"}},{"$f":"'1.Портфель кредитів'!I786","v":0},{"$f":"'1.Портфель кредитів'!W786","v":0},{"$f":"'1.Портфель кредитів'!Y786","v":""},4,"2018-06-01","_4_43252_2"]
[{"$f":"'1.Портфель кредитів'!H787","v":0},{"$f":"'1.Портфель кредитів'!D787","v":""},{"$f":"'1.Портфель кредитів'!#REF!","v":{"$error":"#REF!"}},{"$f":"'1.Портфель кредитів'!#REF!","v":{"$error":"#REF!"}},{"$f":"'1.Портфель кредитів'!#REF!","v":{"$error":"#REF!"}},{"$f":"'1.Портфель кредитів'!I787","v":0},{"$f":"'1.Портфель кредитів'!W787","v":0},{"$f":"'1.Портфель кредитів'!Y787","v":""},4,"2018-06-01","_4_43252_2"]
[{"$f":"'1.Портфель кредитів'!H788","v":0},{"$f":"'1.Портфель кредитів'!D788","v":""},{"$f":"'1.Портфель кредитів'!#REF!","v":{"$error":"#REF!"}},{"$f":"'1.Портфель кредитів'!#REF!","v":{"$error":"#REF!"}},{"$f":"'1.Портфель кредитів'!#REF!","v":{"$error":"#REF!"}},{"$f":"'1.Портфель кредитів'!I788","v":0},{"$f":"'1.Портфель кредитів'!W788","v":0},{"$f":"'1.Портфель кредитів'!Y788","v":""},4,"2018-06-01","_4_43252_2"]
[{"$f":"'1.Портфель кредитів'!H789","v":0},{"$f":"'1.Портфель кредитів'!D789","v":""},{"$f":"'1.Портфель кредитів'!#REF!","v":{"$error":"#REF!"}},{"$f":"'1.Портфель кредитів'!#REF!","v":{"$error":"#REF!"}},{"$f":"'1.Портфель кредитів'!#REF!","v":{"$error":"#REF!"}},{"$f":"'1.Портфель кредитів'!I789","v":0},{"$f":"'1.Портфель кредитів'!W789","v":0},{"$f":"'1.Портфель кредитів'!Y789","v":""},4,"2018-06-01","_4_43252_2"]
[{"$f":"'1.Портфель кредитів'!H790","v":0},{"$f":"'1.Портфель кредитів'!D790","v":""},{"$f":"'1.Портфель кредитів'!#REF!","v":{"$error":"#REF!"}},{"$f":"'1.Портфель кредитів'!#REF!","v":{"$error":"#REF!"}},{"$f":"'1.Портфель кредитів'!#REF!","v":{"$error":"#REF!"}},{"$f":"'1.Портфель кредитів'!I790","v":0},{"$f":"'1.Портфель кредитів'!W790","v":0},{"$f":"'1.Портфель кредитів'!Y790","v":""},4,"2018-06-01","_4_43252_2"]
[{"$f":"'1.Портфель кредитів'!H791","v":0},{"$f":"'1.Портфель кредитів'!D791","v":""},{"$f":"'1.Портфель кредитів'!#REF!","v":{"$error":"#REF!"}},{"$f":"'1.Портфель кредитів'!#REF!","v":{"$error":"#REF!"}},{"$f":"'1.Портфель кредитів'!#REF!","v":{"$error":"#REF!"}},{"$f":"'1.Портфель кредитів'!I791","v":0},{"$f":"'1.Портфель кредитів'!W791","v":0},{"$f":"'1.Портфель кредитів'!Y791","v":""},4,"2018-06-01","_4_43252_2"]
[{"$f":"'1.Портфель кредитів'!H792","v":0},{"$f":"'1.Портфель кредитів'!D792","v":""},{"$f":"'1.Портфель кредитів'!#REF!","v":{"$error":"#REF!"}},{"$f":"'1.Портфель кредитів'!#REF!","v":{"$error":"#REF!"}},{"$f":"'1.Портфель кредитів'!#REF!","v":{"$error":"#REF!"}},{"$f":"'1.Портфель кредитів'!I792","v":0},{"$f":"'1.Портфель кредитів'!W792","v":0},{"$f":"'1.Портфель кредитів'!Y792","v":""},4,"2018-06-01","_4_43252_2"]
[{"$f":"'1.Портфель кредитів'!H793","v":0},{"$f":"'1.Портфель кредитів'!D793","v":""},{"$f":"'1.Портфель кредитів'!#REF!","v":{"$error":"#REF!"}},{"$f":"'1.Портфель кредитів'!#REF!","v":{"$error":"#REF!"}},{"$f":"'1.Портфель кредитів'!#REF!","v":{"$error":"#REF!"}},{"$f":"'1.Портфель кредитів'!I793","v":0},{"$f":"'1.Портфель кредитів'!W793","v":0},{"$f":"'1.Портфель кредитів'!Y793","v":""},4,"2018-06-01","_4_43252_2"]
[{"$f":"'1.Портфель кредитів'!H794","v":0},{"$f":"'1.Портфель кредитів'!D794","v":""},{"$f":"'1.Портфель кредитів'!#REF!","v":{"$error":"#REF!"}},{"$f":"'1.Портфель кредитів'!#REF!","v":{"$error":"#REF!"}},{"$f":"'1.Портфель кредитів'!#REF!","v":{"$error":"#REF!"}},{"$f":"'1.Портфель кредитів'!I794","v":0},{"$f":"'1.Портфель кредитів'!W794","v":0},{"$f":"'1.Портфель кредитів'!Y794","v":""},4,"2018-06-01","_4_43252_2"]
[{"$f":"'1.Портфель кредитів'!H795","v":0},{"$f":"'1.Портфель кредитів'!D795","v":""},{"$f":"'1.Портфель кредитів'!#REF!","v":{"$error":"#REF!"}},{"$f":"'1.Портфель кредитів'!#REF!","v":{"$error":"#REF!"}},{"$f":"'1.Портфель кредитів'!#REF!","v":{"$error":"#REF!"}},{"$f":"'1.Портфель кредитів'!I795","v":0},{"$f":"'1.Портфель кредитів'!W795","v":0},{"$f":"'1.Портфель кредитів'!Y795","v":""},4,"2018-06-01","_4_43252_2"]
[{"$f":"'1.Портфель кредитів'!H796","v":0},{"$f":"'1.Портфель кредитів'!D796","v":""},{"$f":"'1.Портфель кредитів'!#REF!","v":{"$error":"#REF!"}},{"$f":"'1.Портфель кредитів'!#REF!","v":{"$error":"#REF!"}},{"$f":"'1.Портфель кредитів'!#REF!","v":{"$error":"#REF!"}},{"$f":"'1.Портфель кредитів'!I796","v":0},{"$f":"'1.Портфель кредитів'!W796","v":0},{"$f":"'1.Портфель кредитів'!Y796","v":""},4,"2018-06-01","_4_43252_2"]
[{"$f":"'1.Портфель кредитів'!H797","v":0},{"$f":"'1.Портфель кредитів'!D797","v":""},{"$f":"'1.Портфель кредитів'!#REF!","v":{"$error":"#REF!"}},{"$f":"'1.Портфель кредитів'!#REF!","v":{"$error":"#REF!"}},{"$f":"'1.Портфель кредитів'!#REF!","v":{"$error":"#REF!"}},{"$f":"'1.Портфель кредитів'!I797","v":0},{"$f":"'1.Портфель кредитів'!W797","v":0},{"$f":"'1.Портфель кредитів'!Y797","v":""},4,"2018-06-01","_4_43252_2"]
[{"$f":"'1.Портфель кредитів'!H798","v":0},{"$f":"'1.Портфель кредитів'!D798","v":""},{"$f":"'1.Портфель кредитів'!#REF!","v":{"$error":"#REF!"}},{"$f":"'1.Портфель кредитів'!#REF!","v":{"$error":"#REF!"}},{"$f":"'1.Портфель кредитів'!#REF!","v":{"$error":"#REF!"}},{"$f":"'1.Портфель кредитів'!I798","v":0},{"$f":"'1.Портфель кредитів'!W798","v":0},{"$f":"'1.Портфель кредитів'!Y798","v":""},4,"2018-06-01","_4_43252_2"]
[{"$f":"'1.Портфель кредитів'!H799","v":0},{"$f":"'1.Портфель кредитів'!D799","v":""},{"$f":"'1.Портфель кредитів'!#REF!","v":{"$error":"#REF!"}},{"$f":"'1.Портфель кредитів'!#REF!","v":{"$error":"#REF!"}},{"$f":"'1.Портфель кредитів'!#REF!","v":{"$error":"#REF!"}},{"$f":"'1.Портфель кредитів'!I799","v":0},{"$f":"'1.Портфель кредитів'!W799","v":0},{"$f":"'1.Портфель кредитів'!Y799","v":""},4,"2018-06-01","_4_43252_2"]
[{"$f":"'1.Портфель кредитів'!H800","v":0},{"$f":"'1.Портфель кредитів'!D800","v":""},{"$f":"'1.Портфель кредитів'!#REF!","v":{"$error":"#REF!"}},{"$f":"'1.Портфель кредитів'!#REF!","v":{"$error":"#REF!"}},{"$f":"'1.Портфель кредитів'!#REF!","v":{"$error":"#REF!"}},{"$f":"'1.Портфель кредитів'!I800","v":0},{"$f":"'1.Портфель кредитів'!W800","v":0},{"$f":"'1.Портфель кредитів'!Y800","v":""},4,"2018-06-01","_4_43252_2"]
[{"$f":"'1.Портфель кредитів'!H801","v":0},{"$f":"'1.Портфель кредитів'!D801","v":""},{"$f":"'1.Портфель кредитів'!#REF!","v":{"$error":"#REF!"}},{"$f":"'1.Портфель кредитів'!#REF!","v":{"$error":"#REF!"}},{"$f":"'1.Портфель кредитів'!#REF!","v":{"$error":"#REF!"}},{"$f":"'1.Портфель кредитів'!I801","v":0},{"$f":"'1.Портфель кредитів'!W801","v":0},{"$f":"'1.Портфель кредитів'!Y801","v":""},4,"2018-06-01","_4_43252_2"]
[{"$f":"'1.Портфель кредитів'!H802","v":0},{"$f":"'1.Портфель кредитів'!D802","v":""},{"$f":"'1.Портфель кредитів'!#REF!","v":{"$error":"#REF!"}},{"$f":"'1.Портфель кредитів'!#REF!","v":{"$error":"#REF!"}},{"$f":"'1.Портфель кредитів'!#REF!","v":{"$error":"#REF!"}},{"$f":"'1.Портфель кредитів'!I802","v":0},{"$f":"'1.Портфель кредитів'!W802","v":0},{"$f":"'1.Портфель кредитів'!Y802","v":""},4,"2018-06-01","_4_43252_2"]
[{"$f":"'1.Портфель кредитів'!H803","v":0},{"$f":"'1.Портфель кредитів'!D803","v":""},{"$f":"'1.Портфель кредитів'!#REF!","v":{"$error":"#REF!"}},{"$f":"'1.Портфель кредитів'!#REF!","v":{"$error":"#REF!"}},{"$f":"'1.Портфель кредитів'!#REF!","v":{"$error":"#REF!"}},{"$f":"'1.Портфель кредитів'!I803","v":0},{"$f":"'1.Портфель кредитів'!W803","v":0},{"$f":"'1.Портфель кредитів'!Y803","v":""},4,"2018-06-01","_4_43252_2"]
[{"$f":"'1.Портфель кредитів'!H804","v":0},{"$f":"'1.Портфель кредитів'!D804","v":""},{"$f":"'1.Портфель кредитів'!#REF!","v":{"$error":"#REF!"}},{"$f":"'1.Портфель кредитів'!#REF!","v":{"$error":"#REF!"}},{"$f":"'1.Портфель кредитів'!#REF!","v":{"$error":"#REF!"}},{"$f":"'1.Портфель кредитів'!I804","v":0},{"$f":"'1.Портфель кредитів'!W804","v":0},{"$f":"'1.Портфель кредитів'!Y804","v":""},4,"2018-06-01","_4_43252_2"]
[{"$f":"'1.Портфель кредитів'!H805","v":0},{"$f":"'1.Портфель кредитів'!D805","v":""},{"$f":"'1.Портфель кредитів'!#REF!","v":{"$error":"#REF!"}},{"$f":"'1.Портфель кредитів'!#REF!","v":{"$error":"#REF!"}},{"$f":"'1.Портфель кредитів'!#REF!","v":{"$error":"#REF!"}},{"$f":"'1.Портфель кредитів'!I805","v":0},{"$f":"'1.Портфель кредитів'!W805","v":0},{"$f":"'1.Портфель кредитів'!Y805","v":""},4,"2018-06-01","_4_43252_2"]
[{"$f":"'1.Портфель кредитів'!H806","v":0},{"$f":"'1.Портфель кредитів'!D806","v":""},{"$f":"'1.Портфель кредитів'!#REF!","v":{"$error":"#REF!"}},{"$f":"'1.Портфель кредитів'!#REF!","v":{"$error":"#REF!"}},{"$f":"'1.Портфель кредитів'!#REF!","v":{"$error":"#REF!"}},{"$f":"'1.Портфель кредитів'!I806","v":0},{"$f":"'1.Портфель кредитів'!W806","v":0},{"$f":"'1.Портфель кредитів'!Y806","v":""},4,"2018-06-01","_4_43252_2"]
[{"$f":"'1.Портфель кредитів'!H807","v":0},{"$f":"'1.Портфель кредитів'!D807","v":""},{"$f":"'1.Портфель кредитів'!#REF!","v":{"$error":"#REF!"}},{"$f":"'1.Портфель кредитів'!#REF!","v":{"$error":"#REF!"}},{"$f":"'1.Портфель кредитів'!#REF!","v":{"$error":"#REF!"}},{"$f":"'1.Портфель кредитів'!I807","v":0},{"$f":"'1.Портфель кредитів'!W807","v":0},{"$f":"'1.Портфель кредитів'!Y807","v":""},4,"2018-06-01","_4_43252_2"]
[{"$f":"'1.Портфель кредитів'!H808","v":0},{"$f":"'1.Портфель кредитів'!D808","v":""},{"$f":"'1.Портфель кредитів'!#REF!","v":{"$error":"#REF!"}},{"$f":"'1.Портфель кредитів'!#REF!","v":{"$error":"#REF!"}},{"$f":"'1.Портфель кредитів'!#REF!","v":{"$error":"#REF!"}},{"$f":"'1.Портфель кредитів'!I808","v":0},{"$f":"'1.Портфель кредитів'!W808","v":0},{"$f":"'1.Портфель кредитів'!Y808","v":""},4,"2018-06-01","_4_43252_2"]
[{"$f":"'1.Портфель кредитів'!H809","v":0},{"$f":"'1.Портфель кредитів'!D809","v":""},{"$f":"'1.Портфель кредитів'!#REF!","v":{"$error":"#REF!"}},{"$f":"'1.Портфель кредитів'!#REF!","v":{"$error":"#REF!"}},{"$f":"'1.Портфель кредитів'!#REF!","v":{"$error":"#REF!"}},{"$f":"'1.Портфель кредитів'!I809","v":0},{"$f":"'1.Портфель кредитів'!W809","v":0},{"$f":"'1.Портфель кредитів'!Y809","v":""},4,"2018-06-01","_4_43252_2"]
[{"$f":"'1.Портфель кредитів'!H810","v":0},{"$f":"'1.Портфель кредитів'!D810","v":""},{"$f":"'1.Портфель кредитів'!#REF!","v":{"$error":"#REF!"}},{"$f":"'1.Портфель кредитів'!#REF!","v":{"$error":"#REF!"}},{"$f":"'1.Портфель кредитів'!#REF!","v":{"$error":"#REF!"}},{"$f":"'1.Портфель кредитів'!I810","v":0},{"$f":"'1.Портфель кредитів'!W810","v":0},{"$f":"'1.Портфель кредитів'!Y810","v":""},4,"2018-06-01","_4_43252_2"]
[{"$f":"'1.Портфель кредитів'!H811","v":0},{"$f":"'1.Портфель кредитів'!D811","v":""},{"$f":"'1.Портфель кредитів'!#REF!","v":{"$error":"#REF!"}},{"$f":"'1.Портфель кредитів'!#REF!","v":{"$error":"#REF!"}},{"$f":"'1.Портфель кредитів'!#REF!","v":{"$error":"#REF!"}},{"$f":"'1.Портфель кредитів'!I811","v":0},{"$f":"'1.Портфель кредитів'!W811","v":0},{"$f":"'1.Портфель кредитів'!Y811","v":""},4,"2018-06-01","_4_43252_2"]
[{"$f":"'1.Портфель кредитів'!H812","v":0},{"$f":"'1.Портфель кредитів'!D812","v":""},{"$f":"'1.Портфель кредитів'!#REF!","v":{"$error":"#REF!"}},{"$f":"'1.Портфель кредитів'!#REF!","v":{"$error":"#REF!"}},{"$f":"'1.Портфель кредитів'!#REF!","v":{"$error":"#REF!"}},{"$f":"'1.Портфель кредитів'!I812","v":0},{"$f":"'1.Портфель кредитів'!W812","v":0},{"$f":"'1.Портфель кредитів'!Y812","v":""},4,"2018-06-01","_4_43252_2"]
[{"$f":"'1.Портфель кредитів'!H813","v":0},{"$f":"'1.Портфель кредитів'!D813","v":""},{"$f":"'1.Портфель кредитів'!#REF!","v":{"$error":"#REF!"}},{"$f":"'1.Портфель кредитів'!#REF!","v":{"$error":"#REF!"}},{"$f":"'1.Портфель кредитів'!#REF!","v":{"$error":"#REF!"}},{"$f":"'1.Портфель кредитів'!I813","v":0},{"$f":"'1.Портфель кредитів'!W813","v":0},{"$f":"'1.Портфель кредитів'!Y813","v":""},4,"2018-06-01","_4_43252_2"]
[{"$f":"'1.Портфель кредитів'!H814","v":0},{"$f":"'1.Портфель кредитів'!D814","v":""},{"$f":"'1.Портфель кредитів'!#REF!","v":{"$error":"#REF!"}},{"$f":"'1.Портфель кредитів'!#REF!","v":{"$error":"#REF!"}},{"$f":"'1.Портфель кредитів'!#REF!","v":{"$error":"#REF!"}},{"$f":"'1.Портфель кредитів'!I814","v":0},{"$f":"'1.Портфель кредитів'!W814","v":0},{"$f":"'1.Портфель кредитів'!Y814","v":""},4,"2018-06-01","_4_43252_2"]
[{"$f":"'1.Портфель кредитів'!H815","v":0},{"$f":"'1.Портфель кредитів'!D815","v":""},{"$f":"'1.Портфель кредитів'!#REF!","v":{"$error":"#REF!"}},{"$f":"'1.Портфель кредитів'!#REF!","v":{"$error":"#REF!"}},{"$f":"'1.Портфель кредитів'!#REF!","v":{"$error":"#REF!"}},{"$f":"'1.Портфель кредитів'!I815","v":0},{"$f":"'1.Портфель кредитів'!W815","v":0},{"$f":"'1.Портфель кредитів'!Y815","v":""},4,"2018-06-01","_4_43252_2"]
[{"$f":"'1.Портфель кредитів'!H816","v":0},{"$f":"'1.Портфель кредитів'!D816","v":""},{"$f":"'1.Портфель кредитів'!#REF!","v":{"$error":"#REF!"}},{"$f":"'1.Портфель кредитів'!#REF!","v":{"$error":"#REF!"}},{"$f":"'1.Портфель кредитів'!#REF!","v":{"$error":"#REF!"}},{"$f":"'1.Портфель кредитів'!I816","v":0},{"$f":"'1.Портфель кредитів'!W816","v":0},{"$f":"'1.Портфель кредитів'!Y816","v":""},4,"2018-06-01","_4_43252_2"]
[{"$f":"'1.Портфель кредитів'!H817","v":0},{"$f":"'1.Портфель кредитів'!D817","v":""},{"$f":"'1.Портфель кредитів'!#REF!","v":{"$error":"#REF!"}},{"$f":"'1.Портфель кредитів'!#REF!","v":{"$error":"#REF!"}},{"$f":"'1.Портфель кредитів'!#REF!","v":{"$error":"#REF!"}},{"$f":"'1.Портфель кредитів'!I817","v":0},{"$f":"'1.Портфель кредитів'!W817","v":0},{"$f":"'1.Портфель кредитів'!Y817","v":""},4,"2018-06-01","_4_43252_2"]
[{"$f":"'1.Портфель кредитів'!H818","v":0},{"$f":"'1.Портфель кредитів'!D818","v":""},{"$f":"'1.Портфель кредитів'!#REF!","v":{"$error":"#REF!"}},{"$f":"'1.Портфель кредитів'!#REF!","v":{"$error":"#REF!"}},{"$f":"'1.Портфель кредитів'!#REF!","v":{"$error":"#REF!"}},{"$f":"'1.Портфель кредитів'!I818","v":0},{"$f":"'1.Портфель кредитів'!W818","v":0},{"$f":"'1.Портфель кредитів'!Y818","v":""},4,"2018-06-01","_4_43252_2"]
[{"$f":"'1.Портфель кредитів'!H819","v":0},{"$f":"'1.Портфель кредитів'!D819","v":""},{"$f":"'1.Портфель кредитів'!#REF!","v":{"$error":"#REF!"}},{"$f":"'1.Портфель кредитів'!#REF!","v":{"$error":"#REF!"}},{"$f":"'1.Портфель кредитів'!#REF!","v":{"$error":"#REF!"}},{"$f":"'1.Портфель кредитів'!I819","v":0},{"$f":"'1.Портфель кредитів'!W819","v":0},{"$f":"'1.Портфель кредитів'!Y819","v":""},4,"2018-06-01","_4_43252_2"]
[{"$f":"'1.Портфель кредитів'!H820","v":0},{"$f":"'1.Портфель кредитів'!D820","v":""},{"$f":"'1.Портфель кредитів'!#REF!","v":{"$error":"#REF!"}},{"$f":"'1.Портфель кредитів'!#REF!","v":{"$error":"#REF!"}},{"$f":"'1.Портфель кредитів'!#REF!","v":{"$error":"#REF!"}},{"$f":"'1.Портфель кредитів'!I820","v":0},{"$f":"'1.Портфель кредитів'!W820","v":0},{"$f":"'1.Портфель кредитів'!Y820","v":""},4,"2018-06-01","_4_43252_2"]
[{"$f":"'1.Портфель кредитів'!H821","v":0},{"$f":"'1.Портфель кредитів'!D821","v":""},{"$f":"'1.Портфель кредитів'!#REF!","v":{"$error":"#REF!"}},{"$f":"'1.Портфель кредитів'!#REF!","v":{"$error":"#REF!"}},{"$f":"'1.Портфель кредитів'!#REF!","v":{"$error":"#REF!"}},{"$f":"'1.Портфель кредитів'!I821","v":0},{"$f":"'1.Портфель кредитів'!W821","v":0},{"$f":"'1.Портфель кредитів'!Y821","v":""},4,"2018-06-01","_4_43252_2"]
[{"$f":"'1.Портфель кредитів'!H822","v":0},{"$f":"'1.Портфель кредитів'!D822","v":""},{"$f":"'1.Портфель кредитів'!#REF!","v":{"$error":"#REF!"}},{"$f":"'1.Портфель кредитів'!#REF!","v":{"$error":"#REF!"}},{"$f":"'1.Портфель кредитів'!#REF!","v":{"$error":"#REF!"}},{"$f":"'1.Портфель кредитів'!I822","v":0},{"$f":"'1.Портфель кредитів'!W822","v":0},{"$f":"'1.Портфель кредитів'!Y822","v":""},4,"2018-06-01","_4_43252_2"]
[{"$f":"'1.Портфель кредитів'!H823","v":0},{"$f":"'1.Портфель кредитів'!D823","v":""},{"$f":"'1.Портфель кредитів'!#REF!","v":{"$error":"#REF!"}},{"$f":"'1.Портфель кредитів'!#REF!","v":{"$error":"#REF!"}},{"$f":"'1.Портфель кредитів'!#REF!","v":{"$error":"#REF!"}},{"$f":"'1.Портфель кредитів'!I823","v":0},{"$f":"'1.Портфель кредитів'!W823","v":0},{"$f":"'1.Портфель кредитів'!Y823","v":""},4,"2018-06-01","_4_43252_2"]
[{"$f":"'1.Портфель кредитів'!H824","v":0},{"$f":"'1.Портфель кредитів'!D824","v":""},{"$f":"'1.Портфель кредитів'!#REF!","v":{"$error":"#REF!"}},{"$f":"'1.Портфель кредитів'!#REF!","v":{"$error":"#REF!"}},{"$f":"'1.Портфель кредитів'!#REF!","v":{"$error":"#REF!"}},{"$f":"'1.Портфель кредитів'!I824","v":0},{"$f":"'1.Портфель кредитів'!W824","v":0},{"$f":"'1.Портфель кредитів'!Y824","v":""},4,"2018-06-01","_4_43252_2"]
[{"$f":"'1.Портфель кредитів'!H825","v":0},{"$f":"'1.Портфель кредитів'!D825","v":""},{"$f":"'1.Портфель кредитів'!#REF!","v":{"$error":"#REF!"}},{"$f":"'1.Портфель кредитів'!#REF!","v":{"$error":"#REF!"}},{"$f":"'1.Портфель кредитів'!#REF!","v":{"$error":"#REF!"}},{"$f":"'1.Портфель кредитів'!I825","v":0},{"$f":"'1.Портфель кредитів'!W825","v":0},{"$f":"'1.Портфель кредитів'!Y825","v":""},4,"2018-06-01","_4_43252_2"]
[{"$f":"'1.Портфель кредитів'!H826","v":0},{"$f":"'1.Портфель кредитів'!D826","v":""},{"$f":"'1.Портфель кредитів'!#REF!","v":{"$error":"#REF!"}},{"$f":"'1.Портфель кредитів'!#REF!","v":{"$error":"#REF!"}},{"$f":"'1.Портфель кредитів'!#REF!","v":{"$error":"#REF!"}},{"$f":"'1.Портфель кредитів'!I826","v":0},{"$f":"'1.Портфель кредитів'!W826","v":0},{"$f":"'1.Портфель кредитів'!Y826","v":""},4,"2018-06-01","_4_43252_2"]
[{"$f":"'1.Портфель кредитів'!H827","v":0},{"$f":"'1.Портфель кредитів'!D827","v":""},{"$f":"'1.Портфель кредитів'!#REF!","v":{"$error":"#REF!"}},{"$f":"'1.Портфель кредитів'!#REF!","v":{"$error":"#REF!"}},{"$f":"'1.Портфель кредитів'!#REF!","v":{"$error":"#REF!"}},{"$f":"'1.Портфель кредитів'!I827","v":0},{"$f":"'1.Портфель кредитів'!W827","v":0},{"$f":"'1.Портфель кредитів'!Y827","v":""},4,"2018-06-01","_4_43252_2"]
[{"$f":"'1.Портфель кредитів'!H828","v":0},{"$f":"'1.Портфель кредитів'!D828","v":""},{"$f":"'1.Портфель кредитів'!#REF!","v":{"$error":"#REF!"}},{"$f":"'1.Портфель кредитів'!#REF!","v":{"$error":"#REF!"}},{"$f":"'1.Портфель кредитів'!#REF!","v":{"$error":"#REF!"}},{"$f":"'1.Портфель кредитів'!I828","v":0},{"$f":"'1.Портфель кредитів'!W828","v":0},{"$f":"'1.Портфель кредитів'!Y828","v":""},4,"2018-06-01","_4_43252_2"]
[{"$f":"'1.Портфель кредитів'!H829","v":0},{"$f":"'1.Портфель кредитів'!D829","v":""},{"$f":"'1.Портфель кредитів'!#REF!","v":{"$error":"#REF!"}},{"$f":"'1.Портфель кредитів'!#REF!","v":{"$error":"#REF!"}},{"$f":"'1.Портфель кредитів'!#REF!","v":{"$error":"#REF!"}},{"$f":"'1.Портфель кредитів'!I829","v":0},{"$f":"'1.Портфель кредитів'!W829","v":0},{"$f":"'1.Портфель кредитів'!Y829","v":""},4,"2018-06-01","_4_43252_2"]
[{"$f":"'1.Портфель кредитів'!H830","v":0},{"$f":"'1.Портфель кредитів'!D830","v":""},{"$f":"'1.Портфель кредитів'!#REF!","v":{"$error":"#REF!"}},{"$f":"'1.Портфель кредитів'!#REF!","v":{"$error":"#REF!"}},{"$f":"'1.Портфель кредитів'!#REF!","v":{"$error":"#REF!"}},{"$f":"'1.Портфель кредитів'!I830","v":0},{"$f":"'1.Портфель кредитів'!W830","v":0},{"$f":"'1.Портфель кредитів'!Y830","v":""},4,"2018-06-01","_4_43252_2"]
[{"$f":"'1.Портфель кредитів'!H831","v":0},{"$f":"'1.Портфель кредитів'!D831","v":""},{"$f":"'1.Портфель кредитів'!#REF!","v":{"$error":"#REF!"}},{"$f":"'1.Портфель кредитів'!#REF!","v":{"$error":"#REF!"}},{"$f":"'1.Портфель кредитів'!#REF!","v":{"$error":"#REF!"}},{"$f":"'1.Портфель кредитів'!I831","v":0},{"$f":"'1.Портфель кредитів'!W831","v":0},{"$f":"'1.Портфель кредитів'!Y831","v":""},4,"2018-06-01","_4_43252_2"]
[{"$f":"'1.Портфель кредитів'!H832","v":0},{"$f":"'1.Портфель кредитів'!D832","v":""},{"$f":"'1.Портфель кредитів'!#REF!","v":{"$error":"#REF!"}},{"$f":"'1.Портфель кредитів'!#REF!","v":{"$error":"#REF!"}},{"$f":"'1.Портфель кредитів'!#REF!","v":{"$error":"#REF!"}},{"$f":"'1.Портфель кредитів'!I832","v":0},{"$f":"'1.Портфель кредитів'!W832","v":0},{"$f":"'1.Портфель кредитів'!Y832","v":""},4,"2018-06-01","_4_43252_2"]
[{"$f":"'1.Портфель кредитів'!H833","v":0},{"$f":"'1.Портфель кредитів'!D833","v":""},{"$f":"'1.Портфель кредитів'!#REF!","v":{"$error":"#REF!"}},{"$f":"'1.Портфель кредитів'!#REF!","v":{"$error":"#REF!"}},{"$f":"'1.Портфель кредитів'!#REF!","v":{"$error":"#REF!"}},{"$f":"'1.Портфель кредитів'!I833","v":0},{"$f":"'1.Портфель кредитів'!W833","v":0},{"$f":"'1.Портфель кредитів'!Y833","v":""},4,"2018-06-01","_4_43252_2"]
[{"$f":"'1.Портфель кредитів'!H834","v":0},{"$f":"'1.Портфель кредитів'!D834","v":""},{"$f":"'1.Портфель кредитів'!#REF!","v":{"$error":"#REF!"}},{"$f":"'1.Портфель кредитів'!#REF!","v":{"$error":"#REF!"}},{"$f":"'1.Портфель кредитів'!#REF!","v":{"$error":"#REF!"}},{"$f":"'1.Портфель кредитів'!I834","v":0},{"$f":"'1.Портфель кредитів'!W834","v":0},{"$f":"'1.Портфель кредитів'!Y834","v":""},4,"2018-06-01","_4_43252_2"]
[{"$f":"'1.Портфель кредитів'!H835","v":0},{"$f":"'1.Портфель кредитів'!D835","v":""},{"$f":"'1.Портфель кредитів'!#REF!","v":{"$error":"#REF!"}},{"$f":"'1.Портфель кредитів'!#REF!","v":{"$error":"#REF!"}},{"$f":"'1.Портфель кредитів'!#REF!","v":{"$error":"#REF!"}},{"$f":"'1.Портфель кредитів'!I835","v":0},{"$f":"'1.Портфель кредитів'!W835","v":0},{"$f":"'1.Портфель кредитів'!Y835","v":""},4,"2018-06-01","_4_43252_2"]
[{"$f":"'1.Портфель кредитів'!H836","v":0},{"$f":"'1.Портфель кредитів'!D836","v":""},{"$f":"'1.Портфель кредитів'!#REF!","v":{"$error":"#REF!"}},{"$f":"'1.Портфель кредитів'!#REF!","v":{"$error":"#REF!"}},{"$f":"'1.Портфель кредитів'!#REF!","v":{"$error":"#REF!"}},{"$f":"'1.Портфель кредитів'!I836","v":0},{"$f":"'1.Портфель кредитів'!W836","v":0},{"$f":"'1.Портфель кредитів'!Y836","v":""},4,"2018-06-01","_4_43252_2"]
[{"$f":"'1.Портфель кредитів'!H837","v":0},{"$f":"'1.Портфель кредитів'!D837","v":""},{"$f":"'1.Портфель кредитів'!#REF!","v":{"$error":"#REF!"}},{"$f":"'1.Портфель кредитів'!#REF!","v":{"$error":"#REF!"}},{"$f":"'1.Портфель кредитів'!#REF!","v":{"$error":"#REF!"}},{"$f":"'1.Портфель кредитів'!I837","v":0},{"$f":"'1.Портфель кредитів'!W837","v":0},{"$f":"'1.Портфель кредитів'!Y837","v":""},4,"2018-06-01","_4_43252_2"]
[{"$f":"'1.Портфель кредитів'!H838","v":0},{"$f":"'1.Портфель кредитів'!D838","v":""},{"$f":"'1.Портфель кредитів'!#REF!","v":{"$error":"#REF!"}},{"$f":"'1.Портфель кредитів'!#REF!","v":{"$error":"#REF!"}},{"$f":"'1.Портфель кредитів'!#REF!","v":{"$error":"#REF!"}},{"$f":"'1.Портфель кредитів'!I838","v":0},{"$f":"'1.Портфель кредитів'!W838","v":0},{"$f":"'1.Портфель кредитів'!Y838","v":""},4,"2018-06-01","_4_43252_2"]
[{"$f":"'1.Портфель кредитів'!H839","v":0},{"$f":"'1.Портфель кредитів'!D839","v":""},{"$f":"'1.Портфель кредитів'!#REF!","v":{"$error":"#REF!"}},{"$f":"'1.Портфель кредитів'!#REF!","v":{"$error":"#REF!"}},{"$f":"'1.Портфель кредитів'!#REF!","v":{"$error":"#REF!"}},{"$f":"'1.Портфель кредитів'!I839","v":0},{"$f":"'1.Портфель кредитів'!W839","v":0},{"$f":"'1.Портфель кредитів'!Y839","v":""},4,"2018-06-01","_4_43252_2"]
[{"$f":"'1.Портфель кредитів'!H840","v":0},{"$f":"'1.Портфель кредитів'!D840","v":""},{"$f":"'1.Портфель кредитів'!#REF!","v":{"$error":"#REF!"}},{"$f":"'1.Портфель кредитів'!#REF!","v":{"$error":"#REF!"}},{"$f":"'1.Портфель кредитів'!#REF!","v":{"$error":"#REF!"}},{"$f":"'1.Портфель кредитів'!I840","v":0},{"$f":"'1.Портфель кредитів'!W840","v":0},{"$f":"'1.Портфель кредитів'!Y840","v":""},4,"2018-06-01","_4_43252_2"]
[{"$f":"'1.Портфель кредитів'!H841","v":0},{"$f":"'1.Портфель кредитів'!D841","v":""},{"$f":"'1.Портфель кредитів'!#REF!","v":{"$error":"#REF!"}},{"$f":"'1.Портфель кредитів'!#REF!","v":{"$error":"#REF!"}},{"$f":"'1.Портфель кредитів'!#REF!","v":{"$error":"#REF!"}},{"$f":"'1.Портфель кредитів'!I841","v":0},{"$f":"'1.Портфель кредитів'!W841","v":0},{"$f":"'1.Портфель кредитів'!Y841","v":""},4,"2018-06-01","_4_43252_2"]
[{"$f":"'1.Портфель кредитів'!H842","v":0},{"$f":"'1.Портфель кредитів'!D842","v":""},{"$f":"'1.Портфель кредитів'!#REF!","v":{"$error":"#REF!"}},{"$f":"'1.Портфель кредитів'!#REF!","v":{"$error":"#REF!"}},{"$f":"'1.Портфель кредитів'!#REF!","v":{"$error":"#REF!"}},{"$f":"'1.Портфель кредитів'!I842","v":0},{"$f":"'1.Портфель кредитів'!W842","v":0},{"$f":"'1.Портфель кредитів'!Y842","v":""},4,"2018-06-01","_4_43252_2"]
[{"$f":"'1.Портфель кредитів'!H843","v":0},{"$f":"'1.Портфель кредитів'!D843","v":""},{"$f":"'1.Портфель кредитів'!#REF!","v":{"$error":"#REF!"}},{"$f":"'1.Портфель кредитів'!#REF!","v":{"$error":"#REF!"}},{"$f":"'1.Портфель кредитів'!#REF!","v":{"$error":"#REF!"}},{"$f":"'1.Портфель кредитів'!I843","v":0},{"$f":"'1.Портфель кредитів'!W843","v":0},{"$f":"'1.Портфель кредитів'!Y843","v":""},4,"2018-06-01","_4_43252_2"]
[{"$f":"'1.Портфель кредитів'!H844","v":0},{"$f":"'1.Портфель кредитів'!D844","v":""},{"$f":"'1.Портфель кредитів'!#REF!","v":{"$error":"#REF!"}},{"$f":"'1.Портфель кредитів'!#REF!","v":{"$error":"#REF!"}},{"$f":"'1.Портфель кредитів'!#REF!","v":{"$error":"#REF!"}},{"$f":"'1.Портфель кредитів'!I844","v":0},{"$f":"'1.Портфель кредитів'!W844","v":0},{"$f":"'1.Портфель кредитів'!Y844","v":""},4,"2018-06-01","_4_43252_2"]
[{"$f":"'1.Портфель кредитів'!H845","v":0},{"$f":"'1.Портфель кредитів'!D845","v":""},{"$f":"'1.Портфель кредитів'!#REF!","v":{"$error":"#REF!"}},{"$f":"'1.Портфель кредитів'!#REF!","v":{"$error":"#REF!"}},{"$f":"'1.Портфель кредитів'!#REF!","v":{"$error":"#REF!"}},{"$f":"'1.Портфель кредитів'!I845","v":0},{"$f":"'1.Портфель кредитів'!W845","v":0},{"$f":"'1.Портфель кредитів'!Y845","v":""},4,"2018-06-01","_4_43252_2"]
[{"$f":"'1.Портфель кредитів'!H846","v":0},{"$f":"'1.Портфель кредитів'!D846","v":""},{"$f":"'1.Портфель кредитів'!#REF!","v":{"$error":"#REF!"}},{"$f":"'1.Портфель кредитів'!#REF!","v":{"$error":"#REF!"}},{"$f":"'1.Портфель кредитів'!#REF!","v":{"$error":"#REF!"}},{"$f":"'1.Портфель кредитів'!I846","v":0},{"$f":"'1.Портфель кредитів'!W846","v":0},{"$f":"'1.Портфель кредитів'!Y846","v":""},4,"2018-06-01","_4_43252_2"]
[{"$f":"'1.Портфель кредитів'!H847","v":0},{"$f":"'1.Портфель кредитів'!D847","v":""},{"$f":"'1.Портфель кредитів'!#REF!","v":{"$error":"#REF!"}},{"$f":"'1.Портфель кредитів'!#REF!","v":{"$error":"#REF!"}},{"$f":"'1.Портфель кредитів'!#REF!","v":{"$error":"#REF!"}},{"$f":"'1.Портфель кредитів'!I847","v":0},{"$f":"'1.Портфель кредитів'!W847","v":0},{"$f":"'1.Портфель кредитів'!Y847","v":""},4,"2018-06-01","_4_43252_2"]
[{"$f":"'1.Портфель кредитів'!H848","v":0},{"$f":"'1.Портфель кредитів'!D848","v":""},{"$f":"'1.Портфель кредитів'!#REF!","v":{"$error":"#REF!"}},{"$f":"'1.Портфель кредитів'!#REF!","v":{"$error":"#REF!"}},{"$f":"'1.Портфель кредитів'!#REF!","v":{"$error":"#REF!"}},{"$f":"'1.Портфель кредитів'!I848","v":0},{"$f":"'1.Портфель кредитів'!W848","v":0},{"$f":"'1.Портфель кредитів'!Y848","v":""},{"$f":"$E$1","v":4},{"$f":"$E$2","v":"2018-06-01"},{"$f":"B902&\"_\"&I902&\"_\"&J902&\"_\"&$E$3","v":"_4_43252_2"}]
[{"$f":"'1.Портфель кредитів'!H849","v":0},{"$f":"'1.Портфель кредитів'!D849","v":""},{"$f":"'1.Портфель кредитів'!#REF!","v":{"$error":"#REF!"}},{"$f":"'1.Портфель кредитів'!#REF!","v":{"$error":"#REF!"}},{"$f":"'1.Портфель кредитів'!#REF!","v":{"$error":"#REF!"}},{"$f":"'1.Портфель кредитів'!I849","v":0},{"$f":"'1.Портфель кредитів'!W849","v":0},{"$f":"'1.Портфель кредитів'!Y849","v":""},4,"2018-06-01","_4_43252_2"]
[{"$f":"'1.Портфель кредитів'!H850","v":0},{"$f":"'1.Портфель кредитів'!D850","v":""},{"$f":"'1.Портфель кредитів'!#REF!","v":{"$error":"#REF!"}},{"$f":"'1.Портфель кредитів'!#REF!","v":{"$error":"#REF!"}},{"$f":"'1.Портфель кредитів'!#REF!","v":{"$error":"#REF!"}},{"$f":"'1.Портфель кредитів'!I850","v":0},{"$f":"'1.Портфель кредитів'!W850","v":0},{"$f":"'1.Портфель кредитів'!Y850","v":""},4,"2018-06-01","_4_43252_2"]
[{"$f":"'1.Портфель кредитів'!H851","v":0},{"$f":"'1.Портфель кредитів'!D851","v":""},{"$f":"'1.Портфель кредитів'!#REF!","v":{"$error":"#REF!"}},{"$f":"'1.Портфель кредитів'!#REF!","v":{"$error":"#REF!"}},{"$f":"'1.Портфель кредитів'!#REF!","v":{"$error":"#REF!"}},{"$f":"'1.Портфель кредитів'!I851","v":0},{"$f":"'1.Портфель кредитів'!W851","v":0},{"$f":"'1.Портфель кредитів'!Y851","v":""},4,"2018-06-01","_4_43252_2"]
[{"$f":"'1.Портфель кредитів'!H852","v":0},{"$f":"'1.Портфель кредитів'!D852","v":""},{"$f":"'1.Портфель кредитів'!#REF!","v":{"$error":"#REF!"}},{"$f":"'1.Портфель кредитів'!#REF!","v":{"$error":"#REF!"}},{"$f":"'1.Портфель кредитів'!#REF!","v":{"$error":"#REF!"}},{"$f":"'1.Портфель кредитів'!I852","v":0},{"$f":"'1.Портфель кредитів'!W852","v":0},{"$f":"'1.Портфель кредитів'!Y852","v":""},4,"2018-06-01","_4_43252_2"]
[{"$f":"'1.Портфель кредитів'!H853","v":0},{"$f":"'1.Портфель кредитів'!D853","v":""},{"$f":"'1.Портфель кредитів'!#REF!","v":{"$error":"#REF!"}},{"$f":"'1.Портфель кредитів'!#REF!","v":{"$error":"#REF!"}},{"$f":"'1.Портфель кредитів'!#REF!","v":{"$error":"#REF!"}},{"$f":"'1.Портфель кредитів'!I853","v":0},{"$f":"'1.Портфель кредитів'!W853","v":0},{"$f":"'1.Портфель кредитів'!Y853","v":""},4,"2018-06-01","_4_43252_2"]
[{"$f":"'1.Портфель кредитів'!H854","v":0},{"$f":"'1.Портфель кредитів'!D854","v":""},{"$f":"'1.Портфель кредитів'!#REF!","v":{"$error":"#REF!"}},{"$f":"'1.Портфель кредитів'!#REF!","v":{"$error":"#REF!"}},{"$f":"'1.Портфель кредитів'!#REF!","v":{"$error":"#REF!"}},{"$f":"'1.Портфель кредитів'!I854","v":0},{"$f":"'1.Портфель кредитів'!W854","v":0},{"$f":"'1.Портфель кредитів'!Y854","v":""},4,"2018-06-01","_4_43252_2"]
[{"$f":"'1.Портфель кредитів'!H855","v":0},{"$f":"'1.Портфель кредитів'!D855","v":""},{"$f":"'1.Портфель кредитів'!#REF!","v":{"$error":"#REF!"}},{"$f":"'1.Портфель кредитів'!#REF!","v":{"$error":"#REF!"}},{"$f":"'1.Портфель кредитів'!#REF!","v":{"$error":"#REF!"}},{"$f":"'1.Портфель кредитів'!I855","v":0},{"$f":"'1.Портфель кредитів'!W855","v":0},{"$f":"'1.Портфель кредитів'!Y855","v":""},4,"2018-06-01","_4_43252_2"]
[{"$f":"'1.Портфель кредитів'!H856","v":0},{"$f":"'1.Портфель кредитів'!D856","v":""},{"$f":"'1.Портфель кредитів'!#REF!","v":{"$error":"#REF!"}},{"$f":"'1.Портфель кредитів'!#REF!","v":{"$error":"#REF!"}},{"$f":"'1.Портфель кредитів'!#REF!","v":{"$error":"#REF!"}},{"$f":"'1.Портфель кредитів'!I856","v":0},{"$f":"'1.Портфель кредитів'!W856","v":0},{"$f":"'1.Портфель кредитів'!Y856","v":""},4,"2018-06-01","_4_43252_2"]
[{"$f":"'1.Портфель кредитів'!H857","v":0},{"$f":"'1.Портфель кредитів'!D857","v":""},{"$f":"'1.Портфель кредитів'!#REF!","v":{"$error":"#REF!"}},{"$f":"'1.Портфель кредитів'!#REF!","v":{"$error":"#REF!"}},{"$f":"'1.Портфель кредитів'!#REF!","v":{"$error":"#REF!"}},{"$f":"'1.Портфель кредитів'!I857","v":0},{"$f":"'1.Портфель кредитів'!W857","v":0},{"$f":"'1.Портфель кредитів'!Y857","v":""},4,"2018-06-01","_4_43252_2"]
[{"$f":"'1.Портфель кредитів'!H858","v":0},{"$f":"'1.Портфель кредитів'!D858","v":""},{"$f":"'1.Портфель кредитів'!#REF!","v":{"$error":"#REF!"}},{"$f":"'1.Портфель кредитів'!#REF!","v":{"$error":"#REF!"}},{"$f":"'1.Портфель кредитів'!#REF!","v":{"$error":"#REF!"}},{"$f":"'1.Портфель кредитів'!I858","v":0},{"$f":"'1.Портфель кредитів'!W858","v":0},{"$f":"'1.Портфель кредитів'!Y858","v":""},4,"2018-06-01","_4_43252_2"]
[{"$f":"'1.Портфель кредитів'!H859","v":0},{"$f":"'1.Портфель кредитів'!D859","v":""},{"$f":"'1.Портфель кредитів'!#REF!","v":{"$error":"#REF!"}},{"$f":"'1.Портфель кредитів'!#REF!","v":{"$error":"#REF!"}},{"$f":"'1.Портфель кредитів'!#REF!","v":{"$error":"#REF!"}},{"$f":"'1.Портфель кредитів'!I859","v":0},{"$f":"'1.Портфель кредитів'!W859","v":0},{"$f":"'1.Портфель кредитів'!Y859","v":""},4,"2018-06-01","_4_43252_2"]
[{"$f":"'1.Портфель кредитів'!H860","v":0},{"$f":"'1.Портфель кредитів'!D860","v":""},{"$f":"'1.Портфель кредитів'!#REF!","v":{"$error":"#REF!"}},{"$f":"'1.Портфель кредитів'!#REF!","v":{"$error":"#REF!"}},{"$f":"'1.Портфель кредитів'!#REF!","v":{"$error":"#REF!"}},{"$f":"'1.Портфель кредитів'!I860","v":0},{"$f":"'1.Портфель кредитів'!W860","v":0},{"$f":"'1.Портфель кредитів'!Y860","v":""},4,"2018-06-01","_4_43252_2"]
[{"$f":"'1.Портфель кредитів'!H861","v":0},{"$f":"'1.Портфель кредитів'!D861","v":""},{"$f":"'1.Портфель кредитів'!#REF!","v":{"$error":"#REF!"}},{"$f":"'1.Портфель кредитів'!#REF!","v":{"$error":"#REF!"}},{"$f":"'1.Портфель кредитів'!#REF!","v":{"$error":"#REF!"}},{"$f":"'1.Портфель кредитів'!I861","v":0},{"$f":"'1.Портфель кредитів'!W861","v":0},{"$f":"'1.Портфель кредитів'!Y861","v":""},4,"2018-06-01","_4_43252_2"]
[{"$f":"'1.Портфель кредитів'!H862","v":0},{"$f":"'1.Портфель кредитів'!D862","v":""},{"$f":"'1.Портфель кредитів'!#REF!","v":{"$error":"#REF!"}},{"$f":"'1.Портфель кредитів'!#REF!","v":{"$error":"#REF!"}},{"$f":"'1.Портфель кредитів'!#REF!","v":{"$error":"#REF!"}},{"$f":"'1.Портфель кредитів'!I862","v":0},{"$f":"'1.Портфель кредитів'!W862","v":0},{"$f":"'1.Портфель кредитів'!Y862","v":""},4,"2018-06-01","_4_43252_2"]
[{"$f":"'1.Портфель кредитів'!H863","v":0},{"$f":"'1.Портфель кредитів'!D863","v":""},{"$f":"'1.Портфель кредитів'!#REF!","v":{"$error":"#REF!"}},{"$f":"'1.Портфель кредитів'!#REF!","v":{"$error":"#REF!"}},{"$f":"'1.Портфель кредитів'!#REF!","v":{"$error":"#REF!"}},{"$f":"'1.Портфель кредитів'!I863","v":0},{"$f":"'1.Портфель кредитів'!W863","v":0},{"$f":"'1.Портфель кредитів'!Y863","v":""},4,"2018-06-01","_4_43252_2"]
[{"$f":"'1.Портфель кредитів'!H864","v":0},{"$f":"'1.Портфель кредитів'!D864","v":""},{"$f":"'1.Портфель кредитів'!#REF!","v":{"$error":"#REF!"}},{"$f":"'1.Портфель кредитів'!#REF!","v":{"$error":"#REF!"}},{"$f":"'1.Портфель кредитів'!#REF!","v":{"$error":"#REF!"}},{"$f":"'1.Портфель кредитів'!I864","v":0},{"$f":"'1.Портфель кредитів'!W864","v":0},{"$f":"'1.Портфель кредитів'!Y864","v":""},4,"2018-06-01","_4_43252_2"]
[{"$f":"'1.Портфель кредитів'!H865","v":0},{"$f":"'1.Портфель кредитів'!D865","v":""},{"$f":"'1.Портфель кредитів'!#REF!","v":{"$error":"#REF!"}},{"$f":"'1.Портфель кредитів'!#REF!","v":{"$error":"#REF!"}},{"$f":"'1.Портфель кредитів'!#REF!","v":{"$error":"#REF!"}},{"$f":"'1.Портфель кредитів'!I865","v":0},{"$f":"'1.Портфель кредитів'!W865","v":0},{"$f":"'1.Портфель кредитів'!Y865","v":""},4,"2018-06-01","_4_43252_2"]
[{"$f":"'1.Портфель кредитів'!H866","v":0},{"$f":"'1.Портфель кредитів'!D866","v":""},{"$f":"'1.Портфель кредитів'!#REF!","v":{"$error":"#REF!"}},{"$f":"'1.Портфель кредитів'!#REF!","v":{"$error":"#REF!"}},{"$f":"'1.Портфель кредитів'!#REF!","v":{"$error":"#REF!"}},{"$f":"'1.Портфель кредитів'!I866","v":0},{"$f":"'1.Портфель кредитів'!W866","v":0},{"$f":"'1.Портфель кредитів'!Y866","v":""},4,"2018-06-01","_4_43252_2"]
[{"$f":"'1.Портфель кредитів'!H867","v":0},{"$f":"'1.Портфель кредитів'!D867","v":""},{"$f":"'1.Портфель кредитів'!#REF!","v":{"$error":"#REF!"}},{"$f":"'1.Портфель кредитів'!#REF!","v":{"$error":"#REF!"}},{"$f":"'1.Портфель кредитів'!#REF!","v":{"$error":"#REF!"}},{"$f":"'1.Портфель кредитів'!I867","v":0},{"$f":"'1.Портфель кредитів'!W867","v":0},{"$f":"'1.Портфель кредитів'!Y867","v":""},4,"2018-06-01","_4_43252_2"]
[{"$f":"'1.Портфель кредитів'!H868","v":0},{"$f":"'1.Портфель кредитів'!D868","v":""},{"$f":"'1.Портфель кредитів'!#REF!","v":{"$error":"#REF!"}},{"$f":"'1.Портфель кредитів'!#REF!","v":{"$error":"#REF!"}},{"$f":"'1.Портфель кредитів'!#REF!","v":{"$error":"#REF!"}},{"$f":"'1.Портфель кредитів'!I868","v":0},{"$f":"'1.Портфель кредитів'!W868","v":0},{"$f":"'1.Портфель кредитів'!Y868","v":""},4,"2018-06-01","_4_43252_2"]
[{"$f":"'1.Портфель кредитів'!H869","v":0},{"$f":"'1.Портфель кредитів'!D869","v":""},{"$f":"'1.Портфель кредитів'!#REF!","v":{"$error":"#REF!"}},{"$f":"'1.Портфель кредитів'!#REF!","v":{"$error":"#REF!"}},{"$f":"'1.Портфель кредитів'!#REF!","v":{"$error":"#REF!"}},{"$f":"'1.Портфель кредитів'!I869","v":0},{"$f":"'1.Портфель кредитів'!W869","v":0},{"$f":"'1.Портфель кредитів'!Y869","v":""},4,"2018-06-01","_4_43252_2"]
[{"$f":"'1.Портфель кредитів'!H870","v":0},{"$f":"'1.Портфель кредитів'!D870","v":""},{"$f":"'1.Портфель кредитів'!#REF!","v":{"$error":"#REF!"}},{"$f":"'1.Портфель кредитів'!#REF!","v":{"$error":"#REF!"}},{"$f":"'1.Портфель кредитів'!#REF!","v":{"$error":"#REF!"}},{"$f":"'1.Портфель кредитів'!I870","v":0},{"$f":"'1.Портфель кредитів'!W870","v":0},{"$f":"'1.Портфель кредитів'!Y870","v":""},4,"2018-06-01","_4_43252_2"]
[{"$f":"'1.Портфель кредитів'!H871","v":0},{"$f":"'1.Портфель кредитів'!D871","v":""},{"$f":"'1.Портфель кредитів'!#REF!","v":{"$error":"#REF!"}},{"$f":"'1.Портфель кредитів'!#REF!","v":{"$error":"#REF!"}},{"$f":"'1.Портфель кредитів'!#REF!","v":{"$error":"#REF!"}},{"$f":"'1.Портфель кредитів'!I871","v":0},{"$f":"'1.Портфель кредитів'!W871","v":0},{"$f":"'1.Портфель кредитів'!Y871","v":""},4,"2018-06-01","_4_43252_2"]
[{"$f":"'1.Портфель кредитів'!H872","v":0},{"$f":"'1.Портфель кредитів'!D872","v":""},{"$f":"'1.Портфель кредитів'!#REF!","v":{"$error":"#REF!"}},{"$f":"'1.Портфель кредитів'!#REF!","v":{"$error":"#REF!"}},{"$f":"'1.Портфель кредитів'!#REF!","v":{"$error":"#REF!"}},{"$f":"'1.Портфель кредитів'!I872","v":0},{"$f":"'1.Портфель кредитів'!W872","v":0},{"$f":"'1.Портфель кредитів'!Y872","v":""},4,"2018-06-01","_4_43252_2"]
[{"$f":"'1.Портфель кредитів'!H873","v":0},{"$f":"'1.Портфель кредитів'!D873","v":""},{"$f":"'1.Портфель кредитів'!#REF!","v":{"$error":"#REF!"}},{"$f":"'1.Портфель кредитів'!#REF!","v":{"$error":"#REF!"}},{"$f":"'1.Портфель кредитів'!#REF!","v":{"$error":"#REF!"}},{"$f":"'1.Портфель кредитів'!I873","v":0},{"$f":"'1.Портфель кредитів'!W873","v":0},{"$f":"'1.Портфель кредитів'!Y873","v":""},4,"2018-06-01","_4_43252_2"]
[{"$f":"'1.Портфель кредитів'!H874","v":0},{"$f":"'1.Портфель кредитів'!D874","v":""},{"$f":"'1.Портфель кредитів'!#REF!","v":{"$error":"#REF!"}},{"$f":"'1.Портфель кредитів'!#REF!","v":{"$error":"#REF!"}},{"$f":"'1.Портфель кредитів'!#REF!","v":{"$error":"#REF!"}},{"$f":"'1.Портфель кредитів'!I874","v":0},{"$f":"'1.Портфель кредитів'!W874","v":0},{"$f":"'1.Портфель кредитів'!Y874","v":""},4,"2018-06-01","_4_43252_2"]
[{"$f":"'1.Портфель кредитів'!H875","v":0},{"$f":"'1.Портфель кредитів'!D875","v":""},{"$f":"'1.Портфель кредитів'!#REF!","v":{"$error":"#REF!"}},{"$f":"'1.Портфель кредитів'!#REF!","v":{"$error":"#REF!"}},{"$f":"'1.Портфель кредитів'!#REF!","v":{"$error":"#REF!"}},{"$f":"'1.Портфель кредитів'!I875","v":0},{"$f":"'1.Портфель кредитів'!W875","v":0},{"$f":"'1.Портфель кредитів'!Y875","v":""},4,"2018-06-01","_4_43252_2"]
[{"$f":"'1.Портфель кредитів'!H876","v":0},{"$f":"'1.Портфель кредитів'!D876","v":""},{"$f":"'1.Портфель кредитів'!#REF!","v":{"$error":"#REF!"}},{"$f":"'1.Портфель кредитів'!#REF!","v":{"$error":"#REF!"}},{"$f":"'1.Портфель кредитів'!#REF!","v":{"$error":"#REF!"}},{"$f":"'1.Портфель кредитів'!I876","v":0},{"$f":"'1.Портфель кредитів'!W876","v":0},{"$f":"'1.Портфель кредитів'!Y876","v":""},4,"2018-06-01","_4_43252_2"]
[{"$f":"'1.Портфель кредитів'!H877","v":0},{"$f":"'1.Портфель кредитів'!D877","v":""},{"$f":"'1.Портфель кредитів'!#REF!","v":{"$error":"#REF!"}},{"$f":"'1.Портфель кредитів'!#REF!","v":{"$error":"#REF!"}},{"$f":"'1.Портфель кредитів'!#REF!","v":{"$error":"#REF!"}},{"$f":"'1.Портфель кредитів'!I877","v":0},{"$f":"'1.Портфель кредитів'!W877","v":0},{"$f":"'1.Портфель кредитів'!Y877","v":""},4,"2018-06-01","_4_43252_2"]
[{"$f":"'1.Портфель кредитів'!H878","v":0},{"$f":"'1.Портфель кредитів'!D878","v":""},{"$f":"'1.Портфель кредитів'!#REF!","v":{"$error":"#REF!"}},{"$f":"'1.Портфель кредитів'!#REF!","v":{"$error":"#REF!"}},{"$f":"'1.Портфель кредитів'!#REF!","v":{"$error":"#REF!"}},{"$f":"'1.Портфель кредитів'!I878","v":0},{"$f":"'1.Портфель кредитів'!W878","v":0},{"$f":"'1.Портфель кредитів'!Y878","v":""},4,"2018-06-01","_4_43252_2"]
[{"$f":"'1.Портфель кредитів'!H879","v":0},{"$f":"'1.Портфель кредитів'!D879","v":""},{"$f":"'1.Портфель кредитів'!#REF!","v":{"$error":"#REF!"}},{"$f":"'1.Портфель кредитів'!#REF!","v":{"$error":"#REF!"}},{"$f":"'1.Портфель кредитів'!#REF!","v":{"$error":"#REF!"}},{"$f":"'1.Портфель кредитів'!I879","v":0},{"$f":"'1.Портфель кредитів'!W879","v":0},{"$f":"'1.Портфель кредитів'!Y879","v":""},4,"2018-06-01","_4_43252_2"]
[{"$f":"'1.Портфель кредитів'!H880","v":0},{"$f":"'1.Портфель кредитів'!D880","v":""},{"$f":"'1.Портфель кредитів'!#REF!","v":{"$error":"#REF!"}},{"$f":"'1.Портфель кредитів'!#REF!","v":{"$error":"#REF!"}},{"$f":"'1.Портфель кредитів'!#REF!","v":{"$error":"#REF!"}},{"$f":"'1.Портфель кредитів'!I880","v":0},{"$f":"'1.Портфель кредитів'!W880","v":0},{"$f":"'1.Портфель кредитів'!Y880","v":""},4,"2018-06-01","_4_43252_2"]
[{"$f":"'1.Портфель кредитів'!H881","v":0},{"$f":"'1.Портфель кредитів'!D881","v":""},{"$f":"'1.Портфель кредитів'!#REF!","v":{"$error":"#REF!"}},{"$f":"'1.Портфель кредитів'!#REF!","v":{"$error":"#REF!"}},{"$f":"'1.Портфель кредитів'!#REF!","v":{"$error":"#REF!"}},{"$f":"'1.Портфель кредитів'!I881","v":0},{"$f":"'1.Портфель кредитів'!W881","v":0},{"$f":"'1.Портфель кредитів'!Y881","v":""},4,"2018-06-01","_4_43252_2"]
[{"$f":"'1.Портфель кредитів'!H882","v":0},{"$f":"'1.Портфель кредитів'!D882","v":""},{"$f":"'1.Портфель кредитів'!#REF!","v":{"$error":"#REF!"}},{"$f":"'1.Портфель кредитів'!#REF!","v":{"$error":"#REF!"}},{"$f":"'1.Портфель кредитів'!#REF!","v":{"$error":"#REF!"}},{"$f":"'1.Портфель кредитів'!I882","v":0},{"$f":"'1.Портфель кредитів'!W882","v":0},{"$f":"'1.Портфель кредитів'!Y882","v":""},4,"2018-06-01","_4_43252_2"]
[{"$f":"'1.Портфель кредитів'!H883","v":0},{"$f":"'1.Портфель кредитів'!D883","v":""},{"$f":"'1.Портфель кредитів'!#REF!","v":{"$error":"#REF!"}},{"$f":"'1.Портфель кредитів'!#REF!","v":{"$error":"#REF!"}},{"$f":"'1.Портфель кредитів'!#REF!","v":{"$error":"#REF!"}},{"$f":"'1.Портфель кредитів'!I883","v":0},{"$f":"'1.Портфель кредитів'!W883","v":0},{"$f":"'1.Портфель кредитів'!Y883","v":""},4,"2018-06-01","_4_43252_2"]
[{"$f":"'1.Портфель кредитів'!H884","v":0},{"$f":"'1.Портфель кредитів'!D884","v":""},{"$f":"'1.Портфель кредитів'!#REF!","v":{"$error":"#REF!"}},{"$f":"'1.Портфель кредитів'!#REF!","v":{"$error":"#REF!"}},{"$f":"'1.Портфель кредитів'!#REF!","v":{"$error":"#REF!"}},{"$f":"'1.Портфель кредитів'!I884","v":0},{"$f":"'1.Портфель кредитів'!W884","v":0},{"$f":"'1.Портфель кредитів'!Y884","v":""},4,"2018-06-01","_4_43252_2"]
[{"$f":"'1.Портфель кредитів'!H885","v":0},{"$f":"'1.Портфель кредитів'!D885","v":""},{"$f":"'1.Портфель кредитів'!#REF!","v":{"$error":"#REF!"}},{"$f":"'1.Портфель кредитів'!#REF!","v":{"$error":"#REF!"}},{"$f":"'1.Портфель кредитів'!#REF!","v":{"$error":"#REF!"}},{"$f":"'1.Портфель кредитів'!I885","v":0},{"$f":"'1.Портфель кредитів'!W885","v":0},{"$f":"'1.Портфель кредитів'!Y885","v":""},4,"2018-06-01","_4_43252_2"]
[{"$f":"'1.Портфель кредитів'!H886","v":0},{"$f":"'1.Портфель кредитів'!D886","v":""},{"$f":"'1.Портфель кредитів'!#REF!","v":{"$error":"#REF!"}},{"$f":"'1.Портфель кредитів'!#REF!","v":{"$error":"#REF!"}},{"$f":"'1.Портфель кредитів'!#REF!","v":{"$error":"#REF!"}},{"$f":"'1.Портфель кредитів'!I886","v":0},{"$f":"'1.Портфель кредитів'!W886","v":0},{"$f":"'1.Портфель кредитів'!Y886","v":""},4,"2018-06-01","_4_43252_2"]
[{"$f":"'1.Портфель кредитів'!H887","v":0},{"$f":"'1.Портфель кредитів'!D887","v":""},{"$f":"'1.Портфель кредитів'!#REF!","v":{"$error":"#REF!"}},{"$f":"'1.Портфель кредитів'!#REF!","v":{"$error":"#REF!"}},{"$f":"'1.Портфель кредитів'!#REF!","v":{"$error":"#REF!"}},{"$f":"'1.Портфель кредитів'!I887","v":0},{"$f":"'1.Портфель кредитів'!W887","v":0},{"$f":"'1.Портфель кредитів'!Y887","v":""},4,"2018-06-01","_4_43252_2"]
[{"$f":"'1.Портфель кредитів'!H888","v":0},{"$f":"'1.Портфель кредитів'!D888","v":""},{"$f":"'1.Портфель кредитів'!#REF!","v":{"$error":"#REF!"}},{"$f":"'1.Портфель кредитів'!#REF!","v":{"$error":"#REF!"}},{"$f":"'1.Портфель кредитів'!#REF!","v":{"$error":"#REF!"}},{"$f":"'1.Портфель кредитів'!I888","v":0},{"$f":"'1.Портфель кредитів'!W888","v":0},{"$f":"'1.Портфель кредитів'!Y888","v":""},4,"2018-06-01","_4_43252_2"]
[{"$f":"'1.Портфель кредитів'!H889","v":0},{"$f":"'1.Портфель кредитів'!D889","v":""},{"$f":"'1.Портфель кредитів'!#REF!","v":{"$error":"#REF!"}},{"$f":"'1.Портфель кредитів'!#REF!","v":{"$error":"#REF!"}},{"$f":"'1.Портфель кредитів'!#REF!","v":{"$error":"#REF!"}},{"$f":"'1.Портфель кредитів'!I889","v":0},{"$f":"'1.Портфель кредитів'!W889","v":0},{"$f":"'1.Портфель кредитів'!Y889","v":""},4,"2018-06-01","_4_43252_2"]
[{"$f":"'1.Портфель кредитів'!H890","v":0},{"$f":"'1.Портфель кредитів'!D890","v":""},{"$f":"'1.Портфель кредитів'!#REF!","v":{"$error":"#REF!"}},{"$f":"'1.Портфель кредитів'!#REF!","v":{"$error":"#REF!"}},{"$f":"'1.Портфель кредитів'!#REF!","v":{"$error":"#REF!"}},{"$f":"'1.Портфель кредитів'!I890","v":0},{"$f":"'1.Портфель кредитів'!W890","v":0},{"$f":"'1.Портфель кредитів'!Y890","v":""},4,"2018-06-01","_4_43252_2"]
[{"$f":"'1.Портфель кредитів'!H891","v":0},{"$f":"'1.Портфель кредитів'!D891","v":""},{"$f":"'1.Портфель кредитів'!#REF!","v":{"$error":"#REF!"}},{"$f":"'1.Портфель кредитів'!#REF!","v":{"$error":"#REF!"}},{"$f":"'1.Портфель кредитів'!#REF!","v":{"$error":"#REF!"}},{"$f":"'1.Портфель кредитів'!I891","v":0},{"$f":"'1.Портфель кредитів'!W891","v":0},{"$f":"'1.Портфель кредитів'!Y891","v":""},4,"2018-06-01","_4_43252_2"]
[{"$f":"'1.Портфель кредитів'!H892","v":0},{"$f":"'1.Портфель кредитів'!D892","v":""},{"$f":"'1.Портфель кредитів'!#REF!","v":{"$error":"#REF!"}},{"$f":"'1.Портфель кредитів'!#REF!","v":{"$error":"#REF!"}},{"$f":"'1.Портфель кредитів'!#REF!","v":{"$error":"#REF!"}},{"$f":"'1.Портфель кредитів'!I892","v":0},{"$f":"'1.Портфель кредитів'!W892","v":0},{"$f":"'1.Портфель кредитів'!Y892","v":""},4,"2018-06-01","_4_43252_2"]
[{"$f":"'1.Портфель кредитів'!H893","v":0},{"$f":"'1.Портфель кредитів'!D893","v":""},{"$f":"'1.Портфель кредитів'!#REF!","v":{"$error":"#REF!"}},{"$f":"'1.Портфель кредитів'!#REF!","v":{"$error":"#REF!"}},{"$f":"'1.Портфель кредитів'!#REF!","v":{"$error":"#REF!"}},{"$f":"'1.Портфель кредитів'!I893","v":0},{"$f":"'1.Портфель кредитів'!W893","v":0},{"$f":"'1.Портфель кредитів'!Y893","v":""},4,"2018-06-01","_4_43252_2"]
[{"$f":"'1.Портфель кредитів'!H894","v":0},{"$f":"'1.Портфель кредитів'!D894","v":""},{"$f":"'1.Портфель кредитів'!#REF!","v":{"$error":"#REF!"}},{"$f":"'1.Портфель кредитів'!#REF!","v":{"$error":"#REF!"}},{"$f":"'1.Портфель кредитів'!#REF!","v":{"$error":"#REF!"}},{"$f":"'1.Портфель кредитів'!I894","v":0},{"$f":"'1.Портфель кредитів'!W894","v":0},{"$f":"'1.Портфель кредитів'!Y894","v":""},4,"2018-06-01","_4_43252_2"]
[{"$f":"'1.Портфель кредитів'!H895","v":0},{"$f":"'1.Портфель кредитів'!D895","v":""},{"$f":"'1.Портфель кредитів'!#REF!","v":{"$error":"#REF!"}},{"$f":"'1.Портфель кредитів'!#REF!","v":{"$error":"#REF!"}},{"$f":"'1.Портфель кредитів'!#REF!","v":{"$error":"#REF!"}},{"$f":"'1.Портфель кредитів'!I895","v":0},{"$f":"'1.Портфель кредитів'!W895","v":0},{"$f":"'1.Портфель кредитів'!Y895","v":""},4,"2018-06-01","_4_43252_2"]
[{"$f":"'1.Портфель кредитів'!H896","v":0},{"$f":"'1.Портфель кредитів'!D896","v":""},{"$f":"'1.Портфель кредитів'!#REF!","v":{"$error":"#REF!"}},{"$f":"'1.Портфель кредитів'!#REF!","v":{"$error":"#REF!"}},{"$f":"'1.Портфель кредитів'!#REF!","v":{"$error":"#REF!"}},{"$f":"'1.Портфель кредитів'!I896","v":0},{"$f":"'1.Портфель кредитів'!W896","v":0},{"$f":"'1.Портфель кредитів'!Y896","v":""},4,"2018-06-01","_4_43252_2"]
[{"$f":"'1.Портфель кредитів'!H897","v":0},{"$f":"'1.Портфель кредитів'!D897","v":""},{"$f":"'1.Портфель кредитів'!#REF!","v":{"$error":"#REF!"}},{"$f":"'1.Портфель кредитів'!#REF!","v":{"$error":"#REF!"}},{"$f":"'1.Портфель кредитів'!#REF!","v":{"$error":"#REF!"}},{"$f":"'1.Портфель кредитів'!I897","v":0},{"$f":"'1.Портфель кредитів'!W897","v":0},{"$f":"'1.Портфель кредитів'!Y897","v":""},4,"2018-06-01","_4_43252_2"]
[{"$f":"'1.Портфель кредитів'!H898","v":0},{"$f":"'1.Портфель кредитів'!D898","v":""},{"$f":"'1.Портфель кредитів'!#REF!","v":{"$error":"#REF!"}},{"$f":"'1.Портфель кредитів'!#REF!","v":{"$error":"#REF!"}},{"$f":"'1.Портфель кредитів'!#REF!","v":{"$error":"#REF!"}},{"$f":"'1.Портфель кредитів'!I898","v":0},{"$f":"'1.Портфель кредитів'!W898","v":0},{"$f":"'1.Портфель кредитів'!Y898","v":""},4,"2018-06-01","_4_43252_2"]
[{"$f":"'1.Портфель кредитів'!H899","v":0},{"$f":"'1.Портфель кредитів'!D899","v":""},{"$f":"'1.Портфель кредитів'!#REF!","v":{"$error":"#REF!"}},{"$f":"'1.Портфель кредитів'!#REF!","v":{"$error":"#REF!"}},{"$f":"'1.Портфель кредитів'!#REF!","v":{"$error":"#REF!"}},{"$f":"'1.Портфель кредитів'!I899","v":0},{"$f":"'1.Портфель кредитів'!W899","v":0},{"$f":"'1.Портфель кредитів'!Y899","v":""},4,"2018-06-01","_4_43252_2"]
[{"$f":"'1.Портфель кредитів'!H900","v":0},{"$f":"'1.Портфель кредитів'!D900","v":""},{"$f":"'1.Портфель кредитів'!#REF!","v":{"$error":"#REF!"}},{"$f":"'1.Портфель кредитів'!#REF!","v":{"$error":"#REF!"}},{"$f":"'1.Портфель кредитів'!#REF!","v":{"$error":"#REF!"}},{"$f":"'1.Портфель кредитів'!I900","v":0},{"$f":"'1.Портфель кредитів'!W900","v":0},{"$f":"'1.Портфель кредитів'!Y900","v":""},4,"2018-06-01","_4_43252_2"]
[{"$f":"'1.Портфель кредитів'!H901","v":0},{"$f":"'1.Портфель кредитів'!D901","v":""},{"$f":"'1.Портфель кредитів'!#REF!","v":{"$error":"#REF!"}},{"$f":"'1.Портфель кредитів'!#REF!","v":{"$error":"#REF!"}},{"$f":"'1.Портфель кредитів'!#REF!","v":{"$error":"#REF!"}},{"$f":"'1.Портфель кредитів'!I901","v":0},{"$f":"'1.Портфель кредитів'!W901","v":0},{"$f":"'1.Портфель кредитів'!Y901","v":""},4,"2018-06-01","_4_43252_2"]
[{"$f":"'1.Портфель кредитів'!H902","v":0},{"$f":"'1.Портфель кредитів'!D902","v":""},{"$f":"'1.Портфель кредитів'!#REF!","v":{"$error":"#REF!"}},{"$f":"'1.Портфель кредитів'!#REF!","v":{"$error":"#REF!"}},{"$f":"'1.Портфель кредитів'!#REF!","v":{"$error":"#REF!"}},{"$f":"'1.Портфель кредитів'!I902","v":0},{"$f":"'1.Портфель кредитів'!W902","v":0},{"$f":"'1.Портфель кредитів'!Y902","v":""},4,"2018-06-01","_4_43252_2"]
[{"$f":"'1.Портфель кредитів'!H903","v":0},{"$f":"'1.Портфель кредитів'!D903","v":""},{"$f":"'1.Портфель кредитів'!#REF!","v":{"$error":"#REF!"}},{"$f":"'1.Портфель кредитів'!#REF!","v":{"$error":"#REF!"}},{"$f":"'1.Портфель кредитів'!#REF!","v":{"$error":"#REF!"}},{"$f":"'1.Портфель кредитів'!I903","v":0},{"$f":"'1.Портфель кредитів'!W903","v":0},{"$f":"'1.Портфель кредитів'!Y903","v":""},4,"2018-06-01","_4_43252_2"]
[{"$f":"'1.Портфель кредитів'!H904","v":0},{"$f":"'1.Портфель кредитів'!D904","v":""},{"$f":"'1.Портфель кредитів'!#REF!","v":{"$error":"#REF!"}},{"$f":"'1.Портфель кредитів'!#REF!","v":{"$error":"#REF!"}},{"$f":"'1.Портфель кредитів'!#REF!","v":{"$error":"#REF!"}},{"$f":"'1.Портфель кредитів'!I904","v":0},{"$f":"'1.Портфель кредитів'!W904","v":0},{"$f":"'1.Портфель кредитів'!Y904","v":""},4,"2018-06-01","_4_43252_2"]
[{"$f":"'1.Портфель кредитів'!H905","v":0},{"$f":"'1.Портфель кредитів'!D905","v":""},{"$f":"'1.Портфель кредитів'!#REF!","v":{"$error":"#REF!"}},{"$f":"'1.Портфель кредитів'!#REF!","v":{"$error":"#REF!"}},{"$f":"'1.Портфель кредитів'!#REF!","v":{"$error":"#REF!"}},{"$f":"'1.Портфель кредитів'!I905","v":0},{"$f":"'1.Портфель кредитів'!W905","v":0},{"$f":"'1.Портфель кредитів'!Y905","v":""},4,"2018-06-01","_4_43252_2"]
[{"$f":"'1.Портфель кредитів'!H906","v":0},{"$f":"'1.Портфель кредитів'!D906","v":""},{"$f":"'1.Портфель кредитів'!#REF!","v":{"$error":"#REF!"}},{"$f":"'1.Портфель кредитів'!#REF!","v":{"$error":"#REF!"}},{"$f":"'1.Портфель кредитів'!#REF!","v":{"$error":"#REF!"}},{"$f":"'1.Портфель кредитів'!I906","v":0},{"$f":"'1.Портфель кредитів'!W906","v":0},{"$f":"'1.Портфель кредитів'!Y906","v":""},4,"2018-06-01","_4_43252_2"]
[{"$f":"'1.Портфель кредитів'!H907","v":0},{"$f":"'1.Портфель кредитів'!D907","v":""},{"$f":"'1.Портфель кредитів'!#REF!","v":{"$error":"#REF!"}},{"$f":"'1.Портфель кредитів'!#REF!","v":{"$error":"#REF!"}},{"$f":"'1.Портфель кредитів'!#REF!","v":{"$error":"#REF!"}},{"$f":"'1.Портфель кредитів'!I907","v":0},{"$f":"'1.Портфель кредитів'!W907","v":0},{"$f":"'1.Портфель кредитів'!Y907","v":""},4,"2018-06-01","_4_43252_2"]
[{"$f":"'1.Портфель кредитів'!H908","v":0},{"$f":"'1.Портфель кредитів'!D908","v":""},{"$f":"'1.Портфель кредитів'!#REF!","v":{"$error":"#REF!"}},{"$f":"'1.Портфель кредитів'!#REF!","v":{"$error":"#REF!"}},{"$f":"'1.Портфель кредитів'!#REF!","v":{"$error":"#REF!"}},{"$f":"'1.Портфель кредитів'!I908","v":0},{"$f":"'1.Портфель кредитів'!W908","v":0},{"$f":"'1.Портфель кредитів'!Y908","v":""},4,"2018-06-01","_4_43252_2"]
[{"$f":"'1.Портфель кредитів'!H909","v":0},{"$f":"'1.Портфель кредитів'!D909","v":""},{"$f":"'1.Портфель кредитів'!#REF!","v":{"$error":"#REF!"}},{"$f":"'1.Портфель кредитів'!#REF!","v":{"$error":"#REF!"}},{"$f":"'1.Портфель кредитів'!#REF!","v":{"$error":"#REF!"}},{"$f":"'1.Портфель кредитів'!I909","v":0},{"$f":"'1.Портфель кредитів'!W909","v":0},{"$f":"'1.Портфель кредитів'!Y909","v":""},4,"2018-06-01","_4_43252_2"]
[{"$f":"'1.Портфель кредитів'!H910","v":0},{"$f":"'1.Портфель кредитів'!D910","v":""},{"$f":"'1.Портфель кредитів'!#REF!","v":{"$error":"#REF!"}},{"$f":"'1.Портфель кредитів'!#REF!","v":{"$error":"#REF!"}},{"$f":"'1.Портфель кредитів'!#REF!","v":{"$error":"#REF!"}},{"$f":"'1.Портфель кредитів'!I910","v":0},{"$f":"'1.Портфель кредитів'!W910","v":0},{"$f":"'1.Портфель кредитів'!Y910","v":""},4,"2018-06-01","_4_43252_2"]
[{"$f":"'1.Портфель кредитів'!H911","v":0},{"$f":"'1.Портфель кредитів'!D911","v":""},{"$f":"'1.Портфель кредитів'!#REF!","v":{"$error":"#REF!"}},{"$f":"'1.Портфель кредитів'!#REF!","v":{"$error":"#REF!"}},{"$f":"'1.Портфель кредитів'!#REF!","v":{"$error":"#REF!"}},{"$f":"'1.Портфель кредитів'!I911","v":0},{"$f":"'1.Портфель кредитів'!W911","v":0},{"$f":"'1.Портфель кредитів'!Y911","v":""},4,"2018-06-01","_4_43252_2"]
[{"$f":"'1.Портфель кредитів'!H912","v":0},{"$f":"'1.Портфель кредитів'!D912","v":""},{"$f":"'1.Портфель кредитів'!#REF!","v":{"$error":"#REF!"}},{"$f":"'1.Портфель кредитів'!#REF!","v":{"$error":"#REF!"}},{"$f":"'1.Портфель кредитів'!#REF!","v":{"$error":"#REF!"}},{"$f":"'1.Портфель кредитів'!I912","v":0},{"$f":"'1.Портфель кредитів'!W912","v":0},{"$f":"'1.Портфель кредитів'!Y912","v":""},{"$f":"$E$1","v":4},{"$f":"$E$2","v":"2018-06-01"},{"$f":"B966&\"_\"&I966&\"_\"&J966&\"_\"&$E$3","v":"_4_43252_2"}]
[{"$f":"'1.Портфель кредитів'!H913","v":0},{"$f":"'1.Портфель кредитів'!D913","v":""},{"$f":"'1.Портфель кредитів'!#REF!","v":{"$error":"#REF!"}},{"$f":"'1.Портфель кредитів'!#REF!","v":{"$error":"#REF!"}},{"$f":"'1.Портфель кредитів'!#REF!","v":{"$error":"#REF!"}},{"$f":"'1.Портфель кредитів'!I913","v":0},{"$f":"'1.Портфель кредитів'!W913","v":0},{"$f":"'1.Портфель кредитів'!Y913","v":""},4,"2018-06-01","_4_43252_2"]
[{"$f":"'1.Портфель кредитів'!H914","v":0},{"$f":"'1.Портфель кредитів'!D914","v":""},{"$f":"'1.Портфель кредитів'!#REF!","v":{"$error":"#REF!"}},{"$f":"'1.Портфель кредитів'!#REF!","v":{"$error":"#REF!"}},{"$f":"'1.Портфель кредитів'!#REF!","v":{"$error":"#REF!"}},{"$f":"'1.Портфель кредитів'!I914","v":0},{"$f":"'1.Портфель кредитів'!W914","v":0},{"$f":"'1.Портфель кредитів'!Y914","v":""},4,"2018-06-01","_4_43252_2"]
[{"$f":"'1.Портфель кредитів'!H915","v":0},{"$f":"'1.Портфель кредитів'!D915","v":""},{"$f":"'1.Портфель кредитів'!#REF!","v":{"$error":"#REF!"}},{"$f":"'1.Портфель кредитів'!#REF!","v":{"$error":"#REF!"}},{"$f":"'1.Портфель кредитів'!#REF!","v":{"$error":"#REF!"}},{"$f":"'1.Портфель кредитів'!I915","v":0},{"$f":"'1.Портфель кредитів'!W915","v":0},{"$f":"'1.Портфель кредитів'!Y915","v":""},4,"2018-06-01","_4_43252_2"]
[{"$f":"'1.Портфель кредитів'!H916","v":0},{"$f":"'1.Портфель кредитів'!D916","v":""},{"$f":"'1.Портфель кредитів'!#REF!","v":{"$error":"#REF!"}},{"$f":"'1.Портфель кредитів'!#REF!","v":{"$error":"#REF!"}},{"$f":"'1.Портфель кредитів'!#REF!","v":{"$error":"#REF!"}},{"$f":"'1.Портфель кредитів'!I916","v":0},{"$f":"'1.Портфель кредитів'!W916","v":0},{"$f":"'1.Портфель кредитів'!Y916","v":""},4,"2018-06-01","_4_43252_2"]
[{"$f":"'1.Портфель кредитів'!H917","v":0},{"$f":"'1.Портфель кредитів'!D917","v":""},{"$f":"'1.Портфель кредитів'!#REF!","v":{"$error":"#REF!"}},{"$f":"'1.Портфель кредитів'!#REF!","v":{"$error":"#REF!"}},{"$f":"'1.Портфель кредитів'!#REF!","v":{"$error":"#REF!"}},{"$f":"'1.Портфель кредитів'!I917","v":0},{"$f":"'1.Портфель кредитів'!W917","v":0},{"$f":"'1.Портфель кредитів'!Y917","v":""},4,"2018-06-01","_4_43252_2"]
[{"$f":"'1.Портфель кредитів'!H918","v":0},{"$f":"'1.Портфель кредитів'!D918","v":""},{"$f":"'1.Портфель кредитів'!#REF!","v":{"$error":"#REF!"}},{"$f":"'1.Портфель кредитів'!#REF!","v":{"$error":"#REF!"}},{"$f":"'1.Портфель кредитів'!#REF!","v":{"$error":"#REF!"}},{"$f":"'1.Портфель кредитів'!I918","v":0},{"$f":"'1.Портфель кредитів'!W918","v":0},{"$f":"'1.Портфель кредитів'!Y918","v":""},4,"2018-06-01","_4_43252_2"]
[{"$f":"'1.Портфель кредитів'!H919","v":0},{"$f":"'1.Портфель кредитів'!D919","v":""},{"$f":"'1.Портфель кредитів'!#REF!","v":{"$error":"#REF!"}},{"$f":"'1.Портфель кредитів'!#REF!","v":{"$error":"#REF!"}},{"$f":"'1.Портфель кредитів'!#REF!","v":{"$error":"#REF!"}},{"$f":"'1.Портфель кредитів'!I919","v":0},{"$f":"'1.Портфель кредитів'!W919","v":0},{"$f":"'1.Портфель кредитів'!Y919","v":""},4,"2018-06-01","_4_43252_2"]
[{"$f":"'1.Портфель кредитів'!H920","v":0},{"$f":"'1.Портфель кредитів'!D920","v":""},{"$f":"'1.Портфель кредитів'!#REF!","v":{"$error":"#REF!"}},{"$f":"'1.Портфель кредитів'!#REF!","v":{"$error":"#REF!"}},{"$f":"'1.Портфель кредитів'!#REF!","v":{"$error":"#REF!"}},{"$f":"'1.Портфель кредитів'!I920","v":0},{"$f":"'1.Портфель кредитів'!W920","v":0},{"$f":"'1.Портфель кредитів'!Y920","v":""},4,"2018-06-01","_4_43252_2"]
[{"$f":"'1.Портфель кредитів'!H921","v":0},{"$f":"'1.Портфель кредитів'!D921","v":""},{"$f":"'1.Портфель кредитів'!#REF!","v":{"$error":"#REF!"}},{"$f":"'1.Портфель кредитів'!#REF!","v":{"$error":"#REF!"}},{"$f":"'1.Портфель кредитів'!#REF!","v":{"$error":"#REF!"}},{"$f":"'1.Портфель кредитів'!I921","v":0},{"$f":"'1.Портфель кредитів'!W921","v":0},{"$f":"'1.Портфель кредитів'!Y921","v":""},4,"2018-06-01","_4_43252_2"]
[{"$f":"'1.Портфель кредитів'!H922","v":0},{"$f":"'1.Портфель кредитів'!D922","v":""},{"$f":"'1.Портфель кредитів'!#REF!","v":{"$error":"#REF!"}},{"$f":"'1.Портфель кредитів'!#REF!","v":{"$error":"#REF!"}},{"$f":"'1.Портфель кредитів'!#REF!","v":{"$error":"#REF!"}},{"$f":"'1.Портфель кредитів'!I922","v":0},{"$f":"'1.Портфель кредитів'!W922","v":0},{"$f":"'1.Портфель кредитів'!Y922","v":""},4,"2018-06-01","_4_43252_2"]
[{"$f":"'1.Портфель кредитів'!H923","v":0},{"$f":"'1.Портфель кредитів'!D923","v":""},{"$f":"'1.Портфель кредитів'!#REF!","v":{"$error":"#REF!"}},{"$f":"'1.Портфель кредитів'!#REF!","v":{"$error":"#REF!"}},{"$f":"'1.Портфель кредитів'!#REF!","v":{"$error":"#REF!"}},{"$f":"'1.Портфель кредитів'!I923","v":0},{"$f":"'1.Портфель кредитів'!W923","v":0},{"$f":"'1.Портфель кредитів'!Y923","v":""},4,"2018-06-01","_4_43252_2"]
[{"$f":"'1.Портфель кредитів'!H924","v":0},{"$f":"'1.Портфель кредитів'!D924","v":""},{"$f":"'1.Портфель кредитів'!#REF!","v":{"$error":"#REF!"}},{"$f":"'1.Портфель кредитів'!#REF!","v":{"$error":"#REF!"}},{"$f":"'1.Портфель кредитів'!#REF!","v":{"$error":"#REF!"}},{"$f":"'1.Портфель кредитів'!I924","v":0},{"$f":"'1.Портфель кредитів'!W924","v":0},{"$f":"'1.Портфель кредитів'!Y924","v":""},4,"2018-06-01","_4_43252_2"]
[{"$f":"'1.Портфель кредитів'!H925","v":0},{"$f":"'1.Портфель кредитів'!D925","v":""},{"$f":"'1.Портфель кредитів'!#REF!","v":{"$error":"#REF!"}},{"$f":"'1.Портфель кредитів'!#REF!","v":{"$error":"#REF!"}},{"$f":"'1.Портфель кредитів'!#REF!","v":{"$error":"#REF!"}},{"$f":"'1.Портфель кредитів'!I925","v":0},{"$f":"'1.Портфель кредитів'!W925","v":0},{"$f":"'1.Портфель кредитів'!Y925","v":""},4,"2018-06-01","_4_43252_2"]
[{"$f":"'1.Портфель кредитів'!H926","v":0},{"$f":"'1.Портфель кредитів'!D926","v":""},{"$f":"'1.Портфель кредитів'!#REF!","v":{"$error":"#REF!"}},{"$f":"'1.Портфель кредитів'!#REF!","v":{"$error":"#REF!"}},{"$f":"'1.Портфель кредитів'!#REF!","v":{"$error":"#REF!"}},{"$f":"'1.Портфель кредитів'!I926","v":0},{"$f":"'1.Портфель кредитів'!W926","v":0},{"$f":"'1.Портфель кредитів'!Y926","v":""},4,"2018-06-01","_4_43252_2"]
[{"$f":"'1.Портфель кредитів'!H927","v":0},{"$f":"'1.Портфель кредитів'!D927","v":""},{"$f":"'1.Портфель кредитів'!#REF!","v":{"$error":"#REF!"}},{"$f":"'1.Портфель кредитів'!#REF!","v":{"$error":"#REF!"}},{"$f":"'1.Портфель кредитів'!#REF!","v":{"$error":"#REF!"}},{"$f":"'1.Портфель кредитів'!I927","v":0},{"$f":"'1.Портфель кредитів'!W927","v":0},{"$f":"'1.Портфель кредитів'!Y927","v":""},4,"2018-06-01","_4_43252_2"]
[{"$f":"'1.Портфель кредитів'!H928","v":0},{"$f":"'1.Портфель кредитів'!D928","v":""},{"$f":"'1.Портфель кредитів'!#REF!","v":{"$error":"#REF!"}},{"$f":"'1.Портфель кредитів'!#REF!","v":{"$error":"#REF!"}},{"$f":"'1.Портфель кредитів'!#REF!","v":{"$error":"#REF!"}},{"$f":"'1.Портфель кредитів'!I928","v":0},{"$f":"'1.Портфель кредитів'!W928","v":0},{"$f":"'1.Портфель кредитів'!Y928","v":""},4,"2018-06-01","_4_43252_2"]
[{"$f":"'1.Портфель кредитів'!H929","v":0},{"$f":"'1.Портфель кредитів'!D929","v":""},{"$f":"'1.Портфель кредитів'!#REF!","v":{"$error":"#REF!"}},{"$f":"'1.Портфель кредитів'!#REF!","v":{"$error":"#REF!"}},{"$f":"'1.Портфель кредитів'!#REF!","v":{"$error":"#REF!"}},{"$f":"'1.Портфель кредитів'!I929","v":0},{"$f":"'1.Портфель кредитів'!W929","v":0},{"$f":"'1.Портфель кредитів'!Y929","v":""},4,"2018-06-01","_4_43252_2"]
[{"$f":"'1.Портфель кредитів'!H930","v":0},{"$f":"'1.Портфель кредитів'!D930","v":""},{"$f":"'1.Портфель кредитів'!#REF!","v":{"$error":"#REF!"}},{"$f":"'1.Портфель кредитів'!#REF!","v":{"$error":"#REF!"}},{"$f":"'1.Портфель кредитів'!#REF!","v":{"$error":"#REF!"}},{"$f":"'1.Портфель кредитів'!I930","v":0},{"$f":"'1.Портфель кредитів'!W930","v":0},{"$f":"'1.Портфель кредитів'!Y930","v":""},4,"2018-06-01","_4_43252_2"]
[{"$f":"'1.Портфель кредитів'!H931","v":0},{"$f":"'1.Портфель кредитів'!D931","v":""},{"$f":"'1.Портфель кредитів'!#REF!","v":{"$error":"#REF!"}},{"$f":"'1.Портфель кредитів'!#REF!","v":{"$error":"#REF!"}},{"$f":"'1.Портфель кредитів'!#REF!","v":{"$error":"#REF!"}},{"$f":"'1.Портфель кредитів'!I931","v":0},{"$f":"'1.Портфель кредитів'!W931","v":0},{"$f":"'1.Портфель кредитів'!Y931","v":""},4,"2018-06-01","_4_43252_2"]
[{"$f":"'1.Портфель кредитів'!H932","v":0},{"$f":"'1.Портфель кредитів'!D932","v":""},{"$f":"'1.Портфель кредитів'!#REF!","v":{"$error":"#REF!"}},{"$f":"'1.Портфель кредитів'!#REF!","v":{"$error":"#REF!"}},{"$f":"'1.Портфель кредитів'!#REF!","v":{"$error":"#REF!"}},{"$f":"'1.Портфель кредитів'!I932","v":0},{"$f":"'1.Портфель кредитів'!W932","v":0},{"$f":"'1.Портфель кредитів'!Y932","v":""},4,"2018-06-01","_4_43252_2"]
[{"$f":"'1.Портфель кредитів'!H933","v":0},{"$f":"'1.Портфель кредитів'!D933","v":""},{"$f":"'1.Портфель кредитів'!#REF!","v":{"$error":"#REF!"}},{"$f":"'1.Портфель кредитів'!#REF!","v":{"$error":"#REF!"}},{"$f":"'1.Портфель кредитів'!#REF!","v":{"$error":"#REF!"}},{"$f":"'1.Портфель кредитів'!I933","v":0},{"$f":"'1.Портфель кредитів'!W933","v":0},{"$f":"'1.Портфель кредитів'!Y933","v":""},4,"2018-06-01","_4_43252_2"]
[{"$f":"'1.Портфель кредитів'!H934","v":0},{"$f":"'1.Портфель кредитів'!D934","v":""},{"$f":"'1.Портфель кредитів'!#REF!","v":{"$error":"#REF!"}},{"$f":"'1.Портфель кредитів'!#REF!","v":{"$error":"#REF!"}},{"$f":"'1.Портфель кредитів'!#REF!","v":{"$error":"#REF!"}},{"$f":"'1.Портфель кредитів'!I934","v":0},{"$f":"'1.Портфель кредитів'!W934","v":0},{"$f":"'1.Портфель кредитів'!Y934","v":""},4,"2018-06-01","_4_43252_2"]
[{"$f":"'1.Портфель кредитів'!H935","v":0},{"$f":"'1.Портфель кредитів'!D935","v":""},{"$f":"'1.Портфель кредитів'!#REF!","v":{"$error":"#REF!"}},{"$f":"'1.Портфель кредитів'!#REF!","v":{"$error":"#REF!"}},{"$f":"'1.Портфель кредитів'!#REF!","v":{"$error":"#REF!"}},{"$f":"'1.Портфель кредитів'!I935","v":0},{"$f":"'1.Портфель кредитів'!W935","v":0},{"$f":"'1.Портфель кредитів'!Y935","v":""},4,"2018-06-01","_4_43252_2"]
[{"$f":"'1.Портфель кредитів'!H936","v":0},{"$f":"'1.Портфель кредитів'!D936","v":""},{"$f":"'1.Портфель кредитів'!#REF!","v":{"$error":"#REF!"}},{"$f":"'1.Портфель кредитів'!#REF!","v":{"$error":"#REF!"}},{"$f":"'1.Портфель кредитів'!#REF!","v":{"$error":"#REF!"}},{"$f":"'1.Портфель кредитів'!I936","v":0},{"$f":"'1.Портфель кредитів'!W936","v":0},{"$f":"'1.Портфель кредитів'!Y936","v":""},4,"2018-06-01","_4_43252_2"]
[{"$f":"'1.Портфель кредитів'!H937","v":0},{"$f":"'1.Портфель кредитів'!D937","v":""},{"$f":"'1.Портфель кредитів'!#REF!","v":{"$error":"#REF!"}},{"$f":"'1.Портфель кредитів'!#REF!","v":{"$error":"#REF!"}},{"$f":"'1.Портфель кредитів'!#REF!","v":{"$error":"#REF!"}},{"$f":"'1.Портфель кредитів'!I937","v":0},{"$f":"'1.Портфель кредитів'!W937","v":0},{"$f":"'1.Портфель кредитів'!Y937","v":""},4,"2018-06-01","_4_43252_2"]
[{"$f":"'1.Портфель кредитів'!H938","v":0},{"$f":"'1.Портфель кредитів'!D938","v":""},{"$f":"'1.Портфель кредитів'!#REF!","v":{"$error":"#REF!"}},{"$f":"'1.Портфель кредитів'!#REF!","v":{"$error":"#REF!"}},{"$f":"'1.Портфель кредитів'!#REF!","v":{"$error":"#REF!"}},{"$f":"'1.Портфель кредитів'!I938","v":0},{"$f":"'1.Портфель кредитів'!W938","v":0},{"$f":"'1.Портфель кредитів'!Y938","v":""},4,"2018-06-01","_4_43252_2"]
[{"$f":"'1.Портфель кредитів'!H939","v":0},{"$f":"'1.Портфель кредитів'!D939","v":""},{"$f":"'1.Портфель кредитів'!#REF!","v":{"$error":"#REF!"}},{"$f":"'1.Портфель кредитів'!#REF!","v":{"$error":"#REF!"}},{"$f":"'1.Портфель кредитів'!#REF!","v":{"$error":"#REF!"}},{"$f":"'1.Портфель кредитів'!I939","v":0},{"$f":"'1.Портфель кредитів'!W939","v":0},{"$f":"'1.Портфель кредитів'!Y939","v":""},4,"2018-06-01","_4_43252_2"]
[{"$f":"'1.Портфель кредитів'!H940","v":0},{"$f":"'1.Портфель кредитів'!D940","v":""},{"$f":"'1.Портфель кредитів'!#REF!","v":{"$error":"#REF!"}},{"$f":"'1.Портфель кредитів'!#REF!","v":{"$error":"#REF!"}},{"$f":"'1.Портфель кредитів'!#REF!","v":{"$error":"#REF!"}},{"$f":"'1.Портфель кредитів'!I940","v":0},{"$f":"'1.Портфель кредитів'!W940","v":0},{"$f":"'1.Портфель кредитів'!Y940","v":""},4,"2018-06-01","_4_43252_2"]
[{"$f":"'1.Портфель кредитів'!H941","v":0},{"$f":"'1.Портфель кредитів'!D941","v":""},{"$f":"'1.Портфель кредитів'!#REF!","v":{"$error":"#REF!"}},{"$f":"'1.Портфель кредитів'!#REF!","v":{"$error":"#REF!"}},{"$f":"'1.Портфель кредитів'!#REF!","v":{"$error":"#REF!"}},{"$f":"'1.Портфель кредитів'!I941","v":0},{"$f":"'1.Портфель кредитів'!W941","v":0},{"$f":"'1.Портфель кредитів'!Y941","v":""},4,"2018-06-01","_4_43252_2"]
[{"$f":"'1.Портфель кредитів'!H942","v":0},{"$f":"'1.Портфель кредитів'!D942","v":""},{"$f":"'1.Портфель кредитів'!#REF!","v":{"$error":"#REF!"}},{"$f":"'1.Портфель кредитів'!#REF!","v":{"$error":"#REF!"}},{"$f":"'1.Портфель кредитів'!#REF!","v":{"$error":"#REF!"}},{"$f":"'1.Портфель кредитів'!I942","v":0},{"$f":"'1.Портфель кредитів'!W942","v":0},{"$f":"'1.Портфель кредитів'!Y942","v":""},4,"2018-06-01","_4_43252_2"]
[{"$f":"'1.Портфель кредитів'!H943","v":0},{"$f":"'1.Портфель кредитів'!D943","v":""},{"$f":"'1.Портфель кредитів'!#REF!","v":{"$error":"#REF!"}},{"$f":"'1.Портфель кредитів'!#REF!","v":{"$error":"#REF!"}},{"$f":"'1.Портфель кредитів'!#REF!","v":{"$error":"#REF!"}},{"$f":"'1.Портфель кредитів'!I943","v":0},{"$f":"'1.Портфель кредитів'!W943","v":0},{"$f":"'1.Портфель кредитів'!Y943","v":""},4,"2018-06-01","_4_43252_2"]
[{"$f":"'1.Портфель кредитів'!H944","v":0},{"$f":"'1.Портфель кредитів'!D944","v":""},{"$f":"'1.Портфель кредитів'!#REF!","v":{"$error":"#REF!"}},{"$f":"'1.Портфель кредитів'!#REF!","v":{"$error":"#REF!"}},{"$f":"'1.Портфель кредитів'!#REF!","v":{"$error":"#REF!"}},{"$f":"'1.Портфель кредитів'!I944","v":0},{"$f":"'1.Портфель кредитів'!W944","v":0},{"$f":"'1.Портфель кредитів'!Y944","v":""},4,"2018-06-01","_4_43252_2"]
[{"$f":"'1.Портфель кредитів'!H945","v":0},{"$f":"'1.Портфель кредитів'!D945","v":""},{"$f":"'1.Портфель кредитів'!#REF!","v":{"$error":"#REF!"}},{"$f":"'1.Портфель кредитів'!#REF!","v":{"$error":"#REF!"}},{"$f":"'1.Портфель кредитів'!#REF!","v":{"$error":"#REF!"}},{"$f":"'1.Портфель кредитів'!I945","v":0},{"$f":"'1.Портфель кредитів'!W945","v":0},{"$f":"'1.Портфель кредитів'!Y945","v":""},4,"2018-06-01","_4_43252_2"]
[{"$f":"'1.Портфель кредитів'!H946","v":0},{"$f":"'1.Портфель кредитів'!D946","v":""},{"$f":"'1.Портфель кредитів'!#REF!","v":{"$error":"#REF!"}},{"$f":"'1.Портфель кредитів'!#REF!","v":{"$error":"#REF!"}},{"$f":"'1.Портфель кредитів'!#REF!","v":{"$error":"#REF!"}},{"$f":"'1.Портфель кредитів'!I946","v":0},{"$f":"'1.Портфель кредитів'!W946","v":0},{"$f":"'1.Портфель кредитів'!Y946","v":""},4,"2018-06-01","_4_43252_2"]
[{"$f":"'1.Портфель кредитів'!H947","v":0},{"$f":"'1.Портфель кредитів'!D947","v":""},{"$f":"'1.Портфель кредитів'!#REF!","v":{"$error":"#REF!"}},{"$f":"'1.Портфель кредитів'!#REF!","v":{"$error":"#REF!"}},{"$f":"'1.Портфель кредитів'!#REF!","v":{"$error":"#REF!"}},{"$f":"'1.Портфель кредитів'!I947","v":0},{"$f":"'1.Портфель кредитів'!W947","v":0},{"$f":"'1.Портфель кредитів'!Y947","v":""},4,"2018-06-01","_4_43252_2"]

{"sheet":"Hidden_Словник","index":5,"n_rows":19698,"n_cols":47,"rows_kept":1125,"cut":true,"hidden":true,"merged":[],"bounds":{"rows_first":500,"rows_last":125,"rows_between":500,"halvings":2}}
["Коротка назва","Назва банку","МФО","Дата вводу тимч.адм.","Дата рішення про ліквид.",null,null,null,null,"#","область","Регіон",null,null,null,"КВЕД (2010)","NU",null,null,"Банкрутство",null,null,"Тип застави",null,"ТАК/Ні",null,"Вид судового провадження",null,null,"Відповідач (позичальник/поручитель)",null,null,null,"Наявність документів кредитної справи",null,null,null,null,"Одиниці виміру",null,null,"валюта",null,null,null,"область","населений пункт"]
["Авант-Банк","ПАТ \"АВАНТ-БАНК\"","380708",42398,42426,null,null,null,null,1,"Автономна Республіка Крим","КРИМ/АТО",null,null,null,"A","Сільське господарство, лісове господарство та рибне господарство",null,null,"Діюче",null,null,"нерухомість",1,"ТАК",null,"стягнення заборгованості",null,null,"Позичальник",null,null,null,"Наявні документи кредитної справи",null,null,null,null,"га",null,null,"Гривня",980,null,null,"Автономна Республіка Крим","Алупка"]
["АКБ Банк","ПАТ \"АКБ Банк\"","331100",41789,41880,null,null,null,null,2,"Севастополь","КРИМ/АТО",null,null,null,"01","Сільське господарство, мисливство та надання пов'язаних із ними послуг",null,null,"Банкрутство",null,null,"транспорт",2,"НІ",null,"стягнення забезпечення",null,null,"Поручитель",null,null,null,"Наявний кредитний договір",null,null,null,null,"м.кв.",null,null,"Доллар США",840,null,null,"Автономна Республіка Крим","Абрикосівка"]
["Аксіома","ПАТ \"КБ \"АКСІОМА\"","307305",41922,42034,null,null,null,null,3,"Вінницька","ЦЕНТР",null,null,null,"01.1","Вирощування однорічних і дворічних культур",null,null,"В стані припинення (крім банкрутства)",null,null,"обладнання",3,null,null,"банкрутство",null,null,"Солідарно",null,null,null,"Наяваний договір застави",null,null,null,null,"м.куб.",null,null,"Євро",978,null,null,"Автономна Республіка Крим","Абрикосове"]
["Актабанк","ПАТ \"АКТАБАНК\"","307394",41899,42020,null,null,null,null,4,"Волинська","ЗАХІД",null,null,null,"01.11","Вирощування зернових культур (крім рису), бобових культур і насіння олійних культур",null,null,"Ліквідовано",null,null,"товари",4,null,null,"визнання зобов'язань недійсними",null,null,"3-і особи",null,null,null,"Відсутні документи кредитної справи",null,null,null,null,"т",null,null,"Швейцарські франки",756,null,null,"Автономна Республіка Крим","Аврора (Слов'янська сільська рада)"]
["Активбанк","ПАТ \"КБ \"АКТИВ - БАНК\"","300852",41885,41996,null,null,null,null,5,"Дніпропетровська","ПІВДЕНЬ",null,null,null,"01.12","Вирощування рису",null,null,"Санація",null,null,"депозит",5,null,null,"нікчемність правочину",null,null,null,null,null,null,null,null,null,null,null,"шт.",null,null,"Польські злоті",985,null,null,"Автономна Республіка Крим","Аграрне"]
["АРТЕМ-БАНК","АТ «АРТЕМ-БАНК»","300885",42690,42720,null,null,null,null,6,"Донецька","КРИМ/АТО",null,null,null,"01.13","Вирощування овочів і баштанних культур, коренеплодів і бульбоплодів",null,null,"Інше",null,null,"майнові права",6,null,null,"інше",null,null,null,null,null,null,null,null,null,null,null,"од.",null,null,"Фунт стерлінгів",826,null,null,"Автономна Республіка Крим","Аерофлотський"]
["БАНК ПЕТРОКОММЕРЦ-УКРАЇНА","ПАТ \"БАНК ПЕТРОКОММЕРЦ-УКРАЇНА\"","300120",42447,42482,null,null,null,null,7,"Житомирська","ЦЕНТР",null,null,null,"01.14","Вирощування цукрової тростини",null,null,null,null,null,"фінансова порука",7,null,null,null,null,null,null,null,null,null,null,null,null,null,null,null,null,null,"Китайські юані",156,null,null,"Автономна Республіка Крим","Азов"]
["БГ банк","ПАТ \"БГ БАНК\"","320995",41971,42062,null,null,null,null,8,"Закарпатська","ЗАХІД",null,null,null,"01.15","Вирощування тютюну",null,null,null,null,null,"беззаставний",8,null,null,null,null,null,null,null,null,null,null,null,null,null,null,null,null,null,"Рос. рубль",643,null,null,"Автономна Республіка Крим","Азовське"]
["Брокбізнесбанк","АТ \"БРОКБІЗНЕСБАНК\"","300249",41701,41801,null,null,null,null,9,"Запорізька","ПІВДЕНЬ",null,null,null,"01.16","Вирощування прядивних культур",null,null,null,null,null,"інше",null,null,null,null,null,null,null,null,null,null,null,null,null,null,null,null,null,null,"мульт. валютн.",777,null,null,"Автономна Республіка Крим","Айвазовське"]
["ВБР","ПАТ \"ВБР\"","380719",41971,42359,null,null,null,null,10,"Івано_Франківська","ЗАХІД",null,null,null,"01.19","Вирощування інших однорічних і дворічних культур",null,null,null,null,null,null,null,null,null,null,null,null,null,null,null,null,null,null,null,null,null,null,null,null,null,null,null,null,"Автономна Республіка Крим","Айвове"]
["ВЕКТОР","ПАТ \"ВЕКТОР БАНК\"","339038",42797,42816,null,null,null,null,11,"Київ","ЦЕНТР",null,null,null,"01.2","Вирощування багаторічних культур",null,null,null,null,null,null,null,null,null,null,null,null,null,null,null,null,null,null,null,null,null,null,null,null,null,null,null,null,"Автономна Республіка Крим","Айкаван"]
["Велес","АТ \"БАНК ВЕЛЕС\"","322799",null,42349,null,null,null,null,12,"Київська","ЦЕНТР",null,null,null,"01.21","Вирощування винограду",null,null,null,null,null,null,null,null,null,null,null,null,null,null,null,null,null,null,null,null,null,null,null,null,null,null,null,null,"Автономна Республіка Крим","Акрополіс"]
["ВіЕйБі","ПАТ \"ВіЕйБі Банк\"","380537",41964,42083,null,null,null,null,13,"Кіровоградська","ЦЕНТР",null,null,null,"01.22","Вирощування тропічних і субтропічних фруктів",null,null,null,null,null,null,null,null,null,null,null,null,null,null,null,null,null,null,null,null,null,null,null,null,null,null,null,null,"Автономна Республіка Крим","Алмазне"]
["Грінбанк","ПАТ \"Грін Банк\"","322324",41907,42027,null,null,null,null,14,"Луганська","КРИМ/АТО",null,null,null,"01.23","Вирощування цитрусових",null,null,null,null,null,null,null,null,null,null,null,null,null,null,null,null,null,null,null,null,null,null,null,null,null,null,null,null,"Автономна Республіка Крим","Алушта"]
["Даніель","ПАТ \"КБ \"Даніель\"","380980",41656,41745,null,null,null,null,15,"Львівська","ЗАХІД",null,null,null,"01.24","Вирощування зерняткових і кісточкових фруктів",null,null,null,null,null,null,null,null,null,null,null,null,null,null,null,null,null,null,null,null,null,null,null,null,null,null,null,null,"Автономна Республіка Крим","Амурське"]
["Дельта","АТ \"Дельта Банк\"","380236",42066,42279,null,null,null,null,16,"Миколаївська","ПІВДЕНЬ",null,null,null,"01.25","Вирощування ягід, горіхів, інших плодових дерев і чагарників",null,null,null,null,null,null,null,null,null,null,null,null,null,null,null,null,null,null,null,null,null,null,null,null,null,null,null,null,"Автономна Республіка Крим","Ана-Юрт"]
["Демарк","Банк \"Демарк\"","353575",41911,42034,null,null,null,null,17,"Одеська","ПІВДЕНЬ",null,null,null,"01.26","Вирощування олійних плодів",null,null,null,null,null,null,null,null,null,null,null,null,null,null,null,null,null,null,null,null,null,null,null,null,null,null,null,null,"Автономна Республіка Крим","Андрусове"]
["ДЕРЖЗЕМБАНК","ПАТ «ДЕРЖЗЕМБАНК»","380968",42578,42640,null,null,null,null,18,"Полтавська","ЦЕНТР",null,null,null,"01.27","Вирощування культур для виробництва напоїв",null,null,null,null,null,null,null,null,null,null,null,null,null,null,null,null,null,null,null,null,null,null,null,null,null,null,null,null,"Автономна Республіка Крим","Антонівка"]
["ДІАМАНТБАНК","ПАТ \"ДІАМАНТБАНК\"","320854",42849,42910,null,null,null,null,19,"Рівненська","ЗАХІД",null,null,null,"01.28","Вирощування пряних, ароматичних і лікарських культур",null,null,null,null,null,null,null,null,null,null,null,null,null,null,null,null,null,null,null,null,null,null,null,null,null,null,null,null,"Автономна Республіка Крим","Апрелівка"]
["Експобанк","АТ \"КБ \"ЕКСПОБАНК\"","322294",41907,42030,null,null,null,null,20,"Сумська","СХІД",null,null,null,"01.29","Вирощування інших багаторічних культур",null,null,null,null,null,null,null,null,null,null,null,null,null,null,null,null,null,null,null,null,null,null,null,null,null,null,null,null,"Автономна Республіка Крим","Арбузівка"]
["Енергобанк","ПАТ \"ЕНЕРГОБАНК\"","300272",42048,42167,null,null,null,null,21,"Тернопільська","ЗАХІД",null,null,null,"01.3","Відтворення рослин",null,null,null,null,null,null,null,null,null,null,null,null,null,null,null,null,null,null,null,null,null,null,null,null,null,null,null,null,"Автономна Республіка Крим","Арбузове"]
["ЕРДЕ банк","АТ \"ЕРДЕ БАНК\"","380667",41212,41283,null,null,null,null,22,"Харківська","СХІД",null,null,null,"01.30","Відтворення рослин",null,null,null,null,null,null,null,null,null,null,null,null,null,null,null,null,null,null,null,null,null,null,null,null,null,null,null,null,"Автономна Республіка Крим","Аркадіївка"]
["Євробанк","ПАТ \"КБ \"ЄВРОБАНК\"","380355",42538,42599,null,null,null,null,23,"Херсонська","ПІВДЕНЬ",null,null,null,"01.4","Тваринництво",null,null,null,null,null,null,null,null,null,null,null,null,null,null,null,null,null,null,null,null,null,null,null,null,null,null,null,null,"Автономна Республіка Крим","Армійське"]
["Єврогазбанк","АТ \"ЄВРОГАЗБАНК\"","380430",41837,41961,null,null,null,null,24,"Хмельницька","ЦЕНТР",null,null,null,"01.41","Розведення великої рогатої худоби молочних порід",null,null,null,null,null,null,null,null,null,null,null,null,null,null,null,null,null,null,null,null,null,null,null,null,null,null,null,null,"Автономна Республіка Крим","Армянськ"]
["Західінкомбанк","ПАТ \"Західінкомбанк\"","303484",41788,41843,null,null,null,null,25,"Черкаська","ЦЕНТР",null,null,null,"01.42","Розведення іншої великої рогатої худоби та буйволів",null,null,null,null,null,null,null,null,null,null,null,null,null,null,null,null,null,null,null,null,null,null,null,null,null,null,null,null,"Автономна Республіка Крим","Аромат"]
["Златобанк","АТ \"ЗЛАТОБАНК\"","380612",42049,42137,null,null,null,null,26,"Чернівецька","ЗАХІД",null,null,null,"01.43","Розведення коней та інших тварин родини конячих",null,null,null,null,null,null,null,null,null,null,null,null,null,null,null,null,null,null,null,null,null,null,null,null,null,null,null,null,"Автономна Республіка Крим","Ароматне"]
["Золоті ворота","АТ \"БАНК ЗОЛОТІ ВОРОТА\"","351931",41855,41978,null,null,null,null,27,"Чернігівська","СХІД",null,null,null,"01.44","Розведення верблюдів та інших тварин родини верблюдячих",null,null,null,null,null,null,null,null,null,null,null,null,null,null,null,null,null,null,null,null,null,null,null,null,null,null,null,null,"Автономна Республіка Крим","Артемівка"]
["Імексбанк","АТ \"ІМЕКСБАНК\"","328384",42031,42151,null,null,null,null,null,null,null,null,null,null,"01.45","Розведення овець і кіз",null,null,null,null,null,null,null,null,null,null,null,null,null,null,null,null,null,null,null,null,null,null,null,null,null,null,null,null,"Автономна Республіка Крим","Бабенкове"]
["ІНВЕСТБАНК","ПАТ \"КБ \"ІНВЕСТБАНК\"","328210",42720,42748,null,null,null,null,null,null,null,null,null,null,"01.46","Розведення свиней",null,null,null,null,null,null,null,null,null,null,null,null,null,null,null,null,null,null,null,null,null,null,null,null,null,null,null,null,"Автономна Республіка Крим","Багата Ущелина"]
["Інтеграл банк","ПАТ \"Інтеграл-банк\"","320735",42263,42335,null,null,null,null,null,null,null,null,null,null,"01.47","Розведення свійської птиці",null,null,null,null,null,null,null,null,null,null,null,null,null,null,null,null,null,null,null,null,null,null,null,null,null,null,null,null,"Автономна Республіка Крим","Багате"]
["Інтербанк","ПАТ КБ \"ІНТЕРБАНК\"","300216",41753,41843,null,null,null,null,null,null,null,null,null,null,"01.49","Розведення інших тварин",null,null,null,null,null,null,null,null,null,null,null,null,null,null,null,null,null,null,null,null,null,null,null,null,null,null,null,null,"Автономна Республіка Крим","Багатівка"]
["Інтеркредит банк","ПАТ \"ІнтерКредитБанк\"","307424",41922,42021,null,null,null,null,null,null,null,null,null,null,"01.5","Змішане сільське господарство",null,null,null,null,null,null,null,null,null,null,null,null,null,null,null,null,null,null,null,null,null,null,null,null,null,null,null,null,"Автономна Республіка Крим","Багерове"]
["Камбіо","ПАТ \"Банк Камбіо\"","380399",41978,42065,null,null,null,null,null,null,null,null,null,null,"01.50","Змішане сільське господарство",null,null,null,null,null,null,null,null,null,null,null,null,null,null,null,null,null,null,null,null,null,null,null,null,null,null,null,null,"Автономна Республіка Крим","Баланове"]
["Київ","ПАТ \"АКБ \"КИЇВ\"","322498",42060,42180,null,null,null,null,null,null,null,null,null,null,"01.6","Допоміжна діяльність у сільському господарстві та післяурожайна діяльність",null,null,null,null,null,null,null,null,null,null,null,null,null,null,null,null,null,null,null,null,null,null,null,null,null,null,null,null,"Автономна Республіка Крим","Балки"]
["Київськая Русь","ПАТ \"Банк \"Київська Русь\"","319092",42083,42202,null,null,null,null,null,null,null,null,null,null,"01.61","Допоміжна діяльність у рослинництві",null,null,null,null,null,null,null,null,null,null,null,null,null,null,null,null,null,null,null,null,null,null,null,null,null,null,null,null,"Автономна Республіка Крим","Барабанове"]
["КЛАСИКБАНК","ПАТ «КЛАСИКБАНК»","306704",42536,42594,null,null,null,null,null,null,null,null,null,null,"01.62","Допоміжна діяльність у тваринництві",null,null,null,null,null,null,null,null,null,null,null,null,null,null,null,null,null,null,null,null,null,null,null,null,null,null,null,null,"Автономна Республіка Крим","Барсове"]
["Контракт","ПАТ Банк \"Контракт\"","322465",42284,42349,null,null,null,null,null,null,null,null,null,null,"01.63","Післяурожайна діяльність",null,null,null,null,null,null,null,null,null,null,null,null,null,null,null,null,null,null,null,null,null,null,null,null,null,null,null,null,"Автономна Республіка Крим","Батальне"]
["Кредитпромбанк","ПАТ \"КРЕДИТПРОМБАНК\"","300863",42066,42158,null,null,null,null,null,null,null,null,null,null,"01.64","Оброблення насіння для відтворення",null,null,null,null,null,null,null,null,null,null,null,null,null,null,null,null,null,null,null,null,null,null,null,null,null,null,null,null,"Автономна Республіка Крим","Бахчисарай"]
["Легбанк","ПАТ \"Легбанк\"","300056",41971,42062,null,null,null,null,null,null,null,null,null,null,"01.7","Мисливство, відловлювання тварин і надання пов'язаних із ними послуг",null,null,null,null,null,null,null,null,null,null,null,null,null,null,null,null,null,null,null,null,null,null,null,null,null,null,null,null,"Автономна Республіка Крим","Бахчівка (Серебрянська сільська рада)"]
["Меліор","ПАТ \"МЕЛІОР БАНК\"","307435",41922,42046,null,null,null,null,null,null,null,null,null,null,"01.70","Мисливство, відловлювання тварин і надання пов'язаних із ними послуг",null,null,null,null,null,null,null,null,null,null,null,null,null,null,null,null,null,null,null,null,null,null,null,null,null,null,null,null,"Автономна Республіка Крим","Баштанівка"]
["Меркурій","АТ БАНК \"МЕРКУРІЙ\"","351663",41712,41802,null,null,null,null,null,null,null,null,null,null,"02","Лісове господарство та лісозаготівлі",null,null,null,null,null,null,null,null,null,null,null,null,null,null,null,null,null,null,null,null,null,null,null,null,null,null,null,null,"Автономна Республіка Крим","Берегове"]
["Михайлівський","ПАТ \"БАНК МИХАЙЛІВСЬКИЙ\"","380935",42513,42564,null,null,null,null,null,null,null,null,null,null,"02.1","Лісівництво та інша діяльність у лісовому господарстві",null,null,null,null,null,null,null,null,null,null,null,null,null,null,null,null,null,null,null,null,null,null,null,null,null,null,null,null,"Автономна Республіка Крим","Березівка"]
["Міський комерційний банк","ПАТ \"МІСЬКИЙ КОМЕРЦІЙНИЙ БАНК\"","339339",41964,42083,null,null,null,null,null,null,null,null,null,null,"02.10","Лісівництво та інша діяльність у лісовому господарстві",null,null,null,null,null,null,null,null,null,null,null,null,null,null,null,null,null,null,null,null,null,null,null,null,null,null,null,null,"Автономна Республіка Крим","Бєлінське"]
["Надра","ПАТ \"КБ \"Надра\"","380764",42041,42160,null,null,null,null,null,null,null,null,null,null,"02.2","Лісозаготівлі",null,null,null,null,null,null,null,null,null,null,null,null,null,null,null,null,null,null,null,null,null,null,null,null,null,null,null,null,"Автономна Республіка Крим","Біла Скеля"]
["Національний кредит","\"БАНК НАЦІОНАЛЬНИЙ КРЕДИТ\"","320702",42163,42247,null,null,null,null,null,null,null,null,null,null,"02.20","Лісозаготівлі",null,null,null,null,null,null,null,null,null,null,null,null,null,null,null,null,null,null,null,null,null,null,null,null,null,null,null,null,"Автономна Республіка Крим","Білогірськ"]
["Національні інвестиції","БАНК НАЦІОНАЛЬНІ ІНВЕСТИЦІЇ","300498",42265,42339,null,null,null,null,null,null,null,null,null,null,"02.3","Збирання дикорослих недеревних продуктів",null,null,null,null,null,null,null,null,null,null,null,null,null,null,null,null,null,null,null,null,null,null,null,null,null,null,null,null,"Автономна Республіка Крим","Білоглинка"]
["НК БАНК","АТ \"БАНК НАРОДНИЙ КАПІТАЛ\"","322432",42755,42803,null,null,null,null,null,null,null,null,null,null,"02.30","Збирання дикорослих недеревних продуктів",null,null,null,null,null,null,null,null,null,null,null,null,null,null,null,null,null,null,null,null,null,null,null,null,null,null,null,null,"Автономна Республіка Крим","Білокам'яне"]
["Омега","ПАТ \"ОМЕГА БАНК\"","300164",42066,42191,null,null,null,null,null,null,null,null,null,null,"02.4","Надання допоміжних послуг у лісовому господарстві",null,null,null,null,null,null,null,null,null,null,null,null,null,null,null,null,null,null,null,null,null,null,null,null,null,null,null,null,"Автономна Республіка Крим","Бітумне (Гресівська)"]
["Південкомбанк","ПАТ \"КБ \"ПІВДЕНКОМБАНК\"","335946",41785,41908,null,null,null,null,null,null,null,null,null,null,"02.40","Надання допоміжних послуг у лісовому господарстві",null,null,null,null,null,null,null,null,null,null,null,null,null,null,null,null,null,null,null,null,null,null,null,null,null,null,null,null,"Автономна Республіка Крим","Благодатне"]
["Платинум Банк","ПАТ \"Платинум Банк\"","380388",42746,42790,null,null,null,null,null,null,null,null,null,null,"03","Рибне господарство",null,null,null,null,null,null,null,null,null,null,null,null,null,null,null,null,null,null,null,null,null,null,null,null,null,null,null,null,"Автономна Республіка Крим","Ближнє"]
["Праймбанк","ПАТ \"ПРАЙМ-БАНК\"","300669",41915,42018,null,null,null,null,null,null,null,null,null,null,"03.1","Рибальство",null,null,null,null,null,null,null,null,null,null,null,null,null,null,null,null,null,null,null,null,null,null,null,null,null,null,null,null,"Автономна Республіка Крим","Ближньогородське"]
["Промекономбанк","ПАТ \"КБ \"ПРОМЕКОНОМБАНК\"","334992",41781,41890,null,null,null,null,null,null,null,null,null,null,"03.11","Морське рибальство",null,null,null,null,null,null,null,null,null,null,null,null,null,null,null,null,null,null,null,null,null,null,null,null,null,null,null,null,"Автономна Республіка Крим","Богатир"]
["Профінбанк","ПАТ \"ПРОФІН БАНК\"","334594",42024,42114,null,null,null,null,null,null,null,null,null,null,"03.12","Прісноводне рибальство",null,null,null,null,null,null,null,null,null,null,null,null,null,null,null,null,null,null,null,null,null,null,null,null,null,null,null,null,"Автономна Республіка Крим","Богачівка (Магазинська)"]
["Радикал","ПАТ \"РАДИКАЛ БАНК\"","319111",42195,42318,null,null,null,null,null,null,null,null,null,null,"03.2","Рибництво (аквакультура)",null,null,null,null,null,null,null,null,null,null,null,null,null,null,null,null,null,null,null,null,null,null,null,null,null,null,null,null,"Автономна Республіка Крим","Болотне"]
["Реал банк","ПАТ \"РЕАЛ БАНК\"","351588",41701,41780,null,null,null,null,null,null,null,null,null,null,"03.21","Морське рибництво (аквакультура)",null,null,null,null,null,null,null,null,null,null,null,null,null,null,null,null,null,null,null,null,null,null,null,null,null,null,null,null,"Автономна Республіка Крим","Бондаренкове"]
["Смартбанк","ПУАТ «СМАРТБАНК»","380786",42515,42576,null,null,null,null,null,null,null,null,null,null,"03.22","Прісноводне рибництво (аквакультура)",null,null,null,null,null,null,null,null,null,null,null,null,null,null,null,null,null,null,null,null,null,null,null,null,null,null,null,null,"Автономна Республіка Крим","Борисівка"]
["Софіївський","ПАТ \"Банк \"Софійський\"","380861",42361,42485,null,null,null,null,null,null,null,null,null,null,"B","Добувна промисловість і розроблення кар'єрів",null,null,null,null,null,null,null,null,null,null,null,null,null,null,null,null,null,null,null,null,null,null,null,null,null,null,null,null,"Автономна Республіка Крим","Бородіно"]
["Стандарт","ПАТ КБ \"СТАНДАРТ\"","380690",42055,42174,null,null,null,null,null,null,null,null,null,null,"05","Добування кам'яного та бурого вугілля",null,null,null,null,null,null,null,null,null,null,null,null,null,null,null,null,null,null,null,null,null,null,null,null,null,null,null,null,"Автономна Республіка Крим","Ботанічне"]
["Старокиївський","ПАТ \"СТАРОКИЇВСЬКИЙ БАНК\"","321477",41808,41900,null,null,null,null,null,null,null,null,null,null,"05.1","Добування кам'яного вугілля",null,null,null,null,null,null,null,null,null,null,null,null,null,null,null,null,null,null,null,null,null,null,null,null,null,null,null,null,"Автономна Республіка Крим","Братське"]
["Столичний","ПАТ АБ \"СТОЛИЧНИЙ\"","397133",42195,42265,null,null,null,null,null,null,null,null,null,null,"05.10","Добування кам'яного вугілля",null,null,null,null,null,null,null,null,null,null,null,null,null,null,null,null,null,null,null,null,null,null,null,null,null,null,null,null,"Автономна Республіка Крим","Братське (Братської)"]
["Таврика","АТ \"БАНК \"ТАВРИКА\"","300788",41264,41354,null,null,null,null,null,null,null,null,null,null,"05.2","Добування бурого вугілля",null,null,null,null,null,null,null,null,null,null,null,null,null,null,null,null,null,null,null,null,null,null,null,null,null,null,null,null,"Автономна Республіка Крим","Брянське"]
["Терра банк","ПАТ \"ТЕРРА БАНК\"","380601",41873,41997,null,null,null,null,null,null,null,null,null,null,"05.20","Добування бурого вугілля",null,null,null,null,null,null,null,null,null,null,null,null,null,null,null,null,null,null,null,null,null,null,null,null,null,null,null,null,"Автономна Республіка Крим","Буревісник"]
["ТК Кредит","АТ КБ \"ТК Кредит\"","322830",42410,42468,null,null,null,null,null,null,null,null,null,null,"06","Добування сирої нафти та природного газу",null,null,null,null,null,null,null,null,null,null,null,null,null,null,null,null,null,null,null,null,null,null,null,null,null,null,null,null,"Автономна Республіка Крим","Валентинове (Кримська)"]
["ТРАСТ","ПАТ БАНК \"ТРАСТ\"","380474",42711,42734,null,null,null,null,null,null,null,null,null,null,"06.1","Добування сирої нафти",null,null,null,null,null,null,null,null,null,null,null,null,null,null,null,null,null,null,null,null,null,null,null,null,null,null,null,null,"Автономна Республіка Крим","Варварівка"]
["Укоопспілка","АБ \"УКООПСПІЛКА\"","322625",42027,42117,null,null,null,null,null,null,null,null,null,null,"06.10","Добування сирої нафти",null,null,null,null,null,null,null,null,null,null,null,null,null,null,null,null,null,null,null,null,null,null,null,null,null,null,null,null,"Автономна Республіка Крим","Василькове"]
["Укрбізнесбанк","ПАТ \"УКРБІЗНЕСБАНК\"","334969",41999,42118,null,null,null,null,null,null,null,null,null,null,"06.2","Добування природного газу",null,null,null,null,null,null,null,null,null,null,null,null,null,null,null,null,null,null,null,null,null,null,null,null,null,null,null,null,"Автономна Республіка Крим","Велике (Суворовська)"]
["Укргазпромбанк","ПАТ \"УКРГАЗПРОМБАНК\"","320843",42102,42262,null,null,null,null,null,null,null,null,null,null,"06.20","Добування природного газу",null,null,null,null,null,null,null,null,null,null,null,null,null,null,null,null,null,null,null,null,null,null,null,null,null,null,null,null,"Автономна Республіка Крим","Велике Садове (Куйбишевська)"]
["Укрінбанк","ПАТ \"УКРІНБАНК\"","300142",42363,42452,null,null,null,null,null,null,null,null,null,null,"07","Добування металевих руд",null,null,null,null,null,null,null,null,null,null,null,null,null,null,null,null,null,null,null,null,null,null,null,null,null,null,null,null,"Автономна Республіка Крим","Великосілля"]
["Унікомбанк","ПАТ \"УНІКОМБАНК\"","335902",42293,42342,null,null,null,null,null,null,null,null,null,null,"07.1","Добування залізних руд",null,null,null,null,null,null,null,null,null,null,null,null,null,null,null,null,null,null,null,null,null,null,null,null,null,null,null,null,"Автономна Республіка Крим","Вересаєве"]
["УПБ","ПАТ \"УПБ\"","300205",42153,42247,null,null,null,null,null,null,null,null,null,null,"07.10","Добування залізних руд",null,null,null,null,null,null,null,null,null,null,null,null,null,null,null,null,null,null,null,null,null,null,null,null,null,null,null,null,"Автономна Республіка Крим","Верхні Орішники"]
["УФС","ПАТ \"КБ \"УФС\"","377777",41866,41956,null,null,null,null,null,null,null,null,null,null,"07.2","Добування руд кольорових металів",null,null,null,null,null,null,null,null,null,null,null,null,null,null,null,null,null,null,null,null,null,null,null,null,null,null,null,null,"Автономна Республіка Крим","Верхня Кутузовка"]
["ФІДОБАНК","ПУАТ «ФІДОБАНК»","300175",42510,42571,null,null,null,null,null,null,null,null,null,null,"07.21","Добування уранових і торієвих руд",null,null,null,null,null,null,null,null,null,null,null,null,null,null,null,null,null,null,null,null,null,null,null,null,null,null,null,null,"Автономна Республіка Крим","Верхньозаморське"]
["Фінанси та кредит","АТ \"БАНК \"ФІНАНСИ ТА КРЕДИТ\"","300131",42265,42355,null,null,null,null,null,null,null,null,null,null,"07.29","Добування руд інших кольорових металів",null,null,null,null,null,null,null,null,null,null,null,null,null,null,null,null,null,null,null,null,null,null,null,null,null,null,null,null,"Автономна Республіка Крим","Верхньокурганне"]
["ФІНБАНК","ПАТ \"ФІНБАНК\"","328685",42832,42852,null,null,null,null,null,null,null,null,null,null,"08","Добування інших корисних копалин та розроблення кар'єрів",null,null,null,null,null,null,null,null,null,null,null,null,null,null,null,null,null,null,null,null,null,null,null,null,null,null,null,null,"Автономна Республіка Крим","Верхоріччя"]
["Фінростбанк","АТ \"ФІНРОСТБАНК\"","328599",41836,41928,null,null,null,null,null,null,null,null,null,null,"08.1","Добування каменю, піску та глини",null,null,null,null,null,null,null,null,null,null,null,null,null,null,null,null,null,null,null,null,null,null,null,null,null,null,null,null,"Автономна Республіка Крим","Вершинне"]
["ФОРТУНА-БАНК","АТ \"ФОРТУНА-БАНК\"","300904",42762,42788,null,null,null,null,null,null,null,null,null,null,"08.11","Добування декоративного та будівельного каменю, вапняку, гіпсу, крейди та глинистого сланцю",null,null,null,null,null,null,null,null,null,null,null,null,null,null,null,null,null,null,null,null,null,null,null,null,null,null,null,null,"Автономна Республіка Крим","Веселе"]
["Форум","ПАТ \"БАНК ФОРУМ\"","322948",41712,41806,null,null,null,null,null,null,null,null,null,null,"08.12","Добування піску, гравію, глин і каоліну",null,null,null,null,null,null,null,null,null,null,null,null,null,null,null,null,null,null,null,null,null,null,null,null,null,null,null,null,"Автономна Республіка Крим","Веселівка"]
["Хрещатик","ПАТ \"КБ \"Хрещатик\"","300670",42465,42524,null,null,null,null,null,null,null,null,null,null,"08.9","Добування корисних копалин та розроблення кар'єрів, н.в.і.у.",null,null,null,null,null,null,null,null,null,null,null,null,null,null,null,null,null,null,null,null,null,null,null,null,null,null,null,null,"Автономна Республіка Крим","Видне"]
["Юніон стандарт банк","ПАТ \"ЮСБ БАНК\"","305987",42280,42366,null,null,null,null,null,null,null,null,null,null,"08.91","Добування мінеральної сировини для хімічної промисловості та виробництва мінеральних добрив",null,null,null,null,null,null,null,null,null,null,null,null,null,null,null,null,null,null,null,null,null,null,null,null,null,null,null,null,"Автономна Республіка Крим","Виноградне"]
["Новий","ПАТ АКБ Новий",305062,null,null,null,null,null,null,null,null,null,null,null,null,"08.92","Добування торфу",null,null,null,null,null,null,null,null,null,null,null,null,null,null,null,null,null,null,null,null,null,null,null,null,null,null,null,null,"Автономна Республіка Крим","Виноградний"]
[null,null,null,null,null,null,null,null,null,null,null,null,null,null,null,"08.93","Добування солі",null,null,null,null,null,null,null,null,null,null,null,null,null,null,null,null,null,null,null,null,null,null,null,null,null,null,null,null,"Автономна Республіка Крим","Виноградове"]
[null,null,null,null,null,null,null,null,null,null,null,null,null,null,null,"08.99","Добування інших корисних копалин та розроблення кар'єрів, н.в.і.у.",null,null,null,null,null,null,null,null,null,null,null,null,null,null,null,null,null,null,null,null,null,null,null,null,null,null,null,null,"Автономна Республіка Крим","Випасне"]
[null,null,null,null,null,null,null,null,null,null,null,null,null,null,null,"09","Надання допоміжних послуг у сфері добувної промисловості та розроблення кар'єрів",null,null,null,null,null,null,null,null,null,null,null,null,null,null,null,null,null,null,null,null,null,null,null,null,null,null,null,null,"Автономна Республіка Крим","Високогірне"]
[null,null,null,null,null,null,null,null,null,null,null,null,null,null,null,"09.1","Надання допоміжних послуг у сфері добування нафти та природного газу",null,null,null,null,null,null,null,null,null,null,null,null,null,null,null,null,null,null,null,null,null,null,null,null,null,null,null,null,"Автономна Республіка Крим","Вишенне"]
[null,null,null,null,null,null,null,null,null,null,null,null,null,null,null,"09.10","Надання допоміжних послуг у сфері добування нафти та природного газу",null,null,null,null,null,null,null,null,null,null,null,null,null,null,null,null,null,null,null,null,null,null,null,null,null,null,null,null,"Автономна Республіка Крим","Вишнівка (Вишнівської)"]
[null,null,null,null,null,null,null,null,null,null,null,null,null,null,null,"09.9","Надання допоміжних послуг у сфері добування інших корисних копалин та розроблення кар'єрів",null,null,null,null,null,null,null,null,null,null,null,null,null,null,null,null,null,null,null,null,null,null,null,null,null,null,null,null,"Автономна Республіка Крим","Вишняківка"]
[null,null,null,null,null,null,null,null,null,null,null,null,null,null,null,"09.90","Надання допоміжних послуг у сфері добування інших корисних копалин та розроблення кар'єрів",null,null,null,null,null,null,null,null,null,null,null,null,null,null,null,null,null,null,null,null,null,null,null,null,null,null,null,null,"Автономна Республіка Крим","Відважне"]
[null,null,null,null,null,null,null,null,null,null,null,null,null,null,null,"C","Переробна промисловість",null,null,null,null,null,null,null,null,null,null,null,null,null,null,null,null,null,null,null,null,null,null,null,null,null,null,null,null,"Автономна Республіка Крим","Відкрите"]
[null,null,null,null,null,null,null,null,null,null,null,null,null,null,null,"10","Виробництво харчових продуктів",null,null,null,null,null,null,null,null,null,null,null,null,null,null,null,null,null,null,null,null,null,null,null,null,null,null,null,null,"Автономна Республіка Крим","Відрадне"]
[null,null,null,null,null,null,null,null,null,null,null,null,null,null,null,"10.1","Виробництво м'яса та м'ясних продуктів",null,null,null,null,null,null,null,null,null,null,null,null,null,null,null,null,null,null,null,null,null,null,null,null,null,null,null,null,"Автономна Республіка Крим","Відродження"]
[null,null,null,null,null,null,null,null,null,null,null,null,null,null,null,"10.11","Виробництво м'яса",null,null,null,null,null,null,null,null,null,null,null,null,null,null,null,null,null,null,null,null,null,null,null,null,null,null,null,null,"Автономна Республіка Крим","Вікторівка"]
[null,null,null,null,null,null,null,null,null,null,null,null,null,null,null,"10.12","Виробництво м'яса свійської птиці",null,null,null,null,null,null,null,null,null,null,null,null,null,null,null,null,null,null,null,null,null,null,null,null,null,null,null,null,"Автономна Республіка Крим","Віліне"]
[null,null,null,null,null,null,null,null,null,null,null,null,null,null,null,"10.13","Виробництво м'ясних продуктів",null,null,null,null,null,null,null,null,null,null,null,null,null,null,null,null,null,null,null,null,null,null,null,null,null,null,null,null,"Автономна Республіка Крим","Вільне"]
[null,null,null,null,null,null,null,null,null,null,null,null,null,null,null,"10.2","Перероблення та консервування риби, ракоподібних і молюсків",null,null,null,null,null,null,null,null,null,null,null,null,null,null,null,null,null,null,null,null,null,null,null,null,null,null,null,null,"Автономна Республіка Крим","Вітвисте (Єрмаковська)"]
[null,null,null,null,null,null,null,null,null,null,null,null,null,null,null,"10.20","Перероблення та консервування риби, ракоподібних і молюсків",null,null,null,null,null,null,null,null,null,null,null,null,null,null,null,null,null,null,null,null,null,null,null,null,null,null,null,null,"Автономна Республіка Крим","Вітіне"]
[null,null,null,null,null,null,null,null,null,null,null,null,null,null,null,"10.3","Перероблення та консервування фруктів і овочів",null,null,null,null,null,null,null,null,null,null,null,null,null,null,null,null,null,null,null,null,null,null,null,null,null,null,null,null,"Автономна Республіка Крим","Вітрівка (Виноградівська)"]
[null,null,null,null,null,null,null,null,null,null,null,null,null,null,null,"10.31","Перероблення та консервування картоплі",null,null,null,null,null,null,null,null,null,null,null,null,null,null,null,null,null,null,null,null,null,null,null,null,null,null,null,null,"Автономна Республіка Крим","Вітрянка (Ковильнівська сільська рада)"]
[null,null,null,null,null,null,null,null,null,null,null,null,null,null,null,"10.32","Виробництво фруктових і овочевих соків",null,null,null,null,null,null,null,null,null,null,null,null,null,null,null,null,null,null,null,null,null,null,null,null,null,null,null,null,"Автономна Республіка Крим","Владиславівка"]
[null,null,null,null,null,null,null,null,null,null,null,null,null,null,null,"10.39"," Інші види перероблення та консервування фруктів і овочів",null,null,null,null,null,null,null,null,null,null,null,null,null,null,null,null,null,null,null,null,null,null,null,null,null,null,null,null,"Автономна Республіка Крим","Владне"]
[null,null,null,null,null,null,null,null,null,null,null,null,null,null,null,"10.4","Виробництво олії та тваринних жирів",null,null,null,null,null,null,null,null,null,null,null,null,null,null,null,null,null,null,null,null,null,null,null,null,null,null,null,null,"Автономна Республіка Крим","Внукове"]
[null,null,null,null,null,null,null,null,null,null,null,null,null,null,null,"10.41","Виробництво олії та тваринних жирів",null,null,null,null,null,null,null,null,null,null,null,null,null,null,null,null,null,null,null,null,null,null,null,null,null,null,null,null,"Автономна Республіка Крим","Вогневе (Кольцовська)"]
[null,null,null,null,null,null,null,null,null,null,null,null,null,null,null,"10.42","Виробництво маргарину і подібних харчових жирів",null,null,null,null,null,null,null,null,null,null,null,null,null,null,null,null,null,null,null,null,null,null,null,null,null,null,null,null,"Автономна Республіка Крим","Вогні (Кукушкінська сільська рада)"]
[null,null,null,null,null,null,null,null,null,null,null,null,null,null,null,"10.5","Виробництво молочних продуктів",null,null,null,null,null,null,null,null,null,null,null,null,null,null,null,null,null,null,null,null,null,null,null,null,null,null,null,null,"Автономна Республіка Крим","Водне"]
[null,null,null,null,null,null,null,null,null,null,null,null,null,null,null,"10.51","Перероблення молока, виробництво масла та сиру",null,null,null,null,null,null,null,null,null,null,null,null,null,null,null,null,null,null,null,null,null,null,null,null,null,null,null,null,"Автономна Республіка Крим","Водопійне"]
[null,null,null,null,null,null,null,null,null,null,null,null,null,null,null,"10.52","Виробництво морозива",null,null,null,null,null,null,null,null,null,null,null,null,null,null,null,null,null,null,null,null,null,null,null,null,null,null,null,null,"Автономна Республіка Крим","Водопійне (Сизівська)"]
[null,null,null,null,null,null,null,null,null,null,null,null,null,null,null,"10.6","Виробництво продуктів борошномельно-круп'яної промисловості, крохмалів та крохмальних продуктів",null,null,null,null,null,null,null,null,null,null,null,null,null,null,null,null,null,null,null,null,null,null,null,null,null,null,null,null,"Автономна Республіка Крим","Войкове"]
[null,null,null,null,null,null,null,null,null,null,null,null,null,null,null,"10.61","Виробництво продуктів борошномельно-круп'яної промисловості",null,null,null,null,null,null,null,null,null,null,null,null,null,null,null,null,null,null,null,null,null,null,null,null,null,null,null,null,"Автономна Республіка Крим","Воїнка (Воїнська)"]
[null,null,null,null,null,null,null,null,null,null,null,null,null,null,null,"10.62","Виробництво крохмалів та крохмальних продуктів",null,null,null,null,null,null,null,null,null,null,null,null,null,null,null,null,null,null,null,null,null,null,null,null,null,null,null,null,"Автономна Республіка Крим","Володимирівка"]
[null,null,null,null,null,null,null,null,null,null,null,null,null,null,null,"10.7","Виробництво хліба, хлібобулочних і борошняних виробів",null,null,null,null,null,null,null,null,null,null,null,null,null,null,null,null,null,null,null,null,null,null,null,null,null,null,null,null,"Автономна Республіка Крим","Володимирове"]
[null,null,null,null,null,null,null,null,null,null,null,null,null,null,null,"10.71","Виробництво хліба та хлібобулочних виробів; виробництво борошняних кондитерських виробів, тортів і тістечок нетривалого зберігання",null,null,null,null,null,null,null,null,null,null,null,null,null,null,null,null,null,null,null,null,null,null,null,null,null,null,null,null,"Автономна Республіка Крим","Володине"]
[null,null,null,null,null,null,null,null,null,null,null,null,null,null,null,"10.72","Виробництво сухарів і сухого печива; виробництво борошняних кондитерських виробів, тортів і тістечок тривалого зберігання",null,null,null,null,null,null,null,null,null,null,null,null,null,null,null,null,null,null,null,null,null,null,null,null,null,null,null,null,"Автономна Республіка Крим","Волочаївка (Ковильнівська сільська рада)"]
[null,null,null,null,null,null,null,null,null,null,null,null,null,null,null,"10.73","Виробництво макаронних виробів та подібних борошняних виробів",null,null,null,null,null,null,null,null,null,null,null,null,null,null,null,null,null,null,null,null,null,null,null,null,null,null,null,null,"Автономна Республіка Крим","Волошине (Суворівської)"]
[null,null,null,null,null,null,null,null,null,null,null,null,null,null,null,"10.8","Виробництво інших харчових продуктів",null,null,null,null,null,null,null,null,null,null,null,null,null,null,null,null,null,null,null,null,null,null,null,null,null,null,null,null,"Автономна Республіка Крим","Воробйове"]
[null,null,null,null,null,null,null,null,null,null,null,null,null,null,null,"10.81","Виробництво цукру",null,null,null,null,null,null,null,null,null,null,null,null,null,null,null,null,null,null,null,null,null,null,null,null,null,null,null,null,"Автономна Республіка Крим","Ворон"]
[null,null,null,null,null,null,null,null,null,null,null,null,null,null,null,"10.82","Виробництво какао, шоколаду та цукрових кондитерських виробів",null,null,null,null,null,null,null,null,null,null,null,null,null,null,null,null,null,null,null,null,null,null,null,null,null,null,null,null,"Автономна Республіка Крим","Воронки (Зиминська сільська рада)"]
[null,null,null,null,null,null,null,null,null,null,null,null,null,null,null,"10.83","Виробництво чаю та кави",null,null,null,null,null,null,null,null,null,null,null,null,null,null,null,null,null,null,null,null,null,null,null,null,null,null,null,null,"Автономна Республіка Крим","Воронцівка (Ільїнської)"]
[null,null,null,null,null,null,null,null,null,null,null,null,null,null,null,"10.84","Виробництво прянощів і приправ",null,null,null,null,null,null,null,null,null,null,null,null,null,null,null,null,null,null,null,null,null,null,null,null,null,null,null,null,"Автономна Республіка Крим","Восточне"]
[null,null,null,null,null,null,null,null,null,null,null,null,null,null,null,"10.85","Виробництво готової їжі та страв",null,null,null,null,null,null,null,null,null,null,null,null,null,null,null,null,null,null,null,null,null,null,null,null,null,null,null,null,"Автономна Республіка Крим","Восход"]
[null,null,null,null,null,null,null,null,null,null,null,null,null,null,null,"10.86","Виробництво дитячого харчування та дієтичних харчових продуктів",null,null,null,null,null,null,null,null,null,null,null,null,null,null,null,null,null,null,null,null,null,null,null,null,null,null,null,null,"Автономна Республіка Крим","Вузлове"]
[null,null,null,null,null,null,null,null,null,null,null,null,null,null,null,"10.89","Виробництво інших харчових продуктів, н.в.і.у.",null,null,null,null,null,null,null,null,null,null,null,null,null,null,null,null,null,null,null,null,null,null,null,null,null,null,null,null,"Автономна Республіка Крим","Вулканівка"]
[null,null,null,null,null,null,null,null,null,null,null,null,null,null,null,"10.9","Виробництво готових кормів для тварин",null,null,null,null,null,null,null,null,null,null,null,null,null,null,null,null,null,null,null,null,null,null,null,null,null,null,null,null,"Автономна Республіка Крим","В'язникове"]
[null,null,null,null,null,null,null,null,null,null,null,null,null,null,null,"10.91","Виробництво готових кормів для тварин, що утримуються на фермах",null,null,null,null,null,null,null,null,null,null,null,null,null,null,null,null,null,null,null,null,null,null,null,null,null,null,null,null,"Автономна Республіка Крим","Гаршине"]
[null,null,null,null,null,null,null,null,null,null,null,null,null,null,null,"10.92","Виробництво готових кормів для домашніх тварин",null,null,null,null,null,null,null,null,null,null,null,null,null,null,null,null,null,null,null,null,null,null,null,null,null,null,null,null,"Автономна Республіка Крим","Гаспра"]
[null,null,null,null,null,null,null,null,null,null,null,null,null,null,null,"11","Виробництво напоїв",null,null,null,null,null,null,null,null,null,null,null,null,null,null,null,null,null,null,null,null,null,null,null,null,null,null,null,null,"Автономна Республіка Крим","Гвардійське (Гвардійської)"]
[null,null,null,null,null,null,null,null,null,null,null,null,null,null,null,"11.0","Виробництво напоїв",null,null,null,null,null,null,null,null,null,null,null,null,null,null,null,null,null,null,null,null,null,null,null,null,null,null,null,null,"Автономна Республіка Крим","Генеральське"]
[null,null,null,null,null,null,null,null,null,null,null,null,null,null,null,"11.01","Дистиляція, ректифікація та змішування спиртних напоїв",null,null,null,null,null,null,null,null,null,null,null,null,null,null,null,null,null,null,null,null,null,null,null,null,null,null,null,null,"Автономна Республіка Крим","Геройське"]
[null,null,null,null,null,null,null,null,null,null,null,null,null,null,null,"11.02","Виробництво виноградних вин",null,null,null,null,null,null,null,null,null,null,null,null,null,null,null,null,null,null,null,null,null,null,null,null,null,null,null,null,"Автономна Республіка Крим","Гірне"]
[null,null,null,null,null,null,null,null,null,null,null,null,null,null,null,"11.03","Виробництво сидру та інших плодово-ягідних вин",null,null,null,null,null,null,null,null,null,null,null,null,null,null,null,null,null,null,null,null,null,null,null,null,null,null,null,null,"Автономна Республіка Крим","Глазівка"]
[null,null,null,null,null,null,null,null,null,null,null,null,null,null,null,"11.04","Виробництво інших недистильованих напоїв із зброджуваних продуктів",null,null,null,null,null,null,null,null,null,null,null,null,null,null,null,null,null,null,null,null,null,null,null,null,null,null,null,null,"Автономна Республіка Крим","Глибокий Яр"]
[null,null,null,null,null,null,null,null,null,null,null,null,null,null,null,"11.05","Виробництво пива",null,null,null,null,null,null,null,null,null,null,null,null,null,null,null,null,null,null,null,null,null,null,null,null,null,null,null,null,"Автономна Республіка Крим","Глінка (Вересаєвська сільська рада)"]
[null,null,null,null,null,null,null,null,null,null,null,null,null,null,null,"11.06","Виробництво солоду",null,null,null,null,null,null,null,null,null,null,null,null,null,null,null,null,null,null,null,null,null,null,null,null,null,null,null,null,"Автономна Республіка Крим","Голованівка"]
[null,null,null,null,null,null,null,null,null,null,null,null,null,null,null,"11.07","Виробництво безалкогольних напоїв; виробництво мінеральних вод та інших вод, розлитих у пляшки",null,null,null,null,null,null,null,null,null,null,null,null,null,null,null,null,null,null,null,null,null,null,null,null,null,null,null,null,"Автономна Республіка Крим","Голуба Затока"]
[null,null,null,null,null,null,null,null,null,null,null,null,null,null,null,"12","Виробництво тютюнових виробів",null,null,null,null,null,null,null,null,null,null,null,null,null,null,null,null,null,null,null,null,null,null,null,null,null,null,null,null,"Автономна Республіка Крим","Голубинка"]
[null,null,null,null,null,null,null,null,null,null,null,null,null,null,null,"12.0","Виробництво тютюнових виробів",null,null,null,null,null,null,null,null,null,null,null,null,null,null,null,null,null,null,null,null,null,null,null,null,null,null,null,null,"Автономна Республіка Крим","Горлинка"]
[null,null,null,null,null,null,null,null,null,null,null,null,null,null,null,"12.00","Виробництво тютюнових виробів",null,null,null,null,null,null,null,null,null,null,null,null,null,null,null,null,null,null,null,null,null,null,null,null,null,null,null,null,"Автономна Республіка Крим","Горностаївка"]
[null,null,null,null,null,null,null,null,null,null,null,null,null,null,null,"13","Текстильне виробництво",null,null,null,null,null,null,null,null,null,null,null,null,null,null,null,null,null,null,null,null,null,null,null,null,null,null,null,null,"Автономна Республіка Крим","Городнє (Руч'ївська сільська рада)"]
[null,null,null,null,null,null,null,null,null,null,null,null,null,null,null,"13.1","Підготування та прядіння текстильних волокон",null,null,null,null,null,null,null,null,null,null,null,null,null,null,null,null,null,null,null,null,null,null,null,null,null,null,null,null,"Автономна Республіка Крим","Гресівський"]
[null,null,null,null,null,null,null,null,null,null,null,null,null,null,null,"13.10","Підготування та прядіння текстильних волокон",null,null,null,null,null,null,null,null,null,null,null,null,null,null,null,null,null,null,null,null,null,null,null,null,null,null,null,null,"Автономна Республіка Крим","Григорівка"]
[null,null,null,null,null,null,null,null,null,null,null,null,null,null,null,"13.2","Ткацьке виробництво",null,null,null,null,null,null,null,null,null,null,null,null,null,null,null,null,null,null,null,null,null,null,null,null,null,null,null,null,"Автономна Республіка Крим","Гришине (Гришинської)"]
[null,null,null,null,null,null,null,null,null,null,null,null,null,null,null,"13.20","Ткацьке виробництво",null,null,null,null,null,null,null,null,null,null,null,null,null,null,null,null,null,null,null,null,null,null,null,null,null,null,null,null,"Автономна Республіка Крим","Громівка"]
[null,null,null,null,null,null,null,null,null,null,null,null,null,null,null,"13.3","Оздоблення текстильних виробів",null,null,null,null,null,null,null,null,null,null,null,null,null,null,null,null,null,null,null,null,null,null,null,null,null,null,null,null,"Автономна Республіка Крим","Громове"]
[null,null,null,null,null,null,null,null,null,null,null,null,null,null,null,"13.30","Оздоблення текстильних виробів",null,null,null,null,null,null,null,null,null,null,null,null,null,null,null,null,null,null,null,null,null,null,null,null,null,null,null,null,"Автономна Республіка Крим","Громовка"]
[null,null,null,null,null,null,null,null,null,null,null,null,null,null,null,"13.9","Виробництво інших текстильних виробів",null,null,null,null,null,null,null,null,null,null,null,null,null,null,null,null,null,null,null,null,null,null,null,null,null,null,null,null,"Автономна Республіка Крим","Грушеве"]
[null,null,null,null,null,null,null,null,null,null,null,null,null,null,null,"13.91","Виробництво трикотажного полотна",null,null,null,null,null,null,null,null,null,null,null,null,null,null,null,null,null,null,null,null,null,null,null,null,null,null,null,null,"Автономна Республіка Крим","Грушівка"]
[null,null,null,null,null,null,null,null,null,null,null,null,null,null,null,"13.92","Виробництво готових текстильних виробів, крім одягу",null,null,null,null,null,null,null,null,null,null,null,null,null,null,null,null,null,null,null,null,null,null,null,null,null,null,null,null,"Автономна Республіка Крим","Гурзуф"]
[null,null,null,null,null,null,null,null,null,null,null,null,null,null,null,"13.93","Виробництво килимів і килимових виробів",null,null,null,null,null,null,null,null,null,null,null,null,null,null,null,null,null,null,null,null,null,null,null,null,null,null,null,null,"Автономна Республіка Крим","Давидове"]
[null,null,null,null,null,null,null,null,null,null,null,null,null,null,null,"13.94","Виробництво канатів, мотузок, шпагату та сіток",null,null,null,null,null,null,null,null,null,null,null,null,null,null,null,null,null,null,null,null,null,null,null,null,null,null,null,null,"Автономна Республіка Крим","Далеке"]
[null,null,null,null,null,null,null,null,null,null,null,null,null,null,null,"13.95","Виробництво нетканих текстильних матеріалів та виробів із них, крім одягу",null,null,null,null,null,null,null,null,null,null,null,null,null,null,null,null,null,null,null,null,null,null,null,null,null,null,null,null,"Автономна Республіка Крим","Данилівка"]
[null,null,null,null,null,null,null,null,null,null,null,null,null,null,null,"13.96","Виробництво інших текстильних виробів технічного та промислового призначення",null,null,null,null,null,null,null,null,null,null,null,null,null,null,null,null,null,null,null,null,null,null,null,null,null,null,null,null,"Автономна Республіка Крим","Дачне"]
[null,null,null,null,null,null,null,null,null,null,null,null,null,null,null,"13.99","Виробництво інших текстильних виробів, н.в.і.у.",null,null,null,null,null,null,null,null,null,null,null,null,null,null,null,null,null,null,null,null,null,null,null,null,null,null,null,null,"Автономна Республіка Крим","Дворіччя"]
[null,null,null,null,null,null,null,null,null,null,null,null,null,null,null,"14","Виробництво одягу",null,null,null,null,null,null,null,null,null,null,null,null,null,null,null,null,null,null,null,null,null,null,null,null,null,null,null,null,"Автономна Республіка Крим","Дворове"]
[null,null,null,null,null,null,null,null,null,null,null,null,null,null,null,"14.1","Виробництво одягу, крім хутряного",null,null,null,null,null,null,null,null,null,null,null,null,null,null,null,null,null,null,null,null,null,null,null,null,null,null,null,null,"Автономна Республіка Крим","Дем'янівка"]
[null,null,null,null,null,null,null,null,null,null,null,null,null,null,null,"14.11","Виробництво одягу зі шкіри",null,null,null,null,null,null,null,null,null,null,null,null,null,null,null,null,null,null,null,null,null,null,null,null,null,null,null,null,"Автономна Республіка Крим","Денисівка"]
[null,null,null,null,null,null,null,null,null,null,null,null,null,null,null,"14.12","Виробництво робочого одягу",null,null,null,null,null,null,null,null,null,null,null,null,null,null,null,null,null,null,null,null,null,null,null,null,null,null,null,null,"Автономна Республіка Крим","Джанкой"]
[null,null,null,null,null,null,null,null,null,null,null,null,null,null,null,"14.13","Виробництво іншого верхнього одягу",null,null,null,null,null,null,null,null,null,null,null,null,null,null,null,null,null,null,null,null,null,null,null,null,null,null,null,null,"Автономна Республіка Крим","Дивне"]
[null,null,null,null,null,null,null,null,null,null,null,null,null,null,null,"14.14","Виробництво спіднього одягу",null,null,null,null,null,null,null,null,null,null,null,null,null,null,null,null,null,null,null,null,null,null,null,null,null,null,null,null,"Автономна Республіка Крим","Дібрівка"]
[null,null,null,null,null,null,null,null,null,null,null,null,null,null,null,"14.19","Виробництво іншого одягу й аксесуарів",null,null,null,null,null,null,null,null,null,null,null,null,null,null,null,null,null,null,null,null,null,null,null,null,null,null,null,null,"Автономна Республіка Крим","Дібрівське"]
[null,null,null,null,null,null,null,null,null,null,null,null,null,null,null,"14.2","Виготовлення виробів із хутра",null,null,null,null,null,null,null,null,null,null,null,null,null,null,null,null,null,null,null,null,null,null,null,null,null,null,null,null,"Автономна Республіка Крим","Дмитрівка"]
[null,null,null,null,null,null,null,null,null,null,null,null,null,null,null,"14.20","Виготовлення виробів із хутра",null,null,null,null,null,null,null,null,null,null,null,null,null,null,null,null,null,null,null,null,null,null,null,null,null,null,null,null,"Автономна Республіка Крим","Дмитрівка (Войковське)"]
[null,null,null,null,null,null,null,null,null,null,null,null,null,null,null,"14.3","Виробництво трикотажного та в'язаного одягу",null,null,null,null,null,null,null,null,null,null,null,null,null,null,null,null,null,null,null,null,null,null,null,null,null,null,null,null,"Автономна Республіка Крим","Дмитрове"]
[null,null,null,null,null,null,null,null,null,null,null,null,null,null,null,"14.31","Виробництво панчішно-шкарпеткових виробів",null,null,null,null,null,null,null,null,null,null,null,null,null,null,null,null,null,null,null,null,null,null,null,null,null,null,null,null,"Автономна Республіка Крим","Дніпровка"]
[null,null,null,null,null,null,null,null,null,null,null,null,null,null,null,"14.39","Виробництво іншого трикотажного та в'язаного одягу",null,null,null,null,null,null,null,null,null,null,null,null,null,null,null,null,null,null,null,null,null,null,null,null,null,null,null,null,"Автономна Республіка Крим","Добре"]
[null,null,null,null,null,null,null,null,null,null,null,null,null,null,null,"15","Виробництво шкіри, виробів зі шкіри та інших матеріалів",null,null,null,null,null,null,null,null,null,null,null,null,null,null,null,null,null,null,null,null,null,null,null,null,null,null,null,null,"Автономна Республіка Крим","Добролюбовка"]
[null,null,null,null,null,null,null,null,null,null,null,null,null,null,null,"15.1","Дублення шкур і оздоблення шкіри; виробництво дорожніх виробів, сумок, лимарно-сідельних виробів; вичинка та фарбування хутра",null,null,null,null,null,null,null,null,null,null,null,null,null,null,null,null,null,null,null,null,null,null,null,null,null,null,null,null,"Автономна Республіка Крим","Добрушине"]
[null,null,null,null,null,null,null,null,null,null,null,null,null,null,null,"15.11","Дублення шкур і оздоблення шкіри; вичинка та фарбування хутра",null,null,null,null,null,null,null,null,null,null,null,null,null,null,null,null,null,null,null,null,null,null,null,null,null,null,null,null,"Автономна Республіка Крим","Дозорне"]
[null,null,null,null,null,null,null,null,null,null,null,null,null,null,null,"15.12","Виробництво дорожніх виробів, сумок, лимарно-сідельних виробів зі шкіри та інших матеріалів",null,null,null,null,null,null,null,null,null,null,null,null,null,null,null,null,null,null,null,null,null,null,null,null,null,null,null,null,"Автономна Республіка Крим","Докучаєве"]
[null,null,null,null,null,null,null,null,null,null,null,null,null,null,null,"15.2","Виробництво взуття",null,null,null,null,null,null,null,null,null,null,null,null,null,null,null,null,null,null,null,null,null,null,null,null,null,null,null,null,"Автономна Республіка Крим","Долинівка"]
[null,null,null,null,null,null,null,null,null,null,null,null,null,null,null,"15.20","Виробництво взуття",null,null,null,null,null,null,null,null,null,null,null,null,null,null,null,null,null,null,null,null,null,null,null,null,null,null,null,null,"Автономна Республіка Крим","Долинка (Митяївська)"]
[null,null,null,null,null,null,null,null,null,null,null,null,null,null,null,"16","Оброблення деревини та виготовлення виробів з деревини та корка, крім меблів; виготовлення виробів із соломки та рослинних матеріалів для плетіння",null,null,null,null,null,null,null,null,null,null,null,null,null,null,null,null,null,null,null,null,null,null,null,null,null,null,null,null,"Автономна Республіка Крим","Долинка (Новопавлівської)"]
[null,null,null,null,null,null,null,null,null,null,null,null,null,null,null,"16.1","Лісопильне та стругальне виробництво",null,null,null,null,null,null,null,null,null,null,null,null,null,null,null,null,null,null,null,null,null,null,null,null,null,null,null,null,"Автономна Республіка Крим","Долинне"]
[null,null,null,null,null,null,null,null,null,null,null,null,null,null,null,"16.10","Лісопильне та стругальне виробництво",null,null,null,null,null,null,null,null,null,null,null,null,null,null,null,null,null,null,null,null,null,null,null,null,null,null,null,null,"Автономна Республіка Крим","Донське"]
[null,null,null,null,null,null,null,null,null,null,null,null,null,null,null,"16.2","Виготовлення виробів з деревини, корка, соломки та рослинних матеріалів для плетіння",null,null,null,null,null,null,null,null,null,null,null,null,null,null,null,null,null,null,null,null,null,null,null,null,null,null,null,null,"Автономна Республіка Крим","Дорожнє"]
[null,null,null,null,null,null,null,null,null,null,null,null,null,null,null,"16.21","Виробництво фанери, дерев'яних плит і панелей, шпону",null,null,null,null,null,null,null,null,null,null,null,null,null,null,null,null,null,null,null,null,null,null,null,null,null,null,null,null,"Автономна Республіка Крим","Доходне"]
[null,null,null,null,null,null,null,null,null,null,null,null,null,null,null,"16.22","Виробництво щитового паркету",null,null,null,null,null,null,null,null,null,null,null,null,null,null,null,null,null,null,null,null,null,null,null,null,null,null,null,null,"Автономна Республіка Крим","Дрофине"]
[null,null,null,null,null,null,null,null,null,null,null,null,null,null,null,"16.23","Виробництво інших дерев'яних будівельних конструкцій і столярних виробів",null,null,null,null,null,null,null,null,null,null,null,null,null,null,null,null,null,null,null,null,null,null,null,null,null,null,null,null,"Автономна Республіка Крим","Дружне"]
[null,null,null,null,null,null,null,null,null,null,null,null,null,null,null,"16.24","Виробництво дерев'яної тари",null,null,null,null,null,null,null,null,null,null,null,null,null,null,null,null,null,null,null,null,null,null,null,null,null,null,null,null,"Автономна Республіка Крим","Дубки"]
[null,null,null,null,null,null,null,null,null,null,null,null,null,null,null,"16.29","Виробництво інших виробів з деревини; виготовлення виробів з корка, соломки та рослинних матеріалів для плетіння",null,null,null,null,null,null,null,null,null,null,null,null,null,null,null,null,null,null,null,null,null,null,null,null,null,null,null,null,"Автономна Республіка Крим","Дятлівка"]
[null,null,null,null,null,null,null,null,null,null,null,null,null,null,null,"17","Виробництво паперу та паперових виробів",null,null,null,null,null,null,null,null,null,null,null,null,null,null,null,null,null,null,null,null,null,null,null,null,null,null,null,null,"Автономна Республіка Крим","Євпаторія"]
[null,null,null,null,null,null,null,null,null,null,null,null,null,null,null,"17.1","Виробництво паперової маси, паперу та картону",null,null,null,null,null,null,null,null,null,null,null,null,null,null,null,null,null,null,null,null,null,null,null,null,null,null,null,null,"Автономна Республіка Крим","Єгорове"]
[null,null,null,null,null,null,null,null,null,null,null,null,null,null,null,"17.11","Виробництво паперової маси",null,null,null,null,null,null,null,null,null,null,null,null,null,null,null,null,null,null,null,null,null,null,null,null,null,null,null,null,"Автономна Республіка Крим","Єлизаветове"]
[null,null,null,null,null,null,null,null,null,null,null,null,null,null,null,"17.12","Виробництво паперу та картону",null,null,null,null,null,null,null,null,null,null,null,null,null,null,null,null,null,null,null,null,null,null,null,null,null,null,null,null,"Автономна Республіка Крим","Єрмакове"]
[null,null,null,null,null,null,null,null,null,null,null,null,null,null,null,"17.2","Виготовлення виробів з паперу та картону",null,null,null,null,null,null,null,null,null,null,null,null,null,null,null,null,null,null,null,null,null,null,null,null,null,null,null,null,"Автономна Республіка Крим","Єрофєєве"]
[null,null,null,null,null,null,null,null,null,null,null,null,null,null,null,"17.21","Виробництво гофрованого паперу та картону, паперової та картонної тари",null,null,null,null,null,null,null,null,null,null,null,null,null,null,null,null,null,null,null,null,null,null,null,null,null,null,null,null,"Автономна Республіка Крим","Жайворонки"]
[null,null,null,null,null,null,null,null,null,null,null,null,null,null,null,"17.22","Виробництво паперових виробів господарсько-побутового та санітарно-гігієнічного призначення",null,null,null,null,null,null,null,null,null,null,null,null,null,null,null,null,null,null,null,null,null,null,null,null,null,null,null,null,"Автономна Республіка Крим","Желябовка"]
[null,null,null,null,null,null,null,null,null,null,null,null,null,null,null,"17.23","Виробництво паперових канцелярських  виробів",null,null,null,null,null,null,null,null,null,null,null,null,null,null,null,null,null,null,null,null,null,null,null,null,null,null,null,null,"Автономна Республіка Крим","Жемчужина"]
[null,null,null,null,null,null,null,null,null,null,null,null,null,null,null,"17.24","Виробництво шпалер",null,null,null,null,null,null,null,null,null,null,null,null,null,null,null,null,null,null,null,null,null,null,null,null,null,null,null,null,"Автономна Республіка Крим","Жемчужина Криму"]
[null,null,null,null,null,null,null,null,null,null,null,null,null,null,null,"17.29","Виробництво інших виробів з паперу та картону",null,null,null,null,null,null,null,null,null,null,null,null,null,null,null,null,null,null,null,null,null,null,null,null,null,null,null,null,"Автономна Республіка Крим","Живописне"]
[null,null,null,null,null,null,null,null,null,null,null,null,null,null,null,"18","Поліграфічна діяльність, тиражування записаної інформації",null,null,null,null,null,null,null,null,null,null,null,null,null,null,null,null,null,null,null,null,null,null,null,null,null,null,null,null,"Автономна Республіка Крим","Жилине"]
[null,null,null,null,null,null,null,null,null,null,null,null,null,null,null,"18.1","Поліграфічна діяльність і надання пов'язаних із нею послуг",null,null,null,null,null,null,null,null,null,null,null,null,null,null,null,null,null,null,null,null,null,null,null,null,null,null,null,null,"Автономна Республіка Крим","Жовтокам'янка (Суворовська)"]
[null,null,null,null,null,null,null,null,null,null,null,null,null,null,null,"18.11","Друкування газет",null,null,null,null,null,null,null,null,null,null,null,null,null,null,null,null,null,null,null,null,null,null,null,null,null,null,null,null,"Автономна Республіка Крим","Журавки"]
[null,null,null,null,null,null,null,null,null,null,null,null,null,null,null,"18.12","Друкування іншої продукції",null,null,null,null,null,null,null,null,null,null,null,null,null,null,null,null,null,null,null,null,null,null,null,null,null,null,null,null,"Автономна Республіка Крим","Журавлі"]
[null,null,null,null,null,null,null,null,null,null,null,null,null,null,null,"18.13","Виготовлення друкарських форм і надання інших поліграфічних послуг",null,null,null,null,null,null,null,null,null,null,null,null,null,null,null,null,null,null,null,null,null,null,null,null,null,null,null,null,"Автономна Республіка Крим","Журавлівка"]
[null,null,null,null,null,null,null,null,null,null,null,null,null,null,null,"18.14","Брошурувально-палітурна діяльність і надання пов'язаних із нею послуг",null,null,null,null,null,null,null,null,null,null,null,null,null,null,null,null,null,null,null,null,null,null,null,null,null,null,null,null,"Автономна Республіка Крим","Завіт-Ленінський"]
[null,null,null,null,null,null,null,null,null,null,null,null,null,null,null,"18.2","Тиражування звуко-, відеозаписів і програмного забезпечення",null,null,null,null,null,null,null,null,null,null,null,null,null,null,null,null,null,null,null,null,null,null,null,null,null,null,null,null,"Автономна Республіка Крим","Завітне"]
[null,null,null,null,null,null,null,null,null,null,null,null,null,null,null,"18.20","Тиражування звуко-, відеозаписів і програмного забезпечення",null,null,null,null,null,null,null,null,null,null,null,null,null,null,null,null,null,null,null,null,null,null,null,null,null,null,null,null,"Автономна Республіка Крим","Заводське"]
[null,null,null,null,null,null,null,null,null,null,null,null,null,null,null,"19","Виробництво коксу та продуктів нафтоперероблення",null,null,null,null,null,null,null,null,null,null,null,null,null,null,null,null,null,null,null,null,null,null,null,null,null,null,null,null,"Автономна Республіка Крим","Задорне"]
[null,null,null,null,null,null,null,null,null,null,null,null,null,null,null,"19.1","Виробництво коксу та коксопродуктів",null,null,null,null,null,null,null,null,null,null,null,null,null,null,null,null,null,null,null,null,null,null,null,null,null,null,null,null,"Автономна Республіка Крим","Зайцеве"]
[null,null,null,null,null,null,null,null,null,null,null,null,null,null,null,"19.10","Виробництво коксу та коксопродуктів",null,null,null,null,null,null,null,null,null,null,null,null,null,null,null,null,null,null,null,null,null,null,null,null,null,null,null,null,"Автономна Республіка Крим","Заливне"]
[null,null,null,null,null,null,null,null,null,null,null,null,null,null,null,"19.2","Виробництво продуктів нафтоперероблення",null,null,null,null,null,null,null,null,null,null,null,null,null,null,null,null,null,null,null,null,null,null,null,null,null,null,null,null,"Автономна Республіка Крим","Залізничне"]
[null,null,null,null,null,null,null,null,null,null,null,null,null,null,null,"19.20","Виробництво продуктів нафтоперероблення",null,null,null,null,null,null,null,null,null,null,null,null,null,null,null,null,null,null,null,null,null,null,null,null,null,null,null,null,"Автономна Республіка Крим","Залісне"]
[null,null,null,null,null,null,null,null,null,null,null,null,null,null,null,"20","Виробництво хімічних речовин і хімічної продукції",null,null,null,null,null,null,null,null,null,null,null,null,null,null,null,null,null,null,null,null,null,null,null,null,null,null,null,null,"Автономна Республіка Крим","Залісся"]
[null,null,null,null,null,null,null,null,null,null,null,null,null,null,null,"20.1","Виробництво основної хімічної продукції, добрив і азотних сполук, пластмас і синтетичного каучуку в первинних формах",null,null,null,null,null,null,null,null,null,null,null,null,null,null,null,null,null,null,null,null,null,null,null,null,null,null,null,null,"Автономна Республіка Крим","Заозерне"]
[null,null,null,null,null,null,null,null,null,null,null,null,null,null,null,"20.11","Виробництво промислових газів",null,null,null,null,null,null,null,null,null,null,null,null,null,null,null,null,null,null,null,null,null,null,null,null,null,null,null,null,"Автономна Республіка Крим","Запрудне"]
[null,null,null,null,null,null,null,null,null,null,null,null,null,null,null,"20.12","Виробництво барвників і пігментів",null,null,null,null,null,null,null,null,null,null,null,null,null,null,null,null,null,null,null,null,null,null,null,null,null,null,null,null,"Автономна Республіка Крим","Зарічне"]
[null,null,null,null,null,null,null,null,null,null,null,null,null,null,null,"20.13","Виробництво інших основних неорганічних хімічних речовин",null,null,null,null,null,null,null,null,null,null,null,null,null,null,null,null,null,null,null,null,null,null,null,null,null,null,null,null,"Автономна Республіка Крим","Заріччя"]
[null,null,null,null,null,null,null,null,null,null,null,null,null,null,null,"20.14","Виробництво інших основних органічних хімічних речовин",null,null,null,null,null,null,null,null,null,null,null,null,null,null,null,null,null,null,null,null,null,null,null,null,null,null,null,null,"Автономна Республіка Крим","Затишне"]
[null,null,null,null,null,null,null,null,null,null,null,null,null,null,null,"20.15","Виробництво добрив і азотних сполук",null,null,null,null,null,null,null,null,null,null,null,null,null,null,null,null,null,null,null,null,null,null,null,null,null,null,null,null,"Автономна Республіка Крим","Звіздне"]
[null,null,null,null,null,null,null,null,null,null,null,null,null,null,null,"20.16","Виробництво пластмас у первинних формах",null,null,null,null,null,null,null,null,null,null,null,null,null,null,null,null,null,null,null,null,null,null,null,null,null,null,null,null,"Автономна Республіка Крим","Зелена Нива (Вишнівської)"]
[null,null,null,null,null,null,null,null,null,null,null,null,null,null,null,"20.17","Виробництво синтетичного каучуку в первинних формах",null,null,null,null,null,null,null,null,null,null,null,null,null,null,null,null,null,null,null,null,null,null,null,null,null,null,null,null,"Автономна Республіка Крим","Зелене"]
[null,null,null,null,null,null,null,null,null,null,null,null,null,null,null,"20.2","Виробництво пестицидів та іншої агрохімічної продукції",null,null,null,null,null,null,null,null,null,null,null,null,null,null,null,null,null,null,null,null,null,null,null,null,null,null,null,null,"Автономна Республіка Крим","Зелений Яр"]
[null,null,null,null,null,null,null,null,null,null,null,null,null,null,null,"20.20","Виробництво пестицидів та іншої агрохімічної продукції",null,null,null,null,null,null,null,null,null,null,null,null,null,null,null,null,null,null,null,null,null,null,null,null,null,null,null,null,"Автономна Республіка Крим","Зеленогірське"]
[null,null,null,null,null,null,null,null,null,null,null,null,null,null,null,"20.3","Виробництво фарб, лаків і подібної продукції, друкарської фарби та мастик",null,null,null,null,null,null,null,null,null,null,null,null,null,null,null,null,null,null,null,null,null,null,null,null,null,null,null,null,"Автономна Республіка Крим","Зеленогір'я"]
[null,null,null,null,null,null,null,null,null,null,null,null,null,null,null,"20.30","Виробництво фарб, лаків і подібної продукції, друкарської фарби та мастик",null,null,null,null,null,null,null,null,null,null,null,null,null,null,null,null,null,null,null,null,null,null,null,null,null,null,null,null,"Автономна Республіка Крим","Земляничне"]
[null,null,null,null,null,null,null,null,null,null,null,null,null,null,null,"20.4","Виробництво мила та мийних засобів, засобів для чищення та полірування, парфумних і косметичних засобів",null,null,null,null,null,null,null,null,null,null,null,null,null,null,null,null,null,null,null,null,null,null,null,null,null,null,null,null,"Автономна Республіка Крим","Зернове"]
[null,null,null,null,null,null,null,null,null,null,null,null,null,null,null,"20.41","Виробництво мила та мийних засобів, засобів для чищення та полірування",null,null,null,null,null,null,null,null,null,null,null,null,null,null,null,null,null,null,null,null,null,null,null,null,null,null,null,null,"Автономна Республіка Крим","Зибини"]
[null,null,null,null,null,null,null,null,null,null,null,null,null,null,null,"20.42","Виробництво парфумних і косметичних засобів",null,null,null,null,null,null,null,null,null,null,null,null,null,null,null,null,null,null,null,null,null,null,null,null,null,null,null,null,"Автономна Республіка Крим","Зимине"]
[null,null,null,null,null,null,null,null,null,null,null,null,null,null,null,"20.5","Виробництво іншої хімічної продукції",null,null,null,null,null,null,null,null,null,null,null,null,null,null,null,null,null,null,null,null,null,null,null,null,null,null,null,null,"Автономна Республіка Крим","Знам'янка"]
[null,null,null,null,null,null,null,null,null,null,null,null,null,null,null,"20.51","Виробництво вибухових речовин",null,null,null,null,null,null,null,null,null,null,null,null,null,null,null,null,null,null,null,null,null,null,null,null,null,null,null,null,"Автономна Республіка Крим","Знам'янка (Орлівської)"]
[null,null,null,null,null,null,null,null,null,null,null,null,null,null,null,"20.52","Виробництво клеїв",null,null,null,null,null,null,null,null,null,null,null,null,null,null,null,null,null,null,null,null,null,null,null,null,null,null,null,null,"Автономна Республіка Крим","Знам'янське"]
[null,null,null,null,null,null,null,null,null,null,null,null,null,null,null,"20.53","Виробництво ефірних олій",null,null,null,null,null,null,null,null,null,null,null,null,null,null,null,null,null,null,null,null,null,null,null,null,null,null,null,null,"Автономна Республіка Крим","Золоте"]
[null,null,null,null,null,null,null,null,null,null,null,null,null,null,null,"20.59","Виробництво іншої хімічної продукції, н.в.і.у.",null,null,null,null,null,null,null,null,null,null,null,null,null,null,null,null,null,null,null,null,null,null,null,null,null,null,null,null,"Автономна Республіка Крим","Золоте  Поле"]
[null,null,null,null,null,null,null,null,null,null,null,null,null,null,null,"20.6","Виробництво штучних і синтетичних волокон",null,null,null,null,null,null,null,null,null,null,null,null,null,null,null,null,null,null,null,null,null,null,null,null,null,null,null,null,"Автономна Республіка Крим","Зоркіне"]
[null,null,null,null,null,null,null,null,null,null,null,null,null,null,null,"20.60","Виробництво штучних і синтетичних волокон",null,null,null,null,null,null,null,null,null,null,null,null,null,null,null,null,null,null,null,null,null,null,null,null,null,null,null,null,"Автономна Республіка Крим","Зоря"]
[null,null,null,null,null,null,null,null,null,null,null,null,null,null,null,"21","Виробництво основних фармацевтичних продуктів і фармацевтичних препаратів",null,null,null,null,null,null,null,null,null,null,null,null,null,null,null,null,null,null,null,null,null,null,null,null,null,null,null,null,"Автономна Республіка Крим","Зоряне"]
[null,null,null,null,null,null,null,null,null,null,null,null,null,null,null,"21.1","Виробництво основних фармацевтичних продуктів",null,null,null,null,null,null,null,null,null,null,null,null,null,null,null,null,null,null,null,null,null,null,null,null,null,null,null,null,"Автономна Республіка Крим","Зубакіне"]
[null,null,null,null,null,null,null,null,null,null,null,null,null,null,null,"21.10","Виробництво основних фармацевтичних продуктів",null,null,null,null,null,null,null,null,null,null,null,null,null,null,null,null,null,null,null,null,null,null,null,null,null,null,null,null,"Автономна Республіка Крим","Зуя"]
[null,null,null,null,null,null,null,null,null,null,null,null,null,null,null,"21.2","Виробництво фармацевтичних препаратів і матеріалів",null,null,null,null,null,null,null,null,null,null,null,null,null,null,null,null,null,null,null,null,null,null,null,null,null,null,null,null,"Автономна Республіка Крим","Іванівка"]
[null,null,null,null,null,null,null,null,null,null,null,null,null,null,null,"21.20","Виробництво фармацевтичних препаратів і матеріалів",null,null,null,null,null,null,null,null,null,null,null,null,null,null,null,null,null,null,null,null,null,null,null,null,null,null,null,null,"Автономна Республіка Крим","Ізвесткове"]
[null,null,null,null,null,null,null,null,null,null,null,null,null,null,null,"22","Виробництво гумових і пластмасових виробів",null,null,null,null,null,null,null,null,null,null,null,null,null,null,null,null,null,null,null,null,null,null,null,null,null,null,null,null,"Автономна Республіка Крим","Ізобільне"]
[null,null,null,null,null,null,null,null,null,null,null,null,null,null,null,"22.1","Виробництво гумових виробів",null,null,null,null,null,null,null,null,null,null,null,null,null,null,null,null,null,null,null,null,null,null,null,null,null,null,null,null,"Автономна Республіка Крим","Ізумрудне"]
[null,null,null,null,null,null,null,null,null,null,null,null,null,null,null,"22.11","Виробництво гумових шин, покришок і камер; відновлення протектора гумових шин і покришок",null,null,null,null,null,null,null,null,null,null,null,null,null,null,null,null,null,null,null,null,null,null,null,null,null,null,null,null,"Автономна Республіка Крим","Ізюмівка"]
[null,null,null,null,null,null,null,null,null,null,null,null,null,null,null,"22.19","Виробництво інших гумових виробів",null,null,null,null,null,null,null,null,null,null,null,null,null,null,null,null,null,null,null,null,null,null,null,null,null,null,null,null,"Автономна Республіка Крим","Іллінка (Ільїнської)"]
[null,null,null,null,null,null,null,null,null,null,null,null,null,null,null,"22.2","Виробництво пластмасових виробів",null,null,null,null,null,null,null,null,null,null,null,null,null,null,null,null,null,null,null,null,null,null,null,null,null,null,null,null,"Автономна Республіка Крим","Іллінка (Сизівська)"]
[null,null,null,null,null,null,null,null,null,null,null,null,null,null,null,"22.21","Виробництво плит, листів, труб і профілів із пластмас",null,null,null,null,null,null,null,null,null,null,null,null,null,null,null,null,null,null,null,null,null,null,null,null,null,null,null,null,"Автономна Республіка Крим","Іллічеве"]
[null,null,null,null,null,null,null,null,null,null,null,null,null,null,null,"22.22","Виробництво тари з пластмас",null,null,null,null,null,null,null,null,null,null,null,null,null,null,null,null,null,null,null,null,null,null,null,null,null,null,null,null,"Автономна Республіка Крим","Іскра"]
[null,null,null,null,null,null,null,null,null,null,null,null,null,null,null,"22.23","Виробництво будівельних виробів із пластмас",null,null,null,null,null,null,null,null,null,null,null,null,null,null,null,null,null,null,null,null,null,null,null,null,null,null,null,null,"Автономна Республіка Крим","Істочне"]
[null,null,null,null,null,null,null,null,null,null,null,null,null,null,null,"22.29","Виробництво інших виробів із пластмас",null,null,null,null,null,null,null,null,null,null,null,null,null,null,null,null,null,null,null,null,null,null,null,null,null,null,null,null,"Автономна Республіка Крим","Істочне (Воїнської)"]
[null,null,null,null,null,null,null,null,null,null,null,null,null,null,null,"23","Виробництво іншої неметалевої мінеральної продукції",null,null,null,null,null,null,null,null,null,null,null,null,null,null,null,null,null,null,null,null,null,null,null,null,null,null,null,null,"Автономна Республіка Крим","Ішунь (Ішуньської)"]
[null,null,null,null,null,null,null,null,null,null,null,null,null,null,null,"23.1","Виробництво скла та виробів зі скла",null,null,null,null,null,null,null,null,null,null,null,null,null,null,null,null,null,null,null,null,null,null,null,null,null,null,null,null,"Автономна Республіка Крим","Казанки"]
[null,null,null,null,null,null,null,null,null,null,null,null,null,null,null,"23.11","Виробництво листового скла",null,null,null,null,null,null,null,null,null,null,null,null,null,null,null,null,null,null,null,null,null,null,null,null,null,null,null,null,"Автономна Республіка Крим","Калинівка"]
[null,null,null,null,null,null,null,null,null,null,null,null,null,null,null,"23.12","Формування й оброблення листового скла",null,null,null,null,null,null,null,null,null,null,null,null,null,null,null,null,null,null,null,null,null,null,null,null,null,null,null,null,"Автономна Республіка Крим","Калинівка (Оленівська)"]
[null,null,null,null,null,null,null,null,null,null,null,null,null,null,null,"23.13","Виробництво порожнистого скла",null,null,null,null,null,null,null,null,null,null,null,null,null,null,null,null,null,null,null,null,null,null,null,null,null,null,null,null,"Автономна Республіка Крим","Калініне"]
[null,null,null,null,null,null,null,null,null,null,null,null,null,null,null,"23.14","Виробництво скловолокна",null,null,null,null,null,null,null,null,null,null,null,null,null,null,null,null,null,null,null,null,null,null,null,null,null,null,null,null,"Автономна Республіка Крим","Калініне (Калінінської)"]
[null,null,null,null,null,null,null,null,null,null,null,null,null,null,null,"23.19","Виробництво й оброблення інших скляних виробів, у тому числі технічних",null,null,null,null,null,null,null,null,null,null,null,null,null,null,null,null,null,null,null,null,null,null,null,null,null,null,null,null,"Автономна Республіка Крим","Каменоломня"]
[null,null,null,null,null,null,null,null,null,null,null,null,null,null,null,"23.2","Виробництво вогнетривких виробів",null,null,null,null,null,null,null,null,null,null,null,null,null,null,null,null,null,null,null,null,null,null,null,null,null,null,null,null,"Автономна Республіка Крим","Кам'янка (Октябрьської)"]
[null,null,null,null,null,null,null,null,null,null,null,null,null,null,null,"23.20","Виробництво вогнетривких виробів",null,null,null,null,null,null,null,null,null,null,null,null,null,null,null,null,null,null,null,null,null,null,null,null,null,null,null,null,"Автономна Республіка Крим","Кам'янське"]
[null,null,null,null,null,null,null,null,null,null,null,null,null,null,null,"23.3","Виробництво будівельних матеріалів із глини",null,null,null,null,null,null,null,null,null,null,null,null,null,null,null,null,null,null,null,null,null,null,null,null,null,null,null,null,"Автономна Республіка Крим","Карасівка"]
[null,null,null,null,null,null,null,null,null,null,null,null,null,null,null,"23.31","Виробництво керамічних плиток і плит",null,null,null,null,null,null,null,null,null,null,null,null,null,null,null,null,null,null,null,null,null,null,null,null,null,null,null,null,"Автономна Республіка Крим","Кар'єрне"]
[null,null,null,null,null,null,null,null,null,null,null,null,null,null,null,"23.32","Виробництво цегли, черепиці та інших будівельних виробів із випаленої глини",null,null,null,null,null,null,null,null,null,null,null,null,null,null,null,null,null,null,null,null,null,null,null,null,null,null,null,null,"Автономна Республіка Крим","Карпівка"]
[null,null,null,null,null,null,null,null,null,null,null,null,null,null,null,"23.4","Виробництво іншої продукції з фарфору та кераміки",null,null,null,null,null,null,null,null,null,null,null,null,null,null,null,null,null,null,null,null,null,null,null,null,null,null,null,null,"Автономна Республіка Крим","Карпова Балка (Філатівської)"]
[null,null,null,null,null,null,null,null,null,null,null,null,null,null,null,"23.41","Виробництво господарських і декоративних керамічних виробів",null,null,null,null,null,null,null,null,null,null,null,null,null,null,null,null,null,null,null,null,null,null,null,null,null,null,null,null,"Автономна Республіка Крим","Кацівелі"]
[null,null,null,null,null,null,null,null,null,null,null,null,null,null,null,"23.42","Виробництво керамічних санітарно-технічних виробів",null,null,null,null,null,null,null,null,null,null,null,null,null,null,null,null,null,null,null,null,null,null,null,null,null,null,null,null,"Автономна Республіка Крим","Каштани"]
[null,null,null,null,null,null,null,null,null,null,null,null,null,null,null,"23.43","Виробництво керамічних електроізоляторів та ізоляційної арматури",null,null,null,null,null,null,null,null,null,null,null,null,null,null,null,null,null,null,null,null,null,null,null,null,null,null,null,null,"Автономна Республіка Крим","Каштанівка (Серебрянська сільська рада)"]
[null,null,null,null,null,null,null,null,null,null,null,null,null,null,null,"23.44","Виробництво інших керамічних виробів технічного призначення",null,null,null,null,null,null,null,null,null,null,null,null,null,null,null,null,null,null,null,null,null,null,null,null,null,null,null,null,"Автономна Республіка Крим","Каштанівка (Черновської)"]
[null,null,null,null,null,null,null,null,null,null,null,null,null,null,null,"23.49","Виробництво інших керамічних виробів",null,null,null,null,null,null,null,null,null,null,null,null,null,null,null,null,null,null,null,null,null,null,null,null,null,null,null,null,"Автономна Республіка Крим","Каштанове"]
[null,null,null,null,null,null,null,null,null,null,null,null,null,null,null,"23.5","Виробництво цементу, вапна та гіпсових сумішей",null,null,null,null,null,null,null,null,null,null,null,null,null,null,null,null,null,null,null,null,null,null,null,null,null,null,null,null,"Автономна Республіка Крим","Керч"]
[null,null,null,null,null,null,null,null,null,null,null,null,null,null,null,"23.51","Виробництво цементу",null,null,null,null,null,null,null,null,null,null,null,null,null,null,null,null,null,null,null,null,null,null,null,null,null,null,null,null,"Автономна Республіка Крим","Кизилівка"]
[null,null,null,null,null,null,null,null,null,null,null,null,null,null,null,"23.52","Виробництво вапна та гіпсових сумішей",null,null,null,null,null,null,null,null,null,null,null,null,null,null,null,null,null,null,null,null,null,null,null,null,null,null,null,null,"Автономна Республіка Крим","Кипарисне"]
[null,null,null,null,null,null,null,null,null,null,null,null,null,null,null,"23.6","Виготовлення виробів із бетону, гіпсу та цементу",null,null,null,null,null,null,null,null,null,null,null,null,null,null,null,null,null,null,null,null,null,null,null,null,null,null,null,null,"Автономна Республіка Крим","Кирпичне"]
[null,null,null,null,null,null,null,null,null,null,null,null,null,null,null,"23.61","Виготовлення виробів із бетону для будівництва",null,null,null,null,null,null,null,null,null,null,null,null,null,null,null,null,null,null,null,null,null,null,null,null,null,null,null,null,"Автономна Республіка Крим","Кирсанівка"]
[null,null,null,null,null,null,null,null,null,null,null,null,null,null,null,"23.62","Виготовлення виробів із гіпсу для будівництва",null,null,null,null,null,null,null,null,null,null,null,null,null,null,null,null,null,null,null,null,null,null,null,null,null,null,null,null,"Автономна Республіка Крим","Кіндратове"]
[null,null,null,null,null,null,null,null,null,null,null,null,null,null,null,"23.63","Виробництво бетонних розчинів, готових для використання",null,null,null,null,null,null,null,null,null,null,null,null,null,null,null,null,null,null,null,null,null,null,null,null,null,null,null,null,"Автономна Республіка Крим","Кіровське"]
[null,null,null,null,null,null,null,null,null,null,null,null,null,null,null,"23.64","Виробництво сухих будівельних сумішей",null,null,null,null,null,null,null,null,null,null,null,null,null,null,null,null,null,null,null,null,null,null,null,null,null,null,null,null,"Автономна Республіка Крим","Кісточківка"]
[null,null,null,null,null,null,null,null,null,null,null,null,null,null,null,"23.65","Виготовлення виробів із волокнистого цементу",null,null,null,null,null,null,null,null,null,null,null,null,null,null,null,null,null,null,null,null,null,null,null,null,null,null,null,null,"Автономна Республіка Крим","Клепиніне"]
[null,null,null,null,null,null,null,null,null,null,null,null,null,null,null,"23.69","Виробництво інших виробів із бетону, гіпсу та цементу",null,null,null,null,null,null,null,null,null,null,null,null,null,null,null,null,null,null,null,null,null,null,null,null,null,null,null,null,"Автономна Республіка Крим","Климове"]
[null,null,null,null,null,null,null,null,null,null,null,null,null,null,null,"23.7","Різання, оброблення та оздоблення декоративного та будівельного каменю",null,null,null,null,null,null,null,null,null,null,null,null,null,null,null,null,null,null,null,null,null,null,null,null,null,null,null,null,"Автономна Республіка Крим","Клинівка"]
[null,null,null,null,null,null,null,null,null,null,null,null,null,null,null,"23.70","Різання, оброблення та оздоблення декоративного та будівельного каменю",null,null,null,null,null,null,null,null,null,null,null,null,null,null,null,null,null,null,null,null,null,null,null,null,null,null,null,null,"Автономна Республіка Крим","Ключі"]
[null,null,null,null,null,null,null,null,null,null,null,null,null,null,null,"23.9","Виробництво абразивних виробів і неметалевих мінеральних виробів, н.в.і.у.",null,null,null,null,null,null,null,null,null,null,null,null,null,null,null,null,null,null,null,null,null,null,null,null,null,null,null,null,"Автономна Республіка Крим","Ключове"]
[null,null,null,null,null,null,null,null,null,null,null,null,null,null,null,"23.91","Виробництво абразивних виробів",null,null,null,null,null,null,null,null,null,null,null,null,null,null,null,null,null,null,null,null,null,null,null,null,null,null,null,null,"Автономна Республіка Крим","Ковильне"]
[null,null,null,null,null,null,null,null,null,null,null,null,null,null,null,"23.99","Виробництво неметалевих мінеральних виробів, н.в.і.у.",null,null,null,null,null,null,null,null,null,null,null,null,null,null,null,null,null,null,null,null,null,null,null,null,null,null,null,null,"Автономна Республіка Крим","Ковильне (Ковильнівська сільська рада)"]
[null,null,null,null,null,null,null,null,null,null,null,null,null,null,null,"24","Металургійне виробництво",null,null,null,null,null,null,null,null,null,null,null,null,null,null,null,null,null,null,null,null,null,null,null,null,null,null,null,null,"Автономна Республіка Крим","Коврове"]
[null,null,null,null,null,null,null,null,null,null,null,null,null,null,null,"24.1","Виробництво чавуну, сталі та феросплавів",null,null,null,null,null,null,null,null,null,null,null,null,null,null,null,null,null,null,null,null,null,null,null,null,null,null,null,null,"Автономна Республіка Крим","Коктебель"]
[null,null,null,null,null,null,null,null,null,null,null,null,null,null,null,"24.10","Виробництво чавуну, сталі та феросплавів",null,null,null,null,null,null,null,null,null,null,null,null,null,null,null,null,null,null,null,null,null,null,null,null,null,null,null,null,"Автономна Республіка Крим","Колодязне"]
[null,null,null,null,null,null,null,null,null,null,null,null,null,null,null,"24.2","Виробництво труб, порожнистих профілів і фітингів зі сталі",null,null,null,null,null,null,null,null,null,null,null,null,null,null,null,null,null,null,null,null,null,null,null,null,null,null,null,null,"Автономна Республіка Крим","Коломенське"]
[null,null,null,null,null,null,null,null,null,null,null,null,null,null,null,"24.20","Виробництво труб, порожнистих профілів і фітингів зі сталі",null,null,null,null,null,null,null,null,null,null,null,null,null,null,null,null,null,null,null,null,null,null,null,null,null,null,null,null,"Автономна Республіка Крим","Колоски"]
[null,null,null,null,null,null,null,null,null,null,null,null,null,null,null,"24.3","Виробництво іншої продукції первинного оброблення сталі",null,null,null,null,null,null,null,null,null,null,null,null,null,null,null,null,null,null,null,null,null,null,null,null,null,null,null,null,"Автономна Республіка Крим","Кольцове"]
[null,null,null,null,null,null,null,null,null,null,null,null,null,null,null,"24.31","Холодне волочіння прутків і профілів",null,null,null,null,null,null,null,null,null,null,null,null,null,null,null,null,null,null,null,null,null,null,null,null,null,null,null,null,"Автономна Республіка Крим","Кольчугине"]
[null,null,null,null,null,null,null,null,null,null,null,null,null,null,null,"24.32","Холодний прокат вузької штаби",null,null,null,null,null,null,null,null,null,null,null,null,null,null,null,null,null,null,null,null,null,null,null,null,null,null,null,null,"Автономна Республіка Крим","Комарівка"]
[null,null,null,null,null,null,null,null,null,null,null,null,null,null,null,"24.33","Холодне штампування та гнуття",null,null,null,null,null,null,null,null,null,null,null,null,null,null,null,null,null,null,null,null,null,null,null,null,null,null,null,null,"Автономна Республіка Крим","Комишинка"]
[null,null,null,null,null,null,null,null,null,null,null,null,null,null,null,"24.34","Холодне волочіння дроту",null,null,null,null,null,null,null,null,null,null,null,null,null,null,null,null,null,null,null,null,null,null,null,null,null,null,null,null,"Автономна Республіка Крим","Комишне (Руч'ївська сільська рада)"]
[null,null,null,null,null,null,null,null,null,null,null,null,null,null,null,"24.4","Виробництво дорогоцінних та інших кольорових металів",null,null,null,null,null,null,null,null,null,null,null,null,null,null,null,null,null,null,null,null,null,null,null,null,null,null,null,null,"Автономна Республіка Крим","Комсомольське"]
[null,null,null,null,null,null,null,null,null,null,null,null,null,null,null,"24.41","Виробництво дорогоцінних металів",null,null,null,null,null,null,null,null,null,null,null,null,null,null,null,null,null,null,null,null,null,null,null,null,null,null,null,null,"Автономна Республіка Крим","Комунари"]
[null,null,null,null,null,null,null,null,null,null,null,null,null,null,null,"24.42","Виробництво алюмінію",null,null,null,null,null,null,null,null,null,null,null,null,null,null,null,null,null,null,null,null,null,null,null,null,null,null,null,null,"Автономна Республіка Крим","Комунарне (Руч'ївська сільська рада)"]
[null,null,null,null,null,null,null,null,null,null,null,null,null,null,null,"24.43","Виробництво свинцю, цинку й олова",null,null,null,null,null,null,null,null,null,null,null,null,null,null,null,null,null,null,null,null,null,null,null,null,null,null,null,null,"Автономна Республіка Крим","Копані"]
[null,null,null,null,null,null,null,null,null,null,null,null,null,null,null,"24.44","Виробництво міді",null,null,null,null,null,null,null,null,null,null,null,null,null,null,null,null,null,null,null,null,null,null,null,null,null,null,null,null,"Автономна Республіка Крим","Кореїз"]
[null,null,null,null,null,null,null,null,null,null,null,null,null,null,null,"24.45","Виробництво інших кольорових металів",null,null,null,null,null,null,null,null,null,null,null,null,null,null,null,null,null,null,null,null,null,null,null,null,null,null,null,null,"Автономна Республіка Крим","Корінне"]
[null,null,null,null,null,null,null,null,null,null,null,null,null,null,null,"24.46","Виробництво ядерних матеріалів",null,null,null,null,null,null,null,null,null,null,null,null,null,null,null,null,null,null,null,null,null,null,null,null,null,null,null,null,"Автономна Республіка Крим","Кормове (Кормовської)"]
[null,null,null,null,null,null,null,null,null,null,null,null,null,null,null,"24.5","Лиття металів",null,null,null,null,null,null,null,null,null,null,null,null,null,null,null,null,null,null,null,null,null,null,null,null,null,null,null,null,"Автономна Республіка Крим","Корніївка"]
[null,null,null,null,null,null,null,null,null,null,null,null,null,null,null,"24.51","Лиття чавуну",null,null,null,null,null,null,null,null,null,null,null,null,null,null,null,null,null,null,null,null,null,null,null,null,null,null,null,null,"Автономна Республіка Крим","Корольове"]
[null,null,null,null,null,null,null,null,null,null,null,null,null,null,null,"24.52","Лиття сталі",null,null,null,null,null,null,null,null,null,null,null,null,null,null,null,null,null,null,null,null,null,null,null,null,null,null,null,null,"Автономна Республіка Крим","Костиріне"]
[null,null,null,null,null,null,null,null,null,null,null,null,null,null,null,"24.53","Лиття легких кольорових металів",null,null,null,null,null,null,null,null,null,null,null,null,null,null,null,null,null,null,null,null,null,null,null,null,null,null,null,null,"Автономна Республіка Крим","Костянтинівка"]
[null,null,null,null,null,null,null,null,null,null,null,null,null,null,null,"24.54","Лиття інших кольорових металів",null,null,null,null,null,null,null,null,null,null,null,null,null,null,null,null,null,null,null,null,null,null,null,null,null,null,null,null,"Автономна Республіка Крим","Котельникове"]
[null,null,null,null,null,null,null,null,null,null,null,null,null,null,null,"25","Виробництво готових металевих виробів, крім машин і устатковання",null,null,null,null,null,null,null,null,null,null,null,null,null,null,null,null,null,null,null,null,null,null,null,null,null,null,null,null,"Автономна Республіка Крим","Котовське (Славнівська сільська рада)"]
[null,null,null,null,null,null,null,null,null,null,null,null,null,null,null,"25.1","Виробництво будівельних металевих конструкцій і виробів",null,null,null,null,null,null,null,null,null,null,null,null,null,null,null,null,null,null,null,null,null,null,null,null,null,null,null,null,"Автономна Республіка Крим","Кочергіне"]
[null,null,null,null,null,null,null,null,null,null,null,null,null,null,null,"25.11","Виробництво будівельних металевих конструкцій і частин конструкцій",null,null,null,null,null,null,null,null,null,null,null,null,null,null,null,null,null,null,null,null,null,null,null,null,null,null,null,null,"Автономна Республіка Крим","Крайнє (Крайненська)"]
[null,null,null,null,null,null,null,null,null,null,null,null,null,null,null,"25.12","Виробництво металевих дверей і вікон",null,null,null,null,null,null,null,null,null,null,null,null,null,null,null,null,null,null,null,null,null,null,null,null,null,null,null,null,"Автономна Республіка Крим","Красна Долина"]
[null,null,null,null,null,null,null,null,null,null,null,null,null,null,null,"25.2","Виробництво металевих баків, резервуарів і контейнерів",null,null,null,null,null,null,null,null,null,null,null,null,null,null,null,null,null,null,null,null,null,null,null,null,null,null,null,null,"Автономна Республіка Крим","Красна Зорька"]
[null,null,null,null,null,null,null,null,null,null,null,null,null,null,null,"25.21","Виробництво радіаторів і  котлів центрального опалення",null,null,null,null,null,null,null,null,null,null,null,null,null,null,null,null,null,null,null,null,null,null,null,null,null,null,null,null,"Автономна Республіка Крим","Красна Поляна"]
[null,null,null,null,null,null,null,null,null,null,null,null,null,null,null,"25.29","Виробництво інших металевих баків, резервуарів і контейнерів",null,null,null,null,null,null,null,null,null,null,null,null,null,null,null,null,null,null,null,null,null,null,null,null,null,null,null,null,"Автономна Республіка Крим","Красна Слобода"]
[null,null,null,null,null,null,null,null,null,null,null,null,null,null,null,"25.3","Виробництво парових котлів, крім котлів центрального опалення",null,null,null,null,null,null,null,null,null,null,null,null,null,null,null,null,null,null,null,null,null,null,null,null,null,null,null,null,"Автономна Республіка Крим","Красний Мак"]
[null,null,null,null,null,null,null,null,null,null,null,null,null,null,null,"25.30","Виробництво парових котлів, крім котлів центрального опалення",null,null,null,null,null,null,null,null,null,null,null,null,null,null,null,null,null,null,null,null,null,null,null,null,null,null,null,null,"Автономна Республіка Крим","Красний Партизан"]
[null,null,null,null,null,null,null,null,null,null,null,null,null,null,null,"25.4","Виробництво зброї та боєприпасів",null,null,null,null,null,null,null,null,null,null,null,null,null,null,null,null,null,null,null,null,null,null,null,null,null,null,null,null,"Автономна Республіка Крим","Краснівка"]
[null,null,null,null,null,null,null,null,null,null,null,null,null,null,null,"25.40","Виробництво зброї та боєприпасів",null,null,null,null,null,null,null,null,null,null,null,null,null,null,null,null,null,null,null,null,null,null,null,null,null,null,null,null,"Автономна Республіка Крим","Красноармійське (Зиминська сільська рада)"]
[null,null,null,null,null,null,null,null,null,null,null,null,null,null,null,"25.5","Кування, пресування, штампування, профілювання; порошкова металургія",null,null,null,null,null,null,null,null,null,null,null,null,null,null,null,null,null,null,null,null,null,null,null,null,null,null,null,null,"Автономна Республіка Крим","Красноармійське (Красноармійська)"]
[null,null,null,null,null,null,null,null,null,null,null,null,null,null,null,"25.50","Кування, пресування, штампування, профілювання; порошкова металургія",null,null,null,null,null,null,null,null,null,null,null,null,null,null,null,null,null,null,null,null,null,null,null,null,null,null,null,null,"Автономна Республіка Крим","Красногвардійське"]
[null,null,null,null,null,null,null,null,null,null,null,null,null,null,null,"25.6","Оброблення металів та нанесення покриття на метали; механічне оброблення металевих виробів",null,null,null,null,null,null,null,null,null,null,null,null,null,null,null,null,null,null,null,null,null,null,null,null,null,null,null,null,"Автономна Республіка Крим","Красногірка"]
[null,null,null,null,null,null,null,null,null,null,null,null,null,null,null,"25.61","Оброблення металів та нанесення покриття на метали",null,null,null,null,null,null,null,null,null,null,null,null,null,null,null,null,null,null,null,null,null,null,null,null,null,null,null,null,"Автономна Республіка Крим","Красногірське"]
[null,null,null,null,null,null,null,null,null,null,null,null,null,null,null,"25.62","Механічне оброблення металевих виробів",null,null,null,null,null,null,null,null,null,null,null,null,null,null,null,null,null,null,null,null,null,null,null,null,null,null,null,null,"Автономна Республіка Крим","Краснодарка"]
[null,null,null,null,null,null,null,null,null,null,null,null,null,null,null,"25.7","Виробництво столових приборів, інструментів і металевих виробів загального призначення",null,null,null,null,null,null,null,null,null,null,null,null,null,null,null,null,null,null,null,null,null,null,null,null,null,null,null,null,"Автономна Республіка Крим","Краснодольне"]
[null,null,null,null,null,null,null,null,null,null,null,null,null,null,null,"25.71","Виробництво столових приборів",null,null,null,null,null,null,null,null,null,null,null,null,null,null,null,null,null,null,null,null,null,null,null,null,null,null,null,null,"Автономна Республіка Крим","Краснознам'янка"]
[null,null,null,null,null,null,null,null,null,null,null,null,null,null,null,"25.72","Виробництво замків і дверних петель",null,null,null,null,null,null,null,null,null,null,null,null,null,null,null,null,null,null,null,null,null,null,null,null,null,null,null,null,"Автономна Республіка Крим","Краснокам'янка"]
[null,null,null,null,null,null,null,null,null,null,null,null,null,null,null,"25.73","Виробництво інструментів",null,null,null,null,null,null,null,null,null,null,null,null,null,null,null,null,null,null,null,null,null,null,null,null,null,null,null,null,"Автономна Республіка Крим","Краснолісся"]
[null,null,null,null,null,null,null,null,null,null,null,null,null,null,null,"25.9","Виробництво інших готових металевих виробів",null,null,null,null,null,null,null,null,null,null,null,null,null,null,null,null,null,null,null,null,null,null,null,null,null,null,null,null,"Автономна Республіка Крим","Красноперекопськ"]
[null,null,null,null,null,null,null,null,null,null,null,null,null,null,null,"25.91","Виробництво сталевих бочок і подібних контейнерів",null,null,null,null,null,null,null,null,null,null,null,null,null,null,null,null,null,null,null,null,null,null,null,null,null,null,null,null,"Автономна Республіка Крим","Красноселівка"]
[null,null,null,null,null,null,null,null,null,null,null,null,null,null,null,"25.92","Виробництво легких металевих паковань",null,null,null,null,null,null,null,null,null,null,null,null,null,null,null,null,null,null,null,null,null,null,null,null,null,null,null,null,"Автономна Республіка Крим","Красносільське"]
[null,null,null,null,null,null,null,null,null,null,null,null,null,null,null,"25.93","Виробництво виробів із дроту, ланцюгів і пружин",null,null,null,null,null,null,null,null,null,null,null,null,null,null,null,null,null,null,null,null,null,null,null,null,null,null,null,null,"Автономна Республіка Крим","Красносільське (Окунівська)"]
[null,null,null,null,null,null,null,null,null,null,null,null,null,null,null,"25.94","Виробництво кріпильних і ґвинтонарізних виробів",null,null,null,null,null,null,null,null,null,null,null,null,null,null,null,null,null,null,null,null,null,null,null,null,null,null,null,null,"Автономна Республіка Крим","Краснофлотське"]
[null,null,null,null,null,null,null,null,null,null,null,null,null,null,null,"25.99","Виробництво інших готових металевих виробів, н.в.і.у.",null,null,null,null,null,null,null,null,null,null,null,null,null,null,null,null,null,null,null,null,null,null,null,null,null,null,null,null,"Автономна Республіка Крим","Красноярське"]
[null,null,null,null,null,null,null,null,null,null,null,null,null,null,null,"26","Виробництво комп'ютерів, електронної та оптичної продукції",null,null,null,null,null,null,null,null,null,null,null,null,null,null,null,null,null,null,null,null,null,null,null,null,null,null,null,null,"Автономна Республіка Крим","Кремнівка"]
[null,null,null,null,null,null,null,null,null,null,null,null,null,null,null,"26.1","Виробництво електронних компонентів і плат",null,null,null,null,null,null,null,null,null,null,null,null,null,null,null,null,null,null,null,null,null,null,null,null,null,null,null,null,"Автономна Республіка Крим","Крестянівка (Крестянівскої)"]
[null,null,null,null,null,null,null,null,null,null,null,null,null,null,null,"26.11","Виробництво електронних компонентів",null,null,null,null,null,null,null,null,null,null,null,null,null,null,null,null,null,null,null,null,null,null,null,null,null,null,null,null,"Автономна Республіка Крим","Кривцове"]
[null,null,null,null,null,null,null,null,null,null,null,null,null,null,null,"26.12","Виробництво змонтованих електронних плат",null,null,null,null,null,null,null,null,null,null,null,null,null,null,null,null,null,null,null,null,null,null,null,null,null,null,null,null,"Автономна Республіка Крим","Криловка (Степновської)"]
[null,null,null,null,null,null,null,null,null,null,null,null,null,null,null,"26.2","Виробництво комп'ютерів і периферійного устатковання",null,null,null,null,null,null,null,null,null,null,null,null,null,null,null,null,null,null,null,null,null,null,null,null,null,null,null,null,"Автономна Республіка Крим","Криловка (Штормівська)"]
[null,null,null,null,null,null,null,null,null,null,null,null,null,null,null,"26.20","Виробництво комп'ютерів і периферійного устатковання",null,null,null,null,null,null,null,null,null,null,null,null,null,null,null,null,null,null,null,null,null,null,null,null,null,null,null,null,"Автономна Республіка Крим","Кримка"]
[null,null,null,null,null,null,null,null,null,null,null,null,null,null,null,"26.3","Виробництво обладнання зв'язку",null,null,null,null,null,null,null,null,null,null,null,null,null,null,null,null,null,null,null,null,null,null,null,null,null,null,null,null,"Автономна Республіка Крим","Кримська Роза"]
[null,null,null,null,null,null,null,null,null,null,null,null,null,null,null,"26.30","Виробництво обладнання зв'язку",null,null,null,null,null,null,null,null,null,null,null,null,null,null,null,null,null,null,null,null,null,null,null,null,null,null,null,null,"Автономна Республіка Крим","Кримське"]
[null,null,null,null,null,null,null,null,null,null,null,null,null,null,null,"26.4","Виробництво електронної апаратури побутового призначення для приймання, записування та відтворювання звуку й зображення",null,null,null,null,null,null,null,null,null,null,null,null,null,null,null,null,null,null,null,null,null,null,null,null,null,null,null,null,"Автономна Республіка Крим","Кринички"]
[null,null,null,null,null,null,null,null,null,null,null,null,null,null,null,"26.40","Виробництво електронної апаратури побутового призначення для приймання, записування та відтворювання звуку й зображення",null,null,null,null,null,null,null,null,null,null,null,null,null,null,null,null,null,null,null,null,null,null,null,null,null,null,null,null,"Автономна Республіка Крим","Кріпке (Вишнівської)"]
[null,null,null,null,null,null,null,null,null,null,null,null,null,null,null,"26.5","Виробництво інструментів і обладнання для вимірювання, дослідження та навігації; виробництво годинників",null,null,null,null,null,null,null,null,null,null,null,null,null,null,null,null,null,null,null,null,null,null,null,null,null,null,null,null,"Автономна Республіка Крим","Кропоткіне (Чернишівська сільська рада)"]
[null,null,null,null,null,null,null,null,null,null,null,null,null,null,null,"26.51","Виробництво інструментів і обладнання для вимірювання, дослідження та навігації",null,null,null,null,null,null,null,null,null,null,null,null,null,null,null,null,null,null,null,null,null,null,null,null,null,null,null,null,"Автономна Республіка Крим","Кубанське"]
[null,null,null,null,null,null,null,null,null,null,null,null,null,null,null,"26.52","Виробництво годинників",null,null,null,null,null,null,null,null,null,null,null,null,null,null,null,null,null,null,null,null,null,null,null,null,null,null,null,null,"Автономна Республіка Крим","Кудрине"]
[null,null,null,null,null,null,null,null,null,null,null,null,null,null,null,"26.6","Виробництво радіологічного, електромедичного й електротерапевтичного устатковання",null,null,null,null,null,null,null,null,null,null,null,null,null,null,null,null,null,null,null,null,null,null,null,null,null,null,null,null,"Автономна Республіка Крим","Кузнецьке"]
[null,null,null,null,null,null,null,null,null,null,null,null,null,null,null,"26.60","Виробництво радіологічного, електромедичного й електротерапевтичного устатковання",null,null,null,null,null,null,null,null,null,null,null,null,null,null,null,null,null,null,null,null,null,null,null,null,null,null,null,null,"Автономна Республіка Крим","Куйбишеве"]
[null,null,null,null,null,null,null,null,null,null,null,null,null,null,null,"26.7","Виробництво оптичних приладів і фотографічного устатковання",null,null,null,null,null,null,null,null,null,null,null,null,null,null,null,null,null,null,null,null,null,null,null,null,null,null,null,null,"Автономна Республіка Крим","Кукурудзяне"]
[null,null,null,null,null,null,null,null,null,null,null,null,null,null,null,"26.70","Виробництво оптичних приладів і фотографічного устатковання",null,null,null,null,null,null,null,null,null,null,null,null,null,null,null,null,null,null,null,null,null,null,null,null,null,null,null,null,"Автономна Республіка Крим","Кукушкіне"]
[null,null,null,null,null,null,null,null,null,null,null,null,null,null,null,"26.8","Виробництво магнітних і оптичних носіїв даних",null,null,null,null,null,null,null,null,null,null,null,null,null,null,null,null,null,null,null,null,null,null,null,null,null,null,null,null,"Автономна Республіка Крим","Куликівка"]
[null,null,null,null,null,null,null,null,null,null,null,null,null,null,null,"26.80","Виробництво магнітних і оптичних носіїв даних",null,null,null,null,null,null,null,null,null,null,null,null,null,null,null,null,null,null,null,null,null,null,null,null,null,null,null,null,"Автономна Республіка Крим","Кумове (Ботанічна сільська рада)"]
[null,null,null,null,null,null,null,null,null,null,null,null,null,null,null,"27","Виробництво електричного устатковання",null,null,null,null,null,null,null,null,null,null,null,null,null,null,null,null,null,null,null,null,null,null,null,null,null,null,null,null,"Автономна Республіка Крим","Кунцеве"]
[null,null,null,null,null,null,null,null,null,null,null,null,null,null,null,"27.1","Виробництво електродвигунів, генераторів, трансформаторів, електророзподільчої та контрольної апаратури",null,null,null,null,null,null,null,null,null,null,null,null,null,null,null,null,null,null,null,null,null,null,null,null,null,null,null,null,"Автономна Республіка Крим","Купріне"]
[null,null,null,null,null,null,null,null,null,null,null,null,null,null,null,"27.11","Виробництво електродвигунів, генераторів і трансформаторів",null,null,null,null,null,null,null,null,null,null,null,null,null,null,null,null,null,null,null,null,null,null,null,null,null,null,null,null,"Автономна Республіка Крим","Курганне"]
[null,null,null,null,null,null,null,null,null,null,null,null,null,null,null,"27.12","Виробництво електророзподільчої та контрольної апаратури",null,null,null,null,null,null,null,null,null,null,null,null,null,null,null,null,null,null,null,null,null,null,null,null,null,null,null,null,"Автономна Республіка Крим","Курганне (Ільїнка)"]
[null,null,null,null,null,null,null,null,null,null,null,null,null,null,null,"27.2","Виробництво батарей і акумуляторів",null,null,null,null,null,null,null,null,null,null,null,null,null,null,null,null,null,null,null,null,null,null,null,null,null,null,null,null,"Автономна Республіка Крим","Курортне"]
[null,null,null,null,null,null,null,null,null,null,null,null,null,null,null,"27.20","Виробництво батарей і акумуляторів",null,null,null,null,null,null,null,null,null,null,null,null,null,null,null,null,null,null,null,null,null,null,null,null,null,null,null,null,"Автономна Республіка Крим","Курпати"]
[null,null,null,null,null,null,null,null,null,null,null,null,null,null,null,"27.3","Виробництво проводів, кабелів і електромонтажних пристроїв",null,null,null,null,null,null,null,null,null,null,null,null,null,null,null,null,null,null,null,null,null,null,null,null,null,null,null,null,"Автономна Республіка Крим","Курське"]
[null,null,null,null,null,null,null,null,null,null,null,null,null,null,null,"27.31","Виробництво волоконно-оптичних кабелів",null,null,null,null,null,null,null,null,null,null,null,null,null,null,null,null,null,null,null,null,null,null,null,null,null,null,null,null,"Автономна Республіка Крим","Лаванда"]
[null,null,null,null,null,null,null,null,null,null,null,null,null,null,null,"27.32","Виробництво інших видів електронних і електричних проводів та кабелів",null,null,null,null,null,null,null,null,null,null,null,null,null,null,null,null,null,null,null,null,null,null,null,null,null,null,null,null,"Автономна Республіка Крим","Лаврове"]
[null,null,null,null,null,null,null,null,null,null,null,null,null,null,null,"27.33","Виробництво електромонтажних пристроїв",null,null,null,null,null,null,null,null,null,null,null,null,null,null,null,null,null,null,null,null,null,null,null,null,null,null,null,null,"Автономна Республіка Крим","Лазарівка"]
[null,null,null,null,null,null,null,null,null,null,null,null,null,null,null,"27.4","Виробництво електричного освітлювального устатковання",null,null,null,null,null,null,null,null,null,null,null,null,null,null,null,null,null,null,null,null,null,null,null,null,null,null,null,null,"Автономна Республіка Крим","Лазурне"]
[null,null,null,null,null,null,null,null,null,null,null,null,null,null,null,"27.40","Виробництво електричного освітлювального устатковання",null,null,null,null,null,null,null,null,null,null,null,null,null,null,null,null,null,null,null,null,null,null,null,null,null,null,null,null,"Автономна Республіка Крим","Лебединка"]
[null,null,null,null,null,null,null,null,null,null,null,null,null,null,null,"27.5","Виробництво побутових приладів",null,null,null,null,null,null,null,null,null,null,null,null,null,null,null,null,null,null,null,null,null,null,null,null,null,null,null,null,"Автономна Республіка Крим","Левадки"]
[null,null,null,null,null,null,null,null,null,null,null,null,null,null,null,"27.51","Виробництво електричних побутових приладів",null,null,null,null,null,null,null,null,null,null,null,null,null,null,null,null,null,null,null,null,null,null,null,null,null,null,null,null,"Автономна Республіка Крим","Левітанівка (Калінінської)"]
[null,null,null,null,null,null,null,null,null,null,null,null,null,null,null,"27.52","Виробництво неелектричних побутових приладів",null,null,null,null,null,null,null,null,null,null,null,null,null,null,null,null,null,null,null,null,null,null,null,null,null,null,null,null,"Автономна Республіка Крим","Леніне"]
[null,null,null,null,null,null,null,null,null,null,null,null,null,null,null,"27.9","Виробництво іншого електричного устатковання",null,null,null,null,null,null,null,null,null,null,null,null,null,null,null,null,null,null,null,null,null,null,null,null,null,null,null,null,"Автономна Республіка Крим","Ленінське"]
[null,null,null,null,null,null,null,null,null,null,null,null,null,null,null,"27.90","Виробництво іншого електричного устатковання",null,null,null,null,null,null,null,null,null,null,null,null,null,null,null,null,null,null,null,null,null,null,null,null,null,null,null,null,"Автономна Республіка Крим","Ленське"]
[null,null,null,null,null,null,null,null,null,null,null,null,null,null,null,"28","Виробництво машин і устатковання, н.в.і.у.",null,null,null,null,null,null,null,null,null,null,null,null,null,null,null,null,null,null,null,null,null,null,null,null,null,null,null,null,"Автономна Республіка Крим","Лиманне"]
[null,null,null,null,null,null,null,null,null,null,null,null,null,null,null,"28.1","Виробництво машин і устатковання загального призначення",null,null,null,null,null,null,null,null,null,null,null,null,null,null,null,null,null,null,null,null,null,null,null,null,null,null,null,null,"Автономна Республіка Крим","Листвинне"]
[null,null,null,null,null,null,null,null,null,null,null,null,null,null,null,"28.11","Виробництво двигунів і турбін, крім авіаційних, автотранспортних і мотоциклетних двигунів",null,null,null,null,null,null,null,null,null,null,null,null,null,null,null,null,null,null,null,null,null,null,null,null,null,null,null,null,"Автономна Республіка Крим","Листове"]
[null,null,null,null,null,null,null,null,null,null,null,null,null,null,null,"28.12","Виробництво гідравлічного та пневматичного устатковання",null,null,null,null,null,null,null,null,null,null,null,null,null,null,null,null,null,null,null,null,null,null,null,null,null,null,null,null,"Автономна Республіка Крим","Литвиненкове"]
[null,null,null,null,null,null,null,null,null,null,null,null,null,null,null,"28.13","Виробництво інших помп і компресорів",null,null,null,null,null,null,null,null,null,null,null,null,null,null,null,null,null,null,null,null,null,null,null,null,null,null,null,null,"Автономна Республіка Крим","Лібкнехтівка"]
[null,null,null,null,null,null,null,null,null,null,null,null,null,null,null,"28.14","Виробництво інших кранів і клапанів",null,null,null,null,null,null,null,null,null,null,null,null,null,null,null,null,null,null,null,null,null,null,null,null,null,null,null,null,"Автономна Республіка Крим","Лівадія"]
[null,null,null,null,null,null,null,null,null,null,null,null,null,null,null,"28.15","Виробництво підшипників, зубчастих передач, елементів механічних передач і приводів",null,null,null,null,null,null,null,null,null,null,null,null,null,null,null,null,null,null,null,null,null,null,null,null,null,null,null,null,"Автономна Республіка Крим","Лікарственне"]
[null,null,null,null,null,null,null,null,null,null,null,null,null,null,null,"28.2","Виробництво інших машин і устатковання загального призначення",null,null,null,null,null,null,null,null,null,null,null,null,null,null,null,null,null,null,null,null,null,null,null,null,null,null,null,null,"Автономна Республіка Крим","Лінійне"]
[null,null,null,null,null,null,null,null,null,null,null,null,null,null,null,"28.21","Виробництво духових шаф, печей і пічних пальників",null,null,null,null,null,null,null,null,null,null,null,null,null,null,null,null,null,null,null,null,null,null,null,null,null,null,null,null,"Автономна Республіка Крим","Лісне"]
[null,null,null,null,null,null,null,null,null,null,null,null,null,null,null,"28.22","Виробництво підіймального та вантажно-розвантажувального устатковання",null,null,null,null,null,null,null,null,null,null,null,null,null,null,null,null,null,null,null,null,null,null,null,null,null,null,null,null,"Автономна Республіка Крим","Ліснівка"]
[null,null,null,null,null,null,null,null,null,null,null,null,null,null,null,"28.23","Виробництво офісних машин і устатковання, крім комп'ютерів і периферійного устатковання",null,null,null,null,null,null,null,null,null,null,null,null,null,null,null,null,null,null,null,null,null,null,null,null,null,null,null,null,"Автономна Республіка Крим","Лісносілля"]
[null,null,null,null,null,null,null,null,null,null,null,null,null,null,null,"28.24","Виробництво ручних електромеханічних і пневматичних інструментів",null,null,null,null,null,null,null,null,null,null,null,null,null,null,null,null,null,null,null,null,null,null,null,null,null,null,null,null,"Автономна Республіка Крим","Лічебне"]
[null,null,null,null,null,null,null,null,null,null,null,null,null,null,null,"28.25","Виробництво промислового холодильного та вентиляційного устатковання",null,null,null,null,null,null,null,null,null,null,null,null,null,null,null,null,null,null,null,null,null,null,null,null,null,null,null,null,"Автономна Республіка Крим","Лобанове"]
[null,null,null,null,null,null,null,null,null,null,null,null,null,null,null,"28.29","Виробництво інших машин і устатковання загального призначення, н.в.і.у.",null,null,null,null,null,null,null,null,null,null,null,null,null,null,null,null,null,null,null,null,null,null,null,null,null,null,null,null,"Автономна Республіка Крим","Ломоносове"]
[null,null,null,null,null,null,null,null,null,null,null,null,null,null,null,"28.3","Виробництво машин і устатковання для сільського та лісового господарства",null,null,null,null,null,null,null,null,null,null,null,null,null,null,null,null,null,null,null,null,null,null,null,null,null,null,null,null,"Автономна Республіка Крим","Лохівка"]
[null,null,null,null,null,null,null,null,null,null,null,null,null,null,null,"28.30","Виробництво машин і устатковання для сільського та лісового господарства",null,null,null,null,null,null,null,null,null,null,null,null,null,null,null,null,null,null,null,null,null,null,null,null,null,null,null,null,"Автономна Республіка Крим","Луганське"]
[null,null,null,null,null,null,null,null,null,null,null,null,null,null,null,"28.4","Виробництво металообробних машин і верстатів",null,null,null,null,null,null,null,null,null,null,null,null,null,null,null,null,null,null,null,null,null,null,null,null,null,null,null,null,"Автономна Республіка Крим","Лугове"]
[null,null,null,null,null,null,null,null,null,null,null,null,null,null,null,"28.41","Виробництво металообробних машин",null,null,null,null,null,null,null,null,null,null,null,null,null,null,null,null,null,null,null,null,null,null,null,null,null,null,null,null,"Автономна Республіка Крим","Лугове (Сизівська)"]
[null,null,null,null,null,null,null,null,null,null,null,null,null,null,null,"28.49","Виробництво інших верстатів",null,null,null,null,null,null,null,null,null,null,null,null,null,null,null,null,null,null,null,null,null,null,null,null,null,null,null,null,"Автономна Республіка Крим","Лужки"]
[null,null,null,null,null,null,null,null,null,null,null,null,null,null,null,"28.9","Виробництво інших машин і устатковання спеціального призначення",null,null,null,null,null,null,null,null,null,null,null,null,null,null,null,null,null,null,null,null,null,null,null,null,null,null,null,null,"Автономна Республіка Крим","Лучисте"]
[null,null,null,null,null,null,null,null,null,null,null,null,null,null,null,"28.91","Виробництво машин і устатковання для металургії",null,null,null,null,null,null,null,null,null,null,null,null,null,null,null,null,null,null,null,null,null,null,null,null,null,null,null,null,"Автономна Республіка Крим","Лучове"]
[null,null,null,null,null,null,null,null,null,null,null,null,null,null,null,"28.92","Виробництво машин і устатковання для добувної промисловості та будівництва",null,null,null,null,null,null,null,null,null,null,null,null,null,null,null,null,null,null,null,null,null,null,null,null,null,null,null,null,"Автономна Республіка Крим","Лушине (Стовпівська)"]
[null,null,null,null,null,null,null,null,null,null,null,null,null,null,null,"28.93","Виробництво машин і устатковання для виготовлення харчових продуктів і напоїв, перероблення тютюну",null,null,null,null,null,null,null,null,null,null,null,null,null,null,null,null,null,null,null,null,null,null,null,null,null,null,null,null,"Автономна Республіка Крим","Любимівка"]
[null,null,null,null,null,null,null,null,null,null,null,null,null,null,null,"28.94","Виробництво машин і устатковання для виготовлення текстильних, швейних, хутряних і шкіряних виробів",null,null,null,null,null,null,null,null,null,null,null,null,null,null,null,null,null,null,null,null,null,null,null,null,null,null,null,null,"Автономна Республіка Крим","Львове"]
[null,null,null,null,null,null,null,null,null,null,null,null,null,null,null,"28.95","Виробництво машин і устатковання для виготовлення паперу та картону",null,null,null,null,null,null,null,null,null,null,null,null,null,null,null,null,null,null,null,null,null,null,null,null,null,null,null,null,"Автономна Республіка Крим","Льговське"]
[null,null,null,null,null,null,null,null,null,null,null,null,null,null,null,"28.96","Виробництво машин і устатковання для виготовлення пластмас і гуми",null,null,null,null,null,null,null,null,null,null,null,null,null,null,null,null,null,null,null,null,null,null,null,null,null,null,null,null,"Автономна Республіка Крим","Магазинка (Магазинська)"]
[null,null,null,null,null,null,null,null,null,null,null,null,null,null,null,"28.99","Виробництво інших машин і устатковання спеціального призначення, н.в.і.у.",null,null,null,null,null,null,null,null,null,null,null,null,null,null,null,null,null,null,null,null,null,null,null,null,null,null,null,null,"Автономна Республіка Крим","Мазанка"]
[null,null,null,null,null,null,null,null,null,null,null,null,null,null,null,"29","Виробництво автотранспортних засобів, причепів і напівпричепів",null,null,null,null,null,null,null,null,null,null,null,null,null,null,null,null,null,null,null,null,null,null,null,null,null,null,null,null,"Автономна Республіка Крим","Майське"]
[null,null,null,null,null,null,null,null,null,null,null,null,null,null,null,"29.1","Виробництво автотранспортних засобів",null,null,null,null,null,null,null,null,null,null,null,null,null,null,null,null,null,null,null,null,null,null,null,null,null,null,null,null,"Автономна Республіка Крим","Макарівка (Первомайської)"]
[null,null,null,null,null,null,null,null,null,null,null,null,null,null,null,"29.10","Виробництво автотранспортних засобів",null,null,null,null,null,null,null,null,null,null,null,null,null,null,null,null,null,null,null,null,null,null,null,null,null,null,null,null,"Автономна Республіка Крим","Маківка"]
[null,null,null,null,null,null,null,null,null,null,null,null,null,null,null,"29.2","Виробництво кузовів для автотранспортних засобів, причепів і напівпричепів",null,null,null,null,null,null,null,null,null,null,null,null,null,null,null,null,null,null,null,null,null,null,null,null,null,null,null,null,"Автономна Республіка Крим","Маківське"]
[null,null,null,null,null,null,null,null,null,null,null,null,null,null,null,"29.20","Виробництво кузовів для автотранспортних засобів, причепів і напівпричепів",null,null,null,null,null,null,null,null,null,null,null,null,null,null,null,null,null,null,null,null,null,null,null,null,null,null,null,null,"Автономна Республіка Крим","Максимівка (Руч'ївська сільська рада)"]
[null,null,null,null,null,null,null,null,null,null,null,null,null,null,null,"29.3","Виробництво вузлів, деталей і приладдя для автотранспортних засобів",null,null,null,null,null,null,null,null,null,null,null,null,null,null,null,null,null,null,null,null,null,null,null,null,null,null,null,null,"Автономна Республіка Крим","Мале Садове"]
[null,null,null,null,null,null,null,null,null,null,null,null,null,null,null,"29.31","Виробництво електричного й електронного устатковання для автотранспортних засобів",null,null,null,null,null,null,null,null,null,null,null,null,null,null,null,null,null,null,null,null,null,null,null,null,null,null,null,null,"Автономна Республіка Крим","Маленьке"]
[null,null,null,null,null,null,null,null,null,null,null,null,null,null,null,"29.32","Виробництво інших вузлів, деталей і приладдя для автотранспортних засобів",null,null,null,null,null,null,null,null,null,null,null,null,null,null,null,null,null,null,null,null,null,null,null,null,null,null,null,null,"Автономна Республіка Крим","Малий Маяк"]
[null,null,null,null,null,null,null,null,null,null,null,null,null,null,null,"30","Виробництво інших транспортних засобів",null,null,null,null,null,null,null,null,null,null,null,null,null,null,null,null,null,null,null,null,null,null,null,null,null,null,null,null,"Автономна Республіка Крим","Малинівка"]
[null,null,null,null,null,null,null,null,null,null,null,null,null,null,null,"30.1","Будування суден і човнів",null,null,null,null,null,null,null,null,null,null,null,null,null,null,null,null,null,null,null,null,null,null,null,null,null,null,null,null,"Автономна Республіка Крим","Маловидне"]
[null,null,null,null,null,null,null,null,null,null,null,null,null,null,null,"30.11","Будування суден і плавучих конструкцій",null,null,null,null,null,null,null,null,null,null,null,null,null,null,null,null,null,null,null,null,null,null,null,null,null,null,null,null,"Автономна Республіка Крим","Малоріченське"]
[null,null,null,null,null,null,null,null,null,null,null,null,null,null,null,"30.12","Будування прогулянкових і спортивних човнів",null,null,null,null,null,null,null,null,null,null,null,null,null,null,null,null,null,null,null,null,null,null,null,null,null,null,null,null,"Автономна Республіка Крим","Мар'ївка"]
[null,null,null,null,null,null,null,null,null,null,null,null,null,null,null,"30.2","Виробництво залізничних локомотивів і рухомого складу",null,null,null,null,null,null,null,null,null,null,null,null,null,null,null,null,null,null,null,null,null,null,null,null,null,null,null,null,"Автономна Республіка Крим","Мар'їне"]
[null,null,null,null,null,null,null,null,null,null,null,null,null,null,null,"30.20","Виробництво залізничних локомотивів і рухомого складу",null,null,null,null,null,null,null,null,null,null,null,null,null,null,null,null,null,null,null,null,null,null,null,null,null,null,null,null,"Автономна Республіка Крим","Маркове"]
[null,null,null,null,null,null,null,null,null,null,null,null,null,null,null,"30.3","Виробництво повітряних і космічних літальних апаратів, супутнього устатковання",null,null,null,null,null,null,null,null,null,null,null,null,null,null,null,null,null,null,null,null,null,null,null,null,null,null,null,null,"Автономна Республіка Крим","Мартинівка"]
[null,null,null,null,null,null,null,null,null,null,null,null,null,null,null,"30.30","Виробництво повітряних і космічних літальних апаратів, супутнього устатковання",null,null,null,null,null,null,null,null,null,null,null,null,null,null,null,null,null,null,null,null,null,null,null,null,null,null,null,null,"Автономна Республіка Крим","Марфівка"]
[null,null,null,null,null,null,null,null,null,null,null,null,null,null,null,"30.4","Виробництво військових транспортних засобів",null,null,null,null,null,null,null,null,null,null,null,null,null,null,null,null,null,null,null,null,null,null,null,null,null,null,null,null,"Автономна Республіка Крим","Мар'янівка"]
[null,null,null,null,null,null,null,null,null,null,null,null,null,null,null,"30.40","Виробництво військових транспортних засобів",null,null,null,null,null,null,null,null,null,null,null,null,null,null,null,null,null,null,null,null,null,null,null,null,null,null,null,null,"Автономна Республіка Крим","Масандра"]
[null,null,null,null,null,null,null,null,null,null,null,null,null,null,null,"30.9","Виробництво транспортних засобів, н.в.і.у.",null,null,null,null,null,null,null,null,null,null,null,null,null,null,null,null,null,null,null,null,null,null,null,null,null,null,null,null,"Автономна Республіка Крим","Маслове"]
[null,null,null,null,null,null,null,null,null,null,null,null,null,null,null,"30.91","Виробництво мотоциклів",null,null,null,null,null,null,null,null,null,null,null,null,null,null,null,null,null,null,null,null,null,null,null,null,null,null,null,null,"Автономна Республіка Крим","Матвіївка (Правдинської)"]
[null,null,null,null,null,null,null,null,null,null,null,null,null,null,null,"30.92","Виробництво велосипедів, дитячих та інвалідних колясок",null,null,null,null,null,null,null,null,null,null,null,null,null,null,null,null,null,null,null,null,null,null,null,null,null,null,null,null,"Автономна Республіка Крим","Матросівка"]
[null,null,null,null,null,null,null,null,null,null,null,null,null,null,null,"30.99","Виробництво інших транспортних засобів і обладнання, н.в.і.у.",null,null,null,null,null,null,null,null,null,null,null,null,null,null,null,null,null,null,null,null,null,null,null,null,null,null,null,null,"Автономна Республіка Крим","Машине"]
[null,null,null,null,null,null,null,null,null,null,null,null,null,null,null,"31","Виробництво меблів",null,null,null,null,null,null,null,null,null,null,null,null,null,null,null,null,null,null,null,null,null,null,null,null,null,null,null,null,"Автономна Республіка Крим","Маяк"]
[null,null,null,null,null,null,null,null,null,null,null,null,null,null,null,"31.0","Виробництво меблів",null,null,null,null,null,null,null,null,null,null,null,null,null,null,null,null,null,null,null,null,null,null,null,null,null,null,null,null,"Автономна Республіка Крим","Медведеве"]
[null,null,null,null,null,null,null,null,null,null,null,null,null,null,null,"31.01","Виробництво меблів для офісів і підприємств торгівлі",null,null,null,null,null,null,null,null,null,null,null,null,null,null,null,null,null,null,null,null,null,null,null,null,null,null,null,null,"Автономна Республіка Крим","Медведівка"]
[null,null,null,null,null,null,null,null,null,null,null,null,null,null,null,"31.02","Виробництво кухонних меблів",null,null,null,null,null,null,null,null,null,null,null,null,null,null,null,null,null,null,null,null,null,null,null,null,null,null,null,null,"Автономна Республіка Крим","Межове"]
[null,null,null,null,null,null,null,null,null,null,null,null,null,null,null,"31.03","Виробництво матраців",null,null,null,null,null,null,null,null,null,null,null,null,null,null,null,null,null,null,null,null,null,null,null,null,null,null,null,null,"Автономна Республіка Крим","Мелехове"]
[null,null,null,null,null,null,null,null,null,null,null,null,null,null,null,"31.09","Виробництво інших меблів",null,null,null,null,null,null,null,null,null,null,null,null,null,null,null,null,null,null,null,null,null,null,null,null,null,null,null,null,"Автономна Республіка Крим","Мельники"]
[null,null,null,null,null,null,null,null,null,null,null,null,null,null,null,"32","Виробництво іншої продукції",null,null,null,null,null,null,null,null,null,null,null,null,null,null,null,null,null,null,null,null,null,null,null,null,null,null,null,null,"Автономна Республіка Крим","Мельничне"]
[null,null,null,null,null,null,null,null,null,null,null,null,null,null,null,"32.1","Виробництво ювелірних виробів, біжутерії та подібних виробів",null,null,null,null,null,null,null,null,null,null,null,null,null,null,null,null,null,null,null,null,null,null,null,null,null,null,null,null,"Автономна Республіка Крим","Мельничне (Островської)"]
[null,null,null,null,null,null,null,null,null,null,null,null,null,null,null,"32.11","Карбування монет",null,null,null,null,null,null,null,null,null,null,null,null,null,null,null,null,null,null,null,null,null,null,null,null,null,null,null,null,"Автономна Республіка Крим","Менделєєве"]
[null,null,null,null,null,null,null,null,null,null,null,null,null,null,null,"32.12","Виробництво ювелірних і подібних виробів",null,null,null,null,null,null,null,null,null,null,null,null,null,null,null,null,null,null,null,null,null,null,null,null,null,null,null,null,"Автономна Республіка Крим","Миколаївка"]
[null,null,null,null,null,null,null,null,null,null,null,null,null,null,null,"32.13","Виробництво біжутерії та подібних виробів",null,null,null,null,null,null,null,null,null,null,null,null,null,null,null,null,null,null,null,null,null,null,null,null,null,null,null,null,"Автономна Республіка Крим","Миндальне"]
[null,null,null,null,null,null,null,null,null,null,null,null,null,null,null,"32.2","Виробництво музичних інструментів",null,null,null,null,null,null,null,null,null,null,null,null,null,null,null,null,null,null,null,null,null,null,null,null,null,null,null,null,"Автономна Республіка Крим","Мирний"]
[null,null,null,null,null,null,null,null,null,null,null,null,null,null,null,"32.20","Виробництво музичних інструментів",null,null,null,null,null,null,null,null,null,null,null,null,null,null,null,null,null,null,null,null,null,null,null,null,null,null,null,null,"Автономна Республіка Крим","Мирнівка"]
[null,null,null,null,null,null,null,null,null,null,null,null,null,null,null,"32.3","Виробництво спортивних товарів",null,null,null,null,null,null,null,null,null,null,null,null,null,null,null,null,null,null,null,null,null,null,null,null,null,null,null,null,"Автономна Республіка Крим","Миролюбівка"]
[null,null,null,null,null,null,null,null,null,null,null,null,null,null,null,"32.30","Виробництво спортивних товарів",null,null,null,null,null,null,null,null,null,null,null,null,null,null,null,null,null,null,null,null,null,null,null,null,null,null,null,null,"Автономна Республіка Крим","Миронівка"]
[null,null,null,null,null,null,null,null,null,null,null,null,null,null,null,"32.4","Виробництво ігор та іграшок",null,null,null,null,null,null,null,null,null,null,null,null,null,null,null,null,null,null,null,null,null,null,null,null,null,null,null,null,"Автономна Республіка Крим","Мисове"]
[null,null,null,null,null,null,null,null,null,null,null,null,null,null,null,"32.40","Виробництво ігор та іграшок",null,null,null,null,null,null,null,null,null,null,null,null,null,null,null,null,null,null,null,null,null,null,null,null,null,null,null,null,"Автономна Республіка Крим","Митрофанівка"]
[null,null,null,null,null,null,null,null,null,null,null,null,null,null,null,"32.5","Виробництво медичних і стоматологічних інструментів і матеріалів",null,null,null,null,null,null,null,null,null,null,null,null,null,null,null,null,null,null,null,null,null,null,null,null,null,null,null,null,"Автономна Республіка Крим","Митюрине"]
[null,null,null,null,null,null,null,null,null,null,null,null,null,null,null,"32.50","Виробництво медичних і стоматологічних інструментів і матеріалів",null,null,null,null,null,null,null,null,null,null,null,null,null,null,null,null,null,null,null,null,null,null,null,null,null,null,null,null,"Автономна Республіка Крим","Митяєве"]
[null,null,null,null,null,null,null,null,null,null,null,null,null,null,null,"32.9","Виробництво продукції, н.в.і.у.",null,null,null,null,null,null,null,null,null,null,null,null,null,null,null,null,null,null,null,null,null,null,null,null,null,null,null,null,"Автономна Республіка Крим","Михайлівка"]
[null,null,null,null,null,null,null,null,null,null,null,null,null,null,null,"32.91","Виробництво мітел і щіток",null,null,null,null,null,null,null,null,null,null,null,null,null,null,null,null,null,null,null,null,null,null,null,null,null,null,null,null,"Автономна Республіка Крим","Міжводне"]
[null,null,null,null,null,null,null,null,null,null,null,null,null,null,null,"32.99","Виробництво іншої продукції, н.в.і.у.",null,null,null,null,null,null,null,null,null,null,null,null,null,null,null,null,null,null,null,null,null,null,null,null,null,null,null,null,"Автономна Республіка Крим","Міжгірне"]
[null,null,null,null,null,null,null,null,null,null,null,null,null,null,null,"33","Ремонт і монтаж машин і устатковання",null,null,null,null,null,null,null,null,null,null,null,null,null,null,null,null,null,null,null,null,null,null,null,null,null,null,null,null,"Автономна Республіка Крим","Міжгір'я"]
[null,null,null,null,null,null,null,null,null,null,null,null,null,null,null,"33.1","Ремонт і технічне обслуговування готових металевих виробів, машин і устатковання",null,null,null,null,null,null,null,null,null,null,null,null,null,null,null,null,null,null,null,null,null,null,null,null,null,null,null,null,"Автономна Республіка Крим","Міжріччя"]
[null,null,null,null,null,null,null,null,null,null,null,null,null,null,null,"33.11","Ремонт і технічне обслуговування готових металевих виробів",null,null,null,null,null,null,null,null,null,null,null,null,null,null,null,null,null,null,null,null,null,null,null,null,null,null,null,null,"Автономна Республіка Крим","Мілководне"]
[null,null,null,null,null,null,null,null,null,null,null,null,null,null,null,"33.12","Ремонт і технічне обслуговування машин і устатковання промислового призначення",null,null,null,null,null,null,null,null,null,null,null,null,null,null,null,null,null,null,null,null,null,null,null,null,null,null,null,null,"Автономна Республіка Крим","Мічурінівка"]
[null,null,null,null,null,null,null,null,null,null,null,null,null,null,null,"33.13","Ремонт і технічне обслуговування електронного й оптичного устатковання",null,null,null,null,null,null,null,null,null,null,null,null,null,null,null,null,null,null,null,null,null,null,null,null,null,null,null,null,"Автономна Республіка Крим","Мічурінське"]
[null,null,null,null,null,null,null,null,null,null,null,null,null,null,null,"33.14","Ремонт і технічне обслуговування електричного устатковання",null,null,null,null,null,null,null,null,null,null,null,null,null,null,null,null,null,null,null,null,null,null,null,null,null,null,null,null,"Автономна Республіка Крим","Многоводне"]
[null,null,null,null,null,null,null,null,null,null,null,null,null,null,null,"33.15","Ремонт і технічне обслуговування суден і човнів",null,null,null,null,null,null,null,null,null,null,null,null,null,null,null,null,null,null,null,null,null,null,null,null,null,null,null,null,"Автономна Республіка Крим","Многоріччя"]
[null,null,null,null,null,null,null,null,null,null,null,null,null,null,null,"33.16","Ремонт і технічне обслуговування повітряних і космічних літальних апаратів",null,null,null,null,null,null,null,null,null,null,null,null,null,null,null,null,null,null,null,null,null,null,null,null,null,null,null,null,"Автономна Республіка Крим","Молодіжне"]
[null,null,null,null,null,null,null,null,null,null,null,null,null,null,null,"33.17","Ремонт і технічне обслуговування інших транспортних засобів",null,null,null,null,null,null,null,null,null,null,null,null,null,null,null,null,null,null,null,null,null,null,null,null,null,null,null,null,"Автономна Республіка Крим","Молочне"]
[null,null,null,null,null,null,null,null,null,null,null,null,null,null,null,"33.19","Ремонт і технічне обслуговування інших машин і устатковання",null,null,null,null,null,null,null,null,null,null,null,null,null,null,null,null,null,null,null,null,null,null,null,null,null,null,null,null,"Автономна Республіка Крим","Молочне (Ковильнівська сільська рада)"]
[null,null,null,null,null,null,null,null,null,null,null,null,null,null,null,"33.2","Установлення та монтаж машин і устатковання",null,null,null,null,null,null,null,null,null,null,null,null,null,null,null,null,null,null,null,null,null,null,null,null,null,null,null,null,"Автономна Республіка Крим","Морське"]
[null,null,null,null,null,null,null,null,null,null,null,null,null,null,null,"33.20","Установлення та монтаж машин і устатковання",null,null,null,null,null,null,null,null,null,null,null,null,null,null,null,null,null,null,null,null,null,null,null,null,null,null,null,null,"Автономна Республіка Крим","Мостове"]
[null,null,null,null,null,null,null,null,null,null,null,null,null,null,null,"D","Постачання електроенергії, газу, пари та кондиційованого повітря",null,null,null,null,null,null,null,null,null,null,null,null,null,null,null,null,null,null,null,null,null,null,null,null,null,null,null,null,"Автономна Республіка Крим","Мраморне"]
[null,null,null,null,null,null,null,null,null,null,null,null,null,null,null,"35","Постачання електроенергії, газу, пари та кондиційованого повітря",null,null,null,null,null,null,null,null,null,null,null,null,null,null,null,null,null,null,null,null,null,null,null,null,null,null,null,null,"Автономна Республіка Крим","Муромське"]
[null,null,null,null,null,null,null,null,null,null,null,null,null,null,null,"35.1","Виробництво, передача та розподілення електроенергії",null,null,null,null,null,null,null,null,null,null,null,null,null,null,null,null,null,null,null,null,null,null,null,null,null,null,null,null,"Автономна Республіка Крим","Мускатне"]
[null,null,null,null,null,null,null,null,null,null,null,null,null,null,null,"35.11","Виробництво електроенергії",null,null,null,null,null,null,null,null,null,null,null,null,null,null,null,null,null,null,null,null,null,null,null,null,null,null,null,null,"Автономна Республіка Крим","Набережне"]
[null,null,null,null,null,null,null,null,null,null,null,null,null,null,null,"35.12","Передача електроенергії",null,null,null,null,null,null,null,null,null,null,null,null,null,null,null,null,null,null,null,null,null,null,null,null,null,null,null,null,"Автономна Республіка Крим","Нагірне"]
[null,null,null,null,null,null,null,null,null,null,null,null,null,null,null,"35.13","Розподілення електроенергії",null,null,null,null,null,null,null,null,null,null,null,null,null,null,null,null,null,null,null,null,null,null,null,null,null,null,null,null,"Автономна Республіка Крим","Надежда"]
[null,null,null,null,null,null,null,null,null,null,null,null,null,null,null,"35.14","Торгівля електроенергією",null,null,null,null,null,null,null,null,null,null,null,null,null,null,null,null,null,null,null,null,null,null,null,null,null,null,null,null,"Автономна Республіка Крим","Надеждине (Красноармійська)"]
[null,null,null,null,null,null,null,null,null,null,null,null,null,null,null,"35.2","Виробництво газу; розподілення газоподібного палива через місцеві (локальні) трубопроводи",null,null,null,null,null,null,null,null,null,null,null,null,null,null,null,null,null,null,null,null,null,null,null,null,null,null,null,null,"Автономна Республіка Крим","Найдьонівка"]
[null,null,null,null,null,null,null,null,null,null,null,null,null,null,null,"35.21","Виробництво газу",null,null,null,null,null,null,null,null,null,null,null,null,null,null,null,null,null,null,null,null,null,null,null,null,null,null,null,null,"Автономна Республіка Крим","Наникове"]
[null,null,null,null,null,null,null,null,null,null,null,null,null,null,null,"35.22","Розподілення газоподібного палива через місцеві (локальні) трубопроводи",null,null,null,null,null,null,null,null,null,null,null,null,null,null,null,null,null,null,null,null,null,null,null,null,null,null,null,null,"Автономна Республіка Крим","Насипне"]
[null,null,null,null,null,null,null,null,null,null,null,null,null,null,null,"35.23","Торгівля газом через місцеві (локальні) трубопроводи",null,null,null,null,null,null,null,null,null,null,null,null,null,null,null,null,null,null,null,null,null,null,null,null,null,null,null,null,"Автономна Республіка Крим","Наташине"]
[null,null,null,null,null,null,null,null,null,null,null,null,null,null,null,"35.3","Постачання пари, гарячої води та кондиційованого повітря",null,null,null,null,null,null,null,null,null,null,null,null,null,null,null,null,null,null,null,null,null,null,null,null,null,null,null,null,"Автономна Республіка Крим","Наумівка"]
[null,null,null,null,null,null,null,null,null,null,null,null,null,null,null,"35.30","Постачання пари, гарячої води та кондиційованого повітря",null,null,null,null,null,null,null,null,null,null,null,null,null,null,null,null,null,null,null,null,null,null,null,null,null,null,null,null,"Автономна Республіка Крим","Научний"]
[null,null,null,null,null,null,null,null,null,null,null,null,null,null,null,"E","Водопостачання; каналізація, поводження з відходами",null,null,null,null,null,null,null,null,null,null,null,null,null,null,null,null,null,null,null,null,null,null,null,null,null,null,null,null,"Автономна Республіка Крим","Нахідка"]
[null,null,null,null,null,null,null,null,null,null,null,null,null,null,null,"36","Забір, очищення та постачання води",null,null,null,null,null,null,null,null,null,null,null,null,null,null,null,null,null,null,null,null,null,null,null,null,null,null,null,null,"Автономна Республіка Крим","Нахімове"]
[null,null,null,null,null,null,null,null,null,null,null,null,null,null,null,"36.0","Забір, очищення та постачання води",null,null,null,null,null,null,null,null,null,null,null,null,null,null,null,null,null,null,null,null,null,null,null,null,null,null,null,null,"Автономна Республіка Крим","Невське"]
[null,null,null,null,null,null,null,null,null,null,null,null,null,null,null,"36.00","Забір очищення та постачання води",null,null,null,null,null,null,null,null,null,null,null,null,null,null,null,null,null,null,null,null,null,null,null,null,null,null,null,null,"Автономна Республіка Крим","Некрасове"]
[null,null,null,null,null,null,null,null,null,null,null,null,null,null,null,"37","Каналізація, відведення й очищення стічних вод",null,null,null,null,null,null,null,null,null,null,null,null,null,null,null,null,null,null,null,null,null,null,null,null,null,null,null,null,"Автономна Республіка Крим","Некрасовка"]
[null,null,null,null,null,null,null,null,null,null,null,null,null,null,null,"37.0","Каналізація, відведення й очищення стічних вод",null,null,null,null,null,null,null,null,null,null,null,null,null,null,null,null,null,null,null,null,null,null,null,null,null,null,null,null,"Автономна Республіка Крим","Нива"]
[null,null,null,null,null,null,null,null,null,null,null,null,null,null,null,"37.00","Каналізація, відведення й очищення стічних вод",null,null,null,null,null,null,null,null,null,null,null,null,null,null,null,null,null,null,null,null,null,null,null,null,null,null,null,null,"Автономна Республіка Крим","Нива (Березівська)"]
[null,null,null,null,null,null,null,null,null,null,null,null,null,null,null,"38","Збирання, оброблення й видалення відходів; відновлення матеріалів",null,null,null,null,null,null,null,null,null,null,null,null,null,null,null,null,null,null,null,null,null,null,null,null,null,null,null,null,"Автономна Республіка Крим","Нижнє Запрудне"]
[null,null,null,null,null,null,null,null,null,null,null,null,null,null,null,"38.1","Збирання відходів",null,null,null,null,null,null,null,null,null,null,null,null,null,null,null,null,null,null,null,null,null,null,null,null,null,null,null,null,"Автономна Республіка Крим","Нижні Орішники"]
[null,null,null,null,null,null,null,null,null,null,null,null,null,null,null,"38.11","Збирання безпечних відходів",null,null,null,null,null,null,null,null,null,null,null,null,null,null,null,null,null,null,null,null,null,null,null,null,null,null,null,null,"Автономна Республіка Крим","Нижні Острожки"]
[null,null,null,null,null,null,null,null,null,null,null,null,null,null,null,"38.12","Збирання небезпечних відходів",null,null,null,null,null,null,null,null,null,null,null,null,null,null,null,null,null,null,null,null,null,null,null,null,null,null,null,null,"Автономна Республіка Крим","Нижня Голубинка"]
[null,null,null,null,null,null,null,null,null,null,null,null,null,null,null,"38.2","Оброблення та видалення відходів",null,null,null,null,null,null,null,null,null,null,null,null,null,null,null,null,null,null,null,null,null,null,null,null,null,null,null,null,"Автономна Республіка Крим","Нижня Кутузовка"]
[null,null,null,null,null,null,null,null,null,null,null,null,null,null,null,"38.21","Оброблення та видалення безпечних відходів",null,null,null,null,null,null,null,null,null,null,null,null,null,null,null,null,null,null,null,null,null,null,null,null,null,null,null,null,"Автономна Республіка Крим","Нижньогірський"]
[null,null,null,null,null,null,null,null,null,null,null,null,null,null,null,"38.22","Оброблення та видалення небезпечних відходів",null,null,null,null,null,null,null,null,null,null,null,null,null,null,null,null,null,null,null,null,null,null,null,null,null,null,null,null,"Автономна Республіка Крим","Нижньозаморське"]
[null,null,null,null,null,null,null,null,null,null,null,null,null,null,null,"38.3","Відновлення матеріалів",null,null,null,null,null,null,null,null,null,null,null,null,null,null,null,null,null,null,null,null,null,null,null,null,null,null,null,null,"Автономна Республіка Крим","Нижньокурганне"]
[null,null,null,null,null,null,null,null,null,null,null,null,null,null,null,"38.31","Демонтаж (розбирання) машин і устатковання",null,null,null,null,null,null,null,null,null,null,null,null,null,null,null,null,null,null,null,null,null,null,null,null,null,null,null,null,"Автономна Республіка Крим","Низинне"]
[null,null,null,null,null,null,null,null,null,null,null,null,null,null,null,"38.32","Відновлення відсортованих відходів",null,null,null,null,null,null,null,null,null,null,null,null,null,null,null,null,null,null,null,null,null,null,null,null,null,null,null,null,"Автономна Республіка Крим","Низинне (Зерновська)"]
[null,null,null,null,null,null,null,null,null,null,null,null,null,null,null,"39","Інша діяльність щодо поводження з відходами",null,null,null,null,null,null,null,null,null,null,null,null,null,null,null,null,null,null,null,null,null,null,null,null,null,null,null,null,"Автономна Республіка Крим","Низівка"]
[null,null,null,null,null,null,null,null,null,null,null,null,null,null,null,"39.0","Інша діяльність щодо поводження з відходами",null,null,null,null,null,null,null,null,null,null,null,null,null,null,null,null,null,null,null,null,null,null,null,null,null,null,null,null,"Автономна Республіка Крим","Ніжинське"]
[null,null,null,null,null,null,null,null,null,null,null,null,null,null,null,"39.00","Інша діяльність щодо поводження з відходами",null,null,null,null,null,null,null,null,null,null,null,null,null,null,null,null,null,null,null,null,null,null,null,null,null,null,null,null,"Автономна Республіка Крим","Нікіта"]
[null,null,null,null,null,null,null,null,null,null,null,null,null,null,null,"F","Будівництво",null,null,null,null,null,null,null,null,null,null,null,null,null,null,null,null,null,null,null,null,null,null,null,null,null,null,null,null,"Автономна Республіка Крим","Нова Деревня (Крестянівскої)"]
[null,null,null,null,null,null,null,null,null,null,null,null,null,null,null,"41","Будівництво будівель",null,null,null,null,null,null,null,null,null,null,null,null,null,null,null,null,null,null,null,null,null,null,null,null,null,null,null,null,"Автономна Республіка Крим","Нове  Життя"]
[null,null,null,null,null,null,null,null,null,null,null,null,null,null,null,"41.1","Організація будівництва будівель",null,null,null,null,null,null,null,null,null,null,null,null,null,null,null,null,null,null,null,null,null,null,null,null,null,null,null,null,"Автономна Республіка Крим","Новеньке"]
[null,null,null,null,null,null,null,null,null,null,null,null,null,null,null,"41.10","Організація будівництва будівель",null,null,null,null,null,null,null,null,null,null,null,null,null,null,null,null,null,null,null,null,null,null,null,null,null,null,null,null,"Автономна Республіка Крим","Новий Мир"]
[null,null,null,null,null,null,null,null,null,null,null,null,null,null,null,"41.2","Будівництво житлових і нежитлових будівель",null,null,null,null,null,null,null,null,null,null,null,null,null,null,null,null,null,null,null,null,null,null,null,null,null,null,null,null,"Автономна Республіка Крим","Новий Сад"]
[null,null,null,null,null,null,null,null,null,null,null,null,null,null,null,"41.20","Будівництво житлових і нежитлових будівель",null,null,null,null,null,null,null,null,null,null,null,null,null,null,null,null,null,null,null,null,null,null,null,null,null,null,null,null,"Автономна Республіка Крим","Новий Світ"]
[null,null,null,null,null,null,null,null,null,null,null,null,null,null,null,"42","Будівництво споруд",null,null,null,null,null,null,null,null,null,null,null,null,null,null,null,null,null,null,null,null,null,null,null,null,null,null,null,null,"Автономна Республіка Крим","Новоандріївка"]
[null,null,null,null,null,null,null,null,null,null,null,null,null,null,null,"42.1","Будівництво доріг і залізниць",null,null,null,null,null,null,null,null,null,null,null,null,null,null,null,null,null,null,null,null,null,null,null,null,null,null,null,null,"Автономна Республіка Крим","Нововасилівка"]
[null,null,null,null,null,null,null,null,null,null,null,null,null,null,null,"42.11","Будівництво доріг і автострад",null,null,null,null,null,null,null,null,null,null,null,null,null,null,null,null,null,null,null,null,null,null,null,null,null,null,null,null,"Автономна Республіка Крим","Нововідрадне"]
[null,null,null,null,null,null,null,null,null,null,null,null,null,null,null,"42.12","Будівництво залізниць і метрополітену",null,null,null,null,null,null,null,null,null,null,null,null,null,null,null,null,null,null,null,null,null,null,null,null,null,null,null,null,"Автономна Республіка Крим","Новогригорівка"]
[null,null,null,null,null,null,null,null,null,null,null,null,null,null,null,"42.13","Будівництво мостів і тунелів",null,null,null,null,null,null,null,null,null,null,null,null,null,null,null,null,null,null,null,null,null,null,null,null,null,null,null,null,"Автономна Республіка Крим","Новодолинка"]
[null,null,null,null,null,null,null,null,null,null,null,null,null,null,null,"42.2","Будівництво комунікацій",null,null,null,null,null,null,null,null,null,null,null,null,null,null,null,null,null,null,null,null,null,null,null,null,null,null,null,null,"Автономна Республіка Крим","Новоестонія"]
[null,null,null,null,null,null,null,null,null,null,null,null,null,null,null,"42.21","Будівництво трубопроводів",null,null,null,null,null,null,null,null,null,null,null,null,null,null,null,null,null,null,null,null,null,null,null,null,null,null,null,null,"Автономна Республіка Крим","Новожилівка"]
[null,null,null,null,null,null,null,null,null,null,null,null,null,null,null,"42.22","Будівництво споруд електропостачання та телекомунікацій",null,null,null,null,null,null,null,null,null,null,null,null,null,null,null,null,null,null,null,null,null,null,null,null,null,null,null,null,"Автономна Республіка Крим","Новозбур'ївка"]
[null,null,null,null,null,null,null,null,null,null,null,null,null,null,null,"42.9","Будівництво інших споруд",null,null,null,null,null,null,null,null,null,null,null,null,null,null,null,null,null,null,null,null,null,null,null,null,null,null,null,null,"Автономна Республіка Крим","Новозуївка"]
[null,null,null,null,null,null,null,null,null,null,null,null,null,null,null,"42.91","Будівництво водних споруд",null,null,null,null,null,null,null,null,null,null,null,null,null,null,null,null,null,null,null,null,null,null,null,null,null,null,null,null,"Автономна Республіка Крим","Новоіванівка"]
[null,null,null,null,null,null,null,null,null,null,null,null,null,null,null,"42.99","Будівництво інших споруд, н.в.і.у.",null,null,null,null,null,null,null,null,null,null,null,null,null,null,null,null,null,null,null,null,null,null,null,null,null,null,null,null,"Автономна Республіка Крим","Новоіванівка (Магазинська)"]
[null,null,null,null,null,null,null,null,null,null,null,null,null,null,null,"43","Спеціалізовані будівельні роботи",null,null,null,null,null,null,null,null,null,null,null,null,null,null,null,null,null,null,null,null,null,null,null,null,null,null,null,null,"Автономна Республіка Крим","Новокатеринівка"]
[null,null,null,null,null,null,null,null,null,null,null,null,null,null,null,"43.1","Знесення та підготовчі роботи на будівельному майданчику",null,null,null,null,null,null,null,null,null,null,null,null,null,null,null,null,null,null,null,null,null,null,null,null,null,null,null,null,"Автономна Республіка Крим","Новокленове"]
[null,null,null,null,null,null,null,null,null,null,null,null,null,null,null,"43.11","Знесення",null,null,null,null,null,null,null,null,null,null,null,null,null,null,null,null,null,null,null,null,null,null,null,null,null,null,null,null,"Автономна Республіка Крим","Новокостянтинівка"]
[null,null,null,null,null,null,null,null,null,null,null,null,null,null,null,"43.12","Підготовчі роботи на будівельному майданчику",null,null,null,null,null,null,null,null,null,null,null,null,null,null,null,null,null,null,null,null,null,null,null,null,null,null,null,null,"Автономна Республіка Крим","Новокримське"]
[null,null,null,null,null,null,null,null,null,null,null,null,null,null,null,"43.13","Розвідувальне буріння",null,null,null,null,null,null,null,null,null,null,null,null,null,null,null,null,null,null,null,null,null,null,null,null,null,null,null,null,"Автономна Республіка Крим","Новомикільське"]
[null,null,null,null,null,null,null,null,null,null,null,null,null,null,null,"43.2","Електромонтажні, водопровідні та інші будівельно-монтажні роботи",null,null,null,null,null,null,null,null,null,null,null,null,null,null,null,null,null,null,null,null,null,null,null,null,null,null,null,null,"Автономна Республіка Крим","Новомиколаївка"]
[null,null,null,null,null,null,null,null,null,null,null,null,null,null,null,"43.21","Електромонтажні роботи",null,null,null,null,null,null,null,null,null,null,null,null,null,null,null,null,null,null,null,null,null,null,null,null,null,null,null,null,"Автономна Республіка Крим","Новомиколаївка (Орлівської)"]
[null,null,null,null,null,null,null,null,null,null,null,null,null,null,null,"43.22","Монтаж водопровідних мереж, систем опалення та кондиціонування",null,null,null,null,null,null,null,null,null,null,null,null,null,null,null,null,null,null,null,null,null,null,null,null,null,null,null,null,"Автономна Республіка Крим","Новоозерне"]
[null,null,null,null,null,null,null,null,null,null,null,null,null,null,null,"43.29","Інші будівельно-монтажні роботи",null,null,null,null,null,null,null,null,null,null,null,null,null,null,null,null,null,null,null,null,null,null,null,null,null,null,null,null,"Автономна Республіка Крим","Новоолександрівка (Магазинської)"]
[null,null,null,null,null,null,null,null,null,null,null,null,null,null,null,"43.3","Роботи із завершення будівництва",null,null,null,null,null,null,null,null,null,null,null,null,null,null,null,null,null,null,null,null,null,null,null,null,null,null,null,null,"Автономна Республіка Крим","Новоолексіївка"]
[null,null,null,null,null,null,null,null,null,null,null,null,null,null,null,"43.31","Штукатурні роботи",null,null,null,null,null,null,null,null,null,null,null,null,null,null,null,null,null,null,null,null,null,null,null,null,null,null,null,null,"Автономна Республіка Крим","Новопавлівка"]
[null,null,null,null,null,null,null,null,null,null,null,null,null,null,null,"43.32","Установлення столярних виробів",null,null,null,null,null,null,null,null,null,null,null,null,null,null,null,null,null,null,null,null,null,null,null,null,null,null,null,null,"Автономна Республіка Крим","Новопавлівка (Новопавлівської)"]
[null,null,null,null,null,null,null,null,null,null,null,null,null,null,null,"46.24","Оптова торгівля шкірсировиною, шкурами та шкірою",null,null,null,null,null,null,null,null,null,null,null,null,null,null,null,null,null,null,null,null,null,null,null,null,null,null,null,null,"Автономна Республіка Крим","Опушки"]
[null,null,null,null,null,null,null,null,null,null,null,null,null,null,null,"46.61","Оптова торгівля сільськогосподарськими машинами й устаткованням",null,null,null,null,null,null,null,null,null,null,null,null,null,null,null,null,null,null,null,null,null,null,null,null,null,null,null,null,"Автономна Республіка Крим","Первомайське (Первомайської)"]
[null,null,null,null,null,null,null,null,null,null,null,null,null,null,null,"47.11","Роздрібна торгівля в неспеціалізованих магазинах переважно продуктами харчування, напоями та тютюновими виробами",null,null,null,null,null,null,null,null,null,null,null,null,null,null,null,null,null,null,null,null,null,null,null,null,null,null,null,null,"Автономна Республіка Крим","Побєдне"]
[null,null,null,null,null,null,null,null,null,null,null,null,null,null,null,"50.2","Вантажний морський транспорт",null,null,null,null,null,null,null,null,null,null,null,null,null,null,null,null,null,null,null,null,null,null,null,null,null,null,null,null,"Автономна Республіка Крим","Розкішне"]
[null,null,null,null,null,null,null,null,null,null,null,null,null,null,null,"52.24","Транспортне оброблення вантажів",null,null,null,null,null,null,null,null,null,null,null,null,null,null,null,null,null,null,null,null,null,null,null,null,null,null,null,null,"Автономна Республіка Крим","Санаторне"]
[null,null,null,null,null,null,null,null,null,null,null,null,null,null,null,"61.90","Інша діяльність у сфері електрозв'язку",null,null,null,null,null,null,null,null,null,null,null,null,null,null,null,null,null,null,null,null,null,null,null,null,null,null,null,null,"Автономна Республіка Крим","Степне (Степновської)"]
[null,null,null,null,null,null,null,null,null,null,null,null,null,null,null,"64.91","Фінансовий лізинг",null,null,null,null,null,null,null,null,null,null,null,null,null,null,null,null,null,null,null,null,null,null,null,null,null,null,null,null,"Автономна Республіка Крим","Тепле"]
[null,null,null,null,null,null,null,null,null,null,null,null,null,null,null,"73.2","Дослідження кон'юнктури ринку та виявлення громадської думки",null,null,null,null,null,null,null,null,null,null,null,null,null,null,null,null,null,null,null,null,null,null,null,null,null,null,null,null,"Автономна Республіка Крим","Цвіточне"]
[null,null,null,null,null,null,null,null,null,null,null,null,null,null,null,"77.32","Надання в оренду будівельних машин і устатковання",null,null,null,null,null,null,null,null,null,null,null,null,null,null,null,null,null,null,null,null,null,null,null,null,null,null,null,null,"Автономна Республіка Крим","Шаумян"]
[null,null,null,null,null,null,null,null,null,null,null,null,null,null,null,"79.90","Надання інших послуг із бронювання та пов'язана з цим діяльність",null,null,null,null,null,null,null,null,null,null,null,null,null,null,null,null,null,null,null,null,null,null,null,null,null,null,null,null,"Автономна Республіка Крим","Яковлівка"]
[null,null,null,null,null,null,null,null,null,null,null,null,null,null,null,"85.52","Освіта у сфері культури",null,null,null,null,null,null,null,null,null,null,null,null,null,null,null,null,null,null,null,null,null,null,null,null,null,null,null,null,"Вінницька","Бохоники"]
[null,null,null,null,null,null,null,null,null,null,null,null,null,null,null,"88.1","Надання соціальної допомоги без забезпечення проживання для осіб похилого віку та інвалідів",null,null,null,null,null,null,null,null,null,null,null,null,null,null,null,null,null,null,null,null,null,null,null,null,null,null,null,null,"Вінницька","Васютинці"]
[null,null,null,null,null,null,null,null,null,null,null,null,null,null,null,"96.04","Діяльність із забезпечення фізичного комфорту",null,null,null,null,null,null,null,null,null,null,null,null,null,null,null,null,null,null,null,null,null,null,null,null,null,null,null,null,"Вінницька","Глибока долина"]
[null,null,null,null,null,null,null,null,null,null,null,null,null,null,null,null,null,null,null,null,null,null,null,null,null,null,null,null,null,null,null,null,null,null,null,null,null,null,null,null,null,null,null,null,null,"Вінницька","Гриненки"]
[null,null,null,null,null,null,null,null,null,null,null,null,null,null,null,null,null,null,null,null,null,null,null,null,null,null,null,null,null,null,null,null,null,null,null,null,null,null,null,null,null,null,null,null,null,"Вінницька","Жабелівка"]
[null,null,null,null,null,null,null,null,null,null,null,null,null,null,null,null,null,null,null,null,null,null,null,null,null,null,null,null,null,null,null,null,null,null,null,null,null,null,null,null,null,null,null,null,null,"Вінницька","Закриниччя"]
[null,null,null,null,null,null,null,null,null,null,null,null,null,null,null,null,null,null,null,null,null,null,null,null,null,null,null,null,null,null,null,null,null,null,null,null,null,null,null,null,null,null,null,null,null,"Вінницька","Кисляк (Карбівська сільська рада)"]
[null,null,null,null,null,null,null,null,null,null,null,null,null,null,null,null,null,null,null,null,null,null,null,null,null,null,null,null,null,null,null,null,null,null,null,null,null,null,null,null,null,null,null,null,null,"Вінницька","Комаргородське, селище"]
[null,null,null,null,null,null,null,null,null,null,null,null,null,null,null,null,null,null,null,null,null,null,null,null,null,null,null,null,null,null,null,null,null,null,null,null,null,null,null,null,null,null,null,null,null,"Вінницька","Куманівці"]
[null,null,null,null,null,null,null,null,null,null,null,null,null,null,null,null,null,null,null,null,null,null,null,null,null,null,null,null,null,null,null,null,null,null,null,null,null,null,null,null,null,null,null,null,null,"Вінницька","Лип'ятин"]
[null,null,null,null,null,null,null,null,null,null,null,null,null,null,null,null,null,null,null,null,null,null,null,null,null,null,null,null,null,null,null,null,null,null,null,null,null,null,null,null,null,null,null,null,null,"Вінницька","Мар'янівське, селище"]
[null,null,null,null,null,null,null,null,null,null,null,null,null,null,null,null,null,null,null,null,null,null,null,null,null,null,null,null,null,null,null,null,null,null,null,null,null,null,null,null,null,null,null,null,null,"Вінницька","Мончинці"]
[null,null,null,null,null,null,null,null,null,null,null,null,null,null,null,null,null,null,null,null,null,null,null,null,null,null,null,null,null,null,null,null,null,null,null,null,null,null,null,null,null,null,null,null,null,"Вінницька","Нишівці"]
[null,null,null,null,null,null,null,null,null,null,null,null,null,null,null,null,null,null,null,null,null,null,null,null,null,null,null,null,null,null,null,null,null,null,null,null,null,null,null,null,null,null,null,null,null,"Вінницька","Петрунівка"]
[null,null,null,null,null,null,null,null,null,null,null,null,null,null,null,null,null,null,null,null,null,null,null,null,null,null,null,null,null,null,null,null,null,null,null,null,null,null,null,null,null,null,null,null,null,"Вінницька","Польова Лисіївка"]
[null,null,null,null,null,null,null,null,null,null,null,null,null,null,null,null,null,null,null,null,null,null,null,null,null,null,null,null,null,null,null,null,null,null,null,null,null,null,null,null,null,null,null,null,null,"Вінницька","Саїнка"]
[null,null,null,null,null,null,null,null,null,null,null,null,null,null,null,null,null,null,null,null,null,null,null,null,null,null,null,null,null,null,null,null,null,null,null,null,null,null,null,null,null,null,null,null,null,"Вінницька","Сиваківці"]
[null,null,null,null,null,null,null,null,null,null,null,null,null,null,null,null,null,null,null,null,null,null,null,null,null,null,null,null,null,null,null,null,null,null,null,null,null,null,null,null,null,null,null,null,null,"Вінницька","Сподахи"]
[null,null,null,null,null,null,null,null,null,null,null,null,null,null,null,null,null,null,null,null,null,null,null,null,null,null,null,null,null,null,null,null,null,null,null,null,null,null,null,null,null,null,null,null,null,"Вінницька","Теси"]
[null,null,null,null,null,null,null,null,null,null,null,null,null,null,null,null,null,null,null,null,null,null,null,null,null,null,null,null,null,null,null,null,null,null,null,null,null,null,null,null,null,null,null,null,null,"Вінницька","Уладівське"]
[null,null,null,null,null,null,null,null,null,null,null,null,null,null,null,null,null,null,null,null,null,null,null,null,null,null,null,null,null,null,null,null,null,null,null,null,null,null,null,null,null,null,null,null,null,"Вінницька","Шипинки"]
[null,null,null,null,null,null,null,null,null,null,null,null,null,null,null,null,null,null,null,null,null,null,null,null,null,null,null,null,null,null,null,null,null,null,null,null,null,null,null,null,null,null,null,null,null,"Вінницька","Щучинці"]
[null,null,null,null,null,null,null,null,null,null,null,null,null,null,null,null,null,null,null,null,null,null,null,null,null,null,null,null,null,null,null,null,null,null,null,null,null,null,null,null,null,null,null,null,null,"Волинська","Ботин"]
[null,null,null,null,null,null,null,null,null,null,null,null,null,null,null,null,null,null,null,null,null,null,null,null,null,null,null,null,null,null,null,null,null,null,null,null,null,null,null,null,null,null,null,null,null,"Волинська","Буяни"]
[null,null,null,null,null,null,null,null,null,null,null,null,null,null,null,null,null,null,null,null,null,null,null,null,null,null,null,null,null,null,null,null,null,null,null,null,null,null,null,null,null,null,null,null,null,"Волинська","Воля Свійчівська"]
[null,null,null,null,null,null,null,null,null,null,null,null,null,null,null,null,null,null,null,null,null,null,null,null,null,null,null,null,null,null,null,null,null,null,null,null,null,null,null,null,null,null,null,null,null,"Волинська","Горохів"]
[null,null,null,null,null,null,null,null,null,null,null,null,null,null,null,null,null,null,null,null,null,null,null,null,null,null,null,null,null,null,null,null,null,null,null,null,null,null,null,null,null,null,null,null,null,"Волинська","Гупали"]
[null,null,null,null,null,null,null,null,null,null,null,null,null,null,null,null,null,null,null,null,null,null,null,null,null,null,null,null,null,null,null,null,null,null,null,null,null,null,null,null,null,null,null,null,null,"Волинська","Запілля"]
[null,null,null,null,null,null,null,null,null,null,null,null,null,null,null,null,null,null,null,null,null,null,null,null,null,null,null,null,null,null,null,null,null,null,null,null,null,null,null,null,null,null,null,null,null,"Волинська","Зміїнець"]
[null,null,null,null,null,null,null,null,null,null,null,null,null,null,null,null,null,null,null,null,null,null,null,null,null,null,null,null,null,null,null,null,null,null,null,null,null,null,null,null,null,null,null,null,null,"Волинська","Краснодуб'я"]
[null,null,null,null,null,null,null,null,null,null,null,null,null,null,null,null,null,null,null,null,null,null,null,null,null,null,null,null,null,null,null,null,null,null,null,null,null,null,null,null,null,null,null,null,null,"Волинська","Кутрів"]
[null,null,null,null,null,null,null,null,null,null,null,null,null,null,null,null,null,null,null,null,null,null,null,null,null,null,null,null,null,null,null,null,null,null,null,null,null,null,null,null,null,null,null,null,null,"Волинська","Любешівська Воля"]
[null,null,null,null,null,null,null,null,null,null,null,null,null,null,null,null,null,null,null,null,null,null,null,null,null,null,null,null,null,null,null,null,null,null,null,null,null,null,null,null,null,null,null,null,null,"Волинська","Мировичі"]
[null,null,null,null,null,null,null,null,null,null,null,null,null,null,null,null,null,null,null,null,null,null,null,null,null,null,null,null,null,null,null,null,null,null,null,null,null,null,null,null,null,null,null,null,null,"Волинська","Муравище"]
[null,null,null,null,null,null,null,null,null,null,null,null,null,null,null,null,null,null,null,null,null,null,null,null,null,null,null,null,null,null,null,null,null,null,null,null,null,null,null,null,null,null,null,null,null,"Волинська","Осекрів"]
[null,null,null,null,null,null,null,null,null,null,null,null,null,null,null,null,null,null,null,null,null,null,null,null,null,null,null,null,null,null,null,null,null,null,null,null,null,null,null,null,null,null,null,null,null,"Волинська","Писарева Воля"]
[null,null,null,null,null,null,null,null,null,null,null,null,null,null,null,null,null,null,null,null,null,null,null,null,null,null,null,null,null,null,null,null,null,null,null,null,null,null,null,null,null,null,null,null,null,"Волинська","Рокині"]
[null,null,null,null,null,null,null,null,null,null,null,null,null,null,null,null,null,null,null,null,null,null,null,null,null,null,null,null,null,null,null,null,null,null,null,null,null,null,null,null,null,null,null,null,null,"Волинська","Серкизів"]
[null,null,null,null,null,null,null,null,null,null,null,null,null,null,null,null,null,null,null,null,null,null,null,null,null,null,null,null,null,null,null,null,null,null,null,null,null,null,null,null,null,null,null,null,null,"Волинська","Тагачин"]
[null,null,null,null,null,null,null,null,null,null,null,null,null,null,null,null,null,null,null,null,null,null,null,null,null,null,null,null,null,null,null,null,null,null,null,null,null,null,null,null,null,null,null,null,null,"Волинська","Трубки"]
[null,null,null,null,null,null,null,null,null,null,null,null,null,null,null,null,null,null,null,null,null,null,null,null,null,null,null,null,null,null,null,null,null,null,null,null,null,null,null,null,null,null,null,null,null,"Волинська","Холоневичі"]
[null,null,null,null,null,null,null,null,null,null,null,null,null,null,null,null,null,null,null,null,null,null,null,null,null,null,null,null,null,null,null,null,null,null,null,null,null,null,null,null,null,null,null,null,null,"Волинська","Якушів"]
[null,null,null,null,null,null,null,null,null,null,null,null,null,null,null,null,null,null,null,null,null,null,null,null,null,null,null,null,null,null,null,null,null,null,null,null,null,null,null,null,null,null,null,null,null,"Дніпропетровська","Антонівське"]
[null,null,null,null,null,null,null,null,null,null,null,null,null,null,null,null,null,null,null,null,null,null,null,null,null,null,null,null,null,null,null,null,null,null,null,null,null,null,null,null,null,null,null,null,null,"Дніпропетровська","Вербове (Бабайківська сільська рада)"]
[null,null,null,null,null,null,null,null,null,null,null,null,null,null,null,null,null,null,null,null,null,null,null,null,null,null,null,null,null,null,null,null,null,null,null,null,null,null,null,null,null,null,null,null,null,"Дніпропетровська","Веселе (Раївська)"]
[null,null,null,null,null,null,null,null,null,null,null,null,null,null,null,null,null,null,null,null,null,null,null,null,null,null,null,null,null,null,null,null,null,null,null,null,null,null,null,null,null,null,null,null,null,"Дніпропетровська","Гнатівка (Михайлівська сільська рада)"]
[null,null,null,null,null,null,null,null,null,null,null,null,null,null,null,null,null,null,null,null,null,null,null,null,null,null,null,null,null,null,null,null,null,null,null,null,null,null,null,null,null,null,null,null,null,"Дніпропетровська","Гришаї"]
[null,null,null,null,null,null,null,null,null,null,null,null,null,null,null,null,null,null,null,null,null,null,null,null,null,null,null,null,null,null,null,null,null,null,null,null,null,null,null,null,null,null,null,null,null,"Дніпропетровська","Євецько-Миколаївка"]
[null,null,null,null,null,null,null,null,null,null,null,null,null,null,null,null,null,null,null,null,null,null,null,null,null,null,null,null,null,null,null,null,null,null,null,null,null,null,null,null,null,null,null,null,null,"Дніпропетровська","Запорізьке (Запорізька сільська рада)"]
[null,null,null,null,null,null,null,null,null,null,null,null,null,null,null,null,null,null,null,null,null,null,null,null,null,null,null,null,null,null,null,null,null,null,null,null,null,null,null,null,null,null,null,null,null,"Дніпропетровська","Зелений Гай (Українська сільрада)"]
[null,null,null,null,null,null,null,null,null,null,null,null,null,null,null,null,null,null,null,null,null,null,null,null,null,null,null,null,null,null,null,null,null,null,null,null,null,null,null,null,null,null,null,null,null,"Дніпропетровська","Каплистівка"]
[null,null,null,null,null,null,null,null,null,null,null,null,null,null,null,null,null,null,null,null,null,null,null,null,null,null,null,null,null,null,null,null,null,null,null,null,null,null,null,null,null,null,null,null,null,"Дніпропетровська","Козодуб (Червоноіванівська сільська рада)"]
[null,null,null,null,null,null,null,null,null,null,null,null,null,null,null,null,null,null,null,null,null,null,null,null,null,null,null,null,null,null,null,null,null,null,null,null,null,null,null,null,null,null,null,null,null,"Дніпропетровська","Кринички (Марє-Дмитрівська сільська рада)"]
[null,null,null,null,null,null,null,null,null,null,null,null,null,null,null,null,null,null,null,null,null,null,null,null,null,null,null,null,null,null,null,null,null,null,null,null,null,null,null,null,null,null,null,null,null,"Дніпропетровська","Лисківка (Царичанська сільська рада)"]
[null,null,null,null,null,null,null,null,null,null,null,null,null,null,null,null,null,null,null,null,null,null,null,null,null,null,null,null,null,null,null,null,null,null,null,null,null,null,null,null,null,null,null,null,null,"Дніпропетровська","Мар'їнка"]
[null,null,null,null,null,null,null,null,null,null,null,null,null,null,null,null,null,null,null,null,null,null,null,null,null,null,null,null,null,null,null,null,null,null,null,null,null,null,null,null,null,null,null,null,null,"Дніпропетровська","Миколаївка (Миколаївська сільська рада)"]
[null,null,null,null,null,null,null,null,null,null,null,null,null,null,null,null,null,null,null,null,null,null,null,null,null,null,null,null,null,null,null,null,null,null,null,null,null,null,null,null,null,null,null,null,null,"Дніпропетровська","Нові Садки (Красінська сільська рада)"]
[null,null,null,null,null,null,null,null,null,null,null,null,null,null,null,null,null,null,null,null,null,null,null,null,null,null,null,null,null,null,null,null,null,null,null,null,null,null,null,null,null,null,null,null,null,"Дніпропетровська","Новоіванівка (Кам'янська)"]
[null,null,null,null,null,null,null,null,null,null,null,null,null,null,null,null,null,null,null,null,null,null,null,null,null,null,null,null,null,null,null,null,null,null,null,null,null,null,null,null,null,null,null,null,null,"Дніпропетровська","Новостроївка (Бабайківська сільська рада)"]
[null,null,null,null,null,null,null,null,null,null,null,null,null,null,null,null,null,null,null,null,null,null,null,null,null,null,null,null,null,null,null,null,null,null,null,null,null,null,null,null,null,null,null,null,null,"Дніпропетровська","Оленівка (Чапаєвська сільська рада)"]
[null,null,null,null,null,null,null,null,null,null,null,null,null,null,null,null,null,null,null,null,null,null,null,null,null,null,null,null,null,null,null,null,null,null,null,null,null,null,null,null,null,null,null,null,null,"Дніпропетровська","Отрадне (Чапаєвська сільська рада)"]
[null,null,null,null,null,null,null,null,null,null,null,null,null,null,null,null,null,null,null,null,null,null,null,null,null,null,null,null,null,null,null,null,null,null,null,null,null,null,null,null,null,null,null,null,null,"Дніпропетровська","Почино-Софіївка"]
[null,null,null,null,null,null,null,null,null,null,null,null,null,null,null,null,null,null,null,null,null,null,null,null,null,null,null,null,null,null,null,null,null,null,null,null,null,null,null,null,null,null,null,null,null,"Дніпропетровська","Радевичеве (Андріївська сільська рада)"]
[null,null,null,null,null,null,null,null,null,null,null,null,null,null,null,null,null,null,null,null,null,null,null,null,null,null,null,null,null,null,null,null,null,null,null,null,null,null,null,null,null,null,null,null,null,"Дніпропетровська","Сорокопанівка (Покровська сільська рада)"]
[null,null,null,null,null,null,null,null,null,null,null,null,null,null,null,null,null,null,null,null,null,null,null,null,null,null,null,null,null,null,null,null,null,null,null,null,null,null,null,null,null,null,null,null,null,"Дніпропетровська","Сурське"]
[null,null,null,null,null,null,null,null,null,null,null,null,null,null,null,null,null,null,null,null,null,null,null,null,null,null,null,null,null,null,null,null,null,null,null,null,null,null,null,null,null,null,null,null,null,"Дніпропетровська","Томаківка"]
[null,null,null,null,null,null,null,null,null,null,null,null,null,null,null,null,null,null,null,null,null,null,null,null,null,null,null,null,null,null,null,null,null,null,null,null,null,null,null,null,null,null,null,null,null,"Дніпропетровська","Чаус"]
[null,null,null,null,null,null,null,null,null,null,null,null,null,null,null,null,null,null,null,null,null,null,null,null,null,null,null,null,null,null,null,null,null,null,null,null,null,null,null,null,null,null,null,null,null,"Дніпропетровська","Червоний Промінь (Червонопроміньська сільська рада)"]
[null,null,null,null,null,null,null,null,null,null,null,null,null,null,null,null,null,null,null,null,null,null,null,null,null,null,null,null,null,null,null,null,null,null,null,null,null,null,null,null,null,null,null,null,null,"Дніпропетровська","Юр'ївське"]
[null,null,null,null,null,null,null,null,null,null,null,null,null,null,null,null,null,null,null,null,null,null,null,null,null,null,null,null,null,null,null,null,null,null,null,null,null,null,null,null,null,null,null,null,null,"Донецька","Бахчовик"]
[null,null,null,null,null,null,null,null,null,null,null,null,null,null,null,null,null,null,null,null,null,null,null,null,null,null,null,null,null,null,null,null,null,null,null,null,null,null,null,null,null,null,null,null,null,"Донецька","Виселки"]
[null,null,null,null,null,null,null,null,null,null,null,null,null,null,null,null,null,null,null,null,null,null,null,null,null,null,null,null,null,null,null,null,null,null,null,null,null,null,null,null,null,null,null,null,null,"Донецька","Володине (Старомлинівська с/р)"]
[null,null,null,null,null,null,null,null,null,null,null,null,null,null,null,null,null,null,null,null,null,null,null,null,null,null,null,null,null,null,null,null,null,null,null,null,null,null,null,null,null,null,null,null,null,"Донецька","Дробишеве"]
[null,null,null,null,null,null,null,null,null,null,null,null,null,null,null,null,null,null,null,null,null,null,null,null,null,null,null,null,null,null,null,null,null,null,null,null,null,null,null,null,null,null,null,null,null,"Донецька","Заїченко"]
[null,null,null,null,null,null,null,null,null,null,null,null,null,null,null,null,null,null,null,null,null,null,null,null,null,null,null,null,null,null,null,null,null,null,null,null,null,null,null,null,null,null,null,null,null,"Донецька","Зугрес"]
[null,null,null,null,null,null,null,null,null,null,null,null,null,null,null,null,null,null,null,null,null,null,null,null,null,null,null,null,null,null,null,null,null,null,null,null,null,null,null,null,null,null,null,null,null,"Донецька","Котлярівське"]
[null,null,null,null,null,null,null,null,null,null,null,null,null,null,null,null,null,null,null,null,null,null,null,null,null,null,null,null,null,null,null,null,null,null,null,null,null,null,null,null,null,null,null,null,null,"Донецька","Кримки"]
[null,null,null,null,null,null,null,null,null,null,null,null,null,null,null,null,null,null,null,null,null,null,null,null,null,null,null,null,null,null,null,null,null,null,null,null,null,null,null,null,null,null,null,null,null,"Донецька","Миколаївка (Новоекономічна селищна рада)"]
[null,null,null,null,null,null,null,null,null,null,null,null,null,null,null,null,null,null,null,null,null,null,null,null,null,null,null,null,null,null,null,null,null,null,null,null,null,null,null,null,null,null,null,null,null,"Донецька","Моспине"]
[null,null,null,null,null,null,null,null,null,null,null,null,null,null,null,null,null,null,null,null,null,null,null,null,null,null,null,null,null,null,null,null,null,null,null,null,null,null,null,null,null,null,null,null,null,"Донецька","Новогнатівка"]
[null,null,null,null,null,null,null,null,null,null,null,null,null,null,null,null,null,null,null,null,null,null,null,null,null,null,null,null,null,null,null,null,null,null,null,null,null,null,null,null,null,null,null,null,null,"Донецька","Обільне"]
[null,null,null,null,null,null,null,null,null,null,null,null,null,null,null,null,null,null,null,null,null,null,null,null,null,null,null,null,null,null,null,null,null,null,null,null,null,null,null,null,null,null,null,null,null,"Донецька","Пищевик"]
[null,null,null,null,null,null,null,null,null,null,null,null,null,null,null,null,null,null,null,null,null,null,null,null,null,null,null,null,null,null,null,null,null,null,null,null,null,null,null,null,null,null,null,null,null,"Донецька","Прохорівка"]
[null,null,null,null,null,null,null,null,null,null,null,null,null,null,null,null,null,null,null,null,null,null,null,null,null,null,null,null,null,null,null,null,null,null,null,null,null,null,null,null,null,null,null,null,null,"Донецька","Рідкодуб"]
[null,null,null,null,null,null,null,null,null,null,null,null,null,null,null,null,null,null,null,null,null,null,null,null,null,null,null,null,null,null,null,null,null,null,null,null,null,null,null,null,null,null,null,null,null,"Донецька","Сопине"]
[null,null,null,null,null,null,null,null,null,null,null,null,null,null,null,null,null,null,null,null,null,null,null,null,null,null,null,null,null,null,null,null,null,null,null,null,null,null,null,null,null,null,null,null,null,"Донецька","Трепельне"]
[null,null,null,null,null,null,null,null,null,null,null,null,null,null,null,null,null,null,null,null,null,null,null,null,null,null,null,null,null,null,null,null,null,null,null,null,null,null,null,null,null,null,null,null,null,"Донецька","Шабельківка"]
[null,null,null,null,null,null,null,null,null,null,null,null,null,null,null,null,null,null,null,null,null,null,null,null,null,null,null,null,null,null,null,null,null,null,null,null,null,null,null,null,null,null,null,null,null,"Донецька","Ялинське (Новопетриківська с/р)"]
[null,null,null,null,null,null,null,null,null,null,null,null,null,null,null,null,null,null,null,null,null,null,null,null,null,null,null,null,null,null,null,null,null,null,null,null,null,null,null,null,null,null,null,null,null,"Житомирська","Білилівка"]
[null,null,null,null,null,null,null,null,null,null,null,null,null,null,null,null,null,null,null,null,null,null,null,null,null,null,null,null,null,null,null,null,null,null,null,null,null,null,null,null,null,null,null,null,null,"Житомирська","Брід"]
[null,null,null,null,null,null,null,null,null,null,null,null,null,null,null,null,null,null,null,null,null,null,null,null,null,null,null,null,null,null,null,null,null,null,null,null,null,null,null,null,null,null,null,null,null,"Житомирська","Вакуленчук"]
[null,null,null,null,null,null,null,null,null,null,null,null,null,null,null,null,null,null,null,null,null,null,null,null,null,null,null,null,null,null,null,null,null,null,null,null,null,null,null,null,null,null,null,null,null,"Житомирська","Вишнянка"]
[null,null,null,null,null,null,null,null,null,null,null,null,null,null,null,null,null,null,null,null,null,null,null,null,null,null,null,null,null,null,null,null,null,null,null,null,null,null,null,null,null,null,null,null,null,"Житомирська","Голубин"]
[null,null,null,null,null,null,null,null,null,null,null,null,null,null,null,null,null,null,null,null,null,null,null,null,null,null,null,null,null,null,null,null,null,null,null,null,null,null,null,null,null,null,null,null,null,"Житомирська","Гута -Забілоцька"]
[null,null,null,null,null,null,null,null,null,null,null,null,null,null,null,null,null,null,null,null,null,null,null,null,null,null,null,null,null,null,null,null,null,null,null,null,null,null,null,null,null,null,null,null,null,"Житомирська","Дівошин"]
[null,null,null,null,null,null,null,null,null,null,null,null,null,null,null,null,null,null,null,null,null,null,null,null,null,null,null,null,null,null,null,null,null,null,null,null,null,null,null,null,null,null,null,null,null,"Житомирська","Збраньки"]
[null,null,null,null,null,null,null,null,null,null,null,null,null,null,null,null,null,null,null,null,null,null,null,null,null,null,null,null,null,null,null,null,null,null,null,null,null,null,null,null,null,null,null,null,null,"Житомирська","Іванопіль"]
[null,null,null,null,null,null,null,null,null,null,null,null,null,null,null,null,null,null,null,null,null,null,null,null,null,null,null,null,null,null,null,null,null,null,null,null,null,null,null,null,null,null,null,null,null,"Житомирська","Кораки"]
[null,null,null,null,null,null,null,null,null,null,null,null,null,null,null,null,null,null,null,null,null,null,null,null,null,null,null,null,null,null,null,null,null,null,null,null,null,null,null,null,null,null,null,null,null,"Житомирська","Краївщина"]
[null,null,null,null,null,null,null,null,null,null,null,null,null,null,null,null,null,null,null,null,null,null,null,null,null,null,null,null,null,null,null,null,null,null,null,null,null,null,null,null,null,null,null,null,null,"Житомирська","Лизник"]
[null,null,null,null,null,null,null,null,null,null,null,null,null,null,null,null,null,null,null,null,null,null,null,null,null,null,null,null,null,null,null,null,null,null,null,null,null,null,null,null,null,null,null,null,null,"Житомирська","Мала Чернігівка"]
[null,null,null,null,null,null,null,null,null,null,null,null,null,null,null,null,null,null,null,null,null,null,null,null,null,null,null,null,null,null,null,null,null,null,null,null,null,null,null,null,null,null,null,null,null,"Житомирська","Маркова Волиця"]
[null,null,null,null,null,null,null,null,null,null,null,null,null,null,null,null,null,null,null,null,null,null,null,null,null,null,null,null,null,null,null,null,null,null,null,null,null,null,null,null,null,null,null,null,null,"Житомирська","Нивки"]
[null,null,null,null,null,null,null,null,null,null,null,null,null,null,null,null,null,null,null,null,null,null,null,null,null,null,null,null,null,null,null,null,null,null,null,null,null,null,null,null,null,null,null,null,null,"Житомирська","Нові Жадьки"]
[null,null,null,null,null,null,null,null,null,null,null,null,null,null,null,null,null,null,null,null,null,null,null,null,null,null,null,null,null,null,null,null,null,null,null,null,null,null,null,null,null,null,null,null,null,"Житомирська","Павленківка"]
[null,null,null,null,null,null,null,null,null,null,null,null,null,null,null,null,null,null,null,null,null,null,null,null,null,null,null,null,null,null,null,null,null,null,null,null,null,null,null,null,null,null,null,null,null,"Житомирська","Пилипонка"]
[null,null,null,null,null,null,null,null,null,null,null,null,null,null,null,null,null,null,null,null,null,null,null,null,null,null,null,null,null,null,null,null,null,null,null,null,null,null,null,null,null,null,null,null,null,"Житомирська","Привороття"]
[null,null,null,null,null,null,null,null,null,null,null,null,null,null,null,null,null,null,null,null,null,null,null,null,null,null,null,null,null,null,null,null,null,null,null,null,null,null,null,null,null,null,null,null,null,"Житомирська","Рудня-Більківська"]
[null,null,null,null,null,null,null,null,null,null,null,null,null,null,null,null,null,null,null,null,null,null,null,null,null,null,null,null,null,null,null,null,null,null,null,null,null,null,null,null,null,null,null,null,null,"Житомирська","Середи"]
[null,null,null,null,null,null,null,null,null,null,null,null,null,null,null,null,null,null,null,null,null,null,null,null,null,null,null,null,null,null,null,null,null,null,null,null,null,null,null,null,null,null,null,null,null,"Житомирська","Старицьке"]
[null,null,null,null,null,null,null,null,null,null,null,null,null,null,null,null,null,null,null,null,null,null,null,null,null,null,null,null,null,null,null,null,null,null,null,null,null,null,null,null,null,null,null,null,null,"Житомирська","Стриєва"]
[null,null,null,null,null,null,null,null,null,null,null,null,null,null,null,null,null,null,null,null,null,null,null,null,null,null,null,null,null,null,null,null,null,null,null,null,null,null,null,null,null,null,null,null,null,"Житомирська","Хлупляни"]
[null,null,null,null,null,null,null,null,null,null,null,null,null,null,null,null,null,null,null,null,null,null,null,null,null,null,null,null,null,null,null,null,null,null,null,null,null,null,null,null,null,null,null,null,null,"Житомирська","Червона Волока"]
[null,null,null,null,null,null,null,null,null,null,null,null,null,null,null,null,null,null,null,null,null,null,null,null,null,null,null,null,null,null,null,null,null,null,null,null,null,null,null,null,null,null,null,null,null,"Житомирська","Щеніїв"]
[null,null,null,null,null,null,null,null,null,null,null,null,null,null,null,null,null,null,null,null,null,null,null,null,null,null,null,null,null,null,null,null,null,null,null,null,null,null,null,null,null,null,null,null,null,"Закарпатська","Біласовиця (Біласовицька сільська рада)"]
[null,null,null,null,null,null,null,null,null,null,null,null,null,null,null,null,null,null,null,null,null,null,null,null,null,null,null,null,null,null,null,null,null,null,null,null,null,null,null,null,null,null,null,null,null,"Закарпатська","Виноградів (Виноградівська міська рада)"]
[null,null,null,null,null,null,null,null,null,null,null,null,null,null,null,null,null,null,null,null,null,null,null,null,null,null,null,null,null,null,null,null,null,null,null,null,null,null,null,null,null,null,null,null,null,"Закарпатська","Ганьковиця (Ганьковицька сільська рада)"]
[null,null,null,null,null,null,null,null,null,null,null,null,null,null,null,null,null,null,null,null,null,null,null,null,null,null,null,null,null,null,null,null,null,null,null,null,null,null,null,null,null,null,null,null,null,"Закарпатська","Грабово (Пузняковецька сільська рада)"]
[null,null,null,null,null,null,null,null,null,null,null,null,null,null,null,null,null,null,null,null,null,null,null,null,null,null,null,null,null,null,null,null,null,null,null,null,null,null,null,null,null,null,null,null,null,"Закарпатська","Завосино (Малий Березний)"]
[null,null,null,null,null,null,null,null,null,null,null,null,null,null,null,null,null,null,null,null,null,null,null,null,null,null,null,null,null,null,null,null,null,null,null,null,null,null,null,null,null,null,null,null,null,"Закарпатська","Іршава (Іршавська міська рада)"]
[null,null,null,null,null,null,null,null,null,null,null,null,null,null,null,null,null,null,null,null,null,null,null,null,null,null,null,null,null,null,null,null,null,null,null,null,null,null,null,null,null,null,null,null,null,"Закарпатська","Кричово (Кричівська сільська рада)"]
[null,null,null,null,null,null,null,null,null,null,null,null,null,null,null,null,null,null,null,null,null,null,null,null,null,null,null,null,null,null,null,null,null,null,null,null,null,null,null,null,null,null,null,null,null,"Закарпатська","Лопушанка (Дусинська сільська рада)"]
[null,null,null,null,null,null,null,null,null,null,null,null,null,null,null,null,null,null,null,null,null,null,null,null,null,null,null,null,null,null,null,null,null,null,null,null,null,null,null,null,null,null,null,null,null,"Закарпатська","Нове Давидково (Новодавидківська сільська рада)"]
[null,null,null,null,null,null,null,null,null,null,null,null,null,null,null,null,null,null,null,null,null,null,null,null,null,null,null,null,null,null,null,null,null,null,null,null,null,null,null,null,null,null,null,null,null,"Закарпатська","Осій (Осійська сільська рада)"]
[null,null,null,null,null,null,null,null,null,null,null,null,null,null,null,null,null,null,null,null,null,null,null,null,null,null,null,null,null,null,null,null,null,null,null,null,null,null,null,null,null,null,null,null,null,"Закарпатська","Плоскановиця (Брестівська сільська рада)"]
[null,null,null,null,null,null,null,null,null,null,null,null,null,null,null,null,null,null,null,null,null,null,null,null,null,null,null,null,null,null,null,null,null,null,null,null,null,null,null,null,null,null,null,null,null,"Закарпатська","Свалява (Свалявська міська рада)"]
[null,null,null,null,null,null,null,null,null,null,null,null,null,null,null,null,null,null,null,null,null,null,null,null,null,null,null,null,null,null,null,null,null,null,null,null,null,null,null,null,null,null,null,null,null,"Закарпатська","Терново (Тернівська сільська рада)"]
[null,null,null,null,null,null,null,null,null,null,null,null,null,null,null,null,null,null,null,null,null,null,null,null,null,null,null,null,null,null,null,null,null,null,null,null,null,null,null,null,null,null,null,null,null,"Закарпатська","Усть-Чорна (Усть-Чорнянська селищна рада)"]
[null,null,null,null,null,null,null,null,null,null,null,null,null,null,null,null,null,null,null,null,null,null,null,null,null,null,null,null,null,null,null,null,null,null,null,null,null,null,null,null,null,null,null,null,null,"Закарпатська","Червеньово (Зняцівська сільська рада)"]
[null,null,null,null,null,null,null,null,null,null,null,null,null,null,null,null,null,null,null,null,null,null,null,null,null,null,null,null,null,null,null,null,null,null,null,null,null,null,null,null,null,null,null,null,null,"Запорізька","Богунівка"]
[null,null,null,null,null,null,null,null,null,null,null,null,null,null,null,null,null,null,null,null,null,null,null,null,null,null,null,null,null,null,null,null,null,null,null,null,null,null,null,null,null,null,null,null,null,"Запорізька","Веселівське"]
[null,null,null,null,null,null,null,null,null,null,null,null,null,null,null,null,null,null,null,null,null,null,null,null,null,null,null,null,null,null,null,null,null,null,null,null,null,null,null,null,null,null,null,null,null,"Запорізька","Зелена Балка"]
[null,null,null,null,null,null,null,null,null,null,null,null,null,null,null,null,null,null,null,null,null,null,null,null,null,null,null,null,null,null,null,null,null,null,null,null,null,null,null,null,null,null,null,null,null,"Запорізька","Кінські Роздори"]
[null,null,null,null,null,null,null,null,null,null,null,null,null,null,null,null,null,null,null,null,null,null,null,null,null,null,null,null,null,null,null,null,null,null,null,null,null,null,null,null,null,null,null,null,null,"Запорізька","Люцерна"]
[null,null,null,null,null,null,null,null,null,null,null,null,null,null,null,null,null,null,null,null,null,null,null,null,null,null,null,null,null,null,null,null,null,null,null,null,null,null,null,null,null,null,null,null,null,"Запорізька","Новозлатопіль"]
[null,null,null,null,null,null,null,null,null,null,null,null,null,null,null,null,null,null,null,null,null,null,null,null,null,null,null,null,null,null,null,null,null,null,null,null,null,null,null,null,null,null,null,null,null,"Запорізька","Новостепнянське"]
[null,null,null,null,null,null,null,null,null,null,null,null,null,null,null,null,null,null,null,null,null,null,null,null,null,null,null,null,null,null,null,null,null,null,null,null,null,null,null,null,null,null,null,null,null,"Запорізька","Ручаївка"]
[null,null,null,null,null,null,null,null,null,null,null,null,null,null,null,null,null,null,null,null,null,null,null,null,null,null,null,null,null,null,null,null,null,null,null,null,null,null,null,null,null,null,null,null,null,"Запорізька","Стульневе, селище"]
[null,null,null,null,null,null,null,null,null,null,null,null,null,null,null,null,null,null,null,null,null,null,null,null,null,null,null,null,null,null,null,null,null,null,null,null,null,null,null,null,null,null,null,null,null,"Івано_Франківська","Балинці"]
[null,null,null,null,null,null,null,null,null,null,null,null,null,null,null,null,null,null,null,null,null,null,null,null,null,null,null,null,null,null,null,null,null,null,null,null,null,null,null,null,null,null,null,null,null,"Івано_Франківська","Богородчани"]
[null,null,null,null,null,null,null,null,null,null,null,null,null,null,null,null,null,null,null,null,null,null,null,null,null,null,null,null,null,null,null,null,null,null,null,null,null,null,null,null,null,null,null,null,null,"Івано_Франківська","Вербилівці"]
[null,null,null,null,null,null,null,null,null,null,null,null,null,null,null,null,null,null,null,null,null,null,null,null,null,null,null,null,null,null,null,null,null,null,null,null,null,null,null,null,null,null,null,null,null,"Івано_Франківська","Глушків"]
[null,null,null,null,null,null,null,null,null,null,null,null,null,null,null,null,null,null,null,null,null,null,null,null,null,null,null,null,null,null,null,null,null,null,null,null,null,null,null,null,null,null,null,null,null,"Івано_Франківська","Гузіїв"]
[null,null,null,null,null,null,null,null,null,null,null,null,null,null,null,null,null,null,null,null,null,null,null,null,null,null,null,null,null,null,null,null,null,null,null,null,null,null,null,null,null,null,null,null,null,"Івано_Франківська","Заланів"]
[null,null,null,null,null,null,null,null,null,null,null,null,null,null,null,null,null,null,null,null,null,null,null,null,null,null,null,null,null,null,null,null,null,null,null,null,null,null,null,null,null,null,null,null,null,"Івано_Франківська","Ільці"]
[null,null,null,null,null,null,null,null,null,null,null,null,null,null,null,null,null,null,null,null,null,null,null,null,null,null,null,null,null,null,null,null,null,null,null,null,null,null,null,null,null,null,null,null,null,"Івано_Франківська","Кулачківці"]
[null,null,null,null,null,null,null,null,null,null,null,null,null,null,null,null,null,null,null,null,null,null,null,null,null,null,null,null,null,null,null,null,null,null,null,null,null,null,null,null,null,null,null,null,null,"Івано_Франківська","Лісна Тарновиця"]
[null,null,null,null,null,null,null,null,null,null,null,null,null,null,null,null,null,null,null,null,null,null,null,null,null,null,null,null,null,null,null,null,null,null,null,null,null,null,null,null,null,null,null,null,null,"Івано_Франківська","Межигірці"]
[null,null,null,null,null,null,null,null,null,null,null,null,null,null,null,null,null,null,null,null,null,null,null,null,null,null,null,null,null,null,null,null,null,null,null,null,null,null,null,null,null,null,null,null,null,"Івано_Франківська","Олешів"]
[null,null,null,null,null,null,null,null,null,null,null,null,null,null,null,null,null,null,null,null,null,null,null,null,null,null,null,null,null,null,null,null,null,null,null,null,null,null,null,null,null,null,null,null,null,"Івано_Франківська","Перерив"]
[null,null,null,null,null,null,null,null,null,null,null,null,null,null,null,null,null,null,null,null,null,null,null,null,null,null,null,null,null,null,null,null,null,null,null,null,null,null,null,null,null,null,null,null,null,"Івано_Франківська","Рибне"]
[null,null,null,null,null,null,null,null,null,null,null,null,null,null,null,null,null,null,null,null,null,null,null,null,null,null,null,null,null,null,null,null,null,null,null,null,null,null,null,null,null,null,null,null,null,"Івано_Франківська","Саджавка"]
[null,null,null,null,null,null,null,null,null,null,null,null,null,null,null,null,null,null,null,null,null,null,null,null,null,null,null,null,null,null,null,null,null,null,null,null,null,null,null,null,null,null,null,null,null,"Івано_Франківська","Студинець"]
[null,null,null,null,null,null,null,null,null,null,null,null,null,null,null,null,null,null,null,null,null,null,null,null,null,null,null,null,null,null,null,null,null,null,null,null,null,null,null,null,null,null,null,null,null,"Івано_Франківська","Тужилів"]
[null,null,null,null,null,null,null,null,null,null,null,null,null,null,null,null,null,null,null,null,null,null,null,null,null,null,null,null,null,null,null,null,null,null,null,null,null,null,null,null,null,null,null,null,null,"Івано_Франківська","Юнашків"]
[null,null,null,null,null,null,null,null,null,null,null,null,null,null,null,null,null,null,null,null,null,null,null,null,null,null,null,null,null,null,null,null,null,null,null,null,null,null,null,null,null,null,null,null,null,"Київська","Баришівка"]
[null,null,null,null,null,null,null,null,null,null,null,null,null,null,null,null,null,null,null,null,null,null,null,null,null,null,null,null,null,null,null,null,null,null,null,null,null,null,null,null,null,null,null,null,null,"Київська","Велика Вільшанка"]
[null,null,null,null,null,null,null,null,null,null,null,null,null,null,null,null,null,null,null,null,null,null,null,null,null,null,null,null,null,null,null,null,null,null,null,null,null,null,null,null,null,null,null,null,null,"Київська","Вербова"]
[null,null,null,null,null,null,null,null,null,null,null,null,null,null,null,null,null,null,null,null,null,null,null,null,null,null,null,null,null,null,null,null,null,null,null,null,null,null,null,null,null,null,null,null,null,"Київська","Володимирське"]
[null,null,null,null,null,null,null,null,null,null,null,null,null,null,null,null,null,null,null,null,null,null,null,null,null,null,null,null,null,null,null,null,null,null,null,null,null,null,null,null,null,null,null,null,null,"Київська","Гречанівка"]
[null,null,null,null,null,null,null,null,null,null,null,null,null,null,null,null,null,null,null,null,null,null,null,null,null,null,null,null,null,null,null,null,null,null,null,null,null,null,null,null,null,null,null,null,null,"Київська","Дзвеняче"]
[null,null,null,null,null,null,null,null,null,null,null,null,null,null,null,null,null,null,null,null,null,null,null,null,null,null,null,null,null,null,null,null,null,null,null,null,null,null,null,null,null,null,null,null,null,"Київська","Заострівське"]
[null,null,null,null,null,null,null,null,null,null,null,null,null,null,null,null,null,null,null,null,null,null,null,null,null,null,null,null,null,null,null,null,null,null,null,null,null,null,null,null,null,null,null,null,null,"Київська","Кам'яна Гребля"]
[null,null,null,null,null,null,null,null,null,null,null,null,null,null,null,null,null,null,null,null,null,null,null,null,null,null,null,null,null,null,null,null,null,null,null,null,null,null,null,null,null,null,null,null,null,"Київська","Крушинка"]
[null,null,null,null,null,null,null,null,null,null,null,null,null,null,null,null,null,null,null,null,null,null,null,null,null,null,null,null,null,null,null,null,null,null,null,null,null,null,null,null,null,null,null,null,null,"Київська","Лецьки"]
[null,null,null,null,null,null,null,null,null,null,null,null,null,null,null,null,null,null,null,null,null,null,null,null,null,null,null,null,null,null,null,null,null,null,null,null,null,null,null,null,null,null,null,null,null,"Київська","Мала Тарасівка"]
[null,null,null,null,null,null,null,null,null,null,null,null,null,null,null,null,null,null,null,null,null,null,null,null,null,null,null,null,null,null,null,null,null,null,null,null,null,null,null,null,null,null,null,null,null,"Київська","Мисайлівка"]
[null,null,null,null,null,null,null,null,null,null,null,null,null,null,null,null,null,null,null,null,null,null,null,null,null,null,null,null,null,null,null,null,null,null,null,null,null,null,null,null,null,null,null,null,null,"Київська","Насташка"]
[null,null,null,null,null,null,null,null,null,null,null,null,null,null,null,null,null,null,null,null,null,null,null,null,null,null,null,null,null,null,null,null,null,null,null,null,null,null,null,null,null,null,null,null,null,"Київська","Пасківщина"]
[null,null,null,null,null,null,null,null,null,null,null,null,null,null,null,null,null,null,null,null,null,null,null,null,null,null,null,null,null,null,null,null,null,null,null,null,null,null,null,null,null,null,null,null,null,"Київська","Плюти"]
[null,null,null,null,null,null,null,null,null,null,null,null,null,null,null,null,null,null,null,null,null,null,null,null,null,null,null,null,null,null,null,null,null,null,null,null,null,null,null,null,null,null,null,null,null,"Київська","Розважів"]
[null,null,null,null,null,null,null,null,null,null,null,null,null,null,null,null,null,null,null,null,null,null,null,null,null,null,null,null,null,null,null,null,null,null,null,null,null,null,null,null,null,null,null,null,null,"Київська","Саврань"]
[null,null,null,null,null,null,null,null,null,null,null,null,null,null,null,null,null,null,null,null,null,null,null,null,null,null,null,null,null,null,null,null,null,null,null,null,null,null,null,null,null,null,null,null,null,"Київська","Стоянка"]
[null,null,null,null,null,null,null,null,null,null,null,null,null,null,null,null,null,null,null,null,null,null,null,null,null,null,null,null,null,null,null,null,null,null,null,null,null,null,null,null,null,null,null,null,null,"Київська","Тараща"]
[null,null,null,null,null,null,null,null,null,null,null,null,null,null,null,null,null,null,null,null,null,null,null,null,null,null,null,null,null,null,null,null,null,null,null,null,null,null,null,null,null,null,null,null,null,"Київська","Урсалівка"]
[null,null,null,null,null,null,null,null,null,null,null,null,null,null,null,null,null,null,null,null,null,null,null,null,null,null,null,null,null,null,null,null,null,null,null,null,null,null,null,null,null,null,null,null,null,"Київська","Червоне Поле"]
[null,null,null,null,null,null,null,null,null,null,null,null,null,null,null,null,null,null,null,null,null,null,null,null,null,null,null,null,null,null,null,null,null,null,null,null,null,null,null,null,null,null,null,null,null,"Київська","Шевченківка"]
[null,null,null,null,null,null,null,null,null,null,null,null,null,null,null,null,null,null,null,null,null,null,null,null,null,null,null,null,null,null,null,null,null,null,null,null,null,null,null,null,null,null,null,null,null,"Кіровоградська","Бузникувате"]
[null,null,null,null,null,null,null,null,null,null,null,null,null,null,null,null,null,null,null,null,null,null,null,null,null,null,null,null,null,null,null,null,null,null,null,null,null,null,null,null,null,null,null,null,null,"Кіровоградська","Височанове"]
[null,null,null,null,null,null,null,null,null,null,null,null,null,null,null,null,null,null,null,null,null,null,null,null,null,null,null,null,null,null,null,null,null,null,null,null,null,null,null,null,null,null,null,null,null,"Кіровоградська","Звенигородка"]
[null,null,null,null,null,null,null,null,null,null,null,null,null,null,null,null,null,null,null,null,null,null,null,null,null,null,null,null,null,null,null,null,null,null,null,null,null,null,null,null,null,null,null,null,null,"Кіровоградська","Камбурліївка"]
[null,null,null,null,null,null,null,null,null,null,null,null,null,null,null,null,null,null,null,null,null,null,null,null,null,null,null,null,null,null,null,null,null,null,null,null,null,null,null,null,null,null,null,null,null,"Кіровоградська","Лев-балка"]
[null,null,null,null,null,null,null,null,null,null,null,null,null,null,null,null,null,null,null,null,null,null,null,null,null,null,null,null,null,null,null,null,null,null,null,null,null,null,null,null,null,null,null,null,null,"Кіровоградська","Могилів Курінь"]
[null,null,null,null,null,null,null,null,null,null,null,null,null,null,null,null,null,null,null,null,null,null,null,null,null,null,null,null,null,null,null,null,null,null,null,null,null,null,null,null,null,null,null,null,null,"Кіровоградська","Низове"]
[null,null,null,null,null,null,null,null,null,null,null,null,null,null,null,null,null,null,null,null,null,null,null,null,null,null,null,null,null,null,null,null,null,null,null,null,null,null,null,null,null,null,null,null,null,"Кіровоградська","Піщаний  Брід"]
[null,null,null,null,null,null,null,null,null,null,null,null,null,null,null,null,null,null,null,null,null,null,null,null,null,null,null,null,null,null,null,null,null,null,null,null,null,null,null,null,null,null,null,null,null,"Кіровоградська","П'ятомиколаївка"]
[null,null,null,null,null,null,null,null,null,null,null,null,null,null,null,null,null,null,null,null,null,null,null,null,null,null,null,null,null,null,null,null,null,null,null,null,null,null,null,null,null,null,null,null,null,"Кіровоградська","Сухолітівка"]
[null,null,null,null,null,null,null,null,null,null,null,null,null,null,null,null,null,null,null,null,null,null,null,null,null,null,null,null,null,null,null,null,null,null,null,null,null,null,null,null,null,null,null,null,null,"Кіровоградська","Червоний Ташлик"]
[null,null,null,null,null,null,null,null,null,null,null,null,null,null,null,null,null,null,null,null,null,null,null,null,null,null,null,null,null,null,null,null,null,null,null,null,null,null,null,null,null,null,null,null,null,"Луганська","Бокове-Платове"]
[null,null,null,null,null,null,null,null,null,null,null,null,null,null,null,null,null,null,null,null,null,null,null,null,null,null,null,null,null,null,null,null,null,null,null,null,null,null,null,null,null,null,null,null,null,"Луганська","Велика Мартинівка"]
[null,null,null,null,null,null,null,null,null,null,null,null,null,null,null,null,null,null,null,null,null,null,null,null,null,null,null,null,null,null,null,null,null,null,null,null,null,null,null,null,null,null,null,null,null,"Луганська","Верхньокам'янка"]
[null,null,null,null,null,null,null,null,null,null,null,null,null,null,null,null,null,null,null,null,null,null,null,null,null,null,null,null,null,null,null,null,null,null,null,null,null,null,null,null,null,null,null,null,null,"Луганська","Давидівка"]
[null,null,null,null,null,null,null,null,null,null,null,null,null,null,null,null,null,null,null,null,null,null,null,null,null,null,null,null,null,null,null,null,null,null,null,null,null,null,null,null,null,null,null,null,null,"Луганська","Енгельсове (Енгельсовська селещна рада)"]
[null,null,null,null,null,null,null,null,null,null,null,null,null,null,null,null,null,null,null,null,null,null,null,null,null,null,null,null,null,null,null,null,null,null,null,null,null,null,null,null,null,null,null,null,null,"Луганська","Карпати"]
[null,null,null,null,null,null,null,null,null,null,null,null,null,null,null,null,null,null,null,null,null,null,null,null,null,null,null,null,null,null,null,null,null,null,null,null,null,null,null,null,null,null,null,null,null,"Луганська","Козарик"]
[null,null,null,null,null,null,null,null,null,null,null,null,null,null,null,null,null,null,null,null,null,null,null,null,null,null,null,null,null,null,null,null,null,null,null,null,null,null,null,null,null,null,null,null,null,"Луганська","Куплювате"]
[null,null,null,null,null,null,null,null,null,null,null,null,null,null,null,null,null,null,null,null,null,null,null,null,null,null,null,null,null,null,null,null,null,null,null,null,null,null,null,null,null,null,null,null,null,"Луганська","Лоскутівка"]
[null,null,null,null,null,null,null,null,null,null,null,null,null,null,null,null,null,null,null,null,null,null,null,null,null,null,null,null,null,null,null,null,null,null,null,null,null,null,null,null,null,null,null,null,null,"Луганська","Марківське"]
[null,null,null,null,null,null,null,null,null,null,null,null,null,null,null,null,null,null,null,null,null,null,null,null,null,null,null,null,null,null,null,null,null,null,null,null,null,null,null,null,null,null,null,null,null,"Луганська","Новодружеськ"]
[null,null,null,null,null,null,null,null,null,null,null,null,null,null,null,null,null,null,null,null,null,null,null,null,null,null,null,null,null,null,null,null,null,null,null,null,null,null,null,null,null,null,null,null,null,"Луганська","Новоспасівка"]
[null,null,null,null,null,null,null,null,null,null,null,null,null,null,null,null,null,null,null,null,null,null,null,null,null,null,null,null,null,null,null,null,null,null,null,null,null,null,null,null,null,null,null,null,null,"Луганська","Преображенне"]
[null,null,null,null,null,null,null,null,null,null,null,null,null,null,null,null,null,null,null,null,null,null,null,null,null,null,null,null,null,null,null,null,null,null,null,null,null,null,null,null,null,null,null,null,null,"Луганська","Радісне (Білоскелюватська сільська рада)"]
[null,null,null,null,null,null,null,null,null,null,null,null,null,null,null,null,null,null,null,null,null,null,null,null,null,null,null,null,null,null,null,null,null,null,null,null,null,null,null,null,null,null,null,null,null,"Луганська","Станично-Луганське"]
[null,null,null,null,null,null,null,null,null,null,null,null,null,null,null,null,null,null,null,null,null,null,null,null,null,null,null,null,null,null,null,null,null,null,null,null,null,null,null,null,null,null,null,null,null,"Луганська","Тернівка"]
[null,null,null,null,null,null,null,null,null,null,null,null,null,null,null,null,null,null,null,null,null,null,null,null,null,null,null,null,null,null,null,null,null,null,null,null,null,null,null,null,null,null,null,null,null,"Луганська","Червоногвардійське"]
[null,null,null,null,null,null,null,null,null,null,null,null,null,null,null,null,null,null,null,null,null,null,null,null,null,null,null,null,null,null,null,null,null,null,null,null,null,null,null,null,null,null,null,null,null,"Луганська","Щотове"]
[null,null,null,null,null,null,null,null,null,null,null,null,null,null,null,null,null,null,null,null,null,null,null,null,null,null,null,null,null,null,null,null,null,null,null,null,null,null,null,null,null,null,null,null,null,"Львівська","Бишків"]
[null,null,null,null,null,null,null,null,null,null,null,null,null,null,null,null,null,null,null,null,null,null,null,null,null,null,null,null,null,null,null,null,null,null,null,null,null,null,null,null,null,null,null,null,null,"Львівська","Богутин"]
[null,null,null,null,null,null,null,null,null,null,null,null,null,null,null,null,null,null,null,null,null,null,null,null,null,null,null,null,null,null,null,null,null,null,null,null,null,null,null,null,null,null,null,null,null,"Львівська","Бояничі"]
[null,null,null,null,null,null,null,null,null,null,null,null,null,null,null,null,null,null,null,null,null,null,null,null,null,null,null,null,null,null,null,null,null,null,null,null,null,null,null,null,null,null,null,null,null,"Львівська","Велика Лінина"]
[null,null,null,null,null,null,null,null,null,null,null,null,null,null,null,null,null,null,null,null,null,null,null,null,null,null,null,null,null,null,null,null,null,null,null,null,null,null,null,null,null,null,null,null,null,"Львівська","Верхня Лукавиця"]
[null,null,null,null,null,null,null,null,null,null,null,null,null,null,null,null,null,null,null,null,null,null,null,null,null,null,null,null,null,null,null,null,null,null,null,null,null,null,null,null,null,null,null,null,null,"Львівська","Воля Добростанська"]
[null,null,null,null,null,null,null,null,null,null,null,null,null,null,null,null,null,null,null,null,null,null,null,null,null,null,null,null,null,null,null,null,null,null,null,null,null,null,null,null,null,null,null,null,null,"Львівська","Вуйковичі"]
[null,null,null,null,null,null,null,null,null,null,null,null,null,null,null,null,null,null,null,null,null,null,null,null,null,null,null,null,null,null,null,null,null,null,null,null,null,null,null,null,null,null,null,null,null,"Львівська","Грабівниця"]
[null,null,null,null,null,null,null,null,null,null,null,null,null,null,null,null,null,null,null,null,null,null,null,null,null,null,null,null,null,null,null,null,null,null,null,null,null,null,null,null,null,null,null,null,null,"Львівська","Гуманець"]
[null,null,null,null,null,null,null,null,null,null,null,null,null,null,null,null,null,null,null,null,null,null,null,null,null,null,null,null,null,null,null,null,null,null,null,null,null,null,null,null,null,null,null,null,null,"Львівська","Долини (Стародобротвірська сільська рада)"]
[null,null,null,null,null,null,null,null,null,null,null,null,null,null,null,null,null,null,null,null,null,null,null,null,null,null,null,null,null,null,null,null,null,null,null,null,null,null,null,null,null,null,null,null,null,"Львівська","Жирівка"]
[null,null,null,null,null,null,null,null,null,null,null,null,null,null,null,null,null,null,null,null,null,null,null,null,null,null,null,null,null,null,null,null,null,null,null,null,null,null,null,null,null,null,null,null,null,"Львівська","Журавків"]
[null,null,null,null,null,null,null,null,null,null,null,null,null,null,null,null,null,null,null,null,null,null,null,null,null,null,null,null,null,null,null,null,null,null,null,null,null,null,null,null,null,null,null,null,null,"Львівська","Заставне"]
[null,null,null,null,null,null,null,null,null,null,null,null,null,null,null,null,null,null,null,null,null,null,null,null,null,null,null,null,null,null,null,null,null,null,null,null,null,null,null,null,null,null,null,null,null,"Львівська","Золочів"]
[null,null,null,null,null,null,null,null,null,null,null,null,null,null,null,null,null,null,null,null,null,null,null,null,null,null,null,null,null,null,null,null,null,null,null,null,null,null,null,null,null,null,null,null,null,"Львівська","Кобилеччина"]
[null,null,null,null,null,null,null,null,null,null,null,null,null,null,null,null,null,null,null,null,null,null,null,null,null,null,null,null,null,null,null,null,null,null,null,null,null,null,null,null,null,null,null,null,null,"Львівська","Конюхів"]
[null,null,null,null,null,null,null,null,null,null,null,null,null,null,null,null,null,null,null,null,null,null,null,null,null,null,null,null,null,null,null,null,null,null,null,null,null,null,null,null,null,null,null,null,null,"Львівська","Костенів"]
[null,null,null,null,null,null,null,null,null,null,null,null,null,null,null,null,null,null,null,null,null,null,null,null,null,null,null,null,null,null,null,null,null,null,null,null,null,null,null,null,null,null,null,null,null,"Львівська","Ладанці"]
[null,null,null,null,null,null,null,null,null,null,null,null,null,null,null,null,null,null,null,null,null,null,null,null,null,null,null,null,null,null,null,null,null,null,null,null,null,null,null,null,null,null,null,null,null,"Львівська","Листв'яне"]
[null,null,null,null,null,null,null,null,null,null,null,null,null,null,null,null,null,null,null,null,null,null,null,null,null,null,null,null,null,null,null,null,null,null,null,null,null,null,null,null,null,null,null,null,null,"Львівська","Маїки"]
[null,null,null,null,null,null,null,null,null,null,null,null,null,null,null,null,null,null,null,null,null,null,null,null,null,null,null,null,null,null,null,null,null,null,null,null,null,null,null,null,null,null,null,null,null,"Львівська","Малі Ланки"]
[null,null,null,null,null,null,null,null,null,null,null,null,null,null,null,null,null,null,null,null,null,null,null,null,null,null,null,null,null,null,null,null,null,null,null,null,null,null,null,null,null,null,null,null,null,"Львівська","Молотів"]
[null,null,null,null,null,null,null,null,null,null,null,null,null,null,null,null,null,null,null,null,null,null,null,null,null,null,null,null,null,null,null,null,null,null,null,null,null,null,null,null,null,null,null,null,null,"Львівська","Нагачів"]
[null,null,null,null,null,null,null,null,null,null,null,null,null,null,null,null,null,null,null,null,null,null,null,null,null,null,null,null,null,null,null,null,null,null,null,null,null,null,null,null,null,null,null,null,null,"Львівська","Новини"]
[null,null,null,null,null,null,null,null,null,null,null,null,null,null,null,null,null,null,null,null,null,null,null,null,null,null,null,null,null,null,null,null,null,null,null,null,null,null,null,null,null,null,null,null,null,"Львівська","Опори"]
[null,null,null,null,null,null,null,null,null,null,null,null,null,null,null,null,null,null,null,null,null,null,null,null,null,null,null,null,null,null,null,null,null,null,null,null,null,null,null,null,null,null,null,null,null,"Львівська","Папірня"]
[null,null,null,null,null,null,null,null,null,null,null,null,null,null,null,null,null,null,null,null,null,null,null,null,null,null,null,null,null,null,null,null,null,null,null,null,null,null,null,null,null,null,null,null,null,"Львівська","Пісок"]
[null,null,null,null,null,null,null,null,null,null,null,null,null,null,null,null,null,null,null,null,null,null,null,null,null,null,null,null,null,null,null,null,null,null,null,null,null,null,null,null,null,null,null,null,null,"Львівська","Погірці"]
[null,null,null,null,null,null,null,null,null,null,null,null,null,null,null,null,null,null,null,null,null,null,null,null,null,null,null,null,null,null,null,null,null,null,null,null,null,null,null,null,null,null,null,null,null,"Львівська","Раковища"]
[null,null,null,null,null,null,null,null,null,null,null,null,null,null,null,null,null,null,null,null,null,null,null,null,null,null,null,null,null,null,null,null,null,null,null,null,null,null,null,null,null,null,null,null,null,"Львівська","Рішин"]
[null,null,null,null,null,null,null,null,null,null,null,null,null,null,null,null,null,null,null,null,null,null,null,null,null,null,null,null,null,null,null,null,null,null,null,null,null,null,null,null,null,null,null,null,null,"Львівська","Себечів"]
[null,null,null,null,null,null,null,null,null,null,null,null,null,null,null,null,null,null,null,null,null,null,null,null,null,null,null,null,null,null,null,null,null,null,null,null,null,null,null,null,null,null,null,null,null,"Львівська","Слабаш"]
[null,null,null,null,null,null,null,null,null,null,null,null,null,null,null,null,null,null,null,null,null,null,null,null,null,null,null,null,null,null,null,null,null,null,null,null,null,null,null,null,null,null,null,null,null,"Львівська","Стені"]
[null,null,null,null,null,null,null,null,null,null,null,null,null,null,null,null,null,null,null,null,null,null,null,null,null,null,null,null,null,null,null,null,null,null,null,null,null,null,null,null,null,null,null,null,null,"Львівська","Стрілків"]
[null,null,null,null,null,null,null,null,null,null,null,null,null,null,null,null,null,null,null,null,null,null,null,null,null,null,null,null,null,null,null,null,null,null,null,null,null,null,null,null,null,null,null,null,null,"Львівська","Сушно"]
[null,null,null,null,null,null,null,null,null,null,null,null,null,null,null,null,null,null,null,null,null,null,null,null,null,null,null,null,null,null,null,null,null,null,null,null,null,null,null,null,null,null,null,null,null,"Львівська","Тур'я"]
[null,null,null,null,null,null,null,null,null,null,null,null,null,null,null,null,null,null,null,null,null,null,null,null,null,null,null,null,null,null,null,null,null,null,null,null,null,null,null,null,null,null,null,null,null,"Львівська","Фійна"]
[null,null,null,null,null,null,null,null,null,null,null,null,null,null,null,null,null,null,null,null,null,null,null,null,null,null,null,null,null,null,null,null,null,null,null,null,null,null,null,null,null,null,null,null,null,"Львівська","Черневе"]
[null,null,null,null,null,null,null,null,null,null,null,null,null,null,null,null,null,null,null,null,null,null,null,null,null,null,null,null,null,null,null,null,null,null,null,null,null,null,null,null,null,null,null,null,null,"Львівська","Штуковець"]
[null,null,null,null,null,null,null,null,null,null,null,null,null,null,null,null,null,null,null,null,null,null,null,null,null,null,null,null,null,null,null,null,null,null,null,null,null,null,null,null,null,null,null,null,null,"Миколаївська","Афанасівка"]
[null,null,null,null,null,null,null,null,null,null,null,null,null,null,null,null,null,null,null,null,null,null,null,null,null,null,null,null,null,null,null,null,null,null,null,null,null,null,null,null,null,null,null,null,null,"Миколаївська","Біла  Криниця (Білокриницька)"]
[null,null,null,null,null,null,null,null,null,null,null,null,null,null,null,null,null,null,null,null,null,null,null,null,null,null,null,null,null,null,null,null,null,null,null,null,null,null,null,null,null,null,null,null,null,"Миколаївська","Булацелове (Семенівська)"]
[null,null,null,null,null,null,null,null,null,null,null,null,null,null,null,null,null,null,null,null,null,null,null,null,null,null,null,null,null,null,null,null,null,null,null,null,null,null,null,null,null,null,null,null,null,"Миколаївська","Волна (Олександрівська)"]
[null,null,null,null,null,null,null,null,null,null,null,null,null,null,null,null,null,null,null,null,null,null,null,null,null,null,null,null,null,null,null,null,null,null,null,null,null,null,null,null,null,null,null,null,null,"Миколаївська","Гамове (Кубряцька)"]
[null,null,null,null,null,null,null,null,null,null,null,null,null,null,null,null,null,null,null,null,null,null,null,null,null,null,null,null,null,null,null,null,null,null,null,null,null,null,null,null,null,null,null,null,null,"Миколаївська","Зброшкове (Доманівська)"]
[null,null,null,null,null,null,null,null,null,null,null,null,null,null,null,null,null,null,null,null,null,null,null,null,null,null,null,null,null,null,null,null,null,null,null,null,null,null,null,null,null,null,null,null,null,"Миколаївська","Зелений Гай (Кашперо-Миколаївська)"]
[null,null,null,null,null,null,null,null,null,null,null,null,null,null,null,null,null,null,null,null,null,null,null,null,null,null,null,null,null,null,null,null,null,null,null,null,null,null,null,null,null,null,null,null,null,"Миколаївська","Кашперо-Миколаївка (Кашперо-Миколаївська)"]
[null,null,null,null,null,null,null,null,null,null,null,null,null,null,null,null,null,null,null,null,null,null,null,null,null,null,null,null,null,null,null,null,null,null,null,null,null,null,null,null,null,null,null,null,null,"Миколаївська","Колос Добра (Новоселівська)"]
[null,null,null,null,null,null,null,null,null,null,null,null,null,null,null,null,null,null,null,null,null,null,null,null,null,null,null,null,null,null,null,null,null,null,null,null,null,null,null,null,null,null,null,null,null,"Миколаївська","Лісове (Володимирівська)"]
[null,null,null,null,null,null,null,null,null,null,null,null,null,null,null,null,null,null,null,null,null,null,null,null,null,null,null,null,null,null,null,null,null,null,null,null,null,null,null,null,null,null,null,null,null,"Миколаївська","Макарове (Улянівська)"]
[null,null,null,null,null,null,null,null,null,null,null,null,null,null,null,null,null,null,null,null,null,null,null,null,null,null,null,null,null,null,null,null,null,null,null,null,null,null,null,null,null,null,null,null,null,"Миколаївська","Мостове (Ганнівська)"]
[null,null,null,null,null,null,null,null,null,null,null,null,null,null,null,null,null,null,null,null,null,null,null,null,null,null,null,null,null,null,null,null,null,null,null,null,null,null,null,null,null,null,null,null,null,"Миколаївська","Мостове (Мостівське)"]
[null,null,null,null,null,null,null,null,null,null,null,null,null,null,null,null,null,null,null,null,null,null,null,null,null,null,null,null,null,null,null,null,null,null,null,null,null,null,null,null,null,null,null,null,null,"Миколаївська","Новодмитрівка (Новомихайлівська)"]
[null,null,null,null,null,null,null,null,null,null,null,null,null,null,null,null,null,null,null,null,null,null,null,null,null,null,null,null,null,null,null,null,null,null,null,null,null,null,null,null,null,null,null,null,null,"Миколаївська","Новосілка (Подільська)"]
[null,null,null,null,null,null,null,null,null,null,null,null,null,null,null,null,null,null,null,null,null,null,null,null,null,null,null,null,null,null,null,null,null,null,null,null,null,null,null,null,null,null,null,null,null,"Миколаївська","Олександрівка (Антонівська)"]
[null,null,null,null,null,null,null,null,null,null,null,null,null,null,null,null,null,null,null,null,null,null,null,null,null,null,null,null,null,null,null,null,null,null,null,null,null,null,null,null,null,null,null,null,null,"Миколаївська","Показне (Вільнозапорізька)"]
[null,null,null,null,null,null,null,null,null,null,null,null,null,null,null,null,null,null,null,null,null,null,null,null,null,null,null,null,null,null,null,null,null,null,null,null,null,null,null,null,null,null,null,null,null,"Миколаївська","Пришиб (Висунська)"]
[null,null,null,null,null,null,null,null,null,null,null,null,null,null,null,null,null,null,null,null,null,null,null,null,null,null,null,null,null,null,null,null,null,null,null,null,null,null,null,null,null,null,null,null,null,"Миколаївська","Станіславчик (Болеславчицька)"]
[null,null,null,null,null,null,null,null,null,null,null,null,null,null,null,null,null,null,null,null,null,null,null,null,null,null,null,null,null,null,null,null,null,null,null,null,null,null,null,null,null,null,null,null,null,"Миколаївська","Тернові Поди (Краснознам'янська)"]
[null,null,null,null,null,null,null,null,null,null,null,null,null,null,null,null,null,null,null,null,null,null,null,null,null,null,null,null,null,null,null,null,null,null,null,null,null,null,null,null,null,null,null,null,null,"Миколаївська","Улянівка (Воронцівська)"]
[null,null,null,null,null,null,null,null,null,null,null,null,null,null,null,null,null,null,null,null,null,null,null,null,null,null,null,null,null,null,null,null,null,null,null,null,null,null,null,null,null,null,null,null,null,"Миколаївська","Шмідтівка (Матіясівська)"]
[null,null,null,null,null,null,null,null,null,null,null,null,null,null,null,null,null,null,null,null,null,null,null,null,null,null,null,null,null,null,null,null,null,null,null,null,null,null,null,null,null,null,null,null,null,"Миколаївська","Ясна Зоря (Ольшанська)"]
[null,null,null,null,null,null,null,null,null,null,null,null,null,null,null,null,null,null,null,null,null,null,null,null,null,null,null,null,null,null,null,null,null,null,null,null,null,null,null,null,null,null,null,null,null,"Одеська","Борщі"]
[null,null,null,null,null,null,null,null,null,null,null,null,null,null,null,null,null,null,null,null,null,null,null,null,null,null,null,null,null,null,null,null,null,null,null,null,null,null,null,null,null,null,null,null,null,"Одеська","Вапнярка"]
[null,null,null,null,null,null,null,null,null,null,null,null,null,null,null,null,null,null,null,null,null,null,null,null,null,null,null,null,null,null,null,null,null,null,null,null,null,null,null,null,null,null,null,null,null,"Одеська","Дальнічень"]
[null,null,null,null,null,null,null,null,null,null,null,null,null,null,null,null,null,null,null,null,null,null,null,null,null,null,null,null,null,null,null,null,null,null,null,null,null,null,null,null,null,null,null,null,null,"Одеська","Єфросинівка"]
[null,null,null,null,null,null,null,null,null,null,null,null,null,null,null,null,null,null,null,null,null,null,null,null,null,null,null,null,null,null,null,null,null,null,null,null,null,null,null,null,null,null,null,null,null,"Одеська","Кілія"]
[null,null,null,null,null,null,null,null,null,null,null,null,null,null,null,null,null,null,null,null,null,null,null,null,null,null,null,null,null,null,null,null,null,null,null,null,null,null,null,null,null,null,null,null,null,"Одеська","Котовці"]
[null,null,null,null,null,null,null,null,null,null,null,null,null,null,null,null,null,null,null,null,null,null,null,null,null,null,null,null,null,null,null,null,null,null,null,null,null,null,null,null,null,null,null,null,null,"Одеська","Левадівка"]
[null,null,null,null,null,null,null,null,null,null,null,null,null,null,null,null,null,null,null,null,null,null,null,null,null,null,null,null,null,null,null,null,null,null,null,null,null,null,null,null,null,null,null,null,null,"Одеська","Муравлівка"]
[null,null,null,null,null,null,null,null,null,null,null,null,null,null,null,null,null,null,null,null,null,null,null,null,null,null,null,null,null,null,null,null,null,null,null,null,null,null,null,null,null,null,null,null,null,"Одеська","Нова Плахтіївка"]
[null,null,null,null,null,null,null,null,null,null,null,null,null,null,null,null,null,null,null,null,null,null,null,null,null,null,null,null,null,null,null,null,null,null,null,null,null,null,null,null,null,null,null,null,null,"Одеська","Олександрівка (Петрівська)"]
[null,null,null,null,null,null,null,null,null,null,null,null,null,null,null,null,null,null,null,null,null,null,null,null,null,null,null,null,null,null,null,null,null,null,null,null,null,null,null,null,null,null,null,null,null,"Одеська","Полянецьке"]
[null,null,null,null,null,null,null,null,null,null,null,null,null,null,null,null,null,null,null,null,null,null,null,null,null,null,null,null,null,null,null,null,null,null,null,null,null,null,null,null,null,null,null,null,null,"Одеська","Созонівка"]
[null,null,null,null,null,null,null,null,null,null,null,null,null,null,null,null,null,null,null,null,null,null,null,null,null,null,null,null,null,null,null,null,null,null,null,null,null,null,null,null,null,null,null,null,null,"Одеська","Струтинка"]
[null,null,null,null,null,null,null,null,null,null,null,null,null,null,null,null,null,null,null,null,null,null,null,null,null,null,null,null,null,null,null,null,null,null,null,null,null,null,null,null,null,null,null,null,null,"Одеська","Тузли"]
[null,null,null,null,null,null,null,null,null,null,null,null,null,null,null,null,null,null,null,null,null,null,null,null,null,null,null,null,null,null,null,null,null,null,null,null,null,null,null,null,null,null,null,null,null,"Одеська","Якова"]
[null,null,null,null,null,null,null,null,null,null,null,null,null,null,null,null,null,null,null,null,null,null,null,null,null,null,null,null,null,null,null,null,null,null,null,null,null,null,null,null,null,null,null,null,null,"Полтавська","Бабайкове"]
[null,null,null,null,null,null,null,null,null,null,null,null,null,null,null,null,null,null,null,null,null,null,null,null,null,null,null,null,null,null,null,null,null,null,null,null,null,null,null,null,null,null,null,null,null,"Полтавська","Біївці"]
[null,null,null,null,null,null,null,null,null,null,null,null,null,null,null,null,null,null,null,null,null,null,null,null,null,null,null,null,null,null,null,null,null,null,null,null,null,null,null,null,null,null,null,null,null,"Полтавська","Бурімка"]
[null,null,null,null,null,null,null,null,null,null,null,null,null,null,null,null,null,null,null,null,null,null,null,null,null,null,null,null,null,null,null,null,null,null,null,null,null,null,null,null,null,null,null,null,null,"Полтавська","Вили"]
[null,null,null,null,null,null,null,null,null,null,null,null,null,null,null,null,null,null,null,null,null,null,null,null,null,null,null,null,null,null,null,null,null,null,null,null,null,null,null,null,null,null,null,null,null,"Полтавська","Вінтенці"]
[null,null,null,null,null,null,null,null,null,null,null,null,null,null,null,null,null,null,null,null,null,null,null,null,null,null,null,null,null,null,null,null,null,null,null,null,null,null,null,null,null,null,null,null,null,"Полтавська","Голобородьківське"]
[null,null,null,null,null,null,null,null,null,null,null,null,null,null,null,null,null,null,null,null,null,null,null,null,null,null,null,null,null,null,null,null,null,null,null,null,null,null,null,null,null,null,null,null,null,"Полтавська","Григоро-Бригадирівка"]
[null,null,null,null,null,null,null,null,null,null,null,null,null,null,null,null,null,null,null,null,null,null,null,null,null,null,null,null,null,null,null,null,null,null,null,null,null,null,null,null,null,null,null,null,null,"Полтавська","Дашківка"]
[null,null,null,null,null,null,null,null,null,null,null,null,null,null,null,null,null,null,null,null,null,null,null,null,null,null,null,null,null,null,null,null,null,null,null,null,null,null,null,null,null,null,null,null,null,"Полтавська","Жадани"]
[null,null,null,null,null,null,null,null,null,null,null,null,null,null,null,null,null,null,null,null,null,null,null,null,null,null,null,null,null,null,null,null,null,null,null,null,null,null,null,null,null,null,null,null,null,"Полтавська","Ївженки"]
[null,null,null,null,null,null,null,null,null,null,null,null,null,null,null,null,null,null,null,null,null,null,null,null,null,null,null,null,null,null,null,null,null,null,null,null,null,null,null,null,null,null,null,null,null,"Полтавська","Ковердина Балка"]
[null,null,null,null,null,null,null,null,null,null,null,null,null,null,null,null,null,null,null,null,null,null,null,null,null,null,null,null,null,null,null,null,null,null,null,null,null,null,null,null,null,null,null,null,null,"Полтавська","Коновалівка"]
[null,null,null,null,null,null,null,null,null,null,null,null,null,null,null,null,null,null,null,null,null,null,null,null,null,null,null,null,null,null,null,null,null,null,null,null,null,null,null,null,null,null,null,null,null,"Полтавська","Кунівка"]
[null,null,null,null,null,null,null,null,null,null,null,null,null,null,null,null,null,null,null,null,null,null,null,null,null,null,null,null,null,null,null,null,null,null,null,null,null,null,null,null,null,null,null,null,null,"Полтавська","Ламане"]
[null,null,null,null,null,null,null,null,null,null,null,null,null,null,null,null,null,null,null,null,null,null,null,null,null,null,null,null,null,null,null,null,null,null,null,null,null,null,null,null,null,null,null,null,null,"Полтавська","Лізки"]
[null,null,null,null,null,null,null,null,null,null,null,null,null,null,null,null,null,null,null,null,null,null,null,null,null,null,null,null,null,null,null,null,null,null,null,null,null,null,null,null,null,null,null,null,null,"Полтавська","Малютинці"]
[null,null,null,null,null,null,null,null,null,null,null,null,null,null,null,null,null,null,null,null,null,null,null,null,null,null,null,null,null,null,null,null,null,null,null,null,null,null,null,null,null,null,null,null,null,"Полтавська","Мачухи"]
[null,null,null,null,null,null,null,null,null,null,null,null,null,null,null,null,null,null,null,null,null,null,null,null,null,null,null,null,null,null,null,null,null,null,null,null,null,null,null,null,null,null,null,null,null,"Полтавська","Нижні Яреськи"]
[null,null,null,null,null,null,null,null,null,null,null,null,null,null,null,null,null,null,null,null,null,null,null,null,null,null,null,null,null,null,null,null,null,null,null,null,null,null,null,null,null,null,null,null,null,"Полтавська","Новий Виселок"]
[null,null,null,null,null,null,null,null,null,null,null,null,null,null,null,null,null,null,null,null,null,null,null,null,null,null,null,null,null,null,null,null,null,null,null,null,null,null,null,null,null,null,null,null,null,"Полтавська","Панченки"]
[null,null,null,null,null,null,null,null,null,null,null,null,null,null,null,null,null,null,null,null,null,null,null,null,null,null,null,null,null,null,null,null,null,null,null,null,null,null,null,null,null,null,null,null,null,"Полтавська","Першотравневе"]
[null,null,null,null,null,null,null,null,null,null,null,null,null,null,null,null,null,null,null,null,null,null,null,null,null,null,null,null,null,null,null,null,null,null,null,null,null,null,null,null,null,null,null,null,null,"Полтавська","Пристанційне"]
[null,null,null,null,null,null,null,null,null,null,null,null,null,null,null,null,null,null,null,null,null,null,null,null,null,null,null,null,null,null,null,null,null,null,null,null,null,null,null,null,null,null,null,null,null,"Полтавська","Пушкареве"]
[null,null,null,null,null,null,null,null,null,null,null,null,null,null,null,null,null,null,null,null,null,null,null,null,null,null,null,null,null,null,null,null,null,null,null,null,null,null,null,null,null,null,null,null,null,"Полтавська","Свиридівка"]
[null,null,null,null,null,null,null,null,null,null,null,null,null,null,null,null,null,null,null,null,null,null,null,null,null,null,null,null,null,null,null,null,null,null,null,null,null,null,null,null,null,null,null,null,null,"Полтавська","Сиротенки"]
[null,null,null,null,null,null,null,null,null,null,null,null,null,null,null,null,null,null,null,null,null,null,null,null,null,null,null,null,null,null,null,null,null,null,null,null,null,null,null,null,null,null,null,null,null,"Полтавська","Снітине"]
[null,null,null,null,null,null,null,null,null,null,null,null,null,null,null,null,null,null,null,null,null,null,null,null,null,null,null,null,null,null,null,null,null,null,null,null,null,null,null,null,null,null,null,null,null,"Полтавська","Сухорабівка"]
[null,null,null,null,null,null,null,null,null,null,null,null,null,null,null,null,null,null,null,null,null,null,null,null,null,null,null,null,null,null,null,null,null,null,null,null,null,null,null,null,null,null,null,null,null,"Полтавська","Трирогове"]
[null,null,null,null,null,null,null,null,null,null,null,null,null,null,null,null,null,null,null,null,null,null,null,null,null,null,null,null,null,null,null,null,null,null,null,null,null,null,null,null,null,null,null,null,null,"Полтавська","Хорішки"]
[null,null,null,null,null,null,null,null,null,null,null,null,null,null,null,null,null,null,null,null,null,null,null,null,null,null,null,null,null,null,null,null,null,null,null,null,null,null,null,null,null,null,null,null,null,"Полтавська","Червоні Квіти"]
[null,null,null,null,null,null,null,null,null,null,null,null,null,null,null,null,null,null,null,null,null,null,null,null,null,null,null,null,null,null,null,null,null,null,null,null,null,null,null,null,null,null,null,null,null,"Полтавська","Шостаки"]
[null,null,null,null,null,null,null,null,null,null,null,null,null,null,null,null,null,null,null,null,null,null,null,null,null,null,null,null,null,null,null,null,null,null,null,null,null,null,null,null,null,null,null,null,null,"Полтавська","Ялосовецьке"]
[null,null,null,null,null,null,null,null,null,null,null,null,null,null,null,null,null,null,null,null,null,null,null,null,null,null,null,null,null,null,null,null,null,null,null,null,null,null,null,null,null,null,null,null,null,"Рівненська","Бармаки"]
[null,null,null,null,null,null,null,null,null,null,null,null,null,null,null,null,null,null,null,null,null,null,null,null,null,null,null,null,null,null,null,null,null,null,null,null,null,null,null,null,null,null,null,null,null,"Рівненська","Варковичі"]
[null,null,null,null,null,null,null,null,null,null,null,null,null,null,null,null,null,null,null,null,null,null,null,null,null,null,null,null,null,null,null,null,null,null,null,null,null,null,null,null,null,null,null,null,null,"Рівненська","Великі Загірці"]
[null,null,null,null,null,null,null,null,null,null,null,null,null,null,null,null,null,null,null,null,null,null,null,null,null,null,null,null,null,null,null,null,null,null,null,null,null,null,null,null,null,null,null,null,null,"Рівненська","Гільча Перша"]
[null,null,null,null,null,null,null,null,null,null,null,null,null,null,null,null,null,null,null,null,null,null,null,null,null,null,null,null,null,null,null,null,null,null,null,null,null,null,null,null,null,null,null,null,null,"Рівненська","Диків"]
[null,null,null,null,null,null,null,null,null,null,null,null,null,null,null,null,null,null,null,null,null,null,null,null,null,null,null,null,null,null,null,null,null,null,null,null,null,null,null,null,null,null,null,null,null,"Рівненська","Зносичі"]
[null,null,null,null,null,null,null,null,null,null,null,null,null,null,null,null,null,null,null,null,null,null,null,null,null,null,null,null,null,null,null,null,null,null,null,null,null,null,null,null,null,null,null,null,null,"Рівненська","Квасилів"]
[null,null,null,null,null,null,null,null,null,null,null,null,null,null,null,null,null,null,null,null,null,null,null,null,null,null,null,null,null,null,null,null,null,null,null,null,null,null,null,null,null,null,null,null,null,"Рівненська","Кухче"]
[null,null,null,null,null,null,null,null,null,null,null,null,null,null,null,null,null,null,null,null,null,null,null,null,null,null,null,null,null,null,null,null,null,null,null,null,null,null,null,null,null,null,null,null,null,"Рівненська","Макотерти"]
[null,null,null,null,null,null,null,null,null,null,null,null,null,null,null,null,null,null,null,null,null,null,null,null,null,null,null,null,null,null,null,null,null,null,null,null,null,null,null,null,null,null,null,null,null,"Рівненська","Малі Телковичі"]
[null,null,null,null,null,null,null,null,null,null,null,null,null,null,null,null,null,null,null,null,null,null,null,null,null,null,null,null,null,null,null,null,null,null,null,null,null,null,null,null,null,null,null,null,null,"Рівненська","М'ятин"]
[null,null,null,null,null,null,null,null,null,null,null,null,null,null,null,null,null,null,null,null,null,null,null,null,null,null,null,null,null,null,null,null,null,null,null,null,null,null,null,null,null,null,null,null,null,"Рівненська","Олибів"]
[null,null,null,null,null,null,null,null,null,null,null,null,null,null,null,null,null,null,null,null,null,null,null,null,null,null,null,null,null,null,null,null,null,null,null,null,null,null,null,null,null,null,null,null,null,"Рівненська","Працюки"]
[null,null,null,null,null,null,null,null,null,null,null,null,null,null,null,null,null,null,null,null,null,null,null,null,null,null,null,null,null,null,null,null,null,null,null,null,null,null,null,null,null,null,null,null,null,"Рівненська","Річечина"]
[null,null,null,null,null,null,null,null,null,null,null,null,null,null,null,null,null,null,null,null,null,null,null,null,null,null,null,null,null,null,null,null,null,null,null,null,null,null,null,null,null,null,null,null,null,"Рівненська","Степангород"]
[null,null,null,null,null,null,null,null,null,null,null,null,null,null,null,null,null,null,null,null,null,null,null,null,null,null,null,null,null,null,null,null,null,null,null,null,null,null,null,null,null,null,null,null,null,"Рівненська","Тесів"]
[null,null,null,null,null,null,null,null,null,null,null,null,null,null,null,null,null,null,null,null,null,null,null,null,null,null,null,null,null,null,null,null,null,null,null,null,null,null,null,null,null,null,null,null,null,"Рівненська","Удрицьк"]
[null,null,null,null,null,null,null,null,null,null,null,null,null,null,null,null,null,null,null,null,null,null,null,null,null,null,null,null,null,null,null,null,null,null,null,null,null,null,null,null,null,null,null,null,null,"Севастополь","Родніківське"]
[null,null,null,null,null,null,null,null,null,null,null,null,null,null,null,null,null,null,null,null,null,null,null,null,null,null,null,null,null,null,null,null,null,null,null,null,null,null,null,null,null,null,null,null,null,"Сумська","Артемо-растівка (Мартинівка)"]
[null,null,null,null,null,null,null,null,null,null,null,null,null,null,null,null,null,null,null,null,null,null,null,null,null,null,null,null,null,null,null,null,null,null,null,null,null,null,null,null,null,null,null,null,null,"Сумська","Бороданове"]
[null,null,null,null,null,null,null,null,null,null,null,null,null,null,null,null,null,null,null,null,null,null,null,null,null,null,null,null,null,null,null,null,null,null,null,null,null,null,null,null,null,null,null,null,null,"Сумська","Будне (Лантратівка)"]
[null,null,null,null,null,null,null,null,null,null,null,null,null,null,null,null,null,null,null,null,null,null,null,null,null,null,null,null,null,null,null,null,null,null,null,null,null,null,null,null,null,null,null,null,null,"Сумська","Вільна Слобода"]
[null,null,null,null,null,null,null,null,null,null,null,null,null,null,null,null,null,null,null,null,null,null,null,null,null,null,null,null,null,null,null,null,null,null,null,null,null,null,null,null,null,null,null,null,null,"Сумська","Воропаї"]
[null,null,null,null,null,null,null,null,null,null,null,null,null,null,null,null,null,null,null,null,null,null,null,null,null,null,null,null,null,null,null,null,null,null,null,null,null,null,null,null,null,null,null,null,null,"Сумська","Грінченкове"]
[null,null,null,null,null,null,null,null,null,null,null,null,null,null,null,null,null,null,null,null,null,null,null,null,null,null,null,null,null,null,null,null,null,null,null,null,null,null,null,null,null,null,null,null,null,"Сумська","Дернове"]
[null,null,null,null,null,null,null,null,null,null,null,null,null,null,null,null,null,null,null,null,null,null,null,null,null,null,null,null,null,null,null,null,null,null,null,null,null,null,null,null,null,null,null,null,null,"Сумська","Дяківка"]
[null,null,null,null,null,null,null,null,null,null,null,null,null,null,null,null,null,null,null,null,null,null,null,null,null,null,null,null,null,null,null,null,null,null,null,null,null,null,null,null,null,null,null,null,null,"Сумська","Карпенкове"]
[null,null,null,null,null,null,null,null,null,null,null,null,null,null,null,null,null,null,null,null,null,null,null,null,null,null,null,null,null,null,null,null,null,null,null,null,null,null,null,null,null,null,null,null,null,"Сумська","Клочківка"]
[null,null,null,null,null,null,null,null,null,null,null,null,null,null,null,null,null,null,null,null,null,null,null,null,null,null,null,null,null,null,null,null,null,null,null,null,null,null,null,null,null,null,null,null,null,"Сумська","Кудоярове"]
[null,null,null,null,null,null,null,null,null,null,null,null,null,null,null,null,null,null,null,null,null,null,null,null,null,null,null,null,null,null,null,null,null,null,null,null,null,null,null,null,null,null,null,null,null,"Сумська","Липняк"]
[null,null,null,null,null,null,null,null,null,null,null,null,null,null,null,null,null,null,null,null,null,null,null,null,null,null,null,null,null,null,null,null,null,null,null,null,null,null,null,null,null,null,null,null,null,"Сумська","Масензівка"]
[null,null,null,null,null,null,null,null,null,null,null,null,null,null,null,null,null,null,null,null,null,null,null,null,null,null,null,null,null,null,null,null,null,null,null,null,null,null,null,null,null,null,null,null,null,"Сумська","Могриця"]
[null,null,null,null,null,null,null,null,null,null,null,null,null,null,null,null,null,null,null,null,null,null,null,null,null,null,null,null,null,null,null,null,null,null,null,null,null,null,null,null,null,null,null,null,null,"Сумська","Нелени"]
[null,null,null,null,null,null,null,null,null,null,null,null,null,null,null,null,null,null,null,null,null,null,null,null,null,null,null,null,null,null,null,null,null,null,null,null,null,null,null,null,null,null,null,null,null,"Сумська","Осоївка"]
[null,null,null,null,null,null,null,null,null,null,null,null,null,null,null,null,null,null,null,null,null,null,null,null,null,null,null,null,null,null,null,null,null,null,null,null,null,null,null,null,null,null,null,null,null,"Сумська","Перехрестівка (Северинівська)"]
[null,null,null,null,null,null,null,null,null,null,null,null,null,null,null,null,null,null,null,null,null,null,null,null,null,null,null,null,null,null,null,null,null,null,null,null,null,null,null,null,null,null,null,null,null,"Сумська","Радгоспне (Буймер)"]
[null,null,null,null,null,null,null,null,null,null,null,null,null,null,null,null,null,null,null,null,null,null,null,null,null,null,null,null,null,null,null,null,null,null,null,null,null,null,null,null,null,null,null,null,null,"Сумська","Розсохувате (Грінченкове)"]
[null,null,null,null,null,null,null,null,null,null,null,null,null,null,null,null,null,null,null,null,null,null,null,null,null,null,null,null,null,null,null,null,null,null,null,null,null,null,null,null,null,null,null,null,null,"Сумська","Собич"]
[null,null,null,null,null,null,null,null,null,null,null,null,null,null,null,null,null,null,null,null,null,null,null,null,null,null,null,null,null,null,null,null,null,null,null,null,null,null,null,null,null,null,null,null,null,"Сумська","Сорочинське"]
[null,null,null,null,null,null,null,null,null,null,null,null,null,null,null,null,null,null,null,null,null,null,null,null,null,null,null,null,null,null,null,null,null,null,null,null,null,null,null,null,null,null,null,null,null,"Сумська","Хильчичі"]
[null,null,null,null,null,null,null,null,null,null,null,null,null,null,null,null,null,null,null,null,null,null,null,null,null,null,null,null,null,null,null,null,null,null,null,null,null,null,null,null,null,null,null,null,null,"Сумська","Чеберяки"]
[null,null,null,null,null,null,null,null,null,null,null,null,null,null,null,null,null,null,null,null,null,null,null,null,null,null,null,null,null,null,null,null,null,null,null,null,null,null,null,null,null,null,null,null,null,"Сумська","Щекино"]
[null,null,null,null,null,null,null,null,null,null,null,null,null,null,null,null,null,null,null,null,null,null,null,null,null,null,null,null,null,null,null,null,null,null,null,null,null,null,null,null,null,null,null,null,null,"Тернопільська","Антонів (Свидівська сільська рада)"]
[null,null,null,null,null,null,null,null,null,null,null,null,null,null,null,null,null,null,null,null,null,null,null,null,null,null,null,null,null,null,null,null,null,null,null,null,null,null,null,null,null,null,null,null,null,"Тернопільська","Берем'яни (Берем'янська сільська рада)"]
[null,null,null,null,null,null,null,null,null,null,null,null,null,null,null,null,null,null,null,null,null,null,null,null,null,null,null,null,null,null,null,null,null,null,null,null,null,null,null,null,null,null,null,null,null,"Тернопільська","Броварі (Язловецька сільська рада)"]
[null,null,null,null,null,null,null,null,null,null,null,null,null,null,null,null,null,null,null,null,null,null,null,null,null,null,null,null,null,null,null,null,null,null,null,null,null,null,null,null,null,null,null,null,null,"Тернопільська","Великі Кусківці (Великокусковецька сільська рада)"]
[null,null,null,null,null,null,null,null,null,null,null,null,null,null,null,null,null,null,null,null,null,null,null,null,null,null,null,null,null,null,null,null,null,null,null,null,null,null,null,null,null,null,null,null,null,"Тернопільська","Гадинківці (Гадинківська сільська рада)"]
[null,null,null,null,null,null,null,null,null,null,null,null,null,null,null,null,null,null,null,null,null,null,null,null,null,null,null,null,null,null,null,null,null,null,null,null,null,null,null,null,null,null,null,null,null,"Тернопільська","Гнилички (Новосільська сільська рада)"]
[null,null,null,null,null,null,null,null,null,null,null,null,null,null,null,null,null,null,null,null,null,null,null,null,null,null,null,null,null,null,null,null,null,null,null,null,null,null,null,null,null,null,null,null,null,"Тернопільська","Дзвинячка (Дзвиняцька сільська рада)"]
[null,null,null,null,null,null,null,null,null,null,null,null,null,null,null,null,null,null,null,null,null,null,null,null,null,null,null,null,null,null,null,null,null,null,null,null,null,null,null,null,null,null,null,null,null,"Тернопільська","Домаморич (Домаморицька сільська рада)"]
[null,null,null,null,null,null,null,null,null,null,null,null,null,null,null,null,null,null,null,null,null,null,null,null,null,null,null,null,null,null,null,null,null,null,null,null,null,null,null,null,null,null,null,null,null,"Тернопільська","Жуків (Жуківська сільська рада)"]
[null,null,null,null,null,null,null,null,null,null,null,null,null,null,null,null,null,null,null,null,null,null,null,null,null,null,null,null,null,null,null,null,null,null,null,null,null,null,null,null,null,null,null,null,null,"Тернопільська","Іванівка (Іванівська сільська рада)"]
[null,null,null,null,null,null,null,null,null,null,null,null,null,null,null,null,null,null,null,null,null,null,null,null,null,null,null,null,null,null,null,null,null,null,null,null,null,null,null,null,null,null,null,null,null,"Тернопільська","Ілавче (Ілавченська сільська рада)"]
[null,null,null,null,null,null,null,null,null,null,null,null,null,null,null,null,null,null,null,null,null,null,null,null,null,null,null,null,null,null,null,null,null,null,null,null,null,null,null,null,null,null,null,null,null,"Тернопільська","Королівка (Королівська сільська рада)"]
[null,null,null,null,null,null,null,null,null,null,null,null,null,null,null,null,null,null,null,null,null,null,null,null,null,null,null,null,null,null,null,null,null,null,null,null,null,null,null,null,null,null,null,null,null,"Тернопільська","Красівка (Дичківська сільська рада)"]
[null,null,null,null,null,null,null,null,null,null,null,null,null,null,null,null,null,null,null,null,null,null,null,null,null,null,null,null,null,null,null,null,null,null,null,null,null,null,null,null,null,null,null,null,null,"Тернопільська","Лози (Лозівська сільська рада)"]
[null,null,null,null,null,null,null,null,null,null,null,null,null,null,null,null,null,null,null,null,null,null,null,null,null,null,null,null,null,null,null,null,null,null,null,null,null,null,null,null,null,null,null,null,null,"Тернопільська","Мала Березовиця (Іванчанська сільська рада)"]
[null,null,null,null,null,null,null,null,null,null,null,null,null,null,null,null,null,null,null,null,null,null,null,null,null,null,null,null,null,null,null,null,null,null,null,null,null,null,null,null,null,null,null,null,null,"Тернопільська","Мовчанівка (Кам\"янківська сільська рада)"]
[null,null,null,null,null,null,null,null,null,null,null,null,null,null,null,null,null,null,null,null,null,null,null,null,null,null,null,null,null,null,null,null,null,null,null,null,null,null,null,null,null,null,null,null,null,"Тернопільська","Нараїв (Нараївська сільська рада)"]
[null,null,null,null,null,null,null,null,null,null,null,null,null,null,null,null,null,null,null,null,null,null,null,null,null,null,null,null,null,null,null,null,null,null,null,null,null,null,null,null,null,null,null,null,null,"Тернопільська","Новосілка (Малобірківська сільська рада)"]
[null,null,null,null,null,null,null,null,null,null,null,null,null,null,null,null,null,null,null,null,null,null,null,null,null,null,null,null,null,null,null,null,null,null,null,null,null,null,null,null,null,null,null,null,null,"Тернопільська","Пищатинці (Пищатинська сільська рада)"]
[null,null,null,null,null,null,null,null,null,null,null,null,null,null,null,null,null,null,null,null,null,null,null,null,null,null,null,null,null,null,null,null,null,null,null,null,null,null,null,null,null,null,null,null,null,"Тернопільська","Піщане (Ратищівська сільська рада)"]
[null,null,null,null,null,null,null,null,null,null,null,null,null,null,null,null,null,null,null,null,null,null,null,null,null,null,null,null,null,null,null,null,null,null,null,null,null,null,null,null,null,null,null,null,null,"Тернопільська","Розгадів (Розгадівська сільська рада)"]
[null,null,null,null,null,null,null,null,null,null,null,null,null,null,null,null,null,null,null,null,null,null,null,null,null,null,null,null,null,null,null,null,null,null,null,null,null,null,null,null,null,null,null,null,null,"Тернопільська","Сапова (Вишнівчицька сільська рада)"]
[null,null,null,null,null,null,null,null,null,null,null,null,null,null,null,null,null,null,null,null,null,null,null,null,null,null,null,null,null,null,null,null,null,null,null,null,null,null,null,null,null,null,null,null,null,"Тернопільська","Стара Могильниця (Могильницька сільська рада)"]
[null,null,null,null,null,null,null,null,null,null,null,null,null,null,null,null,null,null,null,null,null,null,null,null,null,null,null,null,null,null,null,null,null,null,null,null,null,null,null,null,null,null,null,null,null,"Тернопільська","Сухостав (Сухоставська сільська рада)"]
[null,null,null,null,null,null,null,null,null,null,null,null,null,null,null,null,null,null,null,null,null,null,null,null,null,null,null,null,null,null,null,null,null,null,null,null,null,null,null,null,null,null,null,null,null,"Тернопільська","Товсте (Товстенська сільська рада)"]
[null,null,null,null,null,null,null,null,null,null,null,null,null,null,null,null,null,null,null,null,null,null,null,null,null,null,null,null,null,null,null,null,null,null,null,null,null,null,null,null,null,null,null,null,null,"Тернопільська","Цецівка (Годівська сільська рада)"]
[null,null,null,null,null,null,null,null,null,null,null,null,null,null,null,null,null,null,null,null,null,null,null,null,null,null,null,null,null,null,null,null,null,null,null,null,null,null,null,null,null,null,null,null,null,"Тернопільська","Швайківці (Швайківська сільська рада)"]
[null,null,null,null,null,null,null,null,null,null,null,null,null,null,null,null,null,null,null,null,null,null,null,null,null,null,null,null,null,null,null,null,null,null,null,null,null,null,null,null,null,null,null,null,null,"Харківська","Бабенки"]
[null,null,null,null,null,null,null,null,null,null,null,null,null,null,null,null,null,null,null,null,null,null,null,null,null,null,null,null,null,null,null,null,null,null,null,null,null,null,null,null,null,null,null,null,null,"Харківська","Безпалівка (Таранівська сільська рада)"]
[null,null,null,null,null,null,null,null,null,null,null,null,null,null,null,null,null,null,null,null,null,null,null,null,null,null,null,null,null,null,null,null,null,null,null,null,null,null,null,null,null,null,null,null,null,"Харківська","Василівка (Моначинівська сільрада)"]
[null,null,null,null,null,null,null,null,null,null,null,null,null,null,null,null,null,null,null,null,null,null,null,null,null,null,null,null,null,null,null,null,null,null,null,null,null,null,null,null,null,null,null,null,null,"Харківська","Велика Кадигробівка"]
[null,null,null,null,null,null,null,null,null,null,null,null,null,null,null,null,null,null,null,null,null,null,null,null,null,null,null,null,null,null,null,null,null,null,null,null,null,null,null,null,null,null,null,null,null,"Харківська","Відрожденівське"]
[null,null,null,null,null,null,null,null,null,null,null,null,null,null,null,null,null,null,null,null,null,null,null,null,null,null,null,null,null,null,null,null,null,null,null,null,null,null,null,null,null,null,null,null,null,"Харківська","Глушківка"]
[null,null,null,null,null,null,null,null,null,null,null,null,null,null,null,null,null,null,null,null,null,null,null,null,null,null,null,null,null,null,null,null,null,null,null,null,null,null,null,null,null,null,null,null,null,"Харківська","Гракове"]
[null,null,null,null,null,null,null,null,null,null,null,null,null,null,null,null,null,null,null,null,null,null,null,null,null,null,null,null,null,null,null,null,null,null,null,null,null,null,null,null,null,null,null,null,null,"Харківська","Дудківка"]
[null,null,null,null,null,null,null,null,null,null,null,null,null,null,null,null,null,null,null,null,null,null,null,null,null,null,null,null,null,null,null,null,null,null,null,null,null,null,null,null,null,null,null,null,null,"Харківська","Завадівка"]
[null,null,null,null,null,null,null,null,null,null,null,null,null,null,null,null,null,null,null,null,null,null,null,null,null,null,null,null,null,null,null,null,null,null,null,null,null,null,null,null,null,null,null,null,null,"Харківська","Ізюм"]
[null,null,null,null,null,null,null,null,null,null,null,null,null,null,null,null,null,null,null,null,null,null,null,null,null,null,null,null,null,null,null,null,null,null,null,null,null,null,null,null,null,null,null,null,null,"Харківська","Кобзівка Друга"]
[null,null,null,null,null,null,null,null,null,null,null,null,null,null,null,null,null,null,null,null,null,null,null,null,null,null,null,null,null,null,null,null,null,null,null,null,null,null,null,null,null,null,null,null,null,"Харківська","Кочетівка"]
[null,null,null,null,null,null,null,null,null,null,null,null,null,null,null,null,null,null,null,null,null,null,null,null,null,null,null,null,null,null,null,null,null,null,null,null,null,null,null,null,null,null,null,null,null,"Харківська","Кручик"]
[null,null,null,null,null,null,null,null,null,null,null,null,null,null,null,null,null,null,null,null,null,null,null,null,null,null,null,null,null,null,null,null,null,null,null,null,null,null,null,null,null,null,null,null,null,"Харківська","Ландишеве"]
[null,null,null,null,null,null,null,null,null,null,null,null,null,null,null,null,null,null,null,null,null,null,null,null,null,null,null,null,null,null,null,null,null,null,null,null,null,null,null,null,null,null,null,null,null,"Харківська","Мануїлівка"]
[null,null,null,null,null,null,null,null,null,null,null,null,null,null,null,null,null,null,null,null,null,null,null,null,null,null,null,null,null,null,null,null,null,null,null,null,null,null,null,null,null,null,null,null,null,"Харківська","Миколо-Комишувата"]
[null,null,null,null,null,null,null,null,null,null,null,null,null,null,null,null,null,null,null,null,null,null,null,null,null,null,null,null,null,null,null,null,null,null,null,null,null,null,null,null,null,null,null,null,null,"Харківська","Надеждівка"]
[null,null,null,null,null,null,null,null,null,null,null,null,null,null,null,null,null,null,null,null,null,null,null,null,null,null,null,null,null,null,null,null,null,null,null,null,null,null,null,null,null,null,null,null,null,"Харківська","Новомиколаївка (Асіївська сільська рада)"]
[null,null,null,null,null,null,null,null,null,null,null,null,null,null,null,null,null,null,null,null,null,null,null,null,null,null,null,null,null,null,null,null,null,null,null,null,null,null,null,null,null,null,null,null,null,"Харківська","Паризьке"]
[null,null,null,null,null,null,null,null,null,null,null,null,null,null,null,null,null,null,null,null,null,null,null,null,null,null,null,null,null,null,null,null,null,null,null,null,null,null,null,null,null,null,null,null,null,"Харківська","Петрищеве"]
[null,null,null,null,null,null,null,null,null,null,null,null,null,null,null,null,null,null,null,null,null,null,null,null,null,null,null,null,null,null,null,null,null,null,null,null,null,null,null,null,null,null,null,null,null,"Харківська","П'ятницьке"]
[null,null,null,null,null,null,null,null,null,null,null,null,null,null,null,null,null,null,null,null,null,null,null,null,null,null,null,null,null,null,null,null,null,null,null,null,null,null,null,null,null,null,null,null,null,"Харківська","Рижове"]
[null,null,null,null,null,null,null,null,null,null,null,null,null,null,null,null,null,null,null,null,null,null,null,null,null,null,null,null,null,null,null,null,null,null,null,null,null,null,null,null,null,null,null,null,null,"Харківська","Скиртяне"]
[null,null,null,null,null,null,null,null,null,null,null,null,null,null,null,null,null,null,null,null,null,null,null,null,null,null,null,null,null,null,null,null,null,null,null,null,null,null,null,null,null,null,null,null,null,"Харківська","Соцзмагання"]
[null,null,null,null,null,null,null,null,null,null,null,null,null,null,null,null,null,null,null,null,null,null,null,null,null,null,null,null,null,null,null,null,null,null,null,null,null,null,null,null,null,null,null,null,null,"Харківська","Староволодимирівка"]
[null,null,null,null,null,null,null,null,null,null,null,null,null,null,null,null,null,null,null,null,null,null,null,null,null,null,null,null,null,null,null,null,null,null,null,null,null,null,null,null,null,null,null,null,null,"Харківська","Холодне"]
[null,null,null,null,null,null,null,null,null,null,null,null,null,null,null,null,null,null,null,null,null,null,null,null,null,null,null,null,null,null,null,null,null,null,null,null,null,null,null,null,null,null,null,null,null,"Харківська","Чепіль (Чепільська сільська рада)"]
[null,null,null,null,null,null,null,null,null,null,null,null,null,null,null,null,null,null,null,null,null,null,null,null,null,null,null,null,null,null,null,null,null,null,null,null,null,null,null,null,null,null,null,null,null,"Харківська","Шийчине"]
[null,null,null,null,null,null,null,null,null,null,null,null,null,null,null,null,null,null,null,null,null,null,null,null,null,null,null,null,null,null,null,null,null,null,null,null,null,null,null,null,null,null,null,null,null,"Харківська","Ярошівка"]
[null,null,null,null,null,null,null,null,null,null,null,null,null,null,null,null,null,null,null,null,null,null,null,null,null,null,null,null,null,null,null,null,null,null,null,null,null,null,null,null,null,null,null,null,null,"Херсонська","Гостроподолянське"]
[null,null,null,null,null,null,null,null,null,null,null,null,null,null,null,null,null,null,null,null,null,null,null,null,null,null,null,null,null,null,null,null,null,null,null,null,null,null,null,null,null,null,null,null,null,"Херсонська","Інгулець"]
[null,null,null,null,null,null,null,null,null,null,null,null,null,null,null,null,null,null,null,null,null,null,null,null,null,null,null,null,null,null,null,null,null,null,null,null,null,null,null,null,null,null,null,null,null,"Херсонська","Козачі Лагері"]
[null,null,null,null,null,null,null,null,null,null,null,null,null,null,null,null,null,null,null,null,null,null,null,null,null,null,null,null,null,null,null,null,null,null,null,null,null,null,null,null,null,null,null,null,null,"Херсонська","Новавасилівка"]
[null,null,null,null,null,null,null,null,null,null,null,null,null,null,null,null,null,null,null,null,null,null,null,null,null,null,null,null,null,null,null,null,null,null,null,null,null,null,null,null,null,null,null,null,null,"Херсонська","Новосеменівка"]
[null,null,null,null,null,null,null,null,null,null,null,null,null,null,null,null,null,null,null,null,null,null,null,null,null,null,null,null,null,null,null,null,null,null,null,null,null,null,null,null,null,null,null,null,null,"Херсонська","Скворцівка"]
[null,null,null,null,null,null,null,null,null,null,null,null,null,null,null,null,null,null,null,null,null,null,null,null,null,null,null,null,null,null,null,null,null,null,null,null,null,null,null,null,null,null,null,null,null,"Херсонська","Твердомедове"]
[null,null,null,null,null,null,null,null,null,null,null,null,null,null,null,null,null,null,null,null,null,null,null,null,null,null,null,null,null,null,null,null,null,null,null,null,null,null,null,null,null,null,null,null,null,"Хмельницька","Бальківці"]
[null,null,null,null,null,null,null,null,null,null,null,null,null,null,null,null,null,null,null,null,null,null,null,null,null,null,null,null,null,null,null,null,null,null,null,null,null,null,null,null,null,null,null,null,null,"Хмельницька","Березове"]
[null,null,null,null,null,null,null,null,null,null,null,null,null,null,null,null,null,null,null,null,null,null,null,null,null,null,null,null,null,null,null,null,null,null,null,null,null,null,null,null,null,null,null,null,null,"Хмельницька","Брикуля"]
[null,null,null,null,null,null,null,null,null,null,null,null,null,null,null,null,null,null,null,null,null,null,null,null,null,null,null,null,null,null,null,null,null,null,null,null,null,null,null,null,null,null,null,null,null,"Хмельницька","Верхівці"]
[null,null,null,null,null,null,null,null,null,null,null,null,null,null,null,null,null,null,null,null,null,null,null,null,null,null,null,null,null,null,null,null,null,null,null,null,null,null,null,null,null,null,null,null,null,"Хмельницька","Вікентово"]
[null,null,null,null,null,null,null,null,null,null,null,null,null,null,null,null,null,null,null,null,null,null,null,null,null,null,null,null,null,null,null,null,null,null,null,null,null,null,null,null,null,null,null,null,null,"Хмельницька","Голосків (Голосківська сільська рада)"]
[null,null,null,null,null,null,null,null,null,null,null,null,null,null,null,null,null,null,null,null,null,null,null,null,null,null,null,null,null,null,null,null,null,null,null,null,null,null,null,null,null,null,null,null,null,"Хмельницька","Гриців"]
[null,null,null,null,null,null,null,null,null,null,null,null,null,null,null,null,null,null,null,null,null,null,null,null,null,null,null,null,null,null,null,null,null,null,null,null,null,null,null,null,null,null,null,null,null,"Хмельницька","Дубовий Гай"]
[null,null,null,null,null,null,null,null,null,null,null,null,null,null,null,null,null,null,null,null,null,null,null,null,null,null,null,null,null,null,null,null,null,null,null,null,null,null,null,null,null,null,null,null,null,"Хмельницька","Залуччя (Залучанська сільська рада)"]
[null,null,null,null,null,null,null,null,null,null,null,null,null,null,null,null,null,null,null,null,null,null,null,null,null,null,null,null,null,null,null,null,null,null,null,null,null,null,null,null,null,null,null,null,null,"Хмельницька","Ізяслав"]
[null,null,null,null,null,null,null,null,null,null,null,null,null,null,null,null,null,null,null,null,null,null,null,null,null,null,null,null,null,null,null,null,null,null,null,null,null,null,null,null,null,null,null,null,null,"Хмельницька","Караїна"]
[null,null,null,null,null,null,null,null,null,null,null,null,null,null,null,null,null,null,null,null,null,null,null,null,null,null,null,null,null,null,null,null,null,null,null,null,null,null,null,null,null,null,null,null,null,"Хмельницька","Климківці"]
[null,null,null,null,null,null,null,null,null,null,null,null,null,null,null,null,null,null,null,null,null,null,null,null,null,null,null,null,null,null,null,null,null,null,null,null,null,null,null,null,null,null,null,null,null,"Хмельницька","Кривачинці"]
[null,null,null,null,null,null,null,null,null,null,null,null,null,null,null,null,null,null,null,null,null,null,null,null,null,null,null,null,null,null,null,null,null,null,null,null,null,null,null,null,null,null,null,null,null,"Хмельницька","Кузьминці"]
[null,null,null,null,null,null,null,null,null,null,null,null,null,null,null,null,null,null,null,null,null,null,null,null,null,null,null,null,null,null,null,null,null,null,null,null,null,null,null,null,null,null,null,null,null,"Хмельницька","Літки"]
[null,null,null,null,null,null,null,null,null,null,null,null,null,null,null,null,null,null,null,null,null,null,null,null,null,null,null,null,null,null,null,null,null,null,null,null,null,null,null,null,null,null,null,null,null,"Хмельницька","Малий Правутин"]
[null,null,null,null,null,null,null,null,null,null,null,null,null,null,null,null,null,null,null,null,null,null,null,null,null,null,null,null,null,null,null,null,null,null,null,null,null,null,null,null,null,null,null,null,null,"Хмельницька","Медці"]
[null,null,null,null,null,null,null,null,null,null,null,null,null,null,null,null,null,null,null,null,null,null,null,null,null,null,null,null,null,null,null,null,null,null,null,null,null,null,null,null,null,null,null,null,null,"Хмельницька","Михалківці"]
[null,null,null,null,null,null,null,null,null,null,null,null,null,null,null,null,null,null,null,null,null,null,null,null,null,null,null,null,null,null,null,null,null,null,null,null,null,null,null,null,null,null,null,null,null,"Хмельницька","Мухарів"]
[null,null,null,null,null,null,null,null,null,null,null,null,null,null,null,null,null,null,null,null,null,null,null,null,null,null,null,null,null,null,null,null,null,null,null,null,null,null,null,null,null,null,null,null,null,"Хмельницька","Остапківці"]
[null,null,null,null,null,null,null,null,null,null,null,null,null,null,null,null,null,null,null,null,null,null,null,null,null,null,null,null,null,null,null,null,null,null,null,null,null,null,null,null,null,null,null,null,null,"Хмельницька","Пашуки (Хоровецька сільська Рада)"]
[null,null,null,null,null,null,null,null,null,null,null,null,null,null,null,null,null,null,null,null,null,null,null,null,null,null,null,null,null,null,null,null,null,null,null,null,null,null,null,null,null,null,null,null,null,"Хмельницька","Постолівка"]
[null,null,null,null,null,null,null,null,null,null,null,null,null,null,null,null,null,null,null,null,null,null,null,null,null,null,null,null,null,null,null,null,null,null,null,null,null,null,null,null,null,null,null,null,null,"Хмельницька","Рівки"]
[null,null,null,null,null,null,null,null,null,null,null,null,null,null,null,null,null,null,null,null,null,null,null,null,null,null,null,null,null,null,null,null,null,null,null,null,null,null,null,null,null,null,null,null,null,"Хмельницька","Семереньки (Самченці)"]
[null,null,null,null,null,null,null,null,null,null,null,null,null,null,null,null,null,null,null,null,null,null,null,null,null,null,null,null,null,null,null,null,null,null,null,null,null,null,null,null,null,null,null,null,null,"Хмельницька","Слобідка  Малієвецька"]
[null,null,null,null,null,null,null,null,null,null,null,null,null,null,null,null,null,null,null,null,null,null,null,null,null,null,null,null,null,null,null,null,null,null,null,null,null,null,null,null,null,null,null,null,null,"Хмельницька","Степок (Самчики)"]
[null,null,null,null,null,null,null,null,null,null,null,null,null,null,null,null,null,null,null,null,null,null,null,null,null,null,null,null,null,null,null,null,null,null,null,null,null,null,null,null,null,null,null,null,null,"Хмельницька","Теліжинці"]
[null,null,null,null,null,null,null,null,null,null,null,null,null,null,null,null,null,null,null,null,null,null,null,null,null,null,null,null,null,null,null,null,null,null,null,null,null,null,null,null,null,null,null,null,null,"Хмельницька","Трительники"]
[null,null,null,null,null,null,null,null,null,null,null,null,null,null,null,null,null,null,null,null,null,null,null,null,null,null,null,null,null,null,null,null,null,null,null,null,null,null,null,null,null,null,null,null,null,"Хмельницька","Чернелівці"]
[null,null,null,null,null,null,null,null,null,null,null,null,null,null,null,null,null,null,null,null,null,null,null,null,null,null,null,null,null,null,null,null,null,null,null,null,null,null,null,null,null,null,null,null,null,"Хмельницька","Чотирибоки"]
[null,null,null,null,null,null,null,null,null,null,null,null,null,null,null,null,null,null,null,null,null,null,null,null,null,null,null,null,null,null,null,null,null,null,null,null,null,null,null,null,null,null,null,null,null,"Черкаська","Багачівка"]
[null,null,null,null,null,null,null,null,null,null,null,null,null,null,null,null,null,null,null,null,null,null,null,null,null,null,null,null,null,null,null,null,null,null,null,null,null,null,null,null,null,null,null,null,null,"Черкаська","Босівка"]
[null,null,null,null,null,null,null,null,null,null,null,null,null,null,null,null,null,null,null,null,null,null,null,null,null,null,null,null,null,null,null,null,null,null,null,null,null,null,null,null,null,null,null,null,null,"Черкаська","Гуляйка"]
[null,null,null,null,null,null,null,null,null,null,null,null,null,null,null,null,null,null,null,null,null,null,null,null,null,null,null,null,null,null,null,null,null,null,null,null,null,null,null,null,null,null,null,null,null,"Черкаська","Домантове"]
[null,null,null,null,null,null,null,null,null,null,null,null,null,null,null,null,null,null,null,null,null,null,null,null,null,null,null,null,null,null,null,null,null,null,null,null,null,null,null,null,null,null,null,null,null,"Черкаська","Ковтунівка (Остапівська сільська  рада)"]
[null,null,null,null,null,null,null,null,null,null,null,null,null,null,null,null,null,null,null,null,null,null,null,null,null,null,null,null,null,null,null,null,null,null,null,null,null,null,null,null,null,null,null,null,null,"Черкаська","Коржовий Кут"]
[null,null,null,null,null,null,null,null,null,null,null,null,null,null,null,null,null,null,null,null,null,null,null,null,null,null,null,null,null,null,null,null,null,null,null,null,null,null,null,null,null,null,null,null,null,"Черкаська","Мелесівка"]
[null,null,null,null,null,null,null,null,null,null,null,null,null,null,null,null,null,null,null,null,null,null,null,null,null,null,null,null,null,null,null,null,null,null,null,null,null,null,null,null,null,null,null,null,null,"Черкаська","Нова  Ярославка"]
[null,null,null,null,null,null,null,null,null,null,null,null,null,null,null,null,null,null,null,null,null,null,null,null,null,null,null,null,null,null,null,null,null,null,null,null,null,null,null,null,null,null,null,null,null,"Черкаська","Павлівка Перша"]
[null,null,null,null,null,null,null,null,null,null,null,null,null,null,null,null,null,null,null,null,null,null,null,null,null,null,null,null,null,null,null,null,null,null,null,null,null,null,null,null,null,null,null,null,null,"Черкаська","Санжариха"]
[null,null,null,null,null,null,null,null,null,null,null,null,null,null,null,null,null,null,null,null,null,null,null,null,null,null,null,null,null,null,null,null,null,null,null,null,null,null,null,null,null,null,null,null,null,"Черкаська","Скрипчинці"]
[null,null,null,null,null,null,null,null,null,null,null,null,null,null,null,null,null,null,null,null,null,null,null,null,null,null,null,null,null,null,null,null,null,null,null,null,null,null,null,null,null,null,null,null,null,"Черкаська","Халаїдове"]
[null,null,null,null,null,null,null,null,null,null,null,null,null,null,null,null,null,null,null,null,null,null,null,null,null,null,null,null,null,null,null,null,null,null,null,null,null,null,null,null,null,null,null,null,null,"Черкаська","Ховківка"]
[null,null,null,null,null,null,null,null,null,null,null,null,null,null,null,null,null,null,null,null,null,null,null,null,null,null,null,null,null,null,null,null,null,null,null,null,null,null,null,null,null,null,null,null,null,"Чернівецька","Бузовиця"]
[null,null,null,null,null,null,null,null,null,null,null,null,null,null,null,null,null,null,null,null,null,null,null,null,null,null,null,null,null,null,null,null,null,null,null,null,null,null,null,null,null,null,null,null,null,"Чернівецька","Випчина"]
[null,null,null,null,null,null,null,null,null,null,null,null,null,null,null,null,null,null,null,null,null,null,null,null,null,null,null,null,null,null,null,null,null,null,null,null,null,null,null,null,null,null,null,null,null,"Чернівецька","Горбова"]
[null,null,null,null,null,null,null,null,null,null,null,null,null,null,null,null,null,null,null,null,null,null,null,null,null,null,null,null,null,null,null,null,null,null,null,null,null,null,null,null,null,null,null,null,null,"Чернівецька","Корнешти"]
[null,null,null,null,null,null,null,null,null,null,null,null,null,null,null,null,null,null,null,null,null,null,null,null,null,null,null,null,null,null,null,null,null,null,null,null,null,null,null,null,null,null,null,null,null,"Чернівецька","Лукачівка"]
[null,null,null,null,null,null,null,null,null,null,null,null,null,null,null,null,null,null,null,null,null,null,null,null,null,null,null,null,null,null,null,null,null,null,null,null,null,null,null,null,null,null,null,null,null,"Чернівецька","Ошихліби"]
[null,null,null,null,null,null,null,null,null,null,null,null,null,null,null,null,null,null,null,null,null,null,null,null,null,null,null,null,null,null,null,null,null,null,null,null,null,null,null,null,null,null,null,null,null,"Чернівецька","Погорілівка"]
[null,null,null,null,null,null,null,null,null,null,null,null,null,null,null,null,null,null,null,null,null,null,null,null,null,null,null,null,null,null,null,null,null,null,null,null,null,null,null,null,null,null,null,null,null,"Чернівецька","Хряцька"]
[null,null,null,null,null,null,null,null,null,null,null,null,null,null,null,null,null,null,null,null,null,null,null,null,null,null,null,null,null,null,null,null,null,null,null,null,null,null,null,null,null,null,null,null,null,"Чернівецька","Южинець"]
[null,null,null,null,null,null,null,null,null,null,null,null,null,null,null,null,null,null,null,null,null,null,null,null,null,null,null,null,null,null,null,null,null,null,null,null,null,null,null,null,null,null,null,null,null,"Чернігівська","Бережівка"]
[null,null,null,null,null,null,null,null,null,null,null,null,null,null,null,null,null,null,null,null,null,null,null,null,null,null,null,null,null,null,null,null,null,null,null,null,null,null,null,null,null,null,null,null,null,"Чернігівська","Велика Дорога"]
[null,null,null,null,null,null,null,null,null,null,null,null,null,null,null,null,null,null,null,null,null,null,null,null,null,null,null,null,null,null,null,null,null,null,null,null,null,null,null,null,null,null,null,null,null,"Чернігівська","Вильчики"]
[null,null,null,null,null,null,null,null,null,null,null,null,null,null,null,null,null,null,null,null,null,null,null,null,null,null,null,null,null,null,null,null,null,null,null,null,null,null,null,null,null,null,null,null,null,"Чернігівська","Данівка"]
[null,null,null,null,null,null,null,null,null,null,null,null,null,null,null,null,null,null,null,null,null,null,null,null,null,null,null,null,null,null,null,null,null,null,null,null,null,null,null,null,null,null,null,null,null,"Чернігівська","Жеребецьке"]
[null,null,null,null,null,null,null,null,null,null,null,null,null,null,null,null,null,null,null,null,null,null,null,null,null,null,null,null,null,null,null,null,null,null,null,null,null,null,null,null,null,null,null,null,null,"Чернігівська","Карасинівка"]
[null,null,null,null,null,null,null,null,null,null,null,null,null,null,null,null,null,null,null,null,null,null,null,null,null,null,null,null,null,null,null,null,null,null,null,null,null,null,null,null,null,null,null,null,null,"Чернігівська","Клипин"]
[null,null,null,null,null,null,null,null,null,null,null,null,null,null,null,null,null,null,null,null,null,null,null,null,null,null,null,null,null,null,null,null,null,null,null,null,null,null,null,null,null,null,null,null,null,"Чернігівська","Кугуки"]
[null,null,null,null,null,null,null,null,null,null,null,null,null,null,null,null,null,null,null,null,null,null,null,null,null,null,null,null,null,null,null,null,null,null,null,null,null,null,null,null,null,null,null,null,null,"Чернігівська","Ладинка"]
[null,null,null,null,null,null,null,null,null,null,null,null,null,null,null,null,null,null,null,null,null,null,null,null,null,null,null,null,null,null,null,null,null,null,null,null,null,null,null,null,null,null,null,null,null,"Чернігівська","Лісконоги"]
[null,null,null,null,null,null,null,null,null,null,null,null,null,null,null,null,null,null,null,null,null,null,null,null,null,null,null,null,null,null,null,null,null,null,null,null,null,null,null,null,null,null,null,null,null,"Чернігівська","Мезин"]
[null,null,null,null,null,null,null,null,null,null,null,null,null,null,null,null,null,null,null,null,null,null,null,null,null,null,null,null,null,null,null,null,null,null,null,null,null,null,null,null,null,null,null,null,null,"Чернігівська","Мурав'ї"]
[null,null,null,null,null,null,null,null,null,null,null,null,null,null,null,null,null,null,null,null,null,null,null,null,null,null,null,null,null,null,null,null,null,null,null,null,null,null,null,null,null,null,null,null,null,"Чернігівська","Остер"]
[null,null,null,null,null,null,null,null,null,null,null,null,null,null,null,null,null,null,null,null,null,null,null,null,null,null,null,null,null,null,null,null,null,null,null,null,null,null,null,null,null,null,null,null,null,"Чернігівська","Пересаж"]
[null,null,null,null,null,null,null,null,null,null,null,null,null,null,null,null,null,null,null,null,null,null,null,null,null,null,null,null,null,null,null,null,null,null,null,null,null,null,null,null,null,null,null,null,null,"Чернігівська","Радуль"]
[null,null,null,null,null,null,null,null,null,null,null,null,null,null,null,null,null,null,null,null,null,null,null,null,null,null,null,null,null,null,null,null,null,null,null,null,null,null,null,null,null,null,null,null,null,"Чернігівська","Роїще"]
[null,null,null,null,null,null,null,null,null,null,null,null,null,null,null,null,null,null,null,null,null,null,null,null,null,null,null,null,null,null,null,null,null,null,null,null,null,null,null,null,null,null,null,null,null,"Чернігівська","Сезьки"]
[null,null,null,null,null,null,null,null,null,null,null,null,null,null,null,null,null,null,null,null,null,null,null,null,null,null,null,null,null,null,null,null,null,null,null,null,null,null,null,null,null,null,null,null,null,"Чернігівська","Степанівське"]
[null,null,null,null,null,null,null,null,null,null,null,null,null,null,null,null,null,null,null,null,null,null,null,null,null,null,null,null,null,null,null,null,null,null,null,null,null,null,null,null,null,null,null,null,null,"Чернігівська","Тамарівка"]
[null,null,null,null,null,null,null,null,null,null,null,null,null,null,null,null,null,null,null,null,null,null,null,null,null,null,null,null,null,null,null,null,null,null,null,null,null,null,null,null,null,null,null,null,null,"Чернігівська","Тараса Шевченка"]
[null,null,null,null,null,null,null,null,null,null,null,null,null,null,null,null,null,null,null,null,null,null,null,null,null,null,null,null,null,null,null,null,null,null,null,null,null,null,null,null,null,null,null,null,null,"Чернігівська","Тарасів"]
[null,null,null,null,null,null,null,null,null,null,null,null,null,null,null,null,null,null,null,null,null,null,null,null,null,null,null,null,null,null,null,null,null,null,null,null,null,null,null,null,null,null,null,null,null,"Чернігівська","Тасуїв"]
[null,null,null,null,null,null,null,null,null,null,null,null,null,null,null,null,null,null,null,null,null,null,null,null,null,null,null,null,null,null,null,null,null,null,null,null,null,null,null,null,null,null,null,null,null,"Чернігівська","Татарівка"]
[null,null,null,null,null,null,null,null,null,null,null,null,null,null,null,null,null,null,null,null,null,null,null,null,null,null,null,null,null,null,null,null,null,null,null,null,null,null,null,null,null,null,null,null,null,"Чернігівська","Тельне"]
[null,null,null,null,null,null,null,null,null,null,null,null,null,null,null,null,null,null,null,null,null,null,null,null,null,null,null,null,null,null,null,null,null,null,null,null,null,null,null,null,null,null,null,null,null,"Чернігівська","Терехівка"]
[null,null,null,null,null,null,null,null,null,null,null,null,null,null,null,null,null,null,null,null,null,null,null,null,null,null,null,null,null,null,null,null,null,null,null,null,null,null,null,null,null,null,null,null,null,"Чернігівська","Терешиха"]
[null,null,null,null,null,null,null,null,null,null,null,null,null,null,null,null,null,null,null,null,null,null,null,null,null,null,null,null,null,null,null,null,null,null,null,null,null,null,null,null,null,null,null,null,null,"Чернігівська","Тертишники"]
[null,null,null,null,null,null,null,null,null,null,null,null,null,null,null,null,null,null,null,null,null,null,null,null,null,null,null,null,null,null,null,null,null,null,null,null,null,null,null,null,null,null,null,null,null,"Чернігівська","Тимоновичі"]
[null,null,null,null,null,null,null,null,null,null,null,null,null,null,null,null,null,null,null,null,null,null,null,null,null,null,null,null,null,null,null,null,null,null,null,null,null,null,null,null,null,null,null,null,null,"Чернігівська","Тиниця"]
[null,null,null,null,null,null,null,null,null,null,null,null,null,null,null,null,null,null,null,null,null,null,null,null,null,null,null,null,null,null,null,null,null,null,null,null,null,null,null,null,null,null,null,null,null,"Чернігівська","Титівка"]
[null,null,null,null,null,null,null,null,null,null,null,null,null,null,null,null,null,null,null,null,null,null,null,null,null,null,null,null,null,null,null,null,null,null,null,null,null,null,null,null,null,null,null,null,null,"Чернігівська","Тихонівське"]
[null,null,null,null,null,null,null,null,null,null,null,null,null,null,null,null,null,null,null,null,null,null,null,null,null,null,null,null,null,null,null,null,null,null,null,null,null,null,null,null,null,null,null,null,null,"Чернігівська","Тихоновичі"]
[null,null,null,null,null,null,null,null,null,null,null,null,null,null,null,null,null,null,null,null,null,null,null,null,null,null,null,null,null,null,null,null,null,null,null,null,null,null,null,null,null,null,null,null,null,"Чернігівська","Товкачівка"]
[null,null,null,null,null,null,null,null,null,null,null,null,null,null,null,null,null,null,null,null,null,null,null,null,null,null,null,null,null,null,null,null,null,null,null,null,null,null,null,null,null,null,null,null,null,"Чернігівська","Товстоліс"]
[null,null,null,null,null,null,null,null,null,null,null,null,null,null,null,null,null,null,null,null,null,null,null,null,null,null,null,null,null,null,null,null,null,null,null,null,null,null,null,null,null,null,null,null,null,"Чернігівська","Тонка"]
[null,null,null,null,null,null,null,null,null,null,null,null,null,null,null,null,null,null,null,null,null,null,null,null,null,null,null,null,null,null,null,null,null,null,null,null,null,null,null,null,null,null,null,null,null,"Чернігівська","Топчіївка"]
[null,null,null,null,null,null,null,null,null,null,null,null,null,null,null,null,null,null,null,null,null,null,null,null,null,null,null,null,null,null,null,null,null,null,null,null,null,null,null,null,null,null,null,null,null,"Чернігівська","Точене"]
[null,null,null,null,null,null,null,null,null,null,null,null,null,null,null,null,null,null,null,null,null,null,null,null,null,null,null,null,null,null,null,null,null,null,null,null,null,null,null,null,null,null,null,null,null,"Чернігівська","Травкине"]
[null,null,null,null,null,null,null,null,null,null,null,null,null,null,null,null,null,null,null,null,null,null,null,null,null,null,null,null,null,null,null,null,null,null,null,null,null,null,null,null,null,null,null,null,null,"Чернігівська","Тужар"]
[null,null,null,null,null,null,null,null,null,null,null,null,null,null,null,null,null,null,null,null,null,null,null,null,null,null,null,null,null,null,null,null,null,null,null,null,null,null,null,null,null,null,null,null,null,"Чернігівська","Тулія"]
[null,null,null,null,null,null,null,null,null,null,null,null,null,null,null,null,null,null,null,null,null,null,null,null,null,null,null,null,null,null,null,null,null,null,null,null,null,null,null,null,null,null,null,null,null,"Чернігівська","Туманська Гута"]
[null,null,null,null,null,null,null,null,null,null,null,null,null,null,null,null,null,null,null,null,null,null,null,null,null,null,null,null,null,null,null,null,null,null,null,null,null,null,null,null,null,null,null,null,null,"Чернігівська","Тупичів"]
[null,null,null,null,null,null,null,null,null,null,null,null,null,null,null,null,null,null,null,null,null,null,null,null,null,null,null,null,null,null,null,null,null,null,null,null,null,null,null,null,null,null,null,null,null,"Чернігівська","Турківка"]
[null,null,null,null,null,null,null,null,null,null,null,null,null,null,null,null,null,null,null,null,null,null,null,null,null,null,null,null,null,null,null,null,null,null,null,null,null,null,null,null,null,null,null,null,null,"Чернігівська","Тютюнниця"]
[null,null,null,null,null,null,null,null,null,null,null,null,null,null,null,null,null,null,null,null,null,null,null,null,null,null,null,null,null,null,null,null,null,null,null,null,null,null,null,null,null,null,null,null,null,"Чернігівська","Убіжичі"]
[null,null,null,null,null,null,null,null,null,null,null,null,null,null,null,null,null,null,null,null,null,null,null,null,null,null,null,null,null,null,null,null,null,null,null,null,null,null,null,null,null,null,null,null,null,"Чернігівська","Уборки"]
[null,null,null,null,null,null,null,null,null,null,null,null,null,null,null,null,null,null,null,null,null,null,null,null,null,null,null,null,null,null,null,null,null,null,null,null,null,null,null,null,null,null,null,null,null,"Чернігівська","Углова Рудня"]
[null,null,null,null,null,null,null,null,null,null,null,null,null,null,null,null,null,null,null,null,null,null,null,null,null,null,null,null,null,null,null,null,null,null,null,null,null,null,null,null,null,null,null,null,null,"Чернігівська","Удайці"]
[null,null,null,null,null,null,null,null,null,null,null,null,null,null,null,null,null,null,null,null,null,null,null,null,null,null,null,null,null,null,null,null,null,null,null,null,null,null,null,null,null,null,null,null,null,"Чернігівська","Узруй"]
[null,null,null,null,null,null,null,null,null,null,null,null,null,null,null,null,null,null,null,null,null,null,null,null,null,null,null,null,null,null,null,null,null,null,null,null,null,null,null,null,null,null,null,null,null,"Чернігівська","Українське (курінська)"]
[null,null,null,null,null,null,null,null,null,null,null,null,null,null,null,null,null,null,null,null,null,null,null,null,null,null,null,null,null,null,null,null,null,null,null,null,null,null,null,null,null,null,null,null,null,"Чернігівська","Унучки"]
[null,null,null,null,null,null,null,null,null,null,null,null,null,null,null,null,null,null,null,null,null,null,null,null,null,null,null,null,null,null,null,null,null,null,null,null,null,null,null,null,null,null,null,null,null,"Чернігівська","Ушівка"]
[null,null,null,null,null,null,null,null,null,null,null,null,null,null,null,null,null,null,null,null,null,null,null,null,null,null,null,null,null,null,null,null,null,null,null,null,null,null,null,null,null,null,null,null,null,"Чернігівська","Фаївка"]
[null,null,null,null,null,null,null,null,null,null,null,null,null,null,null,null,null,null,null,null,null,null,null,null,null,null,null,null,null,null,null,null,null,null,null,null,null,null,null,null,null,null,null,null,null,"Чернігівська","Фастівці"]
[null,null,null,null,null,null,null,null,null,null,null,null,null,null,null,null,null,null,null,null,null,null,null,null,null,null,null,null,null,null,null,null,null,null,null,null,null,null,null,null,null,null,null,null,null,"Чернігівська","Ферубки"]
[null,null,null,null,null,null,null,null,null,null,null,null,null,null,null,null,null,null,null,null,null,null,null,null,null,null,null,null,null,null,null,null,null,null,null,null,null,null,null,null,null,null,null,null,null,"Чернігівська","Феськівка"]
[null,null,null,null,null,null,null,null,null,null,null,null,null,null,null,null,null,null,null,null,null,null,null,null,null,null,null,null,null,null,null,null,null,null,null,null,null,null,null,null,null,null,null,null,null,"Чернігівська","Філонівка"]
[null,null,null,null,null,null,null,null,null,null,null,null,null,null,null,null,null,null,null,null,null,null,null,null,null,null,null,null,null,null,null,null,null,null,null,null,null,null,null,null,null,null,null,null,null,"Чернігівська","Форостовичі"]
[null,null,null,null,null,null,null,null,null,null,null,null,null,null,null,null,null,null,null,null,null,null,null,null,null,null,null,null,null,null,null,null,null,null,null,null,null,null,null,null,null,null,null,null,null,"Чернігівська","Фурсове"]
[null,null,null,null,null,null,null,null,null,null,null,null,null,null,null,null,null,null,null,null,null,null,null,null,null,null,null,null,null,null,null,null,null,null,null,null,null,null,null,null,null,null,null,null,null,"Чернігівська","Хаєнки"]
[null,null,null,null,null,null,null,null,null,null,null,null,null,null,null,null,null,null,null,null,null,null,null,null,null,null,null,null,null,null,null,null,null,null,null,null,null,null,null,null,null,null,null,null,null,"Чернігівська","Хаїха"]
[null,null,null,null,null,null,null,null,null,null,null,null,null,null,null,null,null,null,null,null,null,null,null,null,null,null,null,null,null,null,null,null,null,null,null,null,null,null,null,null,null,null,null,null,null,"Чернігівська","Халимонове"]
[null,null,null,null,null,null,null,null,null,null,null,null,null,null,null,null,null,null,null,null,null,null,null,null,null,null,null,null,null,null,null,null,null,null,null,null,null,null,null,null,null,null,null,null,null,"Чернігівська","Халявин"]
[null,null,null,null,null,null,null,null,null,null,null,null,null,null,null,null,null,null,null,null,null,null,null,null,null,null,null,null,null,null,null,null,null,null,null,null,null,null,null,null,null,null,null,null,null,"Чернігівська","Хатилова Гута"]
[null,null,null,null,null,null,null,null,null,null,null,null,null,null,null,null,null,null,null,null,null,null,null,null,null,null,null,null,null,null,null,null,null,null,null,null,null,null,null,null,null,null,null,null,null,"Чернігівська","Хвилівка"]
[null,null,null,null,null,null,null,null,null,null,null,null,null,null,null,null,null,null,null,null,null,null,null,null,null,null,null,null,null,null,null,null,null,null,null,null,null,null,null,null,null,null,null,null,null,"Чернігівська","Хибалівка"]
[null,null,null,null,null,null,null,null,null,null,null,null,null,null,null,null,null,null,null,null,null,null,null,null,null,null,null,null,null,null,null,null,null,null,null,null,null,null,null,null,null,null,null,null,null,"Чернігівська","Хлоп'яники"]
[null,null,null,null,null,null,null,null,null,null,null,null,null,null,null,null,null,null,null,null,null,null,null,null,null,null,null,null,null,null,null,null,null,null,null,null,null,null,null,null,null,null,null,null,null,"Чернігівська","Хмільниця"]
[null,null,null,null,null,null,null,null,null,null,null,null,null,null,null,null,null,null,null,null,null,null,null,null,null,null,null,null,null,null,null,null,null,null,null,null,null,null,null,null,null,null,null,null,null,"Чернігівська","Ховдіївка"]
[null,null,null,null,null,null,null,null,null,null,null,null,null,null,null,null,null,null,null,null,null,null,null,null,null,null,null,null,null,null,null,null,null,null,null,null,null,null,null,null,null,null,null,null,null,"Чернігівська","Ховми"]
[null,null,null,null,null,null,null,null,null,null,null,null,null,null,null,null,null,null,null,null,null,null,null,null,null,null,null,null,null,null,null,null,null,null,null,null,null,null,null,null,null,null,null,null,null,"Чернігівська","Холми"]
[null,null,null,null,null,null,null,null,null,null,null,null,null,null,null,null,null,null,null,null,null,null,null,null,null,null,null,null,null,null,null,null,null,null,null,null,null,null,null,null,null,null,null,null,null,"Чернігівська","Холявки"]
[null,null,null,null,null,null,null,null,null,null,null,null,null,null,null,null,null,null,null,null,null,null,null,null,null,null,null,null,null,null,null,null,null,null,null,null,null,null,null,null,null,null,null,null,null,"Чернігівська","Хоробичі"]
[null,null,null,null,null,null,null,null,null,null,null,null,null,null,null,null,null,null,null,null,null,null,null,null,null,null,null,null,null,null,null,null,null,null,null,null,null,null,null,null,null,null,null,null,null,"Чернігівська","Хороше Озеро"]
[null,null,null,null,null,null,null,null,null,null,null,null,null,null,null,null,null,null,null,null,null,null,null,null,null,null,null,null,null,null,null,null,null,null,null,null,null,null,null,null,null,null,null,null,null,"Чернігівська","Хотівля"]
[null,null,null,null,null,null,null,null,null,null,null,null,null,null,null,null,null,null,null,null,null,null,null,null,null,null,null,null,null,null,null,null,null,null,null,null,null,null,null,null,null,null,null,null,null,"Чернігівська","Хотіївка"]
[null,null,null,null,null,null,null,null,null,null,null,null,null,null,null,null,null,null,null,null,null,null,null,null,null,null,null,null,null,null,null,null,null,null,null,null,null,null,null,null,null,null,null,null,null,"Чернігівська","Хотуничі"]
[null,null,null,null,null,null,null,null,null,null,null,null,null,null,null,null,null,null,null,null,null,null,null,null,null,null,null,null,null,null,null,null,null,null,null,null,null,null,null,null,null,null,null,null,null,"Чернігівська","Храпате"]
[null,null,null,null,null,null,null,null,null,null,null,null,null,null,null,null,null,null,null,null,null,null,null,null,null,null,null,null,null,null,null,null,null,null,null,null,null,null,null,null,null,null,null,null,null,"Чернігівська","Хрипівка"]
[null,null,null,null,null,null,null,null,null,null,null,null,null,null,null,null,null,null,null,null,null,null,null,null,null,null,null,null,null,null,null,null,null,null,null,null,null,null,null,null,null,null,null,null,null,"Чернігівська","Хрінівка"]
[null,null,null,null,null,null,null,null,null,null,null,null,null,null,null,null,null,null,null,null,null,null,null,null,null,null,null,null,null,null,null,null,null,null,null,null,null,null,null,null,null,null,null,null,null,"Чернігівська","Хукалівка"]
[null,null,null,null,null,null,null,null,null,null,null,null,null,null,null,null,null,null,null,null,null,null,null,null,null,null,null,null,null,null,null,null,null,null,null,null,null,null,null,null,null,null,null,null,null,"Чернігівська","Часнівці"]
[null,null,null,null,null,null,null,null,null,null,null,null,null,null,null,null,null,null,null,null,null,null,null,null,null,null,null,null,null,null,null,null,null,null,null,null,null,null,null,null,null,null,null,null,null,"Чернігівська","Чемер"]
[null,null,null,null,null,null,null,null,null,null,null,null,null,null,null,null,null,null,null,null,null,null,null,null,null,null,null,null,null,null,null,null,null,null,null,null,null,null,null,null,null,null,null,null,null,"Чернігівська","Ченчики"]
[null,null,null,null,null,null,null,null,null,null,null,null,null,null,null,null,null,null,null,null,null,null,null,null,null,null,null,null,null,null,null,null,null,null,null,null,null,null,null,null,null,null,null,null,null,"Чернігівська","Чепелів"]
[null,null,null,null,null,null,null,null,null,null,null,null,null,null,null,null,null,null,null,null,null,null,null,null,null,null,null,null,null,null,null,null,null,null,null,null,null,null,null,null,null,null,null,null,null,"Чернігівська","Червона Буда"]
[null,null,null,null,null,null,null,null,null,null,null,null,null,null,null,null,null,null,null,null,null,null,null,null,null,null,null,null,null,null,null,null,null,null,null,null,null,null,null,null,null,null,null,null,null,"Чернігівська","Червона Гута"]
[null,null,null,null,null,null,null,null,null,null,null,null,null,null,null,null,null,null,null,null,null,null,null,null,null,null,null,null,null,null,null,null,null,null,null,null,null,null,null,null,null,null,null,null,null,"Чернігівська","Червона Україна"]
[null,null,null,null,null,null,null,null,null,null,null,null,null,null,null,null,null,null,null,null,null,null,null,null,null,null,null,null,null,null,null,null,null,null,null,null,null,null,null,null,null,null,null,null,null,"Чернігівська","Червоний Гай"]
[null,null,null,null,null,null,null,null,null,null,null,null,null,null,null,null,null,null,null,null,null,null,null,null,null,null,null,null,null,null,null,null,null,null,null,null,null,null,null,null,null,null,null,null,null,"Чернігівська","Червоний Довжик"]
[null,null,null,null,null,null,null,null,null,null,null,null,null,null,null,null,null,null,null,null,null,null,null,null,null,null,null,null,null,null,null,null,null,null,null,null,null,null,null,null,null,null,null,null,null,"Чернігівська","Червоний Колодязь"]
[null,null,null,null,null,null,null,null,null,null,null,null,null,null,null,null,null,null,null,null,null,null,null,null,null,null,null,null,null,null,null,null,null,null,null,null,null,null,null,null,null,null,null,null,null,"Чернігівська","Червоний Остер"]
[null,null,null,null,null,null,null,null,null,null,null,null,null,null,null,null,null,null,null,null,null,null,null,null,null,null,null,null,null,null,null,null,null,null,null,null,null,null,null,null,null,null,null,null,null,"Чернігівська","Червоний Пахар"]
[null,null,null,null,null,null,null,null,null,null,null,null,null,null,null,null,null,null,null,null,null,null,null,null,null,null,null,null,null,null,null,null,null,null,null,null,null,null,null,null,null,null,null,null,null,"Чернігівська","Червоний Плугатор"]
[null,null,null,null,null,null,null,null,null,null,null,null,null,null,null,null,null,null,null,null,null,null,null,null,null,null,null,null,null,null,null,null,null,null,null,null,null,null,null,null,null,null,null,null,null,"Чернігівська","Червоний Шлях"]
[null,null,null,null,null,null,null,null,null,null,null,null,null,null,null,null,null,null,null,null,null,null,null,null,null,null,null,null,null,null,null,null,null,null,null,null,null,null,null,null,null,null,null,null,null,"Чернігівська","Червоні Гори"]
[null,null,null,null,null,null,null,null,null,null,null,null,null,null,null,null,null,null,null,null,null,null,null,null,null,null,null,null,null,null,null,null,null,null,null,null,null,null,null,null,null,null,null,null,null,"Чернігівська","Червоні Партизани"]
[null,null,null,null,null,null,null,null,null,null,null,null,null,null,null,null,null,null,null,null,null,null,null,null,null,null,null,null,null,null,null,null,null,null,null,null,null,null,null,null,null,null,null,null,null,"Чернігівська","Черецьке"]
[null,null,null,null,null,null,null,null,null,null,null,null,null,null,null,null,null,null,null,null,null,null,null,null,null,null,null,null,null,null,null,null,null,null,null,null,null,null,null,null,null,null,null,null,null,"Чернігівська","Черниш"]
[null,null,null,null,null,null,null,null,null,null,null,null,null,null,null,null,null,null,null,null,null,null,null,null,null,null,null,null,null,null,null,null,null,null,null,null,null,null,null,null,null,null,null,null,null,"Чернігівська","Чернігів"]
[null,null,null,null,null,null,null,null,null,null,null,null,null,null,null,null,null,null,null,null,null,null,null,null,null,null,null,null,null,null,null,null,null,null,null,null,null,null,null,null,null,null,null,null,null,"Чернігівська","Чисті Лужи"]
[null,null,null,null,null,null,null,null,null,null,null,null,null,null,null,null,null,null,null,null,null,null,null,null,null,null,null,null,null,null,null,null,null,null,null,null,null,null,null,null,null,null,null,null,null,"Чернігівська","Чорний Ріг"]
[null,null,null,null,null,null,null,null,null,null,null,null,null,null,null,null,null,null,null,null,null,null,null,null,null,null,null,null,null,null,null,null,null,null,null,null,null,null,null,null,null,null,null,null,null,"Чернігівська","Чорногорці"]
[null,null,null,null,null,null,null,null,null,null,null,null,null,null,null,null,null,null,null,null,null,null,null,null,null,null,null,null,null,null,null,null,null,null,null,null,null,null,null,null,null,null,null,null,null,"Чернігівська","Чорнозем"]
[null,null,null,null,null,null,null,null,null,null,null,null,null,null,null,null,null,null,null,null,null,null,null,null,null,null,null,null,null,null,null,null,null,null,null,null,null,null,null,null,null,null,null,null,null,"Чернігівська","Чорнотичі"]
[null,null,null,null,null,null,null,null,null,null,null,null,null,null,null,null,null,null,null,null,null,null,null,null,null,null,null,null,null,null,null,null,null,null,null,null,null,null,null,null,null,null,null,null,null,"Чернігівська","Чудівка"]
[null,null,null,null,null,null,null,null,null,null,null,null,null,null,null,null,null,null,null,null,null,null,null,null,null,null,null,null,null,null,null,null,null,null,null,null,null,null,null,null,null,null,null,null,null,"Чернігівська","Чулатів"]
[null,null,null,null,null,null,null,null,null,null,null,null,null,null,null,null,null,null,null,null,null,null,null,null,null,null,null,null,null,null,null,null,null,null,null,null,null,null,null,null,null,null,null,null,null,"Чернігівська","Чумак"]
[null,null,null,null,null,null,null,null,null,null,null,null,null,null,null,null,null,null,null,null,null,null,null,null,null,null,null,null,null,null,null,null,null,null,null,null,null,null,null,null,null,null,null,null,null,"Чернігівська","Шабалинів"]
[null,null,null,null,null,null,null,null,null,null,null,null,null,null,null,null,null,null,null,null,null,null,null,null,null,null,null,null,null,null,null,null,null,null,null,null,null,null,null,null,null,null,null,null,null,"Чернігівська","Шаболтасівка"]
[null,null,null,null,null,null,null,null,null,null,null,null,null,null,null,null,null,null,null,null,null,null,null,null,null,null,null,null,null,null,null,null,null,null,null,null,null,null,null,null,null,null,null,null,null,"Чернігівська","Шами"]
[null,null,null,null,null,null,null,null,null,null,null,null,null,null,null,null,null,null,null,null,null,null,null,null,null,null,null,null,null,null,null,null,null,null,null,null,null,null,null,null,null,null,null,null,null,"Чернігівська","Шапіхи"]
[null,null,null,null,null,null,null,null,null,null,null,null,null,null,null,null,null,null,null,null,null,null,null,null,null,null,null,null,null,null,null,null,null,null,null,null,null,null,null,null,null,null,null,null,null,"Чернігівська","Шатура"]
[null,null,null,null,null,null,null,null,null,null,null,null,null,null,null,null,null,null,null,null,null,null,null,null,null,null,null,null,null,null,null,null,null,null,null,null,null,null,null,null,null,null,null,null,null,"Чернігівська","Шведчина"]
[null,null,null,null,null,null,null,null,null,null,null,null,null,null,null,null,null,null,null,null,null,null,null,null,null,null,null,null,null,null,null,null,null,null,null,null,null,null,null,null,null,null,null,null,null,"Чернігівська","Шептаки"]
[null,null,null,null,null,null,null,null,null,null,null,null,null,null,null,null,null,null,null,null,null,null,null,null,null,null,null,null,null,null,null,null,null,null,null,null,null,null,null,null,null,null,null,null,null,"Чернігівська","Шестовиця"]
[null,null,null,null,null,null,null,null,null,null,null,null,null,null,null,null,null,null,null,null,null,null,null,null,null,null,null,null,null,null,null,null,null,null,null,null,null,null,null,null,null,null,null,null,null,"Чернігівська","Шибиринівка"]
[null,null,null,null,null,null,null,null,null,null,null,null,null,null,null,null,null,null,null,null,null,null,null,null,null,null,null,null,null,null,null,null,null,null,null,null,null,null,null,null,null,null,null,null,null,"Чернігівська","Шиловичі"]
[null,null,null,null,null,null,null,null,null,null,null,null,null,null,null,null,null,null,null,null,null,null,null,null,null,null,null,null,null,null,null,null,null,null,null,null,null,null,null,null,null,null,null,null,null,"Чернігівська","Шишка"]
[null,null,null,null,null,null,null,null,null,null,null,null,null,null,null,null,null,null,null,null,null,null,null,null,null,null,null,null,null,null,null,null,null,null,null,null,null,null,null,null,null,null,null,null,null,"Чернігівська","Шкробове"]
[null,null,null,null,null,null,null,null,null,null,null,null,null,null,null,null,null,null,null,null,null,null,null,null,null,null,null,null,null,null,null,null,null,null,null,null,null,null,null,null,null,null,null,null,null,"Чернігівська","Шкуранка"]
[null,null,null,null,null,null,null,null,null,null,null,null,null,null,null,null,null,null,null,null,null,null,null,null,null,null,null,null,null,null,null,null,null,null,null,null,null,null,null,null,null,null,null,null,null,"Чернігівська","Шмаївка"]
[null,null,null,null,null,null,null,null,null,null,null,null,null,null,null,null,null,null,null,null,null,null,null,null,null,null,null,null,null,null,null,null,null,null,null,null,null,null,null,null,null,null,null,null,null,"Чернігівська","Шняківка"]
[null,null,null,null,null,null,null,null,null,null,null,null,null,null,null,null,null,null,null,null,null,null,null,null,null,null,null,null,null,null,null,null,null,null,null,null,null,null,null,null,null,null,null,null,null,"Чернігівська","Шолойки"]
[null,null,null,null,null,null,null,null,null,null,null,null,null,null,null,null,null,null,null,null,null,null,null,null,null,null,null,null,null,null,null,null,null,null,null,null,null,null,null,null,null,null,null,null,null,"Чернігівська","Шпаків"]
[null,null,null,null,null,null,null,null,null,null,null,null,null,null,null,null,null,null,null,null,null,null,null,null,null,null,null,null,null,null,null,null,null,null,null,null,null,null,null,null,null,null,null,null,null,"Чернігівська","Шумани"]
[null,null,null,null,null,null,null,null,null,null,null,null,null,null,null,null,null,null,null,null,null,null,null,null,null,null,null,null,null,null,null,null,null,null,null,null,null,null,null,null,null,null,null,null,null,"Чернігівська","Шумейкине (Матіївська)"]
[null,null,null,null,null,null,null,null,null,null,null,null,null,null,null,null,null,null,null,null,null,null,null,null,null,null,null,null,null,null,null,null,null,null,null,null,null,null,null,null,null,null,null,null,null,"Чернігівська","Шумейків"]
[null,null,null,null,null,null,null,null,null,null,null,null,null,null,null,null,null,null,null,null,null,null,null,null,null,null,null,null,null,null,null,null,null,null,null,null,null,null,null,null,null,null,null,null,null,"Чернігівська","Шумин"]
[null,null,null,null,null,null,null,null,null,null,null,null,null,null,null,null,null,null,null,null,null,null,null,null,null,null,null,null,null,null,null,null,null,null,null,null,null,null,null,null,null,null,null,null,null,"Чернігівська","Щокоть"]
[null,null,null,null,null,null,null,null,null,null,null,null,null,null,null,null,null,null,null,null,null,null,null,null,null,null,null,null,null,null,null,null,null,null,null,null,null,null,null,null,null,null,null,null,null,"Чернігівська","Щорс"]
[null,null,null,null,null,null,null,null,null,null,null,null,null,null,null,null,null,null,null,null,null,null,null,null,null,null,null,null,null,null,null,null,null,null,null,null,null,null,null,null,null,null,null,null,null,"Чернігівська","Щурівка"]
[null,null,null,null,null,null,null,null,null,null,null,null,null,null,null,null,null,null,null,null,null,null,null,null,null,null,null,null,null,null,null,null,null,null,null,null,null,null,null,null,null,null,null,null,null,"Чернігівська","Щуча Гребля"]
[null,null,null,null,null,null,null,null,null,null,null,null,null,null,null,null,null,null,null,null,null,null,null,null,null,null,null,null,null,null,null,null,null,null,null,null,null,null,null,null,null,null,null,null,null,"Чернігівська","Юрківщина"]
[null,null,null,null,null,null,null,null,null,null,null,null,null,null,null,null,null,null,null,null,null,null,null,null,null,null,null,null,null,null,null,null,null,null,null,null,null,null,null,null,null,null,null,null,null,"Чернігівська","Юхнове"]
[null,null,null,null,null,null,null,null,null,null,null,null,null,null,null,null,null,null,null,null,null,null,null,null,null,null,null,null,null,null,null,null,null,null,null,null,null,null,null,null,null,null,null,null,null,"Чернігівська","Яблунівське"]
[null,null,null,null,null,null,null,null,null,null,null,null,null,null,null,null,null,null,null,null,null,null,null,null,null,null,null,null,null,null,null,null,null,null,null,null,null,null,null,null,null,null,null,null,null,"Чернігівська","Ядути"]
[null,null,null,null,null,null,null,null,null,null,null,null,null,null,null,null,null,null,null,null,null,null,null,null,null,null,null,null,null,null,null,null,null,null,null,null,null,null,null,null,null,null,null,null,null,"Чернігівська","Якличі"]
[null,null,null,null,null,null,null,null,null,null,null,null,null,null,null,null,null,null,null,null,null,null,null,null,null,null,null,null,null,null,null,null,null,null,null,null,null,null,null,null,null,null,null,null,null,"Чернігівська","Ямище"]
[null,null,null,null,null,null,null,null,null,null,null,null,null,null,null,null,null,null,null,null,null,null,null,null,null,null,null,null,null,null,null,null,null,null,null,null,null,null,null,null,null,null,null,null,null,"Чернігівська","Ярова Білещина"]
[null,null,null,null,null,null,null,null,null,null,null,null,null,null,null,null,null,null,null,null,null,null,null,null,null,null,null,null,null,null,null,null,null,null,null,null,null,null,null,null,null,null,null,null,null,"Чернігівська","Ясна Зірка"]
[null,null,null,null,null,null,null,null,null,null,null,null,null,null,null,null,null,null,null,null,null,null,null,null,null,null,null,null,null,null,null,null,null,null,null,null,null,null,null,null,null,null,null,null,null,"Чернігівська","Яськове"]
[null,null,null,null,null,null,null,null,null,null,null,null,null,null,null,null,null,null,null,null,null,null,null,null,null,null,null,null,null,null,null,null,null,null,null,null,null,null,null,null,null,null,null,null,null,"Чернігівська","Ященків"]